{"text_format":"1","workbook":"xlsx","n_sheets":4,"sheets":["Futtermittel","Mutter- und Milchziegen","Bocklämmermast","Mast weibl. Ziegenlämmer"],"not_rendered":{"charts":0,"images":0,"macros":1,"external_links":0,"defined_names":6,"comments":4,"pivot_tables":0},"unopened":[],"bounds":{"document_bytes":16777216,"sheet_cells":100000,"rows_first":2000,"rows_last":500,"rows_between":2000,"halvings":0,"cell_chars":16384,"cell_head_chars":4096},"cells_cut":0,"cells_raw":0,"read":"whole","date_system":"1900"}

{"sheet":"Futtermittel","index":0,"n_rows":127,"n_cols":20,"rows_kept":127,"cut":false,"hidden":false,"merged":[]}
[]
[]
[]
[]
[null,null,null,"TM","Rohprotein","nutzbares","Rohfaser","ME","Ca","P","Euro"]
[null,null,null,null,"XP","XP (nXP)","XF"]
[null,"Nr:","FUTTERMITTEL","g","g in TM","g in TM","g in TM","MJ in TM","g in TM","g in TM","€ / dt",null,null,null,null,null,null,null,null,"Nr:"]
[]
[null,null,"I. Grünfutter"]
[]
[null,null,"Grünland, 4 und mehr Nutzungen,"]
[null,null,"grasreich (untergrasbetont) "]
[null,{"$f":"IF(D13=\"\",\"\",COUNTA($D$13:D13))","v":1},"Grünland 1. Aufwuchs  Beg. Ähren-/Rispenschieben",170,224,153,206,11.47,5.9,4.4000000000000004,1.4,null,null,null,null,null,null,null,null,{"$f":"IF(D13=\"\",\"\",COUNTA($D$13:D13))","v":1}]
[null,{"$f":"IF(D14=\"\",\"\",COUNTA($D$13:D14))","v":2},"Grünland 1. Aufwuchs  volles Ähren-/Rispenschieben",180,206,150,233,10.94,6.1,3.9,1.4,null,null,null,null,null,null,null,null,{"$f":"IF(D14=\"\",\"\",COUNTA($D$13:D14))","v":2}]
[null,{"$f":"IF(D15=\"\",\"\",COUNTA($D$13:D15))","v":3},"Grünland  2. u. folg. Aufwüchse  4-6 Wochen",180,211,144,228,10.220000000000001,6.1,3.9,1.4,null,null,null,null,null,null,null,null,{"$f":"IF(D15=\"\",\"\",COUNTA($D$13:D15))","v":3}]
[null,{"$f":"IF(D16=\"\",\"\",COUNTA($D$13:D16))","v":""},"Grünland  2-3 Nutzungen, grasreich (obergrasbetont)",null,null,null,null,null,null,null,null,null,null,null,null,null,null,null,null,{"$f":"IF(D16=\"\",\"\",COUNTA($D$13:D16))","v":""}]
[null,{"$f":"IF(D17=\"\",\"\",COUNTA($D$13:D17))","v":4},"Grünland 1. Aufwuchs  volles Ähren-/Rispenschieben",180,150,139,244,10.44,6.1,3.9,1.4,null,null,null,null,null,null,null,null,{"$f":"IF(D17=\"\",\"\",COUNTA($D$13:D17))","v":4}]
[null,{"$f":"IF(D18=\"\",\"\",COUNTA($D$13:D18))","v":5},"Grünland 2. u. folg. Aufwüchse  4-6 Wochen",200,165,135,245,10,6.5,4,1.4,null,null,null,null,null,null,null,null,{"$f":"IF(D18=\"\",\"\",COUNTA($D$13:D18))","v":5}]
[null,{"$f":"IF(D19=\"\",\"\",COUNTA($D$13:D19))","v":""},"Grünland, 2-3 Nutzungen, klee- und kräuterreich",null,null,null,null,null,null,null,null,null,null,null,null,null,null,null,null,{"$f":"IF(D19=\"\",\"\",COUNTA($D$13:D19))","v":""}]
[null,{"$f":"IF(D20=\"\",\"\",COUNTA($D$13:D20))","v":6},"Grünland 1. Aufwuchs  Beginn Ähren-/Rispenschieben",160,181,150,188,11.5,10,3.8,1.4,null,null,null,null,null,null,null,null,{"$f":"IF(D20=\"\",\"\",COUNTA($D$13:D20))","v":6}]
[null,{"$f":"IF(D21=\"\",\"\",COUNTA($D$13:D21))","v":7},"Grünland 1. Aufwuchs   volles Ähren-/Rispenschieben",180,172,144,228,10.78,10,3.9,1.4,null,null,null,null,null,null,null,null,{"$f":"IF(D21=\"\",\"\",COUNTA($D$13:D21))","v":7}]
[null,{"$f":"IF(D22=\"\",\"\",COUNTA($D$13:D22))","v":8},"Grünland 2. u. folg. Aufwüchse  unter 4 Wochen",170,202,154,187,11.27,11,3.5,1.4,null,null,null,null,null,null,null,null,{"$f":"IF(D22=\"\",\"\",COUNTA($D$13:D22))","v":8}]
[null,{"$f":"IF(D23=\"\",\"\",COUNTA($D$13:D23))","v":9},"Grünland 2. u. folg. Aufwüchse  4-6 Wochen",190,184,142,226,10.44,9.5,3.7,1.4,null,null,null,null,null,null,null,null,{"$f":"IF(D23=\"\",\"\",COUNTA($D$13:D23))","v":9}]
[null,{"$f":"IF(D24=\"\",\"\",COUNTA($D$13:D24))","v":""},"Rotklee-Gras-Gemenge",null,null,null,null,null,null,null,null,null,null,null,null,null,null,null,null,{"$f":"IF(D24=\"\",\"\",COUNTA($D$13:D24))","v":""}]
[null,{"$f":"IF(D25=\"\",\"\",COUNTA($D$13:D25))","v":10},"Rotklee-Gras-Gemenge 1. Aufwuchs  in der Knospe",170,176,141,224,10.53,10.6,3.5,1.4,null,null,null,null,null,null,null,null,{"$f":"IF(D25=\"\",\"\",COUNTA($D$13:D25))","v":10}]
[null,{"$f":"IF(D26=\"\",\"\",COUNTA($D$13:D26))","v":11},"Rotklee-Gras-Gemenge  1. Aufwuchs  Beginn der Blüte",200,155,135,260,9.85,10.5,3.5,1.4,null,null,null,null,null,null,null,null,{"$f":"IF(D26=\"\",\"\",COUNTA($D$13:D26))","v":11}]
[null,{"$f":"IF(D27=\"\",\"\",COUNTA($D$13:D27))","v":12},"Rotklee-Gras-Gemenge 2. u. folg. Aufwüchse  in der Knospe",210,190,138,224,10.1,11.4,4.3,1.4,null,null,null,null,null,null,null,null,{"$f":"IF(D27=\"\",\"\",COUNTA($D$13:D27))","v":12}]
[null,{"$f":"IF(D28=\"\",\"\",COUNTA($D$13:D28))","v":13},"Rotklee-Gras-Gemenge 2. u. folg. Aufwüchse Beginn der Blüte",240,171,129,258,9.42,11.3,3.8,1.4,null,null,null,null,null,null,null,null,{"$f":"IF(D28=\"\",\"\",COUNTA($D$13:D28))","v":13}]
[null,{"$f":"IF(D29=\"\",\"\",COUNTA($D$13:D29))","v":""},null,null,null,null,null,null,null,null,null,null,null,null,null,null,null,null,null,{"$f":"IF(D29=\"\",\"\",COUNTA($D$13:D29))","v":""}]
[null,{"$f":"IF(D30=\"\",\"\",COUNTA($D$13:D30))","v":""},"II. Silagen",null,null,null,null,null,null,null,null,null,null,null,null,null,null,null,null,{"$f":"IF(D30=\"\",\"\",COUNTA($D$13:D30))","v":""}]
[null,{"$f":"IF(D31=\"\",\"\",COUNTA($D$13:D31))","v":""},null,null,null,null,null,null,null,null,null,null,null,null,null,null,null,null,null,{"$f":"IF(D31=\"\",\"\",COUNTA($D$13:D31))","v":""}]
[null,{"$f":"IF(D32=\"\",\"\",COUNTA($D$13:D32))","v":""},"Grassilage (grasreich)",null,null,null,null,null,null,null,null,null,null,null,null,null,null,null,null,{"$f":"IF(D32=\"\",\"\",COUNTA($D$13:D32))","v":""}]
[null,{"$f":"IF(D33=\"\",\"\",COUNTA($D$13:D33))","v":14},"Grassilage 1. Aufwuchs  Beg. Ähren-/Rispenschieben",350,165,146,221,11.09,6,4,3.5,null,null,null,null,null,null,null,null,{"$f":"IF(D33=\"\",\"\",COUNTA($D$13:D33))","v":14}]
[null,{"$f":"IF(D34=\"\",\"\",COUNTA($D$13:D34))","v":15},"Grassilage 1. Aufwuchs  volles Ähren-Rispenschieben",350,148,131,264,9.91,6,3.7,3.5,null,null,null,null,null,null,null,null,{"$f":"IF(D34=\"\",\"\",COUNTA($D$13:D34))","v":15}]
[null,{"$f":"IF(D35=\"\",\"\",COUNTA($D$13:D35))","v":16},"Grassilage 1. Aufwuchs  Beginn der Blüte",350,130,129,299,9.73,5.7,3.7,3.5,null,null,null,null,null,null,null,null,{"$f":"IF(D35=\"\",\"\",COUNTA($D$13:D35))","v":16}]
[null,{"$f":"IF(D36=\"\",\"\",COUNTA($D$13:D36))","v":17},"Grassilage 1. Aufwuchs  Mitte bis Ende der Blüte",350,110,120,334,9.1999999999999993,5.7,3.4,3.5,null,null,null,null,null,null,null,null,{"$f":"IF(D36=\"\",\"\",COUNTA($D$13:D36))","v":17}]
[null,{"$f":"IF(D37=\"\",\"\",COUNTA($D$13:D37))","v":18},"Grassilage 2. u. folg. Aufwüchse  unter 4 Wochen",350,175,137,219,10.039999999999999,6.9,3.7,3.5,null,null,null,null,null,null,null,null,{"$f":"IF(D37=\"\",\"\",COUNTA($D$13:D37))","v":18}]
[null,{"$f":"IF(D38=\"\",\"\",COUNTA($D$13:D38))","v":19},"Grassilage 2. u. folg. Aufwüchse  4-6 Wochen",350,157,131,260,9.6199999999999992,6.3,3.7,3.5,null,null,null,null,null,null,null,null,{"$f":"IF(D38=\"\",\"\",COUNTA($D$13:D38))","v":19}]
[null,{"$f":"IF(D39=\"\",\"\",COUNTA($D$13:D39))","v":20},"Grassilage 2. u. folg. Aufwüchse  7-9 Wochen",350,141,123,293,9.3000000000000007,6.3,3.7,3.5,null,null,null,null,null,null,null,null,{"$f":"IF(D39=\"\",\"\",COUNTA($D$13:D39))","v":20}]
[null,{"$f":"IF(D40=\"\",\"\",COUNTA($D$13:D40))","v":""},"Grassilage (klee- und kräuterreich)",null,null,null,null,null,null,null,null,null,null,null,null,null,null,null,null,{"$f":"IF(D40=\"\",\"\",COUNTA($D$13:D40))","v":""}]
[null,{"$f":"IF(D41=\"\",\"\",COUNTA($D$13:D41))","v":21},"Grassilage 1. Aufwuchs  Beg. Ähren-/Rispenschieben",350,171,149,211,10.75,9.6999999999999993,4,3.5,null,null,null,null,null,null,null,null,{"$f":"IF(D41=\"\",\"\",COUNTA($D$13:D41))","v":21}]
[null,{"$f":"IF(D42=\"\",\"\",COUNTA($D$13:D42))","v":22},"Grassilage 1. Aufwuchs volles Ähren-/Rispenschieben",350,157,143,246,10.62,9.6999999999999993,3.7,3.5,null,null,null,null,null,null,null,null,{"$f":"IF(D42=\"\",\"\",COUNTA($D$13:D42))","v":22}]
[null,{"$f":"IF(D43=\"\",\"\",COUNTA($D$13:D43))","v":23},"Grassilage 1. Aufwuchs Beginn der Blüte",350,149,131,274,9.84,9.6999999999999993,3.7,3.5,null,null,null,null,null,null,null,null,{"$f":"IF(D43=\"\",\"\",COUNTA($D$13:D43))","v":23}]
[null,{"$f":"IF(D44=\"\",\"\",COUNTA($D$13:D44))","v":24},"Grassilage 1. Aufwuchs Mitte bis Ende der Blüte",350,140,120,306,9.59,9.6999999999999993,3.7,3.5,null,null,null,null,null,null,null,null,{"$f":"IF(D44=\"\",\"\",COUNTA($D$13:D44))","v":24}]
[null,{"$f":"IF(D45=\"\",\"\",COUNTA($D$13:D45))","v":25},"Grassilage 2. u. folg. Aufwüchse  unter 4 Wochen",350,183,142,206,10.43,9.6999999999999993,3.7,3.5,null,null,null,null,null,null,null,null,{"$f":"IF(D45=\"\",\"\",COUNTA($D$13:D45))","v":25}]
[null,{"$f":"IF(D46=\"\",\"\",COUNTA($D$13:D46))","v":26},"Grassilage 2. u. folg. Aufwüchse  4-6 Wochen",350,163,134,243,9.8000000000000007,9.6999999999999993,3.7,3.5,null,null,null,null,null,null,null,null,{"$f":"IF(D46=\"\",\"\",COUNTA($D$13:D46))","v":26}]
[null,{"$f":"IF(D47=\"\",\"\",COUNTA($D$13:D47))","v":27},"Grassilage 2. u. folg. Aufwüchse  7-9 Wochen",350,146,122,272,9.1300000000000008,9.6999999999999993,3.7,3.5,null,null,null,null,null,null,null,null,{"$f":"IF(D47=\"\",\"\",COUNTA($D$13:D47))","v":27}]
[null,{"$f":"IF(D48=\"\",\"\",COUNTA($D$13:D48))","v":""},"Maissilagen",null,null,null,null,null,null,null,null,null,null,null,null,null,null,null,null,{"$f":"IF(D48=\"\",\"\",COUNTA($D$13:D48))","v":""}]
[null,{"$f":"IF(D49=\"\",\"\",COUNTA($D$13:D49))","v":28},"Maissilage Beg. d. Teigreife, Kolbenant. mittel (35-45 %)",270,89,130,211,10.52,3.3,2.6,3,null,null,null,null,null,null,null,null,{"$f":"IF(D49=\"\",\"\",COUNTA($D$13:D49))","v":28}]
[null,{"$f":"IF(D50=\"\",\"\",COUNTA($D$13:D50))","v":29},"Maissilage Beg. d. Teigreife, Kolbenant. hoch   (> 45 %)",290,87,133,186,10.8,3.3,2.6,3,null,null,null,null,null,null,null,null,{"$f":"IF(D50=\"\",\"\",COUNTA($D$13:D50))","v":29}]
[null,{"$f":"IF(D51=\"\",\"\",COUNTA($D$13:D51))","v":30},"Maissilage Ende d. Teigreife, Kolbenant. mittel (45-55 %)",350,80,131,200,10.71,3.1,2.2999999999999998,3,null,null,null,null,null,null,null,null,{"$f":"IF(D51=\"\",\"\",COUNTA($D$13:D51))","v":30}]
[null,{"$f":"IF(D52=\"\",\"\",COUNTA($D$13:D52))","v":31},"Maissilage Ende d. Teigreife, Kolbenanteil hoch (> 55 %)",380,79,134,176,11.05,2.9,2.6,3,null,null,null,null,null,null,null,null,{"$f":"IF(D52=\"\",\"\",COUNTA($D$13:D52))","v":31}]
[null,{"$f":"IF(D53=\"\",\"\",COUNTA($D$13:D53))","v":""},"Rotklee-Gras-Gemenge-Silage",null,null,null,null,null,null,null,null,null,null,null,null,null,null,null,null,{"$f":"IF(D53=\"\",\"\",COUNTA($D$13:D53))","v":""}]
[null,{"$f":"IF(D54=\"\",\"\",COUNTA($D$13:D54))","v":32},"Rotklee-Gras-Gemenge-Silage 1. Aufwuchs  in der Knospe",350,174,146,246,10.86,10.3,3.7,3.5,null,null,null,null,null,null,null,null,{"$f":"IF(D54=\"\",\"\",COUNTA($D$13:D54))","v":32}]
[null,{"$f":"IF(D55=\"\",\"\",COUNTA($D$13:D55))","v":33},"Rotklee-Gras-Gemenge-Silage Beginn der Blüte",350,166,137,277,10.26,10.3,3.4,3.5,null,null,null,null,null,null,null,null,{"$f":"IF(D55=\"\",\"\",COUNTA($D$13:D55))","v":33}]
[null,{"$f":"IF(D56=\"\",\"\",COUNTA($D$13:D56))","v":34},"Rotklee-Gras-Gemenge-Silage Mitte bis Ende der Blüte",350,140,134,306,9.91,10.3,3.1,3.5,null,null,null,null,null,null,null,null,{"$f":"IF(D56=\"\",\"\",COUNTA($D$13:D56))","v":34}]
[null,{"$f":"IF(D57=\"\",\"\",COUNTA($D$13:D57))","v":35},"Rotklee-Gras-Gemenge-Silage 2. u. folg. Aufwüchse  in der Knospe",350,191,143,246,9.8000000000000007,11.1,4.3,3.5,null,null,null,null,null,null,null,null,{"$f":"IF(D57=\"\",\"\",COUNTA($D$13:D57))","v":35}]
[null,{"$f":"IF(D58=\"\",\"\",COUNTA($D$13:D58))","v":36},"Rotklee-Gras-Gemenge-Silage 2. u. folg. Aufwüchse Beginn der Blüte",350,174,126,260,9.14,11.1,3.7,3.5,null,null,null,null,null,null,null,null,{"$f":"IF(D58=\"\",\"\",COUNTA($D$13:D58))","v":36}]
[null,{"$f":"IF(D59=\"\",\"\",COUNTA($D$13:D59))","v":""},null,null,null,null,null,null,null,null,null,null,null,null,null,null,null,null,null,{"$f":"IF(D59=\"\",\"\",COUNTA($D$13:D59))","v":""}]
[null,{"$f":"IF(D60=\"\",\"\",COUNTA($D$13:D60))","v":""},"GPS aus Gerste",null,null,null,null,null,null,null,null,null,null,null,null,null,null,null,null,{"$f":"IF(D60=\"\",\"\",COUNTA($D$13:D60))","v":""}]
[null,{"$f":"IF(D61=\"\",\"\",COUNTA($D$13:D61))","v":37},"GPS aus Gerste in der Teigreife, Körneranteil ca. 50 %",450,98,124,227,9.58,2.9,2.9,null,null,null,null,null,null,null,null,null,{"$f":"IF(D61=\"\",\"\",COUNTA($D$13:D61))","v":37}]
[null,{"$f":"IF(D62=\"\",\"\",COUNTA($D$13:D62))","v":""},"GPS aus Weizen",null,null,null,null,null,null,null,null,null,null,null,null,null,null,null,null,{"$f":"IF(D62=\"\",\"\",COUNTA($D$13:D62))","v":""}]
[null,{"$f":"IF(D63=\"\",\"\",COUNTA($D$13:D63))","v":38},"GPS aus Weizen in der Teigreife, Körneranteil ca. 50 % ",450,93,118,227,9.2899999999999991,2.2000000000000002,2.7,null,null,null,null,null,null,null,null,null,{"$f":"IF(D63=\"\",\"\",COUNTA($D$13:D63))","v":38}]
[null,{"$f":"IF(D64=\"\",\"\",COUNTA($D$13:D64))","v":""},null,null,null,null,null,null,null,null,null,null,null,null,null,null,null,null,null,{"$f":"IF(D64=\"\",\"\",COUNTA($D$13:D64))","v":""}]
[null,{"$f":"IF(D65=\"\",\"\",COUNTA($D$13:D65))","v":""},"Zuckerrübenblattsilage, sauber",null,null,null,null,null,null,null,null,null,null,null,null,null,null,null,null,{"$f":"IF(D65=\"\",\"\",COUNTA($D$13:D65))","v":""}]
[null,{"$f":"IF(D66=\"\",\"\",COUNTA($D$13:D66))","v":39},"Zuckerrübenblattsilage, sauber",160,150,131,156,9.69,13.1,2.5,null,null,null,null,null,null,null,null,null,{"$f":"IF(D66=\"\",\"\",COUNTA($D$13:D66))","v":39}]
[null,{"$f":"IF(D67=\"\",\"\",COUNTA($D$13:D67))","v":""},null,null,null,null,null,null,null,null,null,null,null,null,null,null,null,null,null,{"$f":"IF(D67=\"\",\"\",COUNTA($D$13:D67))","v":""}]
[null,{"$f":"IF(D68=\"\",\"\",COUNTA($D$13:D68))","v":""},"III. Energiereiche Saftfutter",null,null,null,null,null,null,null,null,null,null,null,null,null,null,null,null,{"$f":"IF(D68=\"\",\"\",COUNTA($D$13:D68))","v":""}]
[null,{"$f":"IF(D69=\"\",\"\",COUNTA($D$13:D69))","v":""},null,null,null,null,null,null,null,null,null,null,null,null,null,null,null,null,null,{"$f":"IF(D69=\"\",\"\",COUNTA($D$13:D69))","v":""}]
[null,{"$f":"IF(D70=\"\",\"\",COUNTA($D$13:D70))","v":40},"Massenfutterrüben, sauber",120,92,147,67,12,2.5,2.5,null,null,null,null,null,null,null,null,null,{"$f":"IF(D70=\"\",\"\",COUNTA($D$13:D70))","v":40}]
[null,{"$f":"IF(D71=\"\",\"\",COUNTA($D$13:D71))","v":41},"Gehaltsfutterrüben, sauber",150,80,150,67,11.93,2,2.7,null,null,null,null,null,null,null,null,null,{"$f":"IF(D71=\"\",\"\",COUNTA($D$13:D71))","v":41}]
[null,{"$f":"IF(D72=\"\",\"\",COUNTA($D$13:D72))","v":42},"Maiskolbenschrotsilage",500,90,146,144,11.98,1,3.2,null,null,null,null,null,null,null,null,null,{"$f":"IF(D72=\"\",\"\",COUNTA($D$13:D72))","v":42}]
[null,{"$f":"IF(D73=\"\",\"\",COUNTA($D$13:D73))","v":43},"CCM",600,105,161,52,12.88,0.3,3.2,null,null,null,null,null,null,null,null,null,{"$f":"IF(D73=\"\",\"\",COUNTA($D$13:D73))","v":43}]
[null,{"$f":"IF(D74=\"\",\"\",COUNTA($D$13:D74))","v":44},"Biertreber, siliert",260,250,184,193,11.22,3.5,6.2,3,null,null,null,null,null,null,null,null,{"$f":"IF(D74=\"\",\"\",COUNTA($D$13:D74))","v":44}]
[null,{"$f":"IF(D75=\"\",\"\",COUNTA($D$13:D75))","v":45},"Preßschnitzel, siliert",220,109,159,209,11.86,10.9,0.9,null,null,null,null,null,null,null,null,null,{"$f":"IF(D75=\"\",\"\",COUNTA($D$13:D75))","v":45}]
[null,{"$f":"IF(D76=\"\",\"\",COUNTA($D$13:D76))","v":46},"Apfeltrester",230,47,121,215,11.1,7.9,2.7,1,null,null,null,null,null,null,null,null,{"$f":"IF(D76=\"\",\"\",COUNTA($D$13:D76))","v":46}]
[null,{"$f":"IF(D77=\"\",\"\",COUNTA($D$13:D77))","v":""},null,null,null,null,null,null,null,null,null,null,null,null,null,null,null,null,null,{"$f":"IF(D77=\"\",\"\",COUNTA($D$13:D77))","v":""}]
[null,{"$f":"IF(D78=\"\",\"\",COUNTA($D$13:D78))","v":""},"IV. Rauhfutter",null,null,null,null,null,null,null,null,null,null,null,null,null,null,null,null,{"$f":"IF(D78=\"\",\"\",COUNTA($D$13:D78))","v":""}]
[null,{"$f":"IF(D79=\"\",\"\",COUNTA($D$13:D79))","v":""},null,null,null,null,null,null,null,null,null,null,null,null,null,null,null,null,null,{"$f":"IF(D79=\"\",\"\",COUNTA($D$13:D79))","v":""}]
[null,{"$f":"IF(D80=\"\",\"\",COUNTA($D$13:D80))","v":""},"Heu Grünland 2-3 Nutzungen (obergrasbetont)",null,null,null,null,null,null,null,null,null,null,null,null,null,null,null,null,{"$f":"IF(D80=\"\",\"\",COUNTA($D$13:D80))","v":""}]
[null,{"$f":"IF(D81=\"\",\"\",COUNTA($D$13:D81))","v":47},"Heu 1. Aufwuchs  volles Ähren-/Rispenschieben",860,106,{"$f":"N81/D81*1000","v":120.93023255813954},294,9.11,{"$f":"4/0.86","v":4.6511627906976747},{"$f":"2.4/0.86","v":2.7906976744186047},9,null,null,104,null,null,null,null,null,{"$f":"IF(D81=\"\",\"\",COUNTA($D$13:D81))","v":47}]
[null,{"$f":"IF(D82=\"\",\"\",COUNTA($D$13:D82))","v":48},"Heu 1. Aufwuchs  Beginn der Blüte",860,94,115.11627906976744,324,8.5500000000000007,{"$f":"3.8/0.86","v":4.4186046511627906},{"$f":"2.2/0.86","v":2.558139534883721},9,null,null,99,null,null,null,null,null,{"$f":"IF(D82=\"\",\"\",COUNTA($D$13:D82))","v":48}]
[null,{"$f":"IF(D83=\"\",\"\",COUNTA($D$13:D83))","v":49},"Heu 1. Aufwuchs  Mitte bis Ende der Blüte",860,91,108.13953488372093,356,7.99,{"$f":"3.7/0.86","v":4.3023255813953494},2.4,9,null,null,93,null,null,null,null,null,{"$f":"IF(D83=\"\",\"\",COUNTA($D$13:D83))","v":49}]
[null,{"$f":"IF(D84=\"\",\"\",COUNTA($D$13:D84))","v":50},"Heu 2. u. folg. Aufwüchse  unter 4 Wochen",860,151,134.88372093023256,251,9.66,{"$f":"4.2/0.86","v":4.8837209302325588},{"$f":"2.8/0.86","v":3.2558139534883721},9,null,null,116,null,null,null,null,null,{"$f":"IF(D84=\"\",\"\",COUNTA($D$13:D84))","v":50}]
[null,{"$f":"IF(D85=\"\",\"\",COUNTA($D$13:D85))","v":51},"Heu 2. u. folg. Aufwüchse  4-6 Wochen",860,133,125.58139534883722,284,9.0500000000000007,{"$f":"4.2/0.86","v":4.8837209302325588},{"$f":"2.8/0.86","v":3.2558139534883721},9,null,null,108,null,null,null,null,null,{"$f":"IF(D85=\"\",\"\",COUNTA($D$13:D85))","v":51}]
[null,{"$f":"IF(D86=\"\",\"\",COUNTA($D$13:D86))","v":52},"Heu 2. u. folg. Aufwüchse  7-9 Wochen",860,124,116.27906976744185,312,8.3000000000000007,{"$f":"4.2/0.86","v":4.8837209302325588},{"$f":"2.5/0.86","v":2.9069767441860463},9,null,null,100,null,null,null,null,null,{"$f":"IF(D86=\"\",\"\",COUNTA($D$13:D86))","v":52}]
[null,{"$f":"IF(D87=\"\",\"\",COUNTA($D$13:D87))","v":""},"Rotklee-Gras-Heu",null,null,null,null,null,null,null,null,null,null,null,null,null,null,null,null,{"$f":"IF(D87=\"\",\"\",COUNTA($D$13:D87))","v":""}]
[null,{"$f":"IF(D88=\"\",\"\",COUNTA($D$13:D88))","v":53},"Rotklee-Gras-Heu   1. Aufwuchs  in der Knospe",860,157,{"$f":"N88/D88*1000","v":137.2093023255814},258,{"$f":"8.06/0.86","v":9.3720930232558146},{"$f":"11.5/0.86","v":13.372093023255815},{"$f":"2.4/0.86","v":2.7906976744186047},9,null,null,118,null,null,null,null,null,{"$f":"IF(D88=\"\",\"\",COUNTA($D$13:D88))","v":53}]
[null,{"$f":"IF(D89=\"\",\"\",COUNTA($D$13:D89))","v":54},"Rotklee-Gras-Heu   1. Aufwuchs  Beginn der Blüte",860,155,{"$f":"N89/D89*1000","v":133.72093023255812},300,9.01,{"$f":"11.5/0.86","v":13.372093023255815},{"$f":"2.2/0.86","v":2.558139534883721},9,null,null,115,null,null,null,null,null,{"$f":"IF(D89=\"\",\"\",COUNTA($D$13:D89))","v":54}]
[null,{"$f":"IF(D90=\"\",\"\",COUNTA($D$13:D90))","v":""},null,null,null,null,null,null,null,null,null,null,null,null,null,null,null,null,null,{"$f":"IF(D90=\"\",\"\",COUNTA($D$13:D90))","v":""}]
[null,{"$f":"IF(D91=\"\",\"\",COUNTA($D$13:D91))","v":55},"Stroh (Gerste)",860,39,{"$f":"N91/D91*1000","v":82.558139534883722},442,6.8,{"$f":"3.3/0.86","v":3.8372093023255811},{"$f":"0.8/0.86","v":0.93023255813953498},3,null,null,71,null,null,null,null,null,{"$f":"IF(D91=\"\",\"\",COUNTA($D$13:D91))","v":55}]
[null,{"$f":"IF(D92=\"\",\"\",COUNTA($D$13:D92))","v":""},null,null,null,null,null,null,null,null,null,null,null,null,null,null,null,null,null,{"$f":"IF(D92=\"\",\"\",COUNTA($D$13:D92))","v":""}]
[null,{"$f":"IF(D93=\"\",\"\",COUNTA($D$13:D93))","v":""},"V. Kraftfutter",null,null,null,null,null,null,null,null,null,null,null,null,null,null,null,null,{"$f":"IF(D93=\"\",\"\",COUNTA($D$13:D93))","v":""}]
[null,{"$f":"IF(D94=\"\",\"\",COUNTA($D$13:D94))","v":""},null,null,null,null,null,null,null,null,null,null,null,null,null,null,null,null,null,{"$f":"IF(D94=\"\",\"\",COUNTA($D$13:D94))","v":""}]
[null,{"$f":"IF(D95=\"\",\"\",COUNTA($D$13:D95))","v":56},"Hafer, Körner",880,{"$f":"M95*1000/$D95","v":120.45454545454545},{"$f":"N95/D95*1000","v":139.77272727272728},{"$f":"O95*1000/$D95","v":115.90909090909091},11.477272727272727,1.25,3.6363636363636362,18.5,null,106,123,102,10.1,1.1000000000000001,3.2,null,{"$f":"IF(D95=\"\",\"\",COUNTA($D$13:D95))","v":56}]
[null,{"$f":"IF(D96=\"\",\"\",COUNTA($D$13:D96))","v":57},"Gerste, Körner",880,123.86363636363636,163.63636363636363,56.81818181818182,12.840909090909092,0.63636363636363635,3.8636363636363638,20.3,null,109,144,50,11.3,0.56000000000000005,3.4,null,{"$f":"IF(D96=\"\",\"\",COUNTA($D$13:D96))","v":57}]
[null,{"$f":"IF(D97=\"\",\"\",COUNTA($D$13:D97))","v":58},"Roggen, Körner",880,112.5,167.04545454545456,27.272727272727273,13.306818181818182,0.56818181818181823,3.5227272727272729,20,null,99,147,24,11.71,0.5,3.1,null,{"$f":"IF(D97=\"\",\"\",COUNTA($D$13:D97))","v":58}]
[null,{"$f":"IF(D98=\"\",\"\",COUNTA($D$13:D98))","v":59},"Weizen, Körner",880,137.5,171.59090909090909,29.545454545454547,13.375,0.45454545454545453,3.75,20.100000000000001,null,121,151,26,11.77,0.4,3.3,null,{"$f":"IF(D98=\"\",\"\",COUNTA($D$13:D98))","v":59}]
[null,{"$f":"IF(D99=\"\",\"\",COUNTA($D$13:D99))","v":60},"Triticale, Körner",880,145.45454545454547,170.45454545454544,28.40909090909091,13.125,0.45454545454545453,4.3181818181818183,19.8,null,128,150,25,11.55,0.4,3.8,null,{"$f":"IF(D99=\"\",\"\",COUNTA($D$13:D99))","v":60}]
[null,{"$f":"IF(D100=\"\",\"\",COUNTA($D$13:D100))","v":61},"Mais, Körner",880,105.68181818181819,163.63636363636363,26.136363636363637,13.295454545454545,0.45454545454545453,3.1818181818181817,24,null,93,144,23,11.7,0.4,2.8,null,{"$f":"IF(D100=\"\",\"\",COUNTA($D$13:D100))","v":61}]
[null,{"$f":"IF(D101=\"\",\"\",COUNTA($D$13:D101))","v":62},"Trockenschnitzel",900,98.888888888888886,155.55555555555557,205,11.93,7.6,{"$f":"R101*1000/$D101","v":1},20,null,89,140,185,11,7,0.9,null,{"$f":"IF(D101=\"\",\"\",COUNTA($D$13:D101))","v":62}]
[null,{"$f":"IF(D102=\"\",\"\",COUNTA($D$13:D102))","v":63},"Melasseschnitzel",910,126.37362637362638,163.73626373626374,{"$f":"O102*1000/$D102","v":157.14285714285714},12.087912087912088,10.989010989010989,0.76923076923076927,20.7,null,115,149,143,11,10,0.7,null,{"$f":"IF(D102=\"\",\"\",COUNTA($D$13:D102))","v":63}]
[null,{"$f":"IF(D103=\"\",\"\",COUNTA($D$13:D103))","v":64},"Weizenkleie",880,160.22727272727272,139.77272727272728,134.09090909090909,9.920454545454545,1.4772727272727273,13.409090909090908,20,null,141,123,118,8.73,1.3,11.8,null,{"$f":"IF(D103=\"\",\"\",COUNTA($D$13:D103))","v":64}]
[null,{"$f":"IF(D104=\"\",\"\",COUNTA($D$13:D104))","v":65},"Ackerbohnen, Samen",880,297.72727272727275,195.45454545454547,88.63636363636364,13.636363636363637,1.3636363636363635,5.4545454545454541,30,null,262,172,78,12,1.2,4.8,null,{"$f":"IF(D104=\"\",\"\",COUNTA($D$13:D104))","v":65}]
[null,{"$f":"IF(D105=\"\",\"\",COUNTA($D$13:D105))","v":66},"Erbsen, Samen",880,251.13636363636363,187.5,67.045454545454547,13.409090909090908,1.0227272727272727,4.6590909090909092,31.5,null,221,165,59,11.8,0.9,4.0999999999999996,null,{"$f":"IF(D105=\"\",\"\",COUNTA($D$13:D105))","v":66}]
[null,{"$f":"IF(D106=\"\",\"\",COUNTA($D$13:D106))","v":67},"Sojaextraktionsschrot",880,510.22727272727275,307.9545454545455,67.045454545454547,13.75,3.4090909090909092,7.2727272727272725,42,null,449,271,59,12.1,3,6.4,null,{"$f":"IF(D106=\"\",\"\",COUNTA($D$13:D106))","v":67}]
[null,{"$f":"IF(D107=\"\",\"\",COUNTA($D$13:D107))","v":68},"Rapsextraktionsschr. 00-Typ",890,398.87640449438203,219.10112359550561,131.46067415730337,11.988764044943821,6.7415730337078648,13.146067415730338,27,null,355,195,117,10.67,6,11.7,null,{"$f":"IF(D107=\"\",\"\",COUNTA($D$13:D107))","v":68}]
[null,{"$f":"IF(D108=\"\",\"\",COUNTA($D$13:D108))","v":69},"Leinkuchen/Expeller 4-8 % Fett",900,373.33333333333331,240,106.66666666666667,12.355555555555556,4.1111111111111107,9,null,null,336,216,96,11.12,3.7,8.1,null,{"$f":"IF(D108=\"\",\"\",COUNTA($D$13:D108))","v":69}]
[null,{"$f":"IF(D109=\"\",\"\",COUNTA($D$13:D109))","v":70},"Luzernegrünmehl < 26 % Rohfaser",900,217.77777777777777,184.44444444444443,222.22222222222223,9.6111111111111107,17.111111111111111,2.8888888888888888,null,null,196,166,200,8.65,15.4,2.6,null,{"$f":"IF(D109=\"\",\"\",COUNTA($D$13:D109))","v":70}]
[null,{"$f":"IF(D110=\"\",\"\",COUNTA($D$13:D110))","v":""},null,null,null,null,null,null,null,null,null,null,null,null,null,null,null,null,null,{"$f":"IF(D110=\"\",\"\",COUNTA($D$13:D110))","v":""}]
[null,{"$f":"IF(D111=\"\",\"\",COUNTA($D$13:D111))","v":""},"Mineralfutter",null,null,null,null,null,null,null,null,null,null,null,null,null,null,null,null,{"$f":"IF(D111=\"\",\"\",COUNTA($D$13:D111))","v":""}]
[null,{"$f":"IF(D112=\"\",\"\",COUNTA($D$13:D112))","v":""},null,null,null,null,null,null,null,null,null,null,null,null,null,null,null,null,null,{"$f":"IF(D112=\"\",\"\",COUNTA($D$13:D112))","v":""}]
[null,{"$f":"IF(D113=\"\",\"\",COUNTA($D$13:D113))","v":71},"Mineralfutter für Mutter-und Milchziegen Weidehaltung",960,null,null,null,null,{"$f":"Q113*1000/$D113","v":166.66666666666666},52.083333333333336,60,null,null,null,null,null,160,50,null,{"$f":"IF(D113=\"\",\"\",COUNTA($D$13:D113))","v":71}]
[null,{"$f":"IF(D114=\"\",\"\",COUNTA($D$13:D114))","v":72},"Mineralfutter für Mutter-und Milchziegen Stallperiode (Winter)",960,null,null,null,null,197.91666666666666,52.083333333333336,60,null,null,null,null,null,190,50,null,{"$f":"IF(D114=\"\",\"\",COUNTA($D$13:D114))","v":72}]
[null,{"$f":"IF(D115=\"\",\"\",COUNTA($D$13:D115))","v":73},"Mineralfutter (Ziegenmast)",960,null,null,null,null,218.75,31.25,65,null,null,null,null,null,210,30,null,{"$f":"IF(D115=\"\",\"\",COUNTA($D$13:D115))","v":73}]
[null,{"$f":"IF(D116=\"\",\"\",COUNTA($D$13:D116))","v":""},null,null,null,null,null,null,null,null,null,null,null,null,null,null,null,null,null,{"$f":"IF(D116=\"\",\"\",COUNTA($D$13:D116))","v":""}]
[null,{"$f":"IF(D117=\"\",\"\",COUNTA($D$13:D117))","v":""},"Neue Futtermittel"]
[null,{"$f":"IF(D118=\"\",\"\",COUNTA($D$13:D118))","v":""}]
[null,{"$f":"IF(D119=\"\",\"\",COUNTA($D$13:D119))","v":""},null,null,null,null,null,null,null,null,null,null,null,null,null,null,null,null,null,{"$f":"IF(D119=\"\",\"\",COUNTA($D$13:D119))","v":""}]
[null,{"$f":"IF(D120=\"\",\"\",COUNTA($D$13:D120))","v":""},null,null,null,null,null,null,null,null,null,null,null,null,null,null,null,null,null,{"$f":"IF(D120=\"\",\"\",COUNTA($D$13:D120))","v":""}]
[null,{"$f":"IF(D121=\"\",\"\",COUNTA($D$13:D121))","v":""},null,null,null,null,null,null,null,null,null,null,null,null,null,null,null,null,null,{"$f":"IF(D121=\"\",\"\",COUNTA($D$13:D121))","v":""}]
[null,null,null,null,null,null,null,null,null,null,null,null,null,null,null,null,null,null,null,{"$f":"IF(D122=\"\",\"\",COUNTA($D$13:D122))","v":""}]
[null,null,null,null,null,null,null,null,null,null,null,null,null,null,null,null,null,null,null,{"$f":"IF(D123=\"\",\"\",COUNTA($D$13:D123))","v":""}]
[null,null,null,null,null,null,null,null,null,null,null,null,null,null,null,null,null,null,null,{"$f":"IF(D124=\"\",\"\",COUNTA($D$13:D124))","v":""}]
[]
[null,null,null,null,null,null,null,null,null,null,null,null,null,null,null,null,null,null,null,{"$f":"IF(D126=\"\",\"\",COUNTA($D$13:D126))","v":""}]
[null,null,null,null,null,null,null,null,null,null,null,null,null,null,null,null,null,null,null,{"$f":"IF(U127=\"\",\"\",COUNTA($C$13:U127))","v":""}]

{"sheet":"Mutter- und Milchziegen","index":1,"n_rows":40,"n_cols":30,"rows_kept":40,"cut":false,"hidden":false,"merged":[[9,20,10,20],[4,20,4,22],[5,20,5,22],[0,18,0,28],[2,20,2,22],[3,20,3,22],[9,21,10,21]]}
[null,null,"Landesbetrieb Landwirtschaft Hessen",null,null,null,null,null,null,null,null,null,null,null,null,null,null,null,"Rationsberechnung für Mutter- und Milchziegen"]
[null,null,"Kölnische Str. 48-50",null,null,"Rationsberechnung für Ziegen"]
[null,null,"34117 Kassel",null,null,null,null,null,null,null,null,null,null,null,null,null,null,null,null,null,"Lebendgewicht in kg:",null,null,65,null,null,"Abkürzungen.:","Umsetzbare Energie:",null,"ME in MJ"]
[null,null,null,null,null,null,null,null,null,null,null,null,null,null,null,null,null,null,null,null,"Angestrebete Milchleistung in l:",null,null,3,null,null,null,"Frischmasse:",null,"FM"]
[null,null,"Kajo Hollmichel ",null,null,null,null,null,null,null,null,null,null,null,null,null,null,null,null,null,"Angestrebte Fettprozente in %:",null,null,4,null,null,null,"Trockenmasse:",null,"TM"]
[null,null,"Tel.: 0561  7299-257",null,null,null,null,null,null,null,null,null,null,null,null,null,null,null,null,null,"Angestrebte Eiweißgehalte in %:",null,null,3.5,null,null,null,"Rohprotein:",null,"XP"]
[null,null,"mobil: 0160-4755166",null,null,null,null,null,null,null,null,null,null,null,null,null,null,null,null,null,null,null,null,null,null,null,null,"nutzbares Rohprotein:",null,"nXP"]
[null,null,"E-mail: kajo.hollmichel@llh.hessen.de"]
[]
[null,null,null,"TM (%)","Rohfaser","Rohprotein","nXP","ME","Ca","P","kg in der","TM (kg)","Rohfaser","Rohprotein","nXP","ME","Ca","P","Preis ","in der Ration","kg FM in der Ration","% TM Futter in 1 kg TM",null,"TM","Rohfaser","Roh-protein","nutzbares Rohprot.","ME","Calcium (Ca)","Phosphor (P)"]
[null,"Nr.","Futtermittel",null,"g/kg TM","g/kg TM","g/kg TM","MJ / kg TM","g/kg TM","g/kg TM","Ration",null,"g in FM","g in FM","g in FM","MJ in FM","g in FM","g in FM","€/dt","€",null,null,"Einheit","kg","g","g","g","MJ ","g","g"]
[null,{"$f":"IF($C12=\"\",\"\",VLOOKUP($C12,Futtermittel!$C$11:$T$143,18,FALSE))","v":59},"Weizen, Körner",{"$f":"IF($C12=\"\",\"\",VLOOKUP($B12,Futtermittel!$B$13:$K$130,3,FALSE))","v":880},{"$f":"IF($C12=\"\",\"\",VLOOKUP($B12,Futtermittel!$B$13:$K$130,6,FALSE))","v":29.545454545454547},{"$f":"IF($C12=\"\",\"\",VLOOKUP($B12,Futtermittel!$B$13:$K$130,4,FALSE))","v":137.5},{"$f":"IF($C12=\"\",\"\",VLOOKUP($B12,Futtermittel!$B$13:$K$130,5,FALSE))","v":171.59090909090909},{"$f":"IF($B12<1,0,VLOOKUP($B12,Futtermittel!$B$13:$K$130,7,TRUE))","v":13.375},{"$f":"IF($B12<1,0,VLOOKUP($B12,Futtermittel!$B$13:$K$130,8,TRUE))","v":0.45454545454545453},{"$f":"IF($B12<1,0,VLOOKUP($B12,Futtermittel!$B$13:$K$130,9,TRUE))","v":3.75},{"$f":"U12","v":0.4},{"$f":"IF(C12=\"\",\"\",K12*D12/1000)","v":0.35199999999999998},{"$f":"IF(C12=\"\",\"\",$K12*E12*$D12/1000)","v":10.400000000000002},{"$f":"IF(C12=\"\",\"\",$K12*F12*$D12/1000)","v":48.4},{"$f":"IF(C12=\"\",\"\",$K12*G12*$D12/1000)","v":60.4},{"$f":"IF(C12=\"\",\"\",$K12*H12*$D12/1000)","v":4.7080000000000011},{"$f":"IF(C12=\"\",\"\",$K12*I12*$D12/1000)","v":0.16},{"$f":"IF(C12=\"\",\"\",$K12*J12*$D12/1000)","v":1.32},{"$f":"IF($B12<1,0,VLOOKUP($B12,Futtermittel!$B$13:$K$130,10,TRUE))","v":20.100000000000001},{"$f":"(S12/100*K12)*SUM(Y$15:Y$24)","v":8.0400000000000013E-2},0.4,{"$f":"IF(C12=\"\",\"\",U12*(D12/1000)/U$25)","v":0.21253471802922352},"in der ges. Ration",{"$f":"SUM($L$12:$L$24)*SUM(Y15:Y24)","v":1.6562000000000001},{"$f":"SUM($M$12:$M$24)*SUM(Y15:Y24)","v":478.07},{"$f":"SUM($N$12:$N$24)*SUM(Y15:Y24)","v":177.14},{"$f":"SUM($O$12:$O$24)*SUM(Y15:Y24)","v":196.42500000000001},{"$f":"SUM($P$12:$P$24)*SUM(Y15:Y24)","v":15.43075},{"$f":"SUM($Q$12:$Q$24)*SUM(Y15:Y24)","v":9.1674999999999986},{"$f":"SUM($R$12:$R$24)*SUM(Y15:Y24)","v":4.9900000000000011}]
[null,{"$f":"IF($C13=\"\",\"\",VLOOKUP($C13,Futtermittel!$C$11:$T$143,18,FALSE))","v":1},"Grünland 1. Aufwuchs  Beg. Ähren-/Rispenschieben",{"$f":"IF($C13=\"\",\"\",VLOOKUP($B13,Futtermittel!$B$13:$K$130,3,FALSE))","v":170},{"$f":"IF($C13=\"\",\"\",VLOOKUP($B13,Futtermittel!$B$13:$K$130,6,FALSE))","v":206},{"$f":"IF($C13=\"\",\"\",VLOOKUP($B13,Futtermittel!$B$13:$K$130,4,FALSE))","v":224},{"$f":"IF($C13=\"\",\"\",VLOOKUP($B13,Futtermittel!$B$13:$K$130,5,FALSE))","v":153},{"$f":"IF($B13<1,0,VLOOKUP($B13,Futtermittel!$B$13:$K$130,7,TRUE))","v":11.47},{"$f":"IF($B13<1,0,VLOOKUP($B13,Futtermittel!$B$13:$K$130,8,TRUE))","v":5.9},{"$f":"IF($B13<1,0,VLOOKUP($B13,Futtermittel!$B$13:$K$130,9,TRUE))","v":4.4000000000000004},{"$f":"U13","v":2.5},{"$f":"IF(C13=\"\",\"\",K13*D13/1000)","v":0.42499999999999999},{"$f":"IF(C13=\"\",\"\",$K13*E13*$D13/1000)","v":87.55},{"$f":"IF(C13=\"\",\"\",$K13*F13*$D13/1000)","v":95.2},{"$f":"IF(C13=\"\",\"\",$K13*G13*$D13/1000)","v":65.025000000000006},{"$f":"IF(C13=\"\",\"\",$K13*H13*$D13/1000)","v":4.8747499999999997},{"$f":"IF(C13=\"\",\"\",$K13*I13*$D13/1000)","v":2.5074999999999998},{"$f":"IF(C13=\"\",\"\",$K13*J13*$D13/1000)","v":1.87},{"$f":"IF($B13<1,0,VLOOKUP($B13,Futtermittel!$B$13:$K$130,10,TRUE))","v":1.4},3.4999999999999996E-2,2.5,{"$f":"IF(C13=\"\",\"\",U13*(D13/1000)/U$25)","v":0.25661152034778412},"je kg TM ",null,{"$f":"Y12/$X12/1000","v":0.28865475184156503},{"$f":"Z12/$X12/1000","v":0.10695568168095639},{"$f":"AA12/$X12/1000","v":0.11859980678661998},{"$f":"AB12/X12","v":9.3169605120154557},{"$f":"AC12/$X12/1000","v":5.5352614418548475E-3},{"$f":"AD12/$X12/1000","v":3.0129211447892769E-3}]
[null,{"$f":"IF($C14=\"\",\"\",VLOOKUP($C14,Futtermittel!$C$11:$T$143,18,FALSE))","v":55},"Stroh (Gerste)",{"$f":"IF($C14=\"\",\"\",VLOOKUP($B14,Futtermittel!$B$13:$K$130,3,FALSE))","v":860},{"$f":"IF($C14=\"\",\"\",VLOOKUP($B14,Futtermittel!$B$13:$K$130,6,FALSE))","v":442},{"$f":"IF($C14=\"\",\"\",VLOOKUP($B14,Futtermittel!$B$13:$K$130,4,FALSE))","v":39},{"$f":"IF($C14=\"\",\"\",VLOOKUP($B14,Futtermittel!$B$13:$K$130,5,FALSE))","v":82.558139534883722},{"$f":"IF($B14<1,0,VLOOKUP($B14,Futtermittel!$B$13:$K$130,7,TRUE))","v":6.8},{"$f":"IF($B14<1,0,VLOOKUP($B14,Futtermittel!$B$13:$K$130,8,TRUE))","v":3.8372093023255811},{"$f":"IF($B14<1,0,VLOOKUP($B14,Futtermittel!$B$13:$K$130,9,TRUE))","v":0.93023255813953498},{"$f":"U14","v":1},{"$f":"IF(C14=\"\",\"\",K14*D14/1000)","v":0.86},{"$f":"IF(C14=\"\",\"\",$K14*E14*$D14/1000)","v":380.12},{"$f":"IF(C14=\"\",\"\",$K14*F14*$D14/1000)","v":33.54},{"$f":"IF(C14=\"\",\"\",$K14*G14*$D14/1000)","v":71},{"$f":"IF(C14=\"\",\"\",$K14*H14*$D14/1000)","v":5.8479999999999999},{"$f":"IF(C14=\"\",\"\",$K14*I14*$D14/1000)","v":3.2999999999999994},{"$f":"IF(C14=\"\",\"\",$K14*J14*$D14/1000)","v":0.80000000000000016},{"$f":"IF($B14<1,0,VLOOKUP($B14,Futtermittel!$B$13:$K$130,10,TRUE))","v":3},0.03,1,{"$f":"IF(C14=\"\",\"\",U14*(D14/1000)/U$25)","v":0.51926095882139833},"Leistungsstadium","TM-Aufn.","Gruppe","XP","XP","ME","Ca","P"]
[null,{"$f":"IF($C15=\"\",\"\",VLOOKUP($C15,Futtermittel!$C$11:$T$143,18,FALSE))","v":66},"Erbsen, Samen",{"$f":"IF($C15=\"\",\"\",VLOOKUP($B15,Futtermittel!$B$13:$K$130,3,FALSE))","v":880},{"$f":"IF($C15=\"\",\"\",VLOOKUP($B15,Futtermittel!$B$13:$K$130,6,FALSE))","v":67.045454545454547},{"$f":"IF($C15=\"\",\"\",VLOOKUP($B15,Futtermittel!$B$13:$K$130,4,FALSE))","v":251.13636363636363},{"$f":"IF($C15=\"\",\"\",VLOOKUP($B15,Futtermittel!$B$13:$K$130,5,FALSE))","v":187.5},{"$f":"IF($B15<1,0,VLOOKUP($B15,Futtermittel!$B$13:$K$130,7,TRUE))","v":13.409090909090908},{"$f":"IF($B15<1,0,VLOOKUP($B15,Futtermittel!$B$13:$K$130,8,TRUE))","v":1.0227272727272727},{"$f":"IF($B15<1,0,VLOOKUP($B15,Futtermittel!$B$13:$K$130,9,TRUE))","v":4.6590909090909092},0,0,0,0,0,0,0,0,{"$f":"IF($B15<1,0,VLOOKUP($B15,Futtermittel!$B$13:$K$130,10,TRUE))","v":31.5},0,0,0,{"$f":"C30","v":"Milchziegen"},{"$f":"D30","v":2.7},null,{"$f":"N30","v":0},0,0,0,0]
[null,{"$f":"IF($C16=\"\",\"\",VLOOKUP($C16,Futtermittel!$C$11:$T$143,18,FALSE))","v":71},"Mineralfutter für Mutter-und Milchziegen Weidehaltung",{"$f":"IF($C16=\"\",\"\",VLOOKUP($B16,Futtermittel!$B$13:$K$130,3,FALSE))","v":960},{"$f":"IF($C16=\"\",\"\",VLOOKUP($B16,Futtermittel!$B$13:$K$130,6,FALSE))","v":0},{"$f":"IF($C16=\"\",\"\",VLOOKUP($B16,Futtermittel!$B$13:$K$130,4,FALSE))","v":0},{"$f":"IF($C16=\"\",\"\",VLOOKUP($B16,Futtermittel!$B$13:$K$130,5,FALSE))","v":0},{"$f":"IF($B16<1,0,VLOOKUP($B16,Futtermittel!$B$13:$K$130,7,TRUE))","v":0},{"$f":"IF($B16<1,0,VLOOKUP($B16,Futtermittel!$B$13:$K$130,8,TRUE))","v":166.66666666666666},{"$f":"IF($B16<1,0,VLOOKUP($B16,Futtermittel!$B$13:$K$130,9,TRUE))","v":52.083333333333336},0.02,1.9199999999999998E-2,0,0,0,0,3.1999999999999997,1.0000000000000002,{"$f":"IF($B16<1,0,VLOOKUP($B16,Futtermittel!$B$13:$K$130,10,TRUE))","v":60},1.2E-2,0.02,1.1592802801594009E-2,{"$f":"C31","v":0},{"$f":"D31","v":0},null,0,0,0,0,0]
[null,{"$f":"IF($C17=\"\",\"\",VLOOKUP($C17,Futtermittel!$C$11:$T$143,18,FALSE))","v":""},null,{"$f":"IF($C17=\"\",\"\",VLOOKUP($B17,Futtermittel!$B$13:$K$130,3,FALSE))","v":""},{"$f":"IF($C17=\"\",\"\",VLOOKUP($B17,Futtermittel!$B$13:$K$130,6,FALSE))","v":""},{"$f":"IF($C17=\"\",\"\",VLOOKUP($B17,Futtermittel!$B$13:$K$130,4,FALSE))","v":""},{"$f":"IF($C17=\"\",\"\",VLOOKUP($B17,Futtermittel!$B$13:$K$130,5,FALSE))","v":""},{"$f":"IF($B17<1,0,VLOOKUP($B17,Futtermittel!$B$13:$K$130,7,TRUE))","v":0},{"$f":"IF($B17<1,0,VLOOKUP($B17,Futtermittel!$B$13:$K$130,8,TRUE))","v":0},{"$f":"IF($B17<1,0,VLOOKUP($B17,Futtermittel!$B$13:$K$130,9,TRUE))","v":0},0,"","","","","","","",{"$f":"IF($B17<1,0,VLOOKUP($B17,Futtermittel!$B$13:$K$130,10,TRUE))","v":0},0,0,"","güst, niedertragend",1.135,null,0,0,0,0,{"$f":"R32","v":0}]
[null,{"$f":"IF($C18=\"\",\"\",VLOOKUP($C18,Futtermittel!$C$11:$T$143,18,FALSE))","v":""},null,{"$f":"IF($C18=\"\",\"\",VLOOKUP($B18,Futtermittel!$B$13:$K$130,3,FALSE))","v":""},{"$f":"IF($C18=\"\",\"\",VLOOKUP($B18,Futtermittel!$B$13:$K$130,6,FALSE))","v":""},{"$f":"IF($C18=\"\",\"\",VLOOKUP($B18,Futtermittel!$B$13:$K$130,4,FALSE))","v":""},{"$f":"IF($C18=\"\",\"\",VLOOKUP($B18,Futtermittel!$B$13:$K$130,5,FALSE))","v":""},{"$f":"IF($B18<1,0,VLOOKUP($B18,Futtermittel!$B$13:$K$130,7,TRUE))","v":0},{"$f":"IF($B18<1,0,VLOOKUP($B18,Futtermittel!$B$13:$K$130,8,TRUE))","v":0},{"$f":"IF($B18<1,0,VLOOKUP($B18,Futtermittel!$B$13:$K$130,9,TRUE))","v":0},0,"","","","","","","",{"$f":"IF($B18<1,0,VLOOKUP($B18,Futtermittel!$B$13:$K$130,10,TRUE))","v":0},0,null,"","hochtragend",1.5349999999999999,1,{"$f":"N33","v":175},175,14.100000000000001,6.5,4]
[null,{"$f":"IF($C19=\"\",\"\",VLOOKUP($C19,Futtermittel!$C$11:$T$143,18,FALSE))","v":""},null,{"$f":"IF($C19=\"\",\"\",VLOOKUP($B19,Futtermittel!$B$13:$K$130,3,FALSE))","v":""},{"$f":"IF($C19=\"\",\"\",VLOOKUP($B19,Futtermittel!$B$13:$K$130,6,FALSE))","v":""},{"$f":"IF($C19=\"\",\"\",VLOOKUP($B19,Futtermittel!$B$13:$K$130,4,FALSE))","v":""},{"$f":"IF($C19=\"\",\"\",VLOOKUP($B19,Futtermittel!$B$13:$K$130,5,FALSE))","v":""},{"$f":"IF($B19<1,0,VLOOKUP($B19,Futtermittel!$B$13:$K$130,7,TRUE))","v":0},{"$f":"IF($B19<1,0,VLOOKUP($B19,Futtermittel!$B$13:$K$130,8,TRUE))","v":0},{"$f":"IF($B19<1,0,VLOOKUP($B19,Futtermittel!$B$13:$K$130,9,TRUE))","v":0},0,"","","","","","","",{"$f":"IF($B19<1,0,VLOOKUP($B19,Futtermittel!$B$13:$K$130,10,TRUE))","v":0},0,null,"",0,0,null,0,0,0,0,0]
[null,{"$f":"IF($C20=\"\",\"\",VLOOKUP($C20,Futtermittel!$C$11:$T$143,18,FALSE))","v":""},null,{"$f":"IF($C20=\"\",\"\",VLOOKUP($B20,Futtermittel!$B$13:$K$130,3,FALSE))","v":""},{"$f":"IF($C20=\"\",\"\",VLOOKUP($B20,Futtermittel!$B$13:$K$130,6,FALSE))","v":""},{"$f":"IF($C20=\"\",\"\",VLOOKUP($B20,Futtermittel!$B$13:$K$130,4,FALSE))","v":""},{"$f":"IF($C20=\"\",\"\",VLOOKUP($B20,Futtermittel!$B$13:$K$130,5,FALSE))","v":""},{"$f":"IF($B20<1,0,VLOOKUP($B20,Futtermittel!$B$13:$K$130,7,TRUE))","v":0},{"$f":"IF($B20<1,0,VLOOKUP($B20,Futtermittel!$B$13:$K$130,8,TRUE))","v":0},{"$f":"IF($B20<1,0,VLOOKUP($B20,Futtermittel!$B$13:$K$130,9,TRUE))","v":0},0,"","","","","","","",{"$f":"IF($B20<1,0,VLOOKUP($B20,Futtermittel!$B$13:$K$130,10,TRUE))","v":0},0,null,"","laktierend",0]
[null,{"$f":"IF($C21=\"\",\"\",VLOOKUP($C21,Futtermittel!$C$11:$T$143,18,FALSE))","v":""},null,{"$f":"IF($C21=\"\",\"\",VLOOKUP($B21,Futtermittel!$B$13:$K$130,3,FALSE))","v":""},{"$f":"IF($C21=\"\",\"\",VLOOKUP($B21,Futtermittel!$B$13:$K$130,6,FALSE))","v":""},{"$f":"IF($C21=\"\",\"\",VLOOKUP($B21,Futtermittel!$B$13:$K$130,4,FALSE))","v":""},{"$f":"IF($C21=\"\",\"\",VLOOKUP($B21,Futtermittel!$B$13:$K$130,5,FALSE))","v":""},{"$f":"IF($B21<1,0,VLOOKUP($B21,Futtermittel!$B$13:$K$130,7,TRUE))","v":0},{"$f":"IF($B21<1,0,VLOOKUP($B21,Futtermittel!$B$13:$K$130,8,TRUE))","v":0},{"$f":"IF($B21<1,0,VLOOKUP($B21,Futtermittel!$B$13:$K$130,9,TRUE))","v":0},0,"","","","","","","",{"$f":"IF($B21<1,0,VLOOKUP($B21,Futtermittel!$B$13:$K$130,10,TRUE))","v":0},0,null,"","1.-8. W. mit einem Lamm",1.9350000000000001,null,0,0,{"$f":"P36","v":0},0,0]
[null,{"$f":"IF($C22=\"\",\"\",VLOOKUP($C22,Futtermittel!$C$11:$T$143,18,FALSE))","v":""},null,{"$f":"IF($C22=\"\",\"\",VLOOKUP($B22,Futtermittel!$B$13:$K$130,3,FALSE))","v":""},{"$f":"IF($C22=\"\",\"\",VLOOKUP($B22,Futtermittel!$B$13:$K$130,6,FALSE))","v":""},{"$f":"IF($C22=\"\",\"\",VLOOKUP($B22,Futtermittel!$B$13:$K$130,4,FALSE))","v":""},{"$f":"IF($C22=\"\",\"\",VLOOKUP($B22,Futtermittel!$B$13:$K$130,5,FALSE))","v":""},{"$f":"IF($B22<1,0,VLOOKUP($B22,Futtermittel!$B$13:$K$130,7,TRUE))","v":0},{"$f":"IF($B22<1,0,VLOOKUP($B22,Futtermittel!$B$13:$K$130,8,TRUE))","v":0},{"$f":"IF($B22<1,0,VLOOKUP($B22,Futtermittel!$B$13:$K$130,9,TRUE))","v":0},0,"","","","","","","",{"$f":"IF($B22<1,0,VLOOKUP($B22,Futtermittel!$B$13:$K$130,10,TRUE))","v":0},0,null,"","1.-8. W. mit zwei Lämmern",2.1349999999999998,0,0,0,0,0,0]
[null,{"$f":"IF($C23=\"\",\"\",VLOOKUP($C23,Futtermittel!$C$11:$T$143,18,FALSE))","v":""},null,{"$f":"IF($C23=\"\",\"\",VLOOKUP($B23,Futtermittel!$B$13:$K$130,3,FALSE))","v":""},{"$f":"IF($C23=\"\",\"\",VLOOKUP($B23,Futtermittel!$B$13:$K$130,6,FALSE))","v":""},{"$f":"IF($C23=\"\",\"\",VLOOKUP($B23,Futtermittel!$B$13:$K$130,4,FALSE))","v":""},{"$f":"IF($C23=\"\",\"\",VLOOKUP($B23,Futtermittel!$B$13:$K$130,5,FALSE))","v":""},{"$f":"IF($B23<1,0,VLOOKUP($B23,Futtermittel!$B$13:$K$130,7,TRUE))","v":0},{"$f":"IF($B23<1,0,VLOOKUP($B23,Futtermittel!$B$13:$K$130,8,TRUE))","v":0},{"$f":"IF($B23<1,0,VLOOKUP($B23,Futtermittel!$B$13:$K$130,9,TRUE))","v":0},0,"","","","","","","",{"$f":"IF($B23<1,0,VLOOKUP($B23,Futtermittel!$B$13:$K$130,10,TRUE))","v":0},0,null,"","9.-16. W. mit einem Lamm",1.835,null,0,0,0,0,0]
[null,{"$f":"IF($C24=\"\",\"\",VLOOKUP($C24,Futtermittel!$C$11:$T$143,18,FALSE))","v":""},null,{"$f":"IF($C24=\"\",\"\",VLOOKUP($B24,Futtermittel!$B$13:$K$130,3,FALSE))","v":""},{"$f":"IF($C24=\"\",\"\",VLOOKUP($B24,Futtermittel!$B$13:$K$130,6,FALSE))","v":""},{"$f":"IF($C24=\"\",\"\",VLOOKUP($B24,Futtermittel!$B$13:$K$130,4,FALSE))","v":""},{"$f":"IF($C24=\"\",\"\",VLOOKUP($B24,Futtermittel!$B$13:$K$130,5,FALSE))","v":""},{"$f":"IF($B24<1,0,VLOOKUP($B24,Futtermittel!$B$13:$K$130,7,TRUE))","v":0},{"$f":"IF($B24<1,0,VLOOKUP($B24,Futtermittel!$B$13:$K$130,8,TRUE))","v":0},{"$f":"IF($B24<1,0,VLOOKUP($B24,Futtermittel!$B$13:$K$130,9,TRUE))","v":0},0,"","","","","","","",{"$f":"IF($B24<1,0,VLOOKUP($B24,Futtermittel!$B$13:$K$130,10,TRUE))","v":0},0,null,{"$f":"SUM(V12:V23)","v":1},"9.-16. W. mit zwei Lämmern",2.0350000000000001,null,0,0,0,0,0]
[null,null,null,null,null,null,null,null,null,null,null,"TM (kg)","Rohfaser","Rohprotein","nXP","ME","Ca","P","P",{"$f":"SUM(T13:T24)","v":7.6999999999999999E-2},{"$f":"L27","v":1.6562000000000001},null,"kg TM-Aufnahme","Bilanz:",null,{"$f":"Z12-SUM(Z15:Z24)","v":2.1399999999999864},{"$f":"AA12-SUM(AA15:AA24)","v":21.425000000000011},{"$f":"AB12-SUM(AB15:AB24)","v":1.3307499999999983},{"$f":"AC12-SUM(AC15:AC24)","v":2.6674999999999986},{"$f":"AD12-SUM(AD15:AD24)","v":0.9900000000000011}]
[null,null,"in einem kg der Ration",null,null,null,null,null,null,null,"kg in der ",null,"g/kg","g/kg FM","g/kg FM","MJ / kg FM","g","g"]
[null,null,"in der Gesamtration",null,null,null,null,null,null,null,"Ration",{"$f":"SUM($L$12:$L$24)","v":1.6562000000000001},{"$f":"SUM($M$12:$M$24)","v":478.07},{"$f":"SUM($N$12:$N$24)","v":177.14},{"$f":"SUM($O$12:$O$24)","v":196.42500000000001},{"$f":"SUM($P$12:$P$24)","v":15.43075},{"$f":"SUM($Q$12:$Q$24)","v":9.1674999999999986},{"$f":"SUM($R$12:$R$24)","v":4.9900000000000011}]
[]
[null,null,"Bedarf","75 kg Ziege","Erhaltung nach Bellof",90,null,11.2]
[null,null,"Milchziegen",{"$f":"0.55+0.01*X3+(0.5*X4)","v":2.7},"nach GfE 75 kg",{"$f":"(97-2*75+2*X3)+(88-21*3.5+21*X6)*X4","v":341},{"$f":"(97-2*75+2*X3)+(88-24*3.5+24*X6)*X4","v":341},{"$f":"(11.5-0.12/0.6*75+0.12/0.6*X3)+(5-0.6*4+0.6*X5)*X4","v":24.5},{"$f":"(1.75-0.05*75+0.05*X3)+2.55*X4","v":8.8999999999999986},{"$f":"(1.4-0.05*75+0.05*X3)+1.7*X4","v":6},{"$f":"Y15","v":0},null,null,{"$f":"$K30*F30","v":0},{"$f":"$K30*G30","v":0},{"$f":"$K30*H30","v":0},{"$f":"$K30*I30","v":0},{"$f":"$K30*J30","v":0}]
[null,null,null,null,null,null,{"$f":"F31","v":0},null,null,null,0,null,null,0,0,{"$f":"$K31*H31","v":0},0,0]
[null,null,"güst, niedertragend",{"$f":"1.3-(75*0.0165-$X$3*0.0165)","v":1.135},"nach GfE 75 kg",{"$f":"106-75+X$3","v":96},96,{"$f":"11.5-0.12*75+0.12*X$3","v":10.3},{"$f":"3.1-0.05*75+0.05*X$3","v":2.6},{"$f":"2.1-0.05*75+0.05*X$3","v":1.6},0,null,null,0,0,0,0,0]
[null,null,"hochtragend",{"$f":"1.7-(75*0.0165-$X$3*0.0165)","v":1.5349999999999999},"nach GfE 75 kg",{"$f":"185-75+X$3","v":175},175,{"$f":"15.3-0.12*75+0.12*X$3","v":14.100000000000001},{"$f":"7-0.05*75+0.05*X$3","v":6.5},{"$f":"4.5-0.05*75+0.05*X$3","v":4},1,null,null,175,175,14.100000000000001,6.5,4]
[null,null,null,null,null,null,0,null,null,null,0,null,null,0,0,0,0,0]
[null,null,"laktierend",null,null,null,0,null,null,null,0,null,null,0,0,0,0,0]
[null,null,"1.-8. W. mit einem Lamm",{"$f":"2.1-(75*0.0165-$X$3*0.0165)","v":1.9350000000000001},"nach GfE 75 kg",{"$f":"270-75+X$3","v":260},260,{"$f":"18.5-0.12*75+0.12*X$3","v":17.3},{"$f":"8-0.05*75+0.05*X$3","v":7.5},{"$f":"5.6-0.05*75+0.05*X$3","v":5.0999999999999996},{"$f":"Y21","v":0},{"$f":"$K36*D36","v":0},null,0,0,{"$f":"$K36*H36","v":0},0,0]
[null,null,"1.-8. W. mit zwei Lämmern",{"$f":"2.3-(75*0.0165-$X$3*0.0165)","v":2.1349999999999998},"nach GfE 75 kg",{"$f":"350-75+X$3","v":340},340,{"$f":"22.5-0.12*75+0.12*X$3","v":21.3},{"$f":"11-0.05*75+0.05*X$3","v":10.5},{"$f":"7.9-0.05*75+0.05*X$3","v":7.4},{"$f":"Y22","v":0},{"$f":"$K37*D37","v":0},null,0,0,0,0,0]
[null,null,"9.-16. W. mit einem Lamm",{"$f":"2-(75*0.0165-$X$3*0.0165)","v":1.835},"nach Quanz",{"$f":"170-75+X$3","v":160},160,{"$f":"16.7-0.12*75+0.12*X$3","v":15.5},{"$f":"11-0.05*75+0.05*X$3","v":10.5},{"$f":"6-0.05*75+0.05*X$3","v":5.5},{"$f":"Y23","v":0},{"$f":"$K38*D38","v":0},null,0,0,0,0,0]
[null,null,"9.-16. W. mit zwei Lämmern",{"$f":"2.2-(75*0.0165-$X$3*0.0165)","v":2.0350000000000001},"nach Quanz",{"$f":"200-75+X$3","v":190},190,{"$f":"22.4-0.12*75+0.12*X$3","v":21.2},{"$f":"14-0.05*75+0.05*X$3","v":13.5},{"$f":"8-0.05*75+0.05*X$3","v":7.5},{"$f":"Y24","v":0},{"$f":"$K39*D39","v":0},null,0,0,0,0,0]
[null,null,"Bilanz",null,null,null,null,null,null,null,null,{"$f":"SUM(L31:L38)-L27","v":-1.6562000000000001},null,-2.1399999999999864,null,-1.3307499999999983,-2.6674999999999986,-0.9900000000000011]

{"sheet":"Bocklämmermast","index":2,"n_rows":42,"n_cols":30,"rows_kept":42,"cut":false,"hidden":false,"merged":[[9,20,10,20],[0,18,0,28],[9,21,10,21]]}
[null,null,"Landesbetrieb Landwirtschaft Hessen",null,null,null,null,null,null,null,null,null,null,null,null,null,null,null,"Rationsberechnung für die Bocklämmermast"]
[null,null,"Kölnische Str. 48-50",null,null,"Rationsberechnung für Ziegen"]
[null,null,"34117 Kassel",null,null,null,null,null,null,null,null,null,null,null,null,null,null,null,null,null,null,null,null,null,null,null,"Abkürzungen.:","Umsetzbare Energie:",null,"ME in MJ"]
[null,null,null,null,null,null,null,null,null,null,null,null,null,null,null,null,null,null,null,null,null,null,null,null,null,null,null,"Frischmasse:",null,"FM"]
[null,null,"Kajo Hollmichel ",null,null,null,null,null,null,null,null,null,null,null,null,null,null,null,null,null,null,null,null,null,null,null,null,"Trockenmasse:",null,"TM"]
[null,null,"Tel.: 0561  7299-257",null,null,null,null,null,null,null,null,null,null,null,null,null,null,null,null,null,null,null,null,null,null,null,null,"Rohprotein:",null,"XP"]
[null,null,"mobil: 0160-4755166",null,null,null,null,null,null,null,null,null,null,null,null,null,null,null,null,null,null,null,null,null,null,null,null,"nutzbares Rohprotein:",null,"nXP"]
[null,null,"E-mail: kajo.hollmichel@llh.hessen.de",null,null,null,null,null,null,null,null,null,null,null,null,null,null,null,null,null,null,null,null,null,null,null,null,"Tageszunahmen:",null,"TZ"]
[]
[null,null,null,"TM (%)","Rohfaser","Rohprotein","nXP","ME","Ca","P","kg in der","TM (kg)","Rohfaser","Rohprotein","nXP","ME","Ca","P","Preis ","in der Ration","kg FM in der Ration","% TM Futter in 1 kg TM",null,"TM","Rohfaser","Roh-protein","nutzbares Rohprot.","ME","Calcium (Ca)","Phosphor (P)"]
[null,"Nr.","Futtermittel",null,"g/kg TM","g/kg TM","g/kg TM","MJ / kg TM","g/kg TM","g/kg TM","Ration",null,"g in FM","g in FM","g in FM","MJ in FM","g in FM","g in FM","€/dt","€",null,null,"Einheit","kg","g","g","g","MJ ","g","g"]
[null,{"$f":"IF($C12=\"\",\"\",VLOOKUP($C12,Futtermittel!$C$11:$T$143,18,FALSE))","v":59},"Weizen, Körner",{"$f":"IF($C12=\"\",\"\",VLOOKUP($B12,Futtermittel!$B$13:$K$130,3,FALSE))","v":880},{"$f":"IF($C12=\"\",\"\",VLOOKUP($B12,Futtermittel!$B$13:$K$130,6,FALSE))","v":29.545454545454547},{"$f":"IF($C12=\"\",\"\",VLOOKUP($B12,Futtermittel!$B$13:$K$130,4,FALSE))","v":137.5},{"$f":"IF($C12=\"\",\"\",VLOOKUP($B12,Futtermittel!$B$13:$K$130,5,FALSE))","v":171.59090909090909},{"$f":"IF($B12<1,0,VLOOKUP($B12,Futtermittel!$B$13:$K$130,7,TRUE))","v":13.375},{"$f":"IF($B12<1,0,VLOOKUP($B12,Futtermittel!$B$13:$K$130,8,TRUE))","v":0.45454545454545453},{"$f":"IF($B12<1,0,VLOOKUP($B12,Futtermittel!$B$13:$K$130,9,TRUE))","v":3.75},{"$f":"U12","v":0.65},{"$f":"IF(C12=\"\",\"\",K12*D12/1000)","v":0.57199999999999995},{"$f":"IF(C12=\"\",\"\",$K12*E12*$D12/1000)","v":16.900000000000002},{"$f":"IF(C12=\"\",\"\",$K12*F12*$D12/1000)","v":78.650000000000006},{"$f":"IF(C12=\"\",\"\",$K12*G12*$D12/1000)","v":98.15000000000002},{"$f":"IF(C12=\"\",\"\",$K12*H12*$D12/1000)","v":7.6505000000000001},{"$f":"IF(C12=\"\",\"\",$K12*I12*$D12/1000)","v":0.26},{"$f":"IF(C12=\"\",\"\",$K12*J12*$D12/1000)","v":2.145},{"$f":"IF($B12<1,0,VLOOKUP($B12,Futtermittel!$B$13:$K$130,10,TRUE))","v":20.100000000000001},{"$f":"(S12/100*K12)*SUM(Y$15:Y$24)","v":0.13065000000000002},0.65,{"$f":"IF(C12=\"\",\"\",U12*(D12/1000)/U$26)","v":0.34096328087744399},"in der ges. Ration",{"$f":"SUM($L$12:$L$25)*SUM(Y15:Y25)","v":1.6776},{"$f":"SUM($M$12:$M$25)*SUM(Y15:Y25)","v":405.04399999999998},{"$f":"SUM($N$12:$N$25)*SUM(Y15:Y25)","v":196.874},{"$f":"SUM($O$12:$O$25)*SUM(Y15:Y25)","v":217.37400000000002},{"$f":"SUM($P$12:$P$25)*SUM(Y15:Y25)","v":17.008659999999999},{"$f":"SUM($Q$12:$Q$25)*SUM(Y15:Y25)","v":7.4071999999999996},{"$f":"SUM($R$12:$R$25)*SUM(Y15:Y25)","v":4.8801999999999994}]
[null,{"$f":"IF($C13=\"\",\"\",VLOOKUP($C13,Futtermittel!$C$11:$T$143,18,FALSE))","v":1},"Grünland 1. Aufwuchs  Beg. Ähren-/Rispenschieben",{"$f":"IF($C13=\"\",\"\",VLOOKUP($B13,Futtermittel!$B$13:$K$130,3,FALSE))","v":170},{"$f":"IF($C13=\"\",\"\",VLOOKUP($B13,Futtermittel!$B$13:$K$130,6,FALSE))","v":206},{"$f":"IF($C13=\"\",\"\",VLOOKUP($B13,Futtermittel!$B$13:$K$130,4,FALSE))","v":224},{"$f":"IF($C13=\"\",\"\",VLOOKUP($B13,Futtermittel!$B$13:$K$130,5,FALSE))","v":153},{"$f":"IF($B13<1,0,VLOOKUP($B13,Futtermittel!$B$13:$K$130,7,TRUE))","v":11.47},{"$f":"IF($B13<1,0,VLOOKUP($B13,Futtermittel!$B$13:$K$130,8,TRUE))","v":5.9},{"$f":"IF($B13<1,0,VLOOKUP($B13,Futtermittel!$B$13:$K$130,9,TRUE))","v":4.4000000000000004},2.4,{"$f":"IF(C13=\"\",\"\",K13*D13/1000)","v":0.40799999999999997},{"$f":"IF(C13=\"\",\"\",$K13*E13*$D13/1000)","v":84.048000000000002},{"$f":"IF(C13=\"\",\"\",$K13*F13*$D13/1000)","v":91.391999999999996},{"$f":"IF(C13=\"\",\"\",$K13*G13*$D13/1000)","v":62.423999999999999},{"$f":"IF(C13=\"\",\"\",$K13*H13*$D13/1000)","v":4.6797599999999999},{"$f":"IF(C13=\"\",\"\",$K13*I13*$D13/1000)","v":2.4072},{"$f":"IF(C13=\"\",\"\",$K13*J13*$D13/1000)","v":1.7952000000000001},{"$f":"IF($B13<1,0,VLOOKUP($B13,Futtermittel!$B$13:$K$130,10,TRUE))","v":1.4},3.3599999999999998E-2,2.4,{"$f":"IF(C13=\"\",\"\",U13*(D13/1000)/U$26)","v":0.24320457796852649},"je kg TM ",null,{"$f":"Y12/$X12/1000","v":0.24144253695755841},{"$f":"Z12/$X12/1000","v":0.11735455412494039},{"$f":"AA12/$X12/1000","v":0.12957439198855511},{"$f":"AB12/X12","v":10.138686218407248},{"$f":"AC12/$X12/1000","v":4.4153552694325224E-3},{"$f":"AD12/$X12/1000","v":2.9090367191225556E-3}]
[null,{"$f":"IF($C14=\"\",\"\",VLOOKUP($C14,Futtermittel!$C$11:$T$143,18,FALSE))","v":55},"Stroh (Gerste)",{"$f":"IF($C14=\"\",\"\",VLOOKUP($B14,Futtermittel!$B$13:$K$130,3,FALSE))","v":860},{"$f":"IF($C14=\"\",\"\",VLOOKUP($B14,Futtermittel!$B$13:$K$130,6,FALSE))","v":442},{"$f":"IF($C14=\"\",\"\",VLOOKUP($B14,Futtermittel!$B$13:$K$130,4,FALSE))","v":39},{"$f":"IF($C14=\"\",\"\",VLOOKUP($B14,Futtermittel!$B$13:$K$130,5,FALSE))","v":82.558139534883722},{"$f":"IF($B14<1,0,VLOOKUP($B14,Futtermittel!$B$13:$K$130,7,TRUE))","v":6.8},{"$f":"IF($B14<1,0,VLOOKUP($B14,Futtermittel!$B$13:$K$130,8,TRUE))","v":3.8372093023255811},{"$f":"IF($B14<1,0,VLOOKUP($B14,Futtermittel!$B$13:$K$130,9,TRUE))","v":0.93023255813953498},0.8,{"$f":"IF(C14=\"\",\"\",K14*D14/1000)","v":0.68799999999999994},{"$f":"IF(C14=\"\",\"\",$K14*E14*$D14/1000)","v":304.096},{"$f":"IF(C14=\"\",\"\",$K14*F14*$D14/1000)","v":26.832000000000004},{"$f":"IF(C14=\"\",\"\",$K14*G14*$D14/1000)","v":56.8},{"$f":"IF(C14=\"\",\"\",$K14*H14*$D14/1000)","v":4.6784000000000008},{"$f":"IF(C14=\"\",\"\",$K14*I14*$D14/1000)","v":2.64},{"$f":"IF(C14=\"\",\"\",$K14*J14*$D14/1000)","v":0.64000000000000012},{"$f":"IF($B14<1,0,VLOOKUP($B14,Futtermittel!$B$13:$K$130,10,TRUE))","v":3},2.4E-2,0.8,{"$f":"IF(C14=\"\",\"\",U14*(D14/1000)/U$26)","v":0.41010968049594665},"Leistungsstadium","TM-Aufn.","Gruppe","XP","XP","ME","Ca","P"]
[null,{"$f":"IF($C15=\"\",\"\",VLOOKUP($C15,Futtermittel!$C$11:$T$143,18,FALSE))","v":66},"Erbsen, Samen",{"$f":"IF($C15=\"\",\"\",VLOOKUP($B15,Futtermittel!$B$13:$K$130,3,FALSE))","v":880},{"$f":"IF($C15=\"\",\"\",VLOOKUP($B15,Futtermittel!$B$13:$K$130,6,FALSE))","v":67.045454545454547},{"$f":"IF($C15=\"\",\"\",VLOOKUP($B15,Futtermittel!$B$13:$K$130,4,FALSE))","v":251.13636363636363},{"$f":"IF($C15=\"\",\"\",VLOOKUP($B15,Futtermittel!$B$13:$K$130,5,FALSE))","v":187.5},{"$f":"IF($B15<1,0,VLOOKUP($B15,Futtermittel!$B$13:$K$130,7,TRUE))","v":13.409090909090908},{"$f":"IF($B15<1,0,VLOOKUP($B15,Futtermittel!$B$13:$K$130,8,TRUE))","v":1.0227272727272727},{"$f":"IF($B15<1,0,VLOOKUP($B15,Futtermittel!$B$13:$K$130,9,TRUE))","v":4.6590909090909092},0,0,0,0,0,0,0,0,{"$f":"IF($B15<1,0,VLOOKUP($B15,Futtermittel!$B$13:$K$130,10,TRUE))","v":31.5},0,null,0,{"$f":"C31","v":"Lamm 10 kg 100 g TZ"},{"$f":"D31","v":0.45},null,{"$f":"N31","v":0},0,{"$f":"P31","v":0},{"$f":"Q31","v":0},{"$f":"R31","v":0}]
[null,{"$f":"IF($C16=\"\",\"\",VLOOKUP($C16,Futtermittel!$C$11:$T$143,18,FALSE))","v":73},"Mineralfutter (Ziegenmast)",{"$f":"IF($C16=\"\",\"\",VLOOKUP($B16,Futtermittel!$B$13:$K$130,3,FALSE))","v":960},{"$f":"IF($C16=\"\",\"\",VLOOKUP($B16,Futtermittel!$B$13:$K$130,6,FALSE))","v":0},{"$f":"IF($C16=\"\",\"\",VLOOKUP($B16,Futtermittel!$B$13:$K$130,4,FALSE))","v":0},{"$f":"IF($C16=\"\",\"\",VLOOKUP($B16,Futtermittel!$B$13:$K$130,5,FALSE))","v":0},{"$f":"IF($B16<1,0,VLOOKUP($B16,Futtermittel!$B$13:$K$130,7,TRUE))","v":0},{"$f":"IF($B16<1,0,VLOOKUP($B16,Futtermittel!$B$13:$K$130,8,TRUE))","v":218.75},{"$f":"IF($B16<1,0,VLOOKUP($B16,Futtermittel!$B$13:$K$130,9,TRUE))","v":31.25},0.01,9.5999999999999992E-3,0,0,0,0,2.1,0.3,{"$f":"IF($B16<1,0,VLOOKUP($B16,Futtermittel!$B$13:$K$130,10,TRUE))","v":65},6.5000000000000006E-3,0.01,5.7224606580829757E-3,"Lamm 10 kg 200 g TZ",0.62,null,0,0,0,0,0]
[null,{"$f":"IF($C17=\"\",\"\",VLOOKUP($C17,Futtermittel!$C$11:$T$143,18,FALSE))","v":""},null,{"$f":"IF($C17=\"\",\"\",VLOOKUP($B17,Futtermittel!$B$13:$K$130,3,FALSE))","v":""},{"$f":"IF($C17=\"\",\"\",VLOOKUP($B17,Futtermittel!$B$13:$K$130,6,FALSE))","v":""},{"$f":"IF($C17=\"\",\"\",VLOOKUP($B17,Futtermittel!$B$13:$K$130,4,FALSE))","v":""},{"$f":"IF($C17=\"\",\"\",VLOOKUP($B17,Futtermittel!$B$13:$K$130,5,FALSE))","v":""},{"$f":"IF($B17<1,0,VLOOKUP($B17,Futtermittel!$B$13:$K$130,7,TRUE))","v":0},{"$f":"IF($B17<1,0,VLOOKUP($B17,Futtermittel!$B$13:$K$130,8,TRUE))","v":0},{"$f":"IF($B17<1,0,VLOOKUP($B17,Futtermittel!$B$13:$K$130,9,TRUE))","v":0},0,"","","","","","","",{"$f":"IF($B17<1,0,VLOOKUP($B17,Futtermittel!$B$13:$K$130,10,TRUE))","v":0},0,0,"",0,0,null,0,0,0,0,0]
[null,{"$f":"IF($C18=\"\",\"\",VLOOKUP($C18,Futtermittel!$C$11:$T$143,18,FALSE))","v":""},null,{"$f":"IF($C18=\"\",\"\",VLOOKUP($B18,Futtermittel!$B$13:$K$130,3,FALSE))","v":""},{"$f":"IF($C18=\"\",\"\",VLOOKUP($B18,Futtermittel!$B$13:$K$130,6,FALSE))","v":""},{"$f":"IF($C18=\"\",\"\",VLOOKUP($B18,Futtermittel!$B$13:$K$130,4,FALSE))","v":""},{"$f":"IF($C18=\"\",\"\",VLOOKUP($B18,Futtermittel!$B$13:$K$130,5,FALSE))","v":""},{"$f":"IF($B18<1,0,VLOOKUP($B18,Futtermittel!$B$13:$K$130,7,TRUE))","v":0},{"$f":"IF($B18<1,0,VLOOKUP($B18,Futtermittel!$B$13:$K$130,8,TRUE))","v":0},{"$f":"IF($B18<1,0,VLOOKUP($B18,Futtermittel!$B$13:$K$130,9,TRUE))","v":0},0,"","","","","","","",{"$f":"IF($B18<1,0,VLOOKUP($B18,Futtermittel!$B$13:$K$130,10,TRUE))","v":0},0,null,"","Lamm 20 kg 200 g TZ",1,null,{"$f":"N34","v":0},0,0,0,0]
[null,{"$f":"IF($C19=\"\",\"\",VLOOKUP($C19,Futtermittel!$C$11:$T$143,18,FALSE))","v":""},null,{"$f":"IF($C19=\"\",\"\",VLOOKUP($B19,Futtermittel!$B$13:$K$130,3,FALSE))","v":""},{"$f":"IF($C19=\"\",\"\",VLOOKUP($B19,Futtermittel!$B$13:$K$130,6,FALSE))","v":""},{"$f":"IF($C19=\"\",\"\",VLOOKUP($B19,Futtermittel!$B$13:$K$130,4,FALSE))","v":""},{"$f":"IF($C19=\"\",\"\",VLOOKUP($B19,Futtermittel!$B$13:$K$130,5,FALSE))","v":""},{"$f":"IF($B19<1,0,VLOOKUP($B19,Futtermittel!$B$13:$K$130,7,TRUE))","v":0},{"$f":"IF($B19<1,0,VLOOKUP($B19,Futtermittel!$B$13:$K$130,8,TRUE))","v":0},{"$f":"IF($B19<1,0,VLOOKUP($B19,Futtermittel!$B$13:$K$130,9,TRUE))","v":0},0,"","","","","","","",{"$f":"IF($B19<1,0,VLOOKUP($B19,Futtermittel!$B$13:$K$130,10,TRUE))","v":0},0,null,"","Lamm 20 kg 300 g TZ",1.27,null,0,0,0,0,0]
[null,{"$f":"IF($C20=\"\",\"\",VLOOKUP($C20,Futtermittel!$C$11:$T$143,18,FALSE))","v":""},null,{"$f":"IF($C20=\"\",\"\",VLOOKUP($B20,Futtermittel!$B$13:$K$130,3,FALSE))","v":""},{"$f":"IF($C20=\"\",\"\",VLOOKUP($B20,Futtermittel!$B$13:$K$130,6,FALSE))","v":""},{"$f":"IF($C20=\"\",\"\",VLOOKUP($B20,Futtermittel!$B$13:$K$130,4,FALSE))","v":""},{"$f":"IF($C20=\"\",\"\",VLOOKUP($B20,Futtermittel!$B$13:$K$130,5,FALSE))","v":""},{"$f":"IF($B20<1,0,VLOOKUP($B20,Futtermittel!$B$13:$K$130,7,TRUE))","v":0},{"$f":"IF($B20<1,0,VLOOKUP($B20,Futtermittel!$B$13:$K$130,8,TRUE))","v":0},{"$f":"IF($B20<1,0,VLOOKUP($B20,Futtermittel!$B$13:$K$130,9,TRUE))","v":0},0,"","","","","","","",{"$f":"IF($B20<1,0,VLOOKUP($B20,Futtermittel!$B$13:$K$130,10,TRUE))","v":0},0,null,"",0,0,null,0,0,0,0,0]
[null,{"$f":"IF($C21=\"\",\"\",VLOOKUP($C21,Futtermittel!$C$11:$T$143,18,FALSE))","v":""},null,{"$f":"IF($C21=\"\",\"\",VLOOKUP($B21,Futtermittel!$B$13:$K$130,3,FALSE))","v":""},{"$f":"IF($C21=\"\",\"\",VLOOKUP($B21,Futtermittel!$B$13:$K$130,6,FALSE))","v":""},{"$f":"IF($C21=\"\",\"\",VLOOKUP($B21,Futtermittel!$B$13:$K$130,4,FALSE))","v":""},{"$f":"IF($C21=\"\",\"\",VLOOKUP($B21,Futtermittel!$B$13:$K$130,5,FALSE))","v":""},{"$f":"IF($B21<1,0,VLOOKUP($B21,Futtermittel!$B$13:$K$130,7,TRUE))","v":0},{"$f":"IF($B21<1,0,VLOOKUP($B21,Futtermittel!$B$13:$K$130,8,TRUE))","v":0},{"$f":"IF($B21<1,0,VLOOKUP($B21,Futtermittel!$B$13:$K$130,9,TRUE))","v":0},0,"","","","","","","",{"$f":"IF($B21<1,0,VLOOKUP($B21,Futtermittel!$B$13:$K$130,10,TRUE))","v":0},0,null,"","Lamm 30 kg 200 g TZ",1.31,null,0,0,0,0,0]
[null,{"$f":"IF($C22=\"\",\"\",VLOOKUP($C22,Futtermittel!$C$11:$T$143,18,FALSE))","v":""},null,{"$f":"IF($C22=\"\",\"\",VLOOKUP($B22,Futtermittel!$B$13:$K$130,3,FALSE))","v":""},{"$f":"IF($C22=\"\",\"\",VLOOKUP($B22,Futtermittel!$B$13:$K$130,6,FALSE))","v":""},{"$f":"IF($C22=\"\",\"\",VLOOKUP($B22,Futtermittel!$B$13:$K$130,4,FALSE))","v":""},{"$f":"IF($C22=\"\",\"\",VLOOKUP($B22,Futtermittel!$B$13:$K$130,5,FALSE))","v":""},{"$f":"IF($B22<1,0,VLOOKUP($B22,Futtermittel!$B$13:$K$130,7,TRUE))","v":0},{"$f":"IF($B22<1,0,VLOOKUP($B22,Futtermittel!$B$13:$K$130,8,TRUE))","v":0},{"$f":"IF($B22<1,0,VLOOKUP($B22,Futtermittel!$B$13:$K$130,9,TRUE))","v":0},0,"","","","","","","",{"$f":"IF($B22<1,0,VLOOKUP($B22,Futtermittel!$B$13:$K$130,10,TRUE))","v":0},0,null,"","Lamm 30 kg 300 g TZ",1.68,1,193,193,16.600000000000001,7.2,4.4000000000000004]
[null,{"$f":"IF($C23=\"\",\"\",VLOOKUP($C23,Futtermittel!$C$11:$T$143,18,FALSE))","v":""},null,{"$f":"IF($C23=\"\",\"\",VLOOKUP($B23,Futtermittel!$B$13:$K$130,3,FALSE))","v":""},{"$f":"IF($C23=\"\",\"\",VLOOKUP($B23,Futtermittel!$B$13:$K$130,6,FALSE))","v":""},{"$f":"IF($C23=\"\",\"\",VLOOKUP($B23,Futtermittel!$B$13:$K$130,4,FALSE))","v":""},{"$f":"IF($C23=\"\",\"\",VLOOKUP($B23,Futtermittel!$B$13:$K$130,5,FALSE))","v":""},{"$f":"IF($B23<1,0,VLOOKUP($B23,Futtermittel!$B$13:$K$130,7,TRUE))","v":0},{"$f":"IF($B23<1,0,VLOOKUP($B23,Futtermittel!$B$13:$K$130,8,TRUE))","v":0},{"$f":"IF($B23<1,0,VLOOKUP($B23,Futtermittel!$B$13:$K$130,9,TRUE))","v":0},{"$f":"U23","v":0},{"$f":"IF(C23=\"\",\"\",K23*D23/1000)","v":""},{"$f":"IF(C23=\"\",\"\",$K23*E23*$D23/1000)","v":""},{"$f":"IF(C23=\"\",\"\",$K23*F23*$D23/1000)","v":""},{"$f":"IF(C23=\"\",\"\",$K23*G23*$D23/1000)","v":""},{"$f":"IF(C23=\"\",\"\",$K23*H23*$D23/1000)","v":""},{"$f":"IF(C23=\"\",\"\",$K23*I23*$D23/1000)","v":""},{"$f":"IF(C23=\"\",\"\",$K23*J23*$D23/1000)","v":""},{"$f":"IF($B23<1,0,VLOOKUP($B23,Futtermittel!$B$13:$K$130,10,TRUE))","v":0},{"$f":"(S23/100*K23)*SUM(Y$15:Y$24)","v":0},null,"",0,0,null,0,0,0,0,0]
[null,{"$f":"IF($C24=\"\",\"\",VLOOKUP($C24,Futtermittel!$C$11:$T$143,18,FALSE))","v":""},null,{"$f":"IF($C24=\"\",\"\",VLOOKUP($B24,Futtermittel!$B$13:$K$130,3,FALSE))","v":""},{"$f":"IF($C24=\"\",\"\",VLOOKUP($B24,Futtermittel!$B$13:$K$130,6,FALSE))","v":""},{"$f":"IF($C24=\"\",\"\",VLOOKUP($B24,Futtermittel!$B$13:$K$130,4,FALSE))","v":""},{"$f":"IF($C24=\"\",\"\",VLOOKUP($B24,Futtermittel!$B$13:$K$130,5,FALSE))","v":""},{"$f":"IF($B24<1,0,VLOOKUP($B24,Futtermittel!$B$13:$K$130,7,TRUE))","v":0},{"$f":"IF($B24<1,0,VLOOKUP($B24,Futtermittel!$B$13:$K$130,8,TRUE))","v":0},{"$f":"IF($B24<1,0,VLOOKUP($B24,Futtermittel!$B$13:$K$130,9,TRUE))","v":0},{"$f":"U24","v":0},{"$f":"IF(C24=\"\",\"\",K24*D24/1000)","v":""},{"$f":"IF(C24=\"\",\"\",$K24*E24*$D24/1000)","v":""},{"$f":"IF(C24=\"\",\"\",$K24*F24*$D24/1000)","v":""},{"$f":"IF(C24=\"\",\"\",$K24*G24*$D24/1000)","v":""},{"$f":"IF(C24=\"\",\"\",$K24*H24*$D24/1000)","v":""},{"$f":"IF(C24=\"\",\"\",$K24*I24*$D24/1000)","v":""},{"$f":"IF(C24=\"\",\"\",$K24*J24*$D24/1000)","v":""},{"$f":"IF($B24<1,0,VLOOKUP($B24,Futtermittel!$B$13:$K$130,10,TRUE))","v":0},{"$f":"(S24/100*K24)*SUM(Y$15:Y$24)","v":0},null,"","Lamm 40 kg 200 g TZ",1.6,null,0,0,0,0,0]
[null,{"$f":"IF($C25=\"\",\"\",VLOOKUP($C25,Futtermittel!$C$11:$T$143,18,FALSE))","v":""},null,{"$f":"IF($C25=\"\",\"\",VLOOKUP($B25,Futtermittel!$B$13:$K$130,3,FALSE))","v":""},{"$f":"IF($C25=\"\",\"\",VLOOKUP($B25,Futtermittel!$B$13:$K$130,6,FALSE))","v":""},{"$f":"IF($C25=\"\",\"\",VLOOKUP($B25,Futtermittel!$B$13:$K$130,4,FALSE))","v":""},{"$f":"IF($C25=\"\",\"\",VLOOKUP($B25,Futtermittel!$B$13:$K$130,5,FALSE))","v":""},{"$f":"IF($B25<1,0,VLOOKUP($B25,Futtermittel!$B$13:$K$130,7,TRUE))","v":0},{"$f":"IF($B25<1,0,VLOOKUP($B25,Futtermittel!$B$13:$K$130,8,TRUE))","v":0},{"$f":"IF($B25<1,0,VLOOKUP($B25,Futtermittel!$B$13:$K$130,9,TRUE))","v":0},{"$f":"U25","v":0},{"$f":"IF(C25=\"\",\"\",K25*D25/1000)","v":""},{"$f":"IF(C25=\"\",\"\",$K25*E25*$D25/1000)","v":""},{"$f":"IF(C25=\"\",\"\",$K25*F25*$D25/1000)","v":""},{"$f":"IF(C25=\"\",\"\",$K25*G25*$D25/1000)","v":""},{"$f":"IF(C25=\"\",\"\",$K25*H25*$D25/1000)","v":""},{"$f":"IF(C25=\"\",\"\",$K25*I25*$D25/1000)","v":""},{"$f":"IF(C25=\"\",\"\",$K25*J25*$D25/1000)","v":""},{"$f":"IF($B25<1,0,VLOOKUP($B25,Futtermittel!$B$13:$K$130,10,TRUE))","v":0},{"$f":"(S25/100*K25)*SUM(Y$15:Y$24)","v":0},null,{"$f":"SUM(V13:V24)","v":0.65903671912255612},"Lamm 40 kg 250 g TZ",1.82,null,0,0,0,0,0]
[null,null,null,null,null,null,null,null,null,null,null,"TM (kg)","Rohfaser","Rohprotein","nXP","ME","Ca","P","P",{"$f":"SUM(T13:T25)","v":6.4100000000000004E-2},{"$f":"L28","v":1.6776},null,"kg TM-Aufnahme","Bilanz:",null,{"$f":"Z12-SUM(Z16:Z25)","v":3.8739999999999952},{"$f":"AA12-SUM(AA16:AA25)","v":24.374000000000024},{"$f":"AB12-SUM(AB16:AB25)","v":0.40865999999999758},{"$f":"AC12-SUM(AC16:AC25)","v":0.20719999999999938},{"$f":"AD12-SUM(AD16:AD25)","v":0.48019999999999907}]
[null,null,"in einem kg der Ration",null,null,null,null,null,null,null,"kg in der ",null,"g/kg","g/kg FM","g/kg FM","MJ / kg FM","g","g"]
[null,null,"in der Gesamtration",null,null,null,null,null,null,null,"Ration",{"$f":"SUM($L$12:$L$25)","v":1.6776},{"$f":"SUM($M$12:$M$25)","v":405.04399999999998},{"$f":"SUM($N$12:$N$25)","v":196.874},{"$f":"SUM($O$12:$O$25)","v":217.37400000000002},{"$f":"SUM($P$12:$P$25)","v":17.008659999999999},{"$f":"SUM($Q$12:$Q$25)","v":7.4071999999999996},{"$f":"SUM($R$12:$R$25)","v":4.8801999999999994}]
[]
[null,null,"Bedarf"]
[null,null,"Lamm 10 kg 100 g TZ",0.45,"nach GfE",53,53,4.4000000000000004,2.2000000000000002,1.3,{"$f":"Y15","v":0},{"$f":"$K31*D31","v":0},null,{"$f":"$K31*F31","v":0},{"$f":"$K31*G31","v":0},{"$f":"$K31*H31","v":0},{"$f":"$K31*I31","v":0},{"$f":"$K31*J31","v":0}]
[null,null,"Lamm 10 kg 200 g TZ",0.62,"nach GfE",97,97,6.2,4,2.2999999999999998,0,0,null,0,0,0,0,0]
[null,null,null,null,null,null,null,null,null,null,0,0,null,0,0,0,0,0]
[null,null,"Lamm 20 kg 200 g TZ",1,"nach GfE",124,124,9.8000000000000007,4.5999999999999996,2.8,0,0,null,0,0,0,0,0]
[null,null,"Lamm 20 kg 300 g TZ",1.27,"nach GfE",167,167,12.5,6.6,3.9,0,0,null,0,0,0,0,0]
[null,null,null,null,null,null,null,null,null,null,0,0,null,0,0,0,0,0]
[null,null,"Lamm 30 kg 200 g TZ",1.31,"nach GfE",145,145,13,5.0999999999999996,3.2,0,0,null,0,0,0,0,0]
[null,null,"Lamm 30 kg 300 g TZ",1.68,"nach GfE",193,193,16.600000000000001,7.2,4.4000000000000004,1,1.68,null,193,{"$f":"$K38*G38","v":193},16.600000000000001,7.2,4.4000000000000004]
[null,null,null,null,null,null,null,null,null,null,0,0,null,0,{"$f":"$K39*G39","v":0},0,0,0]
[null,null,"Lamm 40 kg 200 g TZ",1.6,"nach GfE",161,161,15.8,5.5,3.5,0,{"$f":"$K40*D40","v":0},null,{"$f":"$K40*F40","v":0},{"$f":"$K40*G40","v":0},{"$f":"$K40*H40","v":0},{"$f":"$K40*I40","v":0},{"$f":"$K40*J40","v":0}]
[null,null,"Lamm 40 kg 250 g TZ",1.82,"nach GfE",184,184,18,6.6,4.2,0,0,null,0,{"$f":"$K41*G41","v":0},0,0,0]
[null,null,"Bilanz",null,null,null,null,null,null,null,null,{"$f":"SUM(L32:L39)-L28","v":2.3999999999999577E-3},null,-3.8739999999999952,null,-0.40865999999999758,-0.20719999999999938,-0.48019999999999907]

{"sheet":"Mast weibl. Ziegenlämmer","index":3,"n_rows":40,"n_cols":30,"rows_kept":40,"cut":false,"hidden":false,"merged":[[0,18,0,28],[9,20,10,20],[9,21,10,21]]}
[null,null,"Landesbetrieb Landwirtschaft Hessen",null,null,null,null,null,null,null,null,null,null,null,null,null,null,null,"Rationsberechnung für die weibliche Ziegenlämmermast"]
[null,null,"Kölnische Str. 48-50",null,null,"Rationsberechnung für Ziegen"]
[null,null,"34117 Kassel",null,null,null,null,null,null,null,null,null,null,null,null,null,null,null,null,null,null,null,null,null,null,null,"Abkürzungen.:","Umsetzbare Energie:",null,"ME in MJ"]
[null,null,null,null,null,null,null,null,null,null,null,null,null,null,null,null,null,null,null,null,null,null,null,null,null,null,null,"Frischmasse:",null,"FM"]
[null,null,"Kajo Hollmichel ",null,null,null,null,null,null,null,null,null,null,null,null,null,null,null,null,null,null,null,null,null,null,null,null,"Trockenmasse:",null,"TM"]
[null,null,"Tel.: 0561  7299-257",null,null,null,null,null,null,null,null,null,null,null,null,null,null,null,null,null,null,null,null,null,null,null,null,"Rohprotein:",null,"XP"]
[null,null,"mobil: 0160-4755166",null,null,null,null,null,null,null,null,null,null,null,null,null,null,null,null,null,null,null,null,null,null,null,null,"nutzbares Rohprotein:",null,"nXP"]
[null,null,"E-mail: kajo.hollmichel@llh.hessen.de",null,null,null,null,null,null,null,null,null,null,null,null,null,null,null,null,null,null,null,null,null,null,null,null,"Tageszunahmen:",null,"TZ"]
[]
[null,null,null,"TM (%)","Rohfaser","Rohprotein","nXP","ME","Ca","P","kg in der","TM (kg)","Rohfaser","Rohprotein","nXP","ME","Ca","P","Preis ","in der Ration","kg FM in der Ration","% TM Futter in 1 kg TM",null,"TM","Rohfaser","Roh-protein","nutzbares Rohprot.","ME","Calcium (Ca)","Phosphor (P)"]
[null,"Nr.","Futtermittel",null,"g/kg TM","g/kg TM","g/kg TM","MJ / kg TM","g/kg TM","g/kg TM","Ration",null,"g in FM","g in FM","g in FM","MJ in FM","g in FM","g in FM","€/dt","€",null,null,"Einheit","kg","g","g","g","MJ ","g","g"]
[null,{"$f":"IF($C12=\"\",\"\",VLOOKUP($C12,Futtermittel!$C$11:$T$143,18,FALSE))","v":59},"Weizen, Körner",{"$f":"IF($C12=\"\",\"\",VLOOKUP($B12,Futtermittel!$B$13:$K$130,3,FALSE))","v":880},{"$f":"IF($C12=\"\",\"\",VLOOKUP($B12,Futtermittel!$B$13:$K$130,6,FALSE))","v":29.545454545454547},{"$f":"IF($C12=\"\",\"\",VLOOKUP($B12,Futtermittel!$B$13:$K$130,4,FALSE))","v":137.5},{"$f":"IF($C12=\"\",\"\",VLOOKUP($B12,Futtermittel!$B$13:$K$130,5,FALSE))","v":171.59090909090909},{"$f":"IF($B12<1,0,VLOOKUP($B12,Futtermittel!$B$13:$K$130,7,TRUE))","v":13.375},{"$f":"IF($B12<1,0,VLOOKUP($B12,Futtermittel!$B$13:$K$130,8,TRUE))","v":0.45454545454545453},{"$f":"IF($B12<1,0,VLOOKUP($B12,Futtermittel!$B$13:$K$130,9,TRUE))","v":3.75},{"$f":"U12","v":0.8},{"$f":"IF(C12=\"\",\"\",K12*D12/1000)","v":0.70399999999999996},{"$f":"IF(C12=\"\",\"\",$K12*E12*$D12/1000)","v":20.800000000000004},{"$f":"IF(C12=\"\",\"\",$K12*F12*$D12/1000)","v":96.8},{"$f":"IF(C12=\"\",\"\",$K12*G12*$D12/1000)","v":120.8},{"$f":"IF(C12=\"\",\"\",$K12*H12*$D12/1000)","v":9.4160000000000021},{"$f":"IF(C12=\"\",\"\",$K12*I12*$D12/1000)","v":0.32},{"$f":"IF(C12=\"\",\"\",$K12*J12*$D12/1000)","v":2.64},{"$f":"IF($B12<1,0,VLOOKUP($B12,Futtermittel!$B$13:$K$130,10,TRUE))","v":20.100000000000001},{"$f":"(S12/100*K12)*SUM(Y$15:Y$24)","v":0.16080000000000003},0.8,{"$f":"IF(C12=\"\",\"\",U12*(D12/1000)/U$25)","v":0.44795113260371605},"in der ges. Ration",{"$f":"SUM($L$12:$L$24)*SUM(Y15:Y24)","v":1.5715999999999999},{"$f":"SUM($M$12:$M$24)*SUM(Y15:Y24)","v":359.916},{"$f":"SUM($N$12:$N$24)*SUM(Y15:Y24)","v":161.71199999999999},{"$f":"SUM($O$12:$O$24)*SUM(Y15:Y24)","v":203.61},{"$f":"SUM($P$12:$P$24)*SUM(Y15:Y24)","v":16.044300000000003},{"$f":"SUM($Q$12:$Q$24)*SUM(Y15:Y24)","v":6.0630000000000006},{"$f":"SUM($R$12:$R$24)*SUM(Y15:Y24)","v":4.3280000000000003}]
[null,{"$f":"IF($C13=\"\",\"\",VLOOKUP($C13,Futtermittel!$C$11:$T$143,18,FALSE))","v":1},"Grünland 1. Aufwuchs  Beg. Ähren-/Rispenschieben",{"$f":"IF($C13=\"\",\"\",VLOOKUP($B13,Futtermittel!$B$13:$K$130,3,FALSE))","v":170},{"$f":"IF($C13=\"\",\"\",VLOOKUP($B13,Futtermittel!$B$13:$K$130,6,FALSE))","v":206},{"$f":"IF($C13=\"\",\"\",VLOOKUP($B13,Futtermittel!$B$13:$K$130,4,FALSE))","v":224},{"$f":"IF($C13=\"\",\"\",VLOOKUP($B13,Futtermittel!$B$13:$K$130,5,FALSE))","v":153},{"$f":"IF($B13<1,0,VLOOKUP($B13,Futtermittel!$B$13:$K$130,7,TRUE))","v":11.47},{"$f":"IF($B13<1,0,VLOOKUP($B13,Futtermittel!$B$13:$K$130,8,TRUE))","v":5.9},{"$f":"IF($B13<1,0,VLOOKUP($B13,Futtermittel!$B$13:$K$130,9,TRUE))","v":4.4000000000000004},1,{"$f":"IF(C13=\"\",\"\",K13*D13/1000)","v":0.17},{"$f":"IF(C13=\"\",\"\",$K13*E13*$D13/1000)","v":35.020000000000003},{"$f":"IF(C13=\"\",\"\",$K13*F13*$D13/1000)","v":38.08},{"$f":"IF(C13=\"\",\"\",$K13*G13*$D13/1000)","v":26.01},{"$f":"IF(C13=\"\",\"\",$K13*H13*$D13/1000)","v":1.9499000000000002},{"$f":"IF(C13=\"\",\"\",$K13*I13*$D13/1000)","v":1.0030000000000001},{"$f":"IF(C13=\"\",\"\",$K13*J13*$D13/1000)","v":0.74800000000000011},{"$f":"IF($B13<1,0,VLOOKUP($B13,Futtermittel!$B$13:$K$130,10,TRUE))","v":1.4},1.3999999999999999E-2,1,{"$f":"IF(C13=\"\",\"\",U13*(D13/1000)/U$25)","v":0.10817001781623825},"je kg TM ",null,{"$f":"Y12/$X12/1000","v":0.22901247136676001},{"$f":"Z12/$X12/1000","v":0.10289641130058538},{"$f":"AA12/$X12/1000","v":0.12955586663273097},{"$f":"AB12/X12","v":10.208895393229833},{"$f":"AC12/$X12/1000","v":3.8578518707050144E-3},{"$f":"AD12/$X12/1000","v":2.753881394756936E-3}]
[null,{"$f":"IF($C14=\"\",\"\",VLOOKUP($C14,Futtermittel!$C$11:$T$143,18,FALSE))","v":55},"Stroh (Gerste)",{"$f":"IF($C14=\"\",\"\",VLOOKUP($B14,Futtermittel!$B$13:$K$130,3,FALSE))","v":860},{"$f":"IF($C14=\"\",\"\",VLOOKUP($B14,Futtermittel!$B$13:$K$130,6,FALSE))","v":442},{"$f":"IF($C14=\"\",\"\",VLOOKUP($B14,Futtermittel!$B$13:$K$130,4,FALSE))","v":39},{"$f":"IF($C14=\"\",\"\",VLOOKUP($B14,Futtermittel!$B$13:$K$130,5,FALSE))","v":82.558139534883722},{"$f":"IF($B14<1,0,VLOOKUP($B14,Futtermittel!$B$13:$K$130,7,TRUE))","v":6.8},{"$f":"IF($B14<1,0,VLOOKUP($B14,Futtermittel!$B$13:$K$130,8,TRUE))","v":3.8372093023255811},{"$f":"IF($B14<1,0,VLOOKUP($B14,Futtermittel!$B$13:$K$130,9,TRUE))","v":0.93023255813953498},0.8,{"$f":"IF(C14=\"\",\"\",K14*D14/1000)","v":0.68799999999999994},{"$f":"IF(C14=\"\",\"\",$K14*E14*$D14/1000)","v":304.096},{"$f":"IF(C14=\"\",\"\",$K14*F14*$D14/1000)","v":26.832000000000004},{"$f":"IF(C14=\"\",\"\",$K14*G14*$D14/1000)","v":56.8},{"$f":"IF(C14=\"\",\"\",$K14*H14*$D14/1000)","v":4.6784000000000008},{"$f":"IF(C14=\"\",\"\",$K14*I14*$D14/1000)","v":2.64},{"$f":"IF(C14=\"\",\"\",$K14*J14*$D14/1000)","v":0.64000000000000012},{"$f":"IF($B14<1,0,VLOOKUP($B14,Futtermittel!$B$13:$K$130,10,TRUE))","v":3},2.4E-2,0.8,{"$f":"IF(C14=\"\",\"\",U14*(D14/1000)/U$25)","v":0.43777042504454067},"Leistungsstadium","TM-Aufn.","Gruppe","XP","XP","ME","Ca","P"]
[null,{"$f":"IF($C15=\"\",\"\",VLOOKUP($C15,Futtermittel!$C$11:$T$143,18,FALSE))","v":66},"Erbsen, Samen",{"$f":"IF($C15=\"\",\"\",VLOOKUP($B15,Futtermittel!$B$13:$K$130,3,FALSE))","v":880},{"$f":"IF($C15=\"\",\"\",VLOOKUP($B15,Futtermittel!$B$13:$K$130,6,FALSE))","v":67.045454545454547},{"$f":"IF($C15=\"\",\"\",VLOOKUP($B15,Futtermittel!$B$13:$K$130,4,FALSE))","v":251.13636363636363},{"$f":"IF($C15=\"\",\"\",VLOOKUP($B15,Futtermittel!$B$13:$K$130,5,FALSE))","v":187.5},{"$f":"IF($B15<1,0,VLOOKUP($B15,Futtermittel!$B$13:$K$130,7,TRUE))","v":13.409090909090908},{"$f":"IF($B15<1,0,VLOOKUP($B15,Futtermittel!$B$13:$K$130,8,TRUE))","v":1.0227272727272727},{"$f":"IF($B15<1,0,VLOOKUP($B15,Futtermittel!$B$13:$K$130,9,TRUE))","v":4.6590909090909092},0,0,0,0,0,0,0,0,{"$f":"IF($B15<1,0,VLOOKUP($B15,Futtermittel!$B$13:$K$130,10,TRUE))","v":31.5},0,0,0,{"$f":"C30","v":"Lamm 10 kg 100 g TZ"},{"$f":"D30","v":0.44500000000000001},null,{"$f":"N30","v":0},0,{"$f":"P30","v":0},{"$f":"Q30","v":0},{"$f":"R30","v":0}]
[null,{"$f":"IF($C16=\"\",\"\",VLOOKUP($C16,Futtermittel!$C$11:$T$143,18,FALSE))","v":73},"Mineralfutter (Ziegenmast)",{"$f":"IF($C16=\"\",\"\",VLOOKUP($B16,Futtermittel!$B$13:$K$130,3,FALSE))","v":960},{"$f":"IF($C16=\"\",\"\",VLOOKUP($B16,Futtermittel!$B$13:$K$130,6,FALSE))","v":0},{"$f":"IF($C16=\"\",\"\",VLOOKUP($B16,Futtermittel!$B$13:$K$130,4,FALSE))","v":0},{"$f":"IF($C16=\"\",\"\",VLOOKUP($B16,Futtermittel!$B$13:$K$130,5,FALSE))","v":0},{"$f":"IF($B16<1,0,VLOOKUP($B16,Futtermittel!$B$13:$K$130,7,TRUE))","v":0},{"$f":"IF($B16<1,0,VLOOKUP($B16,Futtermittel!$B$13:$K$130,8,TRUE))","v":218.75},{"$f":"IF($B16<1,0,VLOOKUP($B16,Futtermittel!$B$13:$K$130,9,TRUE))","v":31.25},0.01,9.5999999999999992E-3,0,0,0,0,2.1,0.3,{"$f":"IF($B16<1,0,VLOOKUP($B16,Futtermittel!$B$13:$K$130,10,TRUE))","v":65},6.5000000000000006E-3,0.01,6.1084245355052177E-3,{"$f":"C31","v":"Lamm 10 kg 200 g TZ"},{"$f":"D31","v":0.63500000000000001},null,0,0,0,0,0]
[null,{"$f":"IF($C17=\"\",\"\",VLOOKUP($C17,Futtermittel!$C$11:$T$143,18,FALSE))","v":""},null,{"$f":"IF($C17=\"\",\"\",VLOOKUP($B17,Futtermittel!$B$13:$K$130,3,FALSE))","v":""},{"$f":"IF($C17=\"\",\"\",VLOOKUP($B17,Futtermittel!$B$13:$K$130,6,FALSE))","v":""},{"$f":"IF($C17=\"\",\"\",VLOOKUP($B17,Futtermittel!$B$13:$K$130,4,FALSE))","v":""},{"$f":"IF($C17=\"\",\"\",VLOOKUP($B17,Futtermittel!$B$13:$K$130,5,FALSE))","v":""},{"$f":"IF($B17<1,0,VLOOKUP($B17,Futtermittel!$B$13:$K$130,7,TRUE))","v":0},{"$f":"IF($B17<1,0,VLOOKUP($B17,Futtermittel!$B$13:$K$130,8,TRUE))","v":0},{"$f":"IF($B17<1,0,VLOOKUP($B17,Futtermittel!$B$13:$K$130,9,TRUE))","v":0},0,"","","","","","","",{"$f":"IF($B17<1,0,VLOOKUP($B17,Futtermittel!$B$13:$K$130,10,TRUE))","v":0},0,0,"",0,0,null,0,null,0,0,0]
[null,{"$f":"IF($C18=\"\",\"\",VLOOKUP($C18,Futtermittel!$C$11:$T$143,18,FALSE))","v":""},null,{"$f":"IF($C18=\"\",\"\",VLOOKUP($B18,Futtermittel!$B$13:$K$130,3,FALSE))","v":""},{"$f":"IF($C18=\"\",\"\",VLOOKUP($B18,Futtermittel!$B$13:$K$130,6,FALSE))","v":""},{"$f":"IF($C18=\"\",\"\",VLOOKUP($B18,Futtermittel!$B$13:$K$130,4,FALSE))","v":""},{"$f":"IF($C18=\"\",\"\",VLOOKUP($B18,Futtermittel!$B$13:$K$130,5,FALSE))","v":""},{"$f":"IF($B18<1,0,VLOOKUP($B18,Futtermittel!$B$13:$K$130,7,TRUE))","v":0},{"$f":"IF($B18<1,0,VLOOKUP($B18,Futtermittel!$B$13:$K$130,8,TRUE))","v":0},{"$f":"IF($B18<1,0,VLOOKUP($B18,Futtermittel!$B$13:$K$130,9,TRUE))","v":0},0,"","","","","","","",{"$f":"IF($B18<1,0,VLOOKUP($B18,Futtermittel!$B$13:$K$130,10,TRUE))","v":0},0,null,"","Lamm 20 kg 150 g TZ",0.88,null,0,0,0,0,0]
[null,{"$f":"IF($C19=\"\",\"\",VLOOKUP($C19,Futtermittel!$C$11:$T$143,18,FALSE))","v":""},null,{"$f":"IF($C19=\"\",\"\",VLOOKUP($B19,Futtermittel!$B$13:$K$130,3,FALSE))","v":""},{"$f":"IF($C19=\"\",\"\",VLOOKUP($B19,Futtermittel!$B$13:$K$130,6,FALSE))","v":""},{"$f":"IF($C19=\"\",\"\",VLOOKUP($B19,Futtermittel!$B$13:$K$130,4,FALSE))","v":""},{"$f":"IF($C19=\"\",\"\",VLOOKUP($B19,Futtermittel!$B$13:$K$130,5,FALSE))","v":""},{"$f":"IF($B19<1,0,VLOOKUP($B19,Futtermittel!$B$13:$K$130,7,TRUE))","v":0},{"$f":"IF($B19<1,0,VLOOKUP($B19,Futtermittel!$B$13:$K$130,8,TRUE))","v":0},{"$f":"IF($B19<1,0,VLOOKUP($B19,Futtermittel!$B$13:$K$130,9,TRUE))","v":0},0,"","","","","","","",{"$f":"IF($B19<1,0,VLOOKUP($B19,Futtermittel!$B$13:$K$130,10,TRUE))","v":0},0,null,"","Lamm 20 kg 250 g TZ",1.17,null,0,0,0,0,0]
[null,{"$f":"IF($C20=\"\",\"\",VLOOKUP($C20,Futtermittel!$C$11:$T$143,18,FALSE))","v":""},null,{"$f":"IF($C20=\"\",\"\",VLOOKUP($B20,Futtermittel!$B$13:$K$130,3,FALSE))","v":""},{"$f":"IF($C20=\"\",\"\",VLOOKUP($B20,Futtermittel!$B$13:$K$130,6,FALSE))","v":""},{"$f":"IF($C20=\"\",\"\",VLOOKUP($B20,Futtermittel!$B$13:$K$130,4,FALSE))","v":""},{"$f":"IF($C20=\"\",\"\",VLOOKUP($B20,Futtermittel!$B$13:$K$130,5,FALSE))","v":""},{"$f":"IF($B20<1,0,VLOOKUP($B20,Futtermittel!$B$13:$K$130,7,TRUE))","v":0},{"$f":"IF($B20<1,0,VLOOKUP($B20,Futtermittel!$B$13:$K$130,8,TRUE))","v":0},{"$f":"IF($B20<1,0,VLOOKUP($B20,Futtermittel!$B$13:$K$130,9,TRUE))","v":0},0,"","","","","","","",{"$f":"IF($B20<1,0,VLOOKUP($B20,Futtermittel!$B$13:$K$130,10,TRUE))","v":0},0,null,"",0,0,null,{"$f":"N35","v":0},null,0,0,0]
[null,{"$f":"IF($C21=\"\",\"\",VLOOKUP($C21,Futtermittel!$C$11:$T$143,18,FALSE))","v":""},null,{"$f":"IF($C21=\"\",\"\",VLOOKUP($B21,Futtermittel!$B$13:$K$130,3,FALSE))","v":""},{"$f":"IF($C21=\"\",\"\",VLOOKUP($B21,Futtermittel!$B$13:$K$130,6,FALSE))","v":""},{"$f":"IF($C21=\"\",\"\",VLOOKUP($B21,Futtermittel!$B$13:$K$130,4,FALSE))","v":""},{"$f":"IF($C21=\"\",\"\",VLOOKUP($B21,Futtermittel!$B$13:$K$130,5,FALSE))","v":""},{"$f":"IF($B21<1,0,VLOOKUP($B21,Futtermittel!$B$13:$K$130,7,TRUE))","v":0},{"$f":"IF($B21<1,0,VLOOKUP($B21,Futtermittel!$B$13:$K$130,8,TRUE))","v":0},{"$f":"IF($B21<1,0,VLOOKUP($B21,Futtermittel!$B$13:$K$130,9,TRUE))","v":0},0,"","","","","","","",{"$f":"IF($B21<1,0,VLOOKUP($B21,Futtermittel!$B$13:$K$130,10,TRUE))","v":0},0,null,"","Lamm 30 kg 200 g TZ",1.375,null,0,0,0,0,0]
[null,{"$f":"IF($C22=\"\",\"\",VLOOKUP($C22,Futtermittel!$C$11:$T$143,18,FALSE))","v":""},null,{"$f":"IF($C22=\"\",\"\",VLOOKUP($B22,Futtermittel!$B$13:$K$130,3,FALSE))","v":""},{"$f":"IF($C22=\"\",\"\",VLOOKUP($B22,Futtermittel!$B$13:$K$130,6,FALSE))","v":""},{"$f":"IF($C22=\"\",\"\",VLOOKUP($B22,Futtermittel!$B$13:$K$130,4,FALSE))","v":""},{"$f":"IF($C22=\"\",\"\",VLOOKUP($B22,Futtermittel!$B$13:$K$130,5,FALSE))","v":""},{"$f":"IF($B22<1,0,VLOOKUP($B22,Futtermittel!$B$13:$K$130,7,TRUE))","v":0},{"$f":"IF($B22<1,0,VLOOKUP($B22,Futtermittel!$B$13:$K$130,8,TRUE))","v":0},{"$f":"IF($B22<1,0,VLOOKUP($B22,Futtermittel!$B$13:$K$130,9,TRUE))","v":0},0,"","","","","","","",{"$f":"IF($B22<1,0,VLOOKUP($B22,Futtermittel!$B$13:$K$130,10,TRUE))","v":0},0,null,"","Lamm 30 kg 250 g TZ",1.575,1,156,156,15.6,6.2,3.8]
[null,{"$f":"IF($C23=\"\",\"\",VLOOKUP($C23,Futtermittel!$C$11:$T$143,18,FALSE))","v":""},null,{"$f":"IF($C23=\"\",\"\",VLOOKUP($B23,Futtermittel!$B$13:$K$130,3,FALSE))","v":""},{"$f":"IF($C23=\"\",\"\",VLOOKUP($B23,Futtermittel!$B$13:$K$130,6,FALSE))","v":""},{"$f":"IF($C23=\"\",\"\",VLOOKUP($B23,Futtermittel!$B$13:$K$130,4,FALSE))","v":""},{"$f":"IF($C23=\"\",\"\",VLOOKUP($B23,Futtermittel!$B$13:$K$130,5,FALSE))","v":""},{"$f":"IF($B23<1,0,VLOOKUP($B23,Futtermittel!$B$13:$K$130,7,TRUE))","v":0},{"$f":"IF($B23<1,0,VLOOKUP($B23,Futtermittel!$B$13:$K$130,8,TRUE))","v":0},{"$f":"IF($B23<1,0,VLOOKUP($B23,Futtermittel!$B$13:$K$130,9,TRUE))","v":0},0,"","","","","","","",{"$f":"IF($B23<1,0,VLOOKUP($B23,Futtermittel!$B$13:$K$130,10,TRUE))","v":0},0,null,"",0,0,null,0,0,0,0,0]
[null,{"$f":"IF($C24=\"\",\"\",VLOOKUP($C24,Futtermittel!$C$11:$T$143,18,FALSE))","v":""},null,{"$f":"IF($C24=\"\",\"\",VLOOKUP($B24,Futtermittel!$B$13:$K$130,3,FALSE))","v":""},{"$f":"IF($C24=\"\",\"\",VLOOKUP($B24,Futtermittel!$B$13:$K$130,6,FALSE))","v":""},{"$f":"IF($C24=\"\",\"\",VLOOKUP($B24,Futtermittel!$B$13:$K$130,4,FALSE))","v":""},{"$f":"IF($C24=\"\",\"\",VLOOKUP($B24,Futtermittel!$B$13:$K$130,5,FALSE))","v":""},{"$f":"IF($B24<1,0,VLOOKUP($B24,Futtermittel!$B$13:$K$130,7,TRUE))","v":0},{"$f":"IF($B24<1,0,VLOOKUP($B24,Futtermittel!$B$13:$K$130,8,TRUE))","v":0},{"$f":"IF($B24<1,0,VLOOKUP($B24,Futtermittel!$B$13:$K$130,9,TRUE))","v":0},0,"","","","","","","",{"$f":"IF($B24<1,0,VLOOKUP($B24,Futtermittel!$B$13:$K$130,10,TRUE))","v":0},0,null,{"$f":"SUM(V12:V23)","v":1.0000000000000002},"Lamm 40 kg 200 g TZ",1.7650000000000001,null,0,0,0,0,0]
[null,null,null,null,null,null,null,null,null,null,null,"TM (kg)","Rohfaser","Rohprotein","nXP","ME","Ca","P","P",{"$f":"SUM(T13:T24)","v":4.4499999999999998E-2},{"$f":"L27","v":1.5715999999999999},null,"kg TM-Aufnahme","Bilanz:",null,{"$f":"Z12-SUM(Z16:Z24)","v":5.7119999999999891},{"$f":"AA12-SUM(AA15:AA24)","v":47.610000000000014},{"$f":"AB12-SUM(AB16:AB24)","v":0.44430000000000369},{"$f":"AC12-SUM(AC16:AC24)","v":-0.13699999999999957},{"$f":"AD12-SUM(AD16:AD24)","v":0.52800000000000047}]
[null,null,"in einem kg der Ration",null,null,null,null,null,null,null,"kg in der ",null,"g/kg","g/kg FM","g/kg FM","MJ / kg FM","g","g"]
[null,null,"in der Gesamtration",null,null,null,null,null,null,null,"Ration",{"$f":"SUM($L$12:$L$24)","v":1.5715999999999999},{"$f":"SUM($M$12:$M$24)","v":359.916},{"$f":"SUM($N$12:$N$24)","v":161.71199999999999},{"$f":"SUM($O$12:$O$24)","v":203.61},{"$f":"SUM($P$12:$P$24)","v":16.044300000000003},{"$f":"SUM($Q$12:$Q$24)","v":6.0630000000000006},{"$f":"SUM($R$12:$R$24)","v":4.3280000000000003}]
[]
[null,null,"Bedarf"]
[null,null,"Lamm 10 kg 100 g TZ",{"$f":"0.49/2+0.4/2","v":0.44500000000000001},"nach GfE",48,48,4.4000000000000004,2.2000000000000002,1.3,{"$f":"Y15","v":0},{"$f":"$K30*D30","v":0},null,{"$f":"$K30*F30","v":0},{"$f":"$K30*G30","v":0},{"$f":"$K30*H30","v":0},{"$f":"$K30*I30","v":0},{"$f":"$K30*J30","v":0}]
[null,null,"Lamm 10 kg 200 g TZ",{"$f":"0.7/2+0.57/2","v":0.63500000000000001},"nach GfE",85,85,6.3,4,2.2999999999999998,{"$f":"Y16","v":0},0,null,0,0,0,0,0]
[null,null,null,null,null,null,null,null,null,null,{"$f":"Y17","v":0},0,null,0,0,0,0,0]
[null,null,"Lamm 20 kg 150 g TZ",{"$f":"0.97/2+0.79/2","v":0.88},"nach GfE",92,92,8.6999999999999993,3.6,2.2000000000000002,{"$f":"Y18","v":0},0,null,0,0,0,0,0]
[null,null,"Lamm 20 kg 250 g TZ",{"$f":"1.29/2+1.05/2","v":1.17},"nach GfE",131,131,11.6,5.6,3.3,0,0,null,0,0,0,0,0]
[null,null,null,null,null,null,null,null,null,null,0,0,null,0,0,0,0,0]
[null,null,"Lamm 30 kg 200 g TZ",{"$f":"1.51/2+1.24/2","v":1.375},"nach GfE",138,138,13.6,5.0999999999999996,3.2,0,0,null,0,0,0,0,0]
[null,null,"Lamm 30 kg 250 g TZ",{"$f":"1.73/2+1.42/2","v":1.575},"nach GfE",156,156,15.6,6.2,3.8,1,1.575,null,156,{"$f":"$K37*G37","v":156},15.6,6.2,3.8]
[null,null,null,null,null,null,null,null,null,null,0,0,null,0,{"$f":"$K38*G38","v":0},0,0,0]
[null,null,"Lamm 40 kg 200 g TZ",{"$f":"1.94/2+1.59/2","v":1.7650000000000001},"nach GfE",156,156,17.5,5.5,3.5,0,0,null,0,{"$f":"$K39*G39","v":0},0,0,0]
[null,null,"Bilanz",null,null,null,null,null,null,null,null,{"$f":"SUM(L31:L38)-L27","v":3.4000000000000696E-3},null,-5.7119999999999891,null,-0.44430000000000369,0.13699999999999957,-0.52800000000000047]