{"text_format":"1","workbook":"xlsx","n_sheets":3,"sheets":["Futtermittel","Mutter- und Milchschafe","Lämmer"],"not_rendered":{"charts":0,"images":0,"macros":1,"external_links":0,"defined_names":5,"comments":3,"pivot_tables":0},"unopened":[],"bounds":{"document_bytes":16777216,"sheet_cells":100000,"rows_first":2000,"rows_last":500,"rows_between":2000,"halvings":0,"cell_chars":16384,"cell_head_chars":4096},"cells_cut":0,"cells_raw":0,"read":"whole","date_system":"1900"}

{"sheet":"Futtermittel","index":0,"n_rows":124,"n_cols":18,"rows_kept":124,"cut":false,"hidden":false,"merged":[]}
[]
[]
[]
[]
[null,null,null,"TM","Rohprotein","Rohfaser","ME","Ca","P","Euro"]
[null,null,null,null,"XP","XF"]
[null,"Nr:","FUTTERMITTEL","g","g in TM","g in TM","MJ in TM","g in TM","g in TM","€ / dt",null,null,null,null,null,null,null,"Nr:"]
[]
[null,null,"I. Grünfutter"]
[]
[null,null,"Grünland, 4 und mehr Nutzungen,"]
[null,null,"grasreich (untergrasbetont) "]
[null,{"$f":"IF(D13=\"\",\"\",COUNTA($D$13:D13))","v":1},"Grünland 1. Aufwuchs  Beg. Ähren-/Rispenschieben",170,224,206,11.47,5.9,4.4000000000000004,1.4,null,null,null,null,null,null,null,{"$f":"IF(D13=\"\",\"\",COUNTA($D$13:D13))","v":1}]
[null,{"$f":"IF(D14=\"\",\"\",COUNTA($D$13:D14))","v":2},"Grünland 1. Aufwuchs  volles Ähren-/Rispenschieben",180,206,233,10.94,6.1,3.9,1.4,null,null,null,null,null,null,null,{"$f":"IF(D14=\"\",\"\",COUNTA($D$13:D14))","v":2}]
[null,{"$f":"IF(D15=\"\",\"\",COUNTA($D$13:D15))","v":3},"Grünland  2. u. folg. Aufwüchse  4-6 Wochen",180,211,228,10.220000000000001,6.1,3.9,1.4,null,null,null,null,null,null,null,{"$f":"IF(D15=\"\",\"\",COUNTA($D$13:D15))","v":3}]
[null,{"$f":"IF(D16=\"\",\"\",COUNTA($D$13:D16))","v":""},"Grünland  2-3 Nutzungen, grasreich (obergrasbetont)",null,null,null,null,null,null,null,null,null,null,null,null,null,null,{"$f":"IF(D16=\"\",\"\",COUNTA($D$13:D16))","v":""}]
[null,{"$f":"IF(D17=\"\",\"\",COUNTA($D$13:D17))","v":4},"Grünland 1. Aufwuchs  volles Ähren-/Rispenschieben",180,150,244,10.44,6.1,3.9,1.4,null,null,null,null,null,null,null,{"$f":"IF(D17=\"\",\"\",COUNTA($D$13:D17))","v":4}]
[null,{"$f":"IF(D18=\"\",\"\",COUNTA($D$13:D18))","v":5},"Grünland 2. u. folg. Aufwüchse  4-6 Wochen",200,165,245,10,6.5,4,1.4,null,null,null,null,null,null,null,{"$f":"IF(D18=\"\",\"\",COUNTA($D$13:D18))","v":5}]
[null,{"$f":"IF(D19=\"\",\"\",COUNTA($D$13:D19))","v":""},"Grünland, 2-3 Nutzungen, klee- und kräuterreich",null,null,null,null,null,null,null,null,null,null,null,null,null,null,{"$f":"IF(D19=\"\",\"\",COUNTA($D$13:D19))","v":""}]
[null,{"$f":"IF(D20=\"\",\"\",COUNTA($D$13:D20))","v":6},"Grünland 1. Aufwuchs  Beginn Ähren-/Rispenschieben",160,181,188,11.5,10,3.8,1.4,null,null,null,null,null,null,null,{"$f":"IF(D20=\"\",\"\",COUNTA($D$13:D20))","v":6}]
[null,{"$f":"IF(D21=\"\",\"\",COUNTA($D$13:D21))","v":7},"Grünland 1. Aufwuchs   volles Ähren-/Rispenschieben",180,172,228,10.78,10,3.9,1.4,null,null,null,null,null,null,null,{"$f":"IF(D21=\"\",\"\",COUNTA($D$13:D21))","v":7}]
[null,{"$f":"IF(D22=\"\",\"\",COUNTA($D$13:D22))","v":8},"Grünland 2. u. folg. Aufwüchse  unter 4 Wochen",170,202,187,11.27,11,3.5,1.4,null,null,null,null,null,null,null,{"$f":"IF(D22=\"\",\"\",COUNTA($D$13:D22))","v":8}]
[null,{"$f":"IF(D23=\"\",\"\",COUNTA($D$13:D23))","v":9},"Grünland 2. u. folg. Aufwüchse  4-6 Wochen",190,184,226,10.44,9.5,3.7,1.4,null,null,null,null,null,null,null,{"$f":"IF(D23=\"\",\"\",COUNTA($D$13:D23))","v":9}]
[null,{"$f":"IF(D24=\"\",\"\",COUNTA($D$13:D24))","v":""},"Rotklee-Gras-Gemenge",null,null,null,null,null,null,null,null,null,null,null,null,null,null,{"$f":"IF(D24=\"\",\"\",COUNTA($D$13:D24))","v":""}]
[null,{"$f":"IF(D25=\"\",\"\",COUNTA($D$13:D25))","v":10},"Rotklee-Gras-Gemenge 1. Aufwuchs  in der Knospe",170,176,224,10.53,10.6,3.5,1.4,null,null,null,null,null,null,null,{"$f":"IF(D25=\"\",\"\",COUNTA($D$13:D25))","v":10}]
[null,{"$f":"IF(D26=\"\",\"\",COUNTA($D$13:D26))","v":11},"Rotklee-Gras-Gemenge  1. Aufwuchs  Beginn der Blüte",200,155,260,9.85,10.5,3.5,1.4,null,null,null,null,null,null,null,{"$f":"IF(D26=\"\",\"\",COUNTA($D$13:D26))","v":11}]
[null,{"$f":"IF(D27=\"\",\"\",COUNTA($D$13:D27))","v":12},"Rotklee-Gras-Gemenge 2. u. folg. Aufwüchse  in der Knospe",210,190,224,10.1,11.4,4.3,1.4,null,null,null,null,null,null,null,{"$f":"IF(D27=\"\",\"\",COUNTA($D$13:D27))","v":12}]
[null,{"$f":"IF(D28=\"\",\"\",COUNTA($D$13:D28))","v":13},"Rotklee-Gras-Gemenge 2. u. folg. Aufwüchse Beginn der Blüte",240,171,258,9.42,11.3,3.8,1.4,null,null,null,null,null,null,null,{"$f":"IF(D28=\"\",\"\",COUNTA($D$13:D28))","v":13}]
[null,{"$f":"IF(D29=\"\",\"\",COUNTA($D$13:D29))","v":""},null,null,null,null,null,null,null,null,null,null,null,null,null,null,null,{"$f":"IF(D29=\"\",\"\",COUNTA($D$13:D29))","v":""}]
[null,{"$f":"IF(D30=\"\",\"\",COUNTA($D$13:D30))","v":""},"II. Silagen",null,null,null,null,null,null,null,null,null,null,null,null,null,null,{"$f":"IF(D30=\"\",\"\",COUNTA($D$13:D30))","v":""}]
[null,{"$f":"IF(D31=\"\",\"\",COUNTA($D$13:D31))","v":""},null,null,null,null,null,null,null,null,null,null,null,null,null,null,null,{"$f":"IF(D31=\"\",\"\",COUNTA($D$13:D31))","v":""}]
[null,{"$f":"IF(D32=\"\",\"\",COUNTA($D$13:D32))","v":""},"Grassilage (grasreich)",null,null,null,null,null,null,null,null,null,null,null,null,null,null,{"$f":"IF(D32=\"\",\"\",COUNTA($D$13:D32))","v":""}]
[null,{"$f":"IF(D33=\"\",\"\",COUNTA($D$13:D33))","v":14},"Grassilage 1. Aufwuchs  Beg. Ähren-/Rispenschieben",350,165,221,11.09,6,4,3.5,null,null,null,null,null,null,null,{"$f":"IF(D33=\"\",\"\",COUNTA($D$13:D33))","v":14}]
[null,{"$f":"IF(D34=\"\",\"\",COUNTA($D$13:D34))","v":15},"Grassilage 1. Aufwuchs  volles Ähren-Rispenschieben",350,148,264,9.91,6,3.7,3.5,null,null,null,null,null,null,null,{"$f":"IF(D34=\"\",\"\",COUNTA($D$13:D34))","v":15}]
[null,{"$f":"IF(D35=\"\",\"\",COUNTA($D$13:D35))","v":16},"Grassilage 1. Aufwuchs  Beginn der Blüte",350,130,299,9.73,5.7,3.7,3.5,null,null,null,null,null,null,null,{"$f":"IF(D35=\"\",\"\",COUNTA($D$13:D35))","v":16}]
[null,{"$f":"IF(D36=\"\",\"\",COUNTA($D$13:D36))","v":17},"Grassilage 1. Aufwuchs  Mitte bis Ende der Blüte",350,110,334,9.1999999999999993,5.7,3.4,3.5,null,null,null,null,null,null,null,{"$f":"IF(D36=\"\",\"\",COUNTA($D$13:D36))","v":17}]
[null,{"$f":"IF(D37=\"\",\"\",COUNTA($D$13:D37))","v":18},"Grassilage 2. u. folg. Aufwüchse  unter 4 Wochen",350,175,219,10.039999999999999,6.9,3.7,3.5,null,null,null,null,null,null,null,{"$f":"IF(D37=\"\",\"\",COUNTA($D$13:D37))","v":18}]
[null,{"$f":"IF(D38=\"\",\"\",COUNTA($D$13:D38))","v":19},"Grassilage 2. u. folg. Aufwüchse  4-6 Wochen",350,157,260,9.6199999999999992,6.3,3.7,3.5,null,null,null,null,null,null,null,{"$f":"IF(D38=\"\",\"\",COUNTA($D$13:D38))","v":19}]
[null,{"$f":"IF(D39=\"\",\"\",COUNTA($D$13:D39))","v":20},"Grassilage 2. u. folg. Aufwüchse  7-9 Wochen",350,141,293,9.3000000000000007,6.3,3.7,3.5,null,null,null,null,null,null,null,{"$f":"IF(D39=\"\",\"\",COUNTA($D$13:D39))","v":20}]
[null,{"$f":"IF(D40=\"\",\"\",COUNTA($D$13:D40))","v":""},"Grassilage (klee- und kräuterreich)",null,null,null,null,null,null,null,null,null,null,null,null,null,null,{"$f":"IF(D40=\"\",\"\",COUNTA($D$13:D40))","v":""}]
[null,{"$f":"IF(D41=\"\",\"\",COUNTA($D$13:D41))","v":21},"Grassilage 1. Aufwuchs  Beg. Ähren-/Rispenschieben",350,171,211,10.75,9.6999999999999993,4,3.5,null,null,null,null,null,null,null,{"$f":"IF(D41=\"\",\"\",COUNTA($D$13:D41))","v":21}]
[null,{"$f":"IF(D42=\"\",\"\",COUNTA($D$13:D42))","v":22},"Grassilage 1. Aufwuchs volles Ähren-/Rispenschieben",350,157,246,10.62,9.6999999999999993,3.7,3.5,null,null,null,null,null,null,null,{"$f":"IF(D42=\"\",\"\",COUNTA($D$13:D42))","v":22}]
[null,{"$f":"IF(D43=\"\",\"\",COUNTA($D$13:D43))","v":23},"Grassilage 1. Aufwuchs Beginn der Blüte",350,149,274,9.84,9.6999999999999993,3.7,3.5,null,null,null,null,null,null,null,{"$f":"IF(D43=\"\",\"\",COUNTA($D$13:D43))","v":23}]
[null,{"$f":"IF(D44=\"\",\"\",COUNTA($D$13:D44))","v":24},"Grassilage 1. Aufwuchs Mitte bis Ende der Blüte",350,140,306,9.59,9.6999999999999993,3.7,3.5,null,null,null,null,null,null,null,{"$f":"IF(D44=\"\",\"\",COUNTA($D$13:D44))","v":24}]
[null,{"$f":"IF(D45=\"\",\"\",COUNTA($D$13:D45))","v":25},"Grassilage 2. u. folg. Aufwüchse  unter 4 Wochen",350,183,206,10.43,9.6999999999999993,3.7,3.5,null,null,null,null,null,null,null,{"$f":"IF(D45=\"\",\"\",COUNTA($D$13:D45))","v":25}]
[null,{"$f":"IF(D46=\"\",\"\",COUNTA($D$13:D46))","v":26},"Grassilage 2. u. folg. Aufwüchse  4-6 Wochen",350,163,243,9.8000000000000007,9.6999999999999993,3.7,3.5,null,null,null,null,null,null,null,{"$f":"IF(D46=\"\",\"\",COUNTA($D$13:D46))","v":26}]
[null,{"$f":"IF(D47=\"\",\"\",COUNTA($D$13:D47))","v":27},"Grassilage 2. u. folg. Aufwüchse  7-9 Wochen",350,146,272,9.1300000000000008,9.6999999999999993,3.7,3.5,null,null,null,null,null,null,null,{"$f":"IF(D47=\"\",\"\",COUNTA($D$13:D47))","v":27}]
[null,{"$f":"IF(D48=\"\",\"\",COUNTA($D$13:D48))","v":""},"Maissilagen",null,null,null,null,null,null,null,null,null,null,null,null,null,null,{"$f":"IF(D48=\"\",\"\",COUNTA($D$13:D48))","v":""}]
[null,{"$f":"IF(D49=\"\",\"\",COUNTA($D$13:D49))","v":28},"Maissilage Beg. d. Teigreife, Kolbenant. mittel (35-45 %)",270,89,211,10.52,3.3,2.6,3,null,null,null,null,null,null,null,{"$f":"IF(D49=\"\",\"\",COUNTA($D$13:D49))","v":28}]
[null,{"$f":"IF(D50=\"\",\"\",COUNTA($D$13:D50))","v":29},"Maissilage Beg. d. Teigreife, Kolbenant. hoch   (> 45 %)",290,87,186,10.8,3.3,2.6,3,null,null,null,null,null,null,null,{"$f":"IF(D50=\"\",\"\",COUNTA($D$13:D50))","v":29}]
[null,{"$f":"IF(D51=\"\",\"\",COUNTA($D$13:D51))","v":30},"Maissilage Ende d. Teigreife, Kolbenant. mittel (45-55 %)",350,80,200,10.71,3.1,2.2999999999999998,3,null,null,null,null,null,null,null,{"$f":"IF(D51=\"\",\"\",COUNTA($D$13:D51))","v":30}]
[null,{"$f":"IF(D52=\"\",\"\",COUNTA($D$13:D52))","v":31},"Maissilage Ende d. Teigreife, Kolbenanteil hoch (> 55 %)",380,79,176,11.05,2.9,2.6,3,null,null,null,null,null,null,null,{"$f":"IF(D52=\"\",\"\",COUNTA($D$13:D52))","v":31}]
[null,{"$f":"IF(D53=\"\",\"\",COUNTA($D$13:D53))","v":""},"Rotklee-Gras-Gemenge-Silage",null,null,null,null,null,null,null,null,null,null,null,null,null,null,{"$f":"IF(D53=\"\",\"\",COUNTA($D$13:D53))","v":""}]
[null,{"$f":"IF(D54=\"\",\"\",COUNTA($D$13:D54))","v":32},"Rotklee-Gras-Gemenge-Silage 1. Aufwuchs  in der Knospe",350,174,246,10.86,10.3,3.7,3.5,null,null,null,null,null,null,null,{"$f":"IF(D54=\"\",\"\",COUNTA($D$13:D54))","v":32}]
[null,{"$f":"IF(D55=\"\",\"\",COUNTA($D$13:D55))","v":33},"Rotklee-Gras-Gemenge-Silage Beginn der Blüte",350,166,277,10.26,10.3,3.4,3.5,null,null,null,null,null,null,null,{"$f":"IF(D55=\"\",\"\",COUNTA($D$13:D55))","v":33}]
[null,{"$f":"IF(D56=\"\",\"\",COUNTA($D$13:D56))","v":34},"Rotklee-Gras-Gemenge-Silage Mitte bis Ende der Blüte",350,140,306,9.91,10.3,3.1,3.5,null,null,null,null,null,null,null,{"$f":"IF(D56=\"\",\"\",COUNTA($D$13:D56))","v":34}]
[null,{"$f":"IF(D57=\"\",\"\",COUNTA($D$13:D57))","v":35},"Rotklee-Gras-Gemenge-Silage 2. u. folg. Aufwüchse  in der Knospe",350,191,246,9.8000000000000007,11.1,4.3,3.5,null,null,null,null,null,null,null,{"$f":"IF(D57=\"\",\"\",COUNTA($D$13:D57))","v":35}]
[null,{"$f":"IF(D58=\"\",\"\",COUNTA($D$13:D58))","v":36},"Rotklee-Gras-Gemenge-Silage 2. u. folg. Aufwüchse Beginn der Blüte",350,174,260,9.14,11.1,3.7,3.5,null,null,null,null,null,null,null,{"$f":"IF(D58=\"\",\"\",COUNTA($D$13:D58))","v":36}]
[null,{"$f":"IF(D59=\"\",\"\",COUNTA($D$13:D59))","v":""},null,null,null,null,null,null,null,null,null,null,null,null,null,null,null,{"$f":"IF(D59=\"\",\"\",COUNTA($D$13:D59))","v":""}]
[null,{"$f":"IF(D60=\"\",\"\",COUNTA($D$13:D60))","v":""},"GPS aus Gerste",null,null,null,null,null,null,null,null,null,null,null,null,null,null,{"$f":"IF(D60=\"\",\"\",COUNTA($D$13:D60))","v":""}]
[null,{"$f":"IF(D61=\"\",\"\",COUNTA($D$13:D61))","v":37},"GPS aus Gerste in der Teigreife, Körneranteil ca. 33 %",300,97,283,8.8000000000000007,3.7,3,null,null,null,null,null,null,null,null,{"$f":"IF(D61=\"\",\"\",COUNTA($D$13:D61))","v":37}]
[null,{"$f":"IF(D62=\"\",\"\",COUNTA($D$13:D62))","v":38},"GPS aus Gerste in der Teigreife, Körneranteil ca. 50 %",450,98,227,9.58,2.9,2.9,null,null,null,null,null,null,null,null,{"$f":"IF(D62=\"\",\"\",COUNTA($D$13:D62))","v":38}]
[null,{"$f":"IF(D63=\"\",\"\",COUNTA($D$13:D63))","v":""},"GPS aus Weizen",null,null,null,null,null,null,null,null,null,null,null,null,null,null,{"$f":"IF(D63=\"\",\"\",COUNTA($D$13:D63))","v":""}]
[null,{"$f":"IF(D64=\"\",\"\",COUNTA($D$13:D64))","v":39},"GPS aus Weizen in der Teigreife, Körneranteil ca. 33 %",300,97,290,8.6,2.2999999999999998,2.2999999999999998,null,null,null,null,null,null,null,null,{"$f":"IF(D64=\"\",\"\",COUNTA($D$13:D64))","v":39}]
[null,{"$f":"IF(D65=\"\",\"\",COUNTA($D$13:D65))","v":40},"GPS aus Weizen in der Teigreife, Körneranteil ca. 50 % ",450,93,227,9.2899999999999991,2.2000000000000002,2.7,null,null,null,null,null,null,null,null,{"$f":"IF(D65=\"\",\"\",COUNTA($D$13:D65))","v":40}]
[null,{"$f":"IF(D66=\"\",\"\",COUNTA($D$13:D66))","v":""},null,null,null,null,null,null,null,null,null,null,null,null,null,null,null,{"$f":"IF(D66=\"\",\"\",COUNTA($D$13:D66))","v":""}]
[null,{"$f":"IF(D67=\"\",\"\",COUNTA($D$13:D67))","v":""},"Zuckerrübenblattsilage, sauber",null,null,null,null,null,null,null,null,null,null,null,null,null,null,{"$f":"IF(D67=\"\",\"\",COUNTA($D$13:D67))","v":""}]
[null,{"$f":"IF(D68=\"\",\"\",COUNTA($D$13:D68))","v":41},"Zuckerrübenblattsilage, sauber",160,150,156,9.69,13.1,2.5,null,null,null,null,null,null,null,null,{"$f":"IF(D68=\"\",\"\",COUNTA($D$13:D68))","v":41}]
[null,{"$f":"IF(D69=\"\",\"\",COUNTA($D$13:D69))","v":""},null,null,null,null,null,null,null,null,null,null,null,null,null,null,null,{"$f":"IF(D69=\"\",\"\",COUNTA($D$13:D69))","v":""}]
[null,{"$f":"IF(D70=\"\",\"\",COUNTA($D$13:D70))","v":""},"III. Energiereiche Saftfutter",null,null,null,null,null,null,null,null,null,null,null,null,null,null,{"$f":"IF(D70=\"\",\"\",COUNTA($D$13:D70))","v":""}]
[null,{"$f":"IF(D71=\"\",\"\",COUNTA($D$13:D71))","v":""},null,null,null,null,null,null,null,null,null,null,null,null,null,null,null,{"$f":"IF(D71=\"\",\"\",COUNTA($D$13:D71))","v":""}]
[null,{"$f":"IF(D72=\"\",\"\",COUNTA($D$13:D72))","v":42},"Massenfutterrüben, sauber",120,92,67,12,2.5,2.5,null,null,null,null,null,null,null,null,{"$f":"IF(D72=\"\",\"\",COUNTA($D$13:D72))","v":42}]
[null,{"$f":"IF(D73=\"\",\"\",COUNTA($D$13:D73))","v":43},"Gehaltsfutterrüben, sauber",150,80,67,11.93,2,2.7,null,null,null,null,null,null,null,null,{"$f":"IF(D73=\"\",\"\",COUNTA($D$13:D73))","v":43}]
[null,{"$f":"IF(D74=\"\",\"\",COUNTA($D$13:D74))","v":44},"Maiskolbenschrotsilage",500,90,144,11.98,1,3.2,null,null,null,null,null,null,null,null,{"$f":"IF(D74=\"\",\"\",COUNTA($D$13:D74))","v":44}]
[null,{"$f":"IF(D75=\"\",\"\",COUNTA($D$13:D75))","v":45},"CCM",600,105,52,12.88,0.3,3.2,null,null,null,null,null,null,null,null,{"$f":"IF(D75=\"\",\"\",COUNTA($D$13:D75))","v":45}]
[null,{"$f":"IF(D76=\"\",\"\",COUNTA($D$13:D76))","v":46},"Biertreber, siliert",260,249,193,11.22,3.5,6.2,3,null,null,null,null,null,null,null,{"$f":"IF(D76=\"\",\"\",COUNTA($D$13:D76))","v":46}]
[null,{"$f":"IF(D77=\"\",\"\",COUNTA($D$13:D77))","v":47},"Preßschnitzel, siliert",220,109,209,11.86,10.9,0.9,null,null,null,null,null,null,null,null,{"$f":"IF(D77=\"\",\"\",COUNTA($D$13:D77))","v":47}]
[null,{"$f":"IF(D78=\"\",\"\",COUNTA($D$13:D78))","v":48},"Apfeltrester",230,47,215,11.1,7.9,2.7,1,null,null,null,null,null,null,null,{"$f":"IF(D78=\"\",\"\",COUNTA($D$13:D78))","v":48}]
[null,{"$f":"IF(D79=\"\",\"\",COUNTA($D$13:D79))","v":49},"Malzkaffeetreber",210,160,170,9.3000000000000007,1.3,3.4,1,null,null,null,null,null,null,null,{"$f":"IF(D79=\"\",\"\",COUNTA($D$13:D79))","v":49}]
[null,{"$f":"IF(D80=\"\",\"\",COUNTA($D$13:D80))","v":""},null,null,null,null,null,null,null,null,null,null,null,null,null,null,null,{"$f":"IF(D80=\"\",\"\",COUNTA($D$13:D80))","v":""}]
[null,{"$f":"IF(D81=\"\",\"\",COUNTA($D$13:D81))","v":""},"IV. Rauhfutter",null,null,null,null,null,null,null,null,null,null,null,null,null,null,{"$f":"IF(D81=\"\",\"\",COUNTA($D$13:D81))","v":""}]
[null,{"$f":"IF(D82=\"\",\"\",COUNTA($D$13:D82))","v":""},null,null,null,null,null,null,null,null,null,null,null,null,null,null,null,{"$f":"IF(D82=\"\",\"\",COUNTA($D$13:D82))","v":""}]
[null,{"$f":"IF(D83=\"\",\"\",COUNTA($D$13:D83))","v":""},"Heu Grünland 2-3 Nutzungen (obergrasbetont)",null,null,null,null,null,null,null,null,null,null,null,null,null,null,{"$f":"IF(D83=\"\",\"\",COUNTA($D$13:D83))","v":""}]
[null,{"$f":"IF(D84=\"\",\"\",COUNTA($D$13:D84))","v":50},"Heu 1. Aufwuchs  volles Ähren-/Rispenschieben",860,106,294,9.11,{"$f":"4/0.86","v":4.6511627906976747},{"$f":"2.4/0.86","v":2.7906976744186047},9,null,null,null,null,null,null,null,{"$f":"IF(D84=\"\",\"\",COUNTA($D$13:D84))","v":50}]
[null,{"$f":"IF(D85=\"\",\"\",COUNTA($D$13:D85))","v":51},"Heu 1. Aufwuchs  Beginn der Blüte",860,94,324,8.5500000000000007,{"$f":"3.8/0.86","v":4.4186046511627906},{"$f":"2.2/0.86","v":2.558139534883721},9,null,null,null,null,null,null,null,{"$f":"IF(D85=\"\",\"\",COUNTA($D$13:D85))","v":51}]
[null,{"$f":"IF(D86=\"\",\"\",COUNTA($D$13:D86))","v":52},"Heu 1. Aufwuchs  Mitte bis Ende der Blüte",860,91,356,7.99,{"$f":"3.7/0.86","v":4.3023255813953494},2.4,9,null,null,null,null,null,null,null,{"$f":"IF(D86=\"\",\"\",COUNTA($D$13:D86))","v":52}]
[null,{"$f":"IF(D87=\"\",\"\",COUNTA($D$13:D87))","v":53},"Heu 2. u. folg. Aufwüchse  unter 4 Wochen",860,151,251,9.66,{"$f":"4.2/0.86","v":4.8837209302325588},{"$f":"2.8/0.86","v":3.2558139534883721},9,null,null,null,null,null,null,null,{"$f":"IF(D87=\"\",\"\",COUNTA($D$13:D87))","v":53}]
[null,{"$f":"IF(D88=\"\",\"\",COUNTA($D$13:D88))","v":54},"Heu 2. u. folg. Aufwüchse  4-6 Wochen",860,133,284,9.0500000000000007,{"$f":"4.2/0.86","v":4.8837209302325588},{"$f":"2.8/0.86","v":3.2558139534883721},9,null,null,null,null,null,null,null,{"$f":"IF(D88=\"\",\"\",COUNTA($D$13:D88))","v":54}]
[null,{"$f":"IF(D89=\"\",\"\",COUNTA($D$13:D89))","v":55},"Heu 2. u. folg. Aufwüchse  7-9 Wochen",860,124,312,8.3000000000000007,{"$f":"4.2/0.86","v":4.8837209302325588},{"$f":"2.5/0.86","v":2.9069767441860463},9,null,null,null,null,null,null,null,{"$f":"IF(D89=\"\",\"\",COUNTA($D$13:D89))","v":55}]
[null,{"$f":"IF(D90=\"\",\"\",COUNTA($D$13:D90))","v":""},"Rotklee-Gras-Heu",null,null,null,null,null,null,null,null,null,null,null,null,null,null,{"$f":"IF(D90=\"\",\"\",COUNTA($D$13:D90))","v":""}]
[null,{"$f":"IF(D91=\"\",\"\",COUNTA($D$13:D91))","v":56},"Rotklee-Gras-Heu   1. Aufwuchs  in der Knospe",860,157,258,{"$f":"8.06/0.86","v":9.3720930232558146},{"$f":"11.5/0.86","v":13.372093023255815},{"$f":"2.4/0.86","v":2.7906976744186047},9,null,null,null,null,null,null,null,{"$f":"IF(D91=\"\",\"\",COUNTA($D$13:D91))","v":56}]
[null,{"$f":"IF(D92=\"\",\"\",COUNTA($D$13:D92))","v":57},"Rotklee-Gras-Heu   1. Aufwuchs  Beginn der Blüte",860,155,300,9.01,{"$f":"11.5/0.86","v":13.372093023255815},{"$f":"2.2/0.86","v":2.558139534883721},9,null,null,null,null,null,null,null,{"$f":"IF(D92=\"\",\"\",COUNTA($D$13:D92))","v":57}]
[null,{"$f":"IF(D93=\"\",\"\",COUNTA($D$13:D93))","v":""},null,null,null,null,null,null,null,null,null,null,null,null,null,null,null,{"$f":"IF(D93=\"\",\"\",COUNTA($D$13:D93))","v":""}]
[null,{"$f":"IF(D94=\"\",\"\",COUNTA($D$13:D94))","v":58},"Erbsenstroh",860,94,409,6.57,15.3,1.7,4,null,null,null,null,null,null,null,{"$f":"IF(D94=\"\",\"\",COUNTA($D$13:D94))","v":58}]
[null,{"$f":"IF(D95=\"\",\"\",COUNTA($D$13:D95))","v":59},"Stroh (Gerste)",860,39,442,6.8,{"$f":"3.3/0.86","v":3.8372093023255811},{"$f":"0.8/0.86","v":0.93023255813953498},3,null,null,null,null,null,null,null,{"$f":"IF(D95=\"\",\"\",COUNTA($D$13:D95))","v":59}]
[null,{"$f":"IF(D96=\"\",\"\",COUNTA($D$13:D96))","v":""},null,null,null,null,null,null,null,null,null,null,null,null,null,null,null,{"$f":"IF(D96=\"\",\"\",COUNTA($D$13:D96))","v":""}]
[null,{"$f":"IF(D97=\"\",\"\",COUNTA($D$13:D97))","v":""},"V. Kraftfutter",null,null,null,null,null,null,null,null,null,null,null,null,null,null,{"$f":"IF(D97=\"\",\"\",COUNTA($D$13:D97))","v":""}]
[null,{"$f":"IF(D98=\"\",\"\",COUNTA($D$13:D98))","v":""},null,null,null,null,null,null,null,null,null,null,null,null,null,null,null,{"$f":"IF(D98=\"\",\"\",COUNTA($D$13:D98))","v":""}]
[null,{"$f":"IF(D99=\"\",\"\",COUNTA($D$13:D99))","v":60},"Hafer, Körner",880,{"$f":"L99*1000/$D99","v":120.45454545454545},115.90909090909091,11.477272727272727,1.25,{"$f":"P99*1000/$D99","v":3.6363636363636362},18.5,null,106,102,10.1,1.1000000000000001,3.2,null,{"$f":"IF(D99=\"\",\"\",COUNTA($D$13:D99))","v":60}]
[null,{"$f":"IF(D100=\"\",\"\",COUNTA($D$13:D100))","v":61},"Gerste, Körner",880,123.86363636363636,56.81818181818182,12.840909090909092,0.63636363636363635,{"$f":"P100*1000/$D100","v":3.8636363636363638},20.3,null,109,50,11.3,0.56000000000000005,3.4,null,{"$f":"IF(D100=\"\",\"\",COUNTA($D$13:D100))","v":61}]
[null,{"$f":"IF(D101=\"\",\"\",COUNTA($D$13:D101))","v":62},"Roggen, Körner",880,112.5,27.272727272727273,13.306818181818182,0.56818181818181823,3.5227272727272729,20,null,99,24,11.71,0.5,3.1,null,{"$f":"IF(D101=\"\",\"\",COUNTA($D$13:D101))","v":62}]
[null,{"$f":"IF(D102=\"\",\"\",COUNTA($D$13:D102))","v":63},"Weizen, Körner",880,137.5,29.545454545454547,13.375,0.45454545454545453,3.75,20.100000000000001,null,121,26,11.77,0.4,3.3,null,{"$f":"IF(D102=\"\",\"\",COUNTA($D$13:D102))","v":63}]
[null,{"$f":"IF(D103=\"\",\"\",COUNTA($D$13:D103))","v":64},"Triticale, Körner",880,145.45454545454547,28.40909090909091,13.125,0.45454545454545453,4.3181818181818183,19.8,null,128,25,11.55,0.4,3.8,null,{"$f":"IF(D103=\"\",\"\",COUNTA($D$13:D103))","v":64}]
[null,{"$f":"IF(D104=\"\",\"\",COUNTA($D$13:D104))","v":65},"Mais, Körner",880,105.68181818181819,26.136363636363637,13.295454545454545,0.45454545454545453,3.1818181818181817,24,null,93,23,11.7,0.4,2.8,null,{"$f":"IF(D104=\"\",\"\",COUNTA($D$13:D104))","v":65}]
[null,{"$f":"IF(D105=\"\",\"\",COUNTA($D$13:D105))","v":66},"Trockenschnitzel",900,{"$f":"L105*1000/$D105","v":98.888888888888886},205,11.93,7.6,1,20,null,89,185,11,7,0.9,null,{"$f":"IF(D105=\"\",\"\",COUNTA($D$13:D105))","v":66}]
[null,{"$f":"IF(D106=\"\",\"\",COUNTA($D$13:D106))","v":67},"Melasseschnitzel",910,126.37362637362638,{"$f":"M106*1000/$D106","v":157.14285714285714},12.087912087912088,10.989010989010989,0.76923076923076927,20.7,null,115,143,11,10,0.7,null,{"$f":"IF(D106=\"\",\"\",COUNTA($D$13:D106))","v":67}]
[null,{"$f":"IF(D107=\"\",\"\",COUNTA($D$13:D107))","v":68},"Weizenkleie",880,160.22727272727272,134.09090909090909,9.920454545454545,1.4772727272727273,13.409090909090908,20,null,141,118,8.73,1.3,11.8,null,{"$f":"IF(D107=\"\",\"\",COUNTA($D$13:D107))","v":68}]
[null,{"$f":"IF(D108=\"\",\"\",COUNTA($D$13:D108))","v":69},"Ackerbohnen, Samen",880,297.72727272727275,88.63636363636364,13.636363636363637,1.3636363636363635,5.4545454545454541,30,null,262,78,12,1.2,4.8,null,{"$f":"IF(D108=\"\",\"\",COUNTA($D$13:D108))","v":69}]
[null,{"$f":"IF(D109=\"\",\"\",COUNTA($D$13:D109))","v":70},"Erbsen, Samen",880,251.13636363636363,67.045454545454547,13.409090909090908,1.0227272727272727,4.6590909090909092,31.5,null,221,59,11.8,0.9,4.0999999999999996,null,{"$f":"IF(D109=\"\",\"\",COUNTA($D$13:D109))","v":70}]
[null,{"$f":"IF(D110=\"\",\"\",COUNTA($D$13:D110))","v":71},"Sojaextraktionsschrot",880,510.22727272727275,67.045454545454547,13.75,3.4090909090909092,7.2727272727272725,42,null,449,59,12.1,3,6.4,null,{"$f":"IF(D110=\"\",\"\",COUNTA($D$13:D110))","v":71}]
[null,{"$f":"IF(D111=\"\",\"\",COUNTA($D$13:D111))","v":72},"Rapsextraktionsschr. 00-Typ",890,398.87640449438203,131.46067415730337,11.988764044943821,6.7415730337078648,13.146067415730338,27,null,355,117,10.67,6,11.7,null,{"$f":"IF(D111=\"\",\"\",COUNTA($D$13:D111))","v":72}]
[null,{"$f":"IF(D112=\"\",\"\",COUNTA($D$13:D112))","v":73},"Leinkuchen/Expeller 4-8 % Fett",900,373.33333333333331,106.66666666666667,12.355555555555556,4.1111111111111107,9,null,null,336,96,11.12,3.7,8.1,null,{"$f":"IF(D112=\"\",\"\",COUNTA($D$13:D112))","v":73}]
[null,{"$f":"IF(D113=\"\",\"\",COUNTA($D$13:D113))","v":74},"Luzernegrünmehl < 26 % Rohfaser",900,217.77777777777777,222.22222222222223,9.6111111111111107,17.111111111111111,2.8888888888888888,null,null,196,200,8.65,15.4,2.6,null,{"$f":"IF(D113=\"\",\"\",COUNTA($D$13:D113))","v":74}]
[null,{"$f":"IF(D114=\"\",\"\",COUNTA($D$13:D114))","v":75},"Malzkaffetreber, trocken",910,166,197,8.5500000000000007,0.68,2.7,null,null,null,null,null,null,null,null,{"$f":"IF(D114=\"\",\"\",COUNTA($D$13:D114))","v":75}]
[null,{"$f":"IF(D115=\"\",\"\",COUNTA($D$13:D115))","v":""},null,null,null,null,null,null,null,null,null,null,null,null,null,null,null,{"$f":"IF(D115=\"\",\"\",COUNTA($D$13:D115))","v":""}]
[null,{"$f":"IF(D116=\"\",\"\",COUNTA($D$13:D116))","v":""},"Mineralfutter",null,null,null,null,null,null,null,null,null,null,null,null,null,null,{"$f":"IF(D116=\"\",\"\",COUNTA($D$13:D116))","v":""}]
[null,{"$f":"IF(D117=\"\",\"\",COUNTA($D$13:D117))","v":""},null,null,null,null,null,null,null,null,null,null,null,null,null,null,null,{"$f":"IF(D117=\"\",\"\",COUNTA($D$13:D117))","v":""}]
[null,{"$f":"IF(D118=\"\",\"\",COUNTA($D$13:D118))","v":76},"Mineralfutter für Mutter-und Milchschafe",960,null,null,null,{"$f":"O118*1000/$D118","v":239.58333333333334},20.833333333333332,60,null,null,null,null,230,20,null,{"$f":"IF(D118=\"\",\"\",COUNTA($D$13:D118))","v":76}]
[null,{"$f":"IF(D119=\"\",\"\",COUNTA($D$13:D119))","v":77},"Mineralfutter (Schafsmast)",960,null,null,null,{"$f":"O119*1000/$D119","v":260.41666666666669},46.875,65,null,null,null,null,250,45,null,{"$f":"IF(D119=\"\",\"\",COUNTA($D$13:D119))","v":77}]
[null,{"$f":"IF(D120=\"\",\"\",COUNTA($D$13:D120))","v":""},null,null,null,null,null,null,null,null,null,null,null,null,null,null,null,{"$f":"IF(D120=\"\",\"\",COUNTA($D$13:D120))","v":""}]
[null,{"$f":"IF(D121=\"\",\"\",COUNTA($D$13:D121))","v":""},"Neue Futtermittel",null,null,null,null,null,null,null,null,null,null,null,null,null,null,{"$f":"IF(D121=\"\",\"\",COUNTA($D$13:D121))","v":""}]
[null,{"$f":"IF(D122=\"\",\"\",COUNTA($D$13:D122))","v":""},null,null,null,null,null,null,null,null,null,null,null,null,null,null,null,{"$f":"IF(D122=\"\",\"\",COUNTA($D$13:D122))","v":""}]
[null,{"$f":"IF(D123=\"\",\"\",COUNTA($D$13:D123))","v":""},null,null,null,null,null,null,null,null,null,null,null,null,null,null,null,{"$f":"IF(D123=\"\",\"\",COUNTA($D$13:D123))","v":""}]
[null,{"$f":"IF(C124=\"\",\"\",COUNTA($C$13:C124))","v":""},null,null,null,null,null,null,null,null,null,null,null,null,null,null,null,{"$f":"IF(S124=\"\",\"\",COUNTA($C$13:S124))","v":""}]

{"sheet":"Mutter- und Milchschafe","index":1,"n_rows":38,"n_cols":27,"rows_kept":38,"cut":false,"hidden":false,"merged":[[7,18,8,18],[4,18,4,20],[5,18,5,20],[0,16,0,26],[2,18,2,20],[3,18,3,20],[7,19,8,19]]}
[null,null,"Landesbetrieb Landwirtschaft Hessen",null,null,null,null,null,null,null,null,null,null,null,null,null,"Rationsberechnung für Mutter- und Milchschafe"]
[null,null,"Kölnische Str. 48 - 50",null,null,"Rationsberechnung für Schafe"]
[null,null,"34117 Kassel",null,null,null,null,null,null,null,null,null,null,null,null,null,null,null,"Lebendgewicht in kg:",null,null,75,null,"Abkürzungen.:","Umsetzbare Energie:",null,"ME in MJ"]
[null,null,null,null,null,null,null,null,null,null,null,null,null,null,null,null,null,null,"Angestrebete Milchleistung in l:",null,null,3,null,null,"Frischmasse",null,"FM"]
[null,null,"Dipl.-Ing. agr. Kajo Hollmichel, Tel.: 0561 7299-257",null,null,null,null,null,null,null,null,null,null,null,null,null,null,null,"Angestrebte Fettprozente in %:",null,null,6,null,null,"Trockenmasse",null,"TM"]
[null,null,"E-Mail: kajo.hollmichel@llh.hessen.de",null,null,null,null,null,null,null,null,null,null,null,null,null,null,null,"Angestrebte Eiweißgehalte in %:",null,null,5,null,null,"Rohprotein",null,"XP"]
[]
[null,null,null,"TM (%)","Rohfaser","Rohprotein","ME","Ca","P","kg in der","TM (kg)","Rohfaser","Rohprotein","ME","Ca","P","Preis ","in der Ration","kg FM in der Ration","% TM Futter in 1 kg TM",null,"TM","Rohfaser","Roh-protein","ME","Calcium (Ca)","Phosphor (P)"]
[null,"Nr.","Futtermittel",null,"g/kg TM","g/kg TM","MJ / kg TM","g/kg TM","g/kg TM","Ration",null,"g in FM","g in FM","MJ in FM","g in FM","g in FM","€/dt","€",null,null,"Einheit","kg","g","g","MJ ","g","g"]
[null,{"$f":"IF($C10=\"\",\"\",VLOOKUP($C10,Futtermittel!$C$11:$S$142,16,FALSE))","v":""},null,{"$f":"IF(C10=\"\",\"\",VLOOKUP($C10,Futtermittel!$C$13:$J$133,2,FALSE))","v":""},{"$f":"IF($C10=\"\",\"\",VLOOKUP($C10,Futtermittel!$C$13:$J$133,4,FALSE))","v":""},{"$f":"IF($C10=\"\",\"\",VLOOKUP($C10,Futtermittel!$C$13:$J$133,3,FALSE))","v":""},{"$f":"IF($C10=\"\",\"\",VLOOKUP($C10,Futtermittel!$C$13:$J$133,5,FALSE))","v":""},{"$f":"IF($C10=\"\",\"\",VLOOKUP($C10,Futtermittel!$C$13:$J$133,6,FALSE))","v":""},{"$f":"IF($C10=\"\",\"\",VLOOKUP($C10,Futtermittel!$C$13:$J$133,7,FALSE))","v":""},{"$f":"S10","v":0},{"$f":"IF(C10=\"\",\"\",J10*D10/1000)","v":""},{"$f":"IF(C10=\"\",\"\",$J10*E10*$D10/1000)","v":""},{"$f":"IF(C10=\"\",\"\",$J10*F10*$D10/1000)","v":""},{"$f":"IF(C10=\"\",\"\",$J10*G10*$D10/1000)","v":""},{"$f":"IF(C10=\"\",\"\",$J10*H10*$D10/1000)","v":""},{"$f":"IF(C10=\"\",\"\",$J10*I10*$D10/1000)","v":""},{"$f":"IF(C10=\"\",\"\",VLOOKUP($C10,Futtermittel!$C$13:$J$133,8,FALSE))","v":""},{"$f":"IF(C10=\"\",\"\",(Q10/100*J10)*SUM(W$13:W$22))","v":""},null,{"$f":"IF(C10=\"\",\"\",S10*(D10/1000)/S$23)","v":""},"in der ges. Ration",{"$f":"SUM($K$10:$K$22)*SUM(W13:W22)","v":2.1395999999999997},{"$f":"SUM($L$10:$L$22)*SUM(W13:W22)","v":655.67000000000007},{"$f":"SUM($M$10:$M$22)*SUM(W13:W22)","v":267.51400000000001},{"$f":"SUM($N$10:$N$22)*SUM(W13:W22)","v":19.746940000000002},{"$f":"SUM($O$10:$O$22)*SUM(W13:W22)","v":10.0228},{"$f":"SUM($P$10:$P$22)*SUM(W13:W22)","v":5.5198000000000009}]
[null,{"$f":"IF($C11=\"\",\"\",VLOOKUP($C11,Futtermittel!$C$11:$S$142,16,FALSE))","v":1},"Grünland 1. Aufwuchs  Beg. Ähren-/Rispenschieben",{"$f":"IF(C11=\"\",\"\",VLOOKUP($C11,Futtermittel!$C$13:$J$133,2,FALSE))","v":170},{"$f":"IF($C11=\"\",\"\",VLOOKUP($C11,Futtermittel!$C$13:$J$133,4,FALSE))","v":206},{"$f":"IF($C11=\"\",\"\",VLOOKUP($C11,Futtermittel!$C$13:$J$133,3,FALSE))","v":224},{"$f":"IF($C11=\"\",\"\",VLOOKUP($C11,Futtermittel!$C$13:$J$133,5,FALSE))","v":11.47},{"$f":"IF($C11=\"\",\"\",VLOOKUP($C11,Futtermittel!$C$13:$J$133,6,FALSE))","v":5.9},{"$f":"IF($C11=\"\",\"\",VLOOKUP($C11,Futtermittel!$C$13:$J$133,7,FALSE))","v":4.4000000000000004},{"$f":"S11","v":2.6},{"$f":"IF(C11=\"\",\"\",J11*D11/1000)","v":0.442},{"$f":"IF(C11=\"\",\"\",$J11*E11*$D11/1000)","v":91.052000000000007},{"$f":"IF(C11=\"\",\"\",$J11*F11*$D11/1000)","v":99.007999999999996},{"$f":"IF(C11=\"\",\"\",$J11*G11*$D11/1000)","v":5.0697400000000004},{"$f":"IF(C11=\"\",\"\",$J11*H11*$D11/1000)","v":2.6078000000000001},{"$f":"IF(C11=\"\",\"\",$J11*I11*$D11/1000)","v":1.9448000000000001},{"$f":"IF(C11=\"\",\"\",VLOOKUP($C11,Futtermittel!$C$13:$J$133,8,FALSE))","v":1.4},{"$f":"IF(C11=\"\",\"\",(Q11/100*J11)*SUM(W$13:W$22))","v":3.6399999999999995E-2},2.6,{"$f":"IF(C11=\"\",\"\",S11*(D11/1000)/S$23)","v":0.20658066928397836},"je kg TM ",null,{"$f":"W10/$V10/1000","v":0.30644512993082829},{"$f":"X10/$V10/1000","v":0.12502991213310902},{"$f":"Y10/V10","v":9.2292671527388315},{"$f":"Z10/$V10/1000","v":4.6844269957001311E-3},{"$f":"AA10/$V10/1000","v":2.5798280052346237E-3}]
[null,{"$f":"IF($C12=\"\",\"\",VLOOKUP($C12,Futtermittel!$C$11:$S$142,16,FALSE))","v":59},"Stroh (Gerste)",{"$f":"IF(C12=\"\",\"\",VLOOKUP($C12,Futtermittel!$C$13:$J$133,2,FALSE))","v":860},{"$f":"IF($C12=\"\",\"\",VLOOKUP($C12,Futtermittel!$C$13:$J$133,4,FALSE))","v":442},{"$f":"IF($C12=\"\",\"\",VLOOKUP($C12,Futtermittel!$C$13:$J$133,3,FALSE))","v":39},{"$f":"IF($C12=\"\",\"\",VLOOKUP($C12,Futtermittel!$C$13:$J$133,5,FALSE))","v":6.8},{"$f":"IF($C12=\"\",\"\",VLOOKUP($C12,Futtermittel!$C$13:$J$133,6,FALSE))","v":3.8372093023255811},{"$f":"IF($C12=\"\",\"\",VLOOKUP($C12,Futtermittel!$C$13:$J$133,7,FALSE))","v":0.93023255813953498},{"$f":"S12","v":1.4},1.204,532.16800000000001,46.955999999999996,8.1872000000000007,4.6199999999999992,1.1200000000000001,{"$f":"IF(C12=\"\",\"\",VLOOKUP($C12,Futtermittel!$C$13:$J$133,8,FALSE))","v":3},4.1999999999999996E-2,1.4,{"$f":"IF(C12=\"\",\"\",S12*(D12/1000)/S$23)","v":0.56272200411291839},"Leistungsstadium","TM-Aufn.","Gruppe","XP","ME","Ca","P"]
[null,{"$f":"IF($C13=\"\",\"\",VLOOKUP($C13,Futtermittel!$C$11:$S$142,16,FALSE))","v":""},null,{"$f":"IF(C13=\"\",\"\",VLOOKUP($C13,Futtermittel!$C$13:$J$133,2,FALSE))","v":""},{"$f":"IF($C13=\"\",\"\",VLOOKUP($C13,Futtermittel!$C$13:$J$133,4,FALSE))","v":""},{"$f":"IF($C13=\"\",\"\",VLOOKUP($C13,Futtermittel!$C$13:$J$133,3,FALSE))","v":""},{"$f":"IF($C13=\"\",\"\",VLOOKUP($C13,Futtermittel!$C$13:$J$133,5,FALSE))","v":""},{"$f":"IF($C13=\"\",\"\",VLOOKUP($C13,Futtermittel!$C$13:$J$133,6,FALSE))","v":""},{"$f":"IF($C13=\"\",\"\",VLOOKUP($C13,Futtermittel!$C$13:$J$133,7,FALSE))","v":""},{"$f":"S13","v":0},"","","","","","",{"$f":"IF(C13=\"\",\"\",VLOOKUP($C13,Futtermittel!$C$13:$J$133,8,FALSE))","v":""},"",null,"",{"$f":"C28","v":"Milchschaf"},{"$f":"D28","v":2.8},null,{"$f":"M28","v":0},0,0,0]
[null,{"$f":"IF($C14=\"\",\"\",VLOOKUP($C14,Futtermittel!$C$11:$S$142,16,FALSE))","v":70},"Erbsen, Samen",{"$f":"IF(C14=\"\",\"\",VLOOKUP($C14,Futtermittel!$C$13:$J$133,2,FALSE))","v":880},{"$f":"IF($C14=\"\",\"\",VLOOKUP($C14,Futtermittel!$C$13:$J$133,4,FALSE))","v":67.045454545454547},{"$f":"IF($C14=\"\",\"\",VLOOKUP($C14,Futtermittel!$C$13:$J$133,3,FALSE))","v":251.13636363636363},{"$f":"IF($C14=\"\",\"\",VLOOKUP($C14,Futtermittel!$C$13:$J$133,5,FALSE))","v":13.409090909090908},{"$f":"IF($C14=\"\",\"\",VLOOKUP($C14,Futtermittel!$C$13:$J$133,6,FALSE))","v":1.0227272727272727},{"$f":"IF($C14=\"\",\"\",VLOOKUP($C14,Futtermittel!$C$13:$J$133,7,FALSE))","v":4.6590909090909092},{"$f":"S14","v":0.55000000000000004},0.48400000000000004,32.45000000000001,121.55,6.49,0.495,2.2550000000000003,{"$f":"IF(C14=\"\",\"\",VLOOKUP($C14,Futtermittel!$C$13:$J$133,8,FALSE))","v":31.5},0.17325000000000002,0.55000000000000004,0.22621050663675457,{"$f":"C29","v":"güst, niedertragend"},{"$f":"D29","v":1.4824999999999999},null,0,0,0,0]
[null,{"$f":"IF($C15=\"\",\"\",VLOOKUP($C15,Futtermittel!$C$11:$S$142,16,FALSE))","v":76},"Mineralfutter für Mutter-und Milchschafe",{"$f":"IF(C15=\"\",\"\",VLOOKUP($C15,Futtermittel!$C$13:$J$133,2,FALSE))","v":960},{"$f":"IF($C15=\"\",\"\",VLOOKUP($C15,Futtermittel!$C$13:$J$133,4,FALSE))","v":0},{"$f":"IF($C15=\"\",\"\",VLOOKUP($C15,Futtermittel!$C$13:$J$133,3,FALSE))","v":0},{"$f":"IF($C15=\"\",\"\",VLOOKUP($C15,Futtermittel!$C$13:$J$133,5,FALSE))","v":0},{"$f":"IF($C15=\"\",\"\",VLOOKUP($C15,Futtermittel!$C$13:$J$133,6,FALSE))","v":239.58333333333334},{"$f":"IF($C15=\"\",\"\",VLOOKUP($C15,Futtermittel!$C$13:$J$133,7,FALSE))","v":20.833333333333332},0.01,9.5999999999999992E-3,0,0,0,2.2999999999999998,0.19999999999999998,{"$f":"IF(C15=\"\",\"\",VLOOKUP($C15,Futtermittel!$C$13:$J$133,8,FALSE))","v":60},6.0000000000000001E-3,0.01,4.4868199663488503E-3,"hochtragend mit",0]
[null,{"$f":"IF($C16=\"\",\"\",VLOOKUP($C16,Futtermittel!$C$11:$S$142,16,FALSE))","v":""},null,{"$f":"IF(C16=\"\",\"\",VLOOKUP($C16,Futtermittel!$C$13:$J$133,2,FALSE))","v":""},{"$f":"IF($C16=\"\",\"\",VLOOKUP($C16,Futtermittel!$C$13:$J$133,4,FALSE))","v":""},{"$f":"IF($C16=\"\",\"\",VLOOKUP($C16,Futtermittel!$C$13:$J$133,3,FALSE))","v":""},{"$f":"IF($C16=\"\",\"\",VLOOKUP($C16,Futtermittel!$C$13:$J$133,5,FALSE))","v":""},{"$f":"IF($C16=\"\",\"\",VLOOKUP($C16,Futtermittel!$C$13:$J$133,6,FALSE))","v":""},{"$f":"IF($C16=\"\",\"\",VLOOKUP($C16,Futtermittel!$C$13:$J$133,7,FALSE))","v":""},0,"","","","","","",{"$f":"IF(C16=\"\",\"\",VLOOKUP($C16,Futtermittel!$C$13:$J$133,8,FALSE))","v":""},"",null,"","1 Lamm (5 kg)",1.6825000000000001,null,{"$f":"M31","v":0},0,0,0]
[null,{"$f":"IF($C17=\"\",\"\",VLOOKUP($C17,Futtermittel!$C$11:$S$142,16,FALSE))","v":""},null,{"$f":"IF(C17=\"\",\"\",VLOOKUP($C17,Futtermittel!$C$13:$J$133,2,FALSE))","v":""},{"$f":"IF($C17=\"\",\"\",VLOOKUP($C17,Futtermittel!$C$13:$J$133,4,FALSE))","v":""},{"$f":"IF($C17=\"\",\"\",VLOOKUP($C17,Futtermittel!$C$13:$J$133,3,FALSE))","v":""},{"$f":"IF($C17=\"\",\"\",VLOOKUP($C17,Futtermittel!$C$13:$J$133,5,FALSE))","v":""},{"$f":"IF($C17=\"\",\"\",VLOOKUP($C17,Futtermittel!$C$13:$J$133,6,FALSE))","v":""},{"$f":"IF($C17=\"\",\"\",VLOOKUP($C17,Futtermittel!$C$13:$J$133,7,FALSE))","v":""},0,"","","","","","",{"$f":"IF(C17=\"\",\"\",VLOOKUP($C17,Futtermittel!$C$13:$J$133,8,FALSE))","v":""},"",null,"","2 Lämmer (5 kg)",1.8825000000000001,null,0,0,0,0]
[null,{"$f":"IF($C18=\"\",\"\",VLOOKUP($C18,Futtermittel!$C$11:$S$142,16,FALSE))","v":""},null,{"$f":"IF(C18=\"\",\"\",VLOOKUP($C18,Futtermittel!$C$13:$J$133,2,FALSE))","v":""},{"$f":"IF($C18=\"\",\"\",VLOOKUP($C18,Futtermittel!$C$13:$J$133,4,FALSE))","v":""},{"$f":"IF($C18=\"\",\"\",VLOOKUP($C18,Futtermittel!$C$13:$J$133,3,FALSE))","v":""},{"$f":"IF($C18=\"\",\"\",VLOOKUP($C18,Futtermittel!$C$13:$J$133,5,FALSE))","v":""},{"$f":"IF($C18=\"\",\"\",VLOOKUP($C18,Futtermittel!$C$13:$J$133,6,FALSE))","v":""},{"$f":"IF($C18=\"\",\"\",VLOOKUP($C18,Futtermittel!$C$13:$J$133,7,FALSE))","v":""},0,"","","","","","",{"$f":"IF(C18=\"\",\"\",VLOOKUP($C18,Futtermittel!$C$13:$J$133,8,FALSE))","v":""},"",null,"","laktierend",0]
[null,{"$f":"IF($C19=\"\",\"\",VLOOKUP($C19,Futtermittel!$C$11:$S$142,16,FALSE))","v":""},null,{"$f":"IF(C19=\"\",\"\",VLOOKUP($C19,Futtermittel!$C$13:$J$133,2,FALSE))","v":""},{"$f":"IF($C19=\"\",\"\",VLOOKUP($C19,Futtermittel!$C$13:$J$133,4,FALSE))","v":""},{"$f":"IF($C19=\"\",\"\",VLOOKUP($C19,Futtermittel!$C$13:$J$133,3,FALSE))","v":""},{"$f":"IF($C19=\"\",\"\",VLOOKUP($C19,Futtermittel!$C$13:$J$133,5,FALSE))","v":""},{"$f":"IF($C19=\"\",\"\",VLOOKUP($C19,Futtermittel!$C$13:$J$133,6,FALSE))","v":""},{"$f":"IF($C19=\"\",\"\",VLOOKUP($C19,Futtermittel!$C$13:$J$133,7,FALSE))","v":""},0,"","","","","","",{"$f":"IF(C19=\"\",\"\",VLOOKUP($C19,Futtermittel!$C$13:$J$133,8,FALSE))","v":""},"",null,"","1.-8. W. mit einem Lamm",2.0825,1,265,18.95,8.25,5.25]
[null,{"$f":"IF($C20=\"\",\"\",VLOOKUP($C20,Futtermittel!$C$11:$S$142,16,FALSE))","v":""},null,{"$f":"IF(C20=\"\",\"\",VLOOKUP($C20,Futtermittel!$C$13:$J$133,2,FALSE))","v":""},{"$f":"IF($C20=\"\",\"\",VLOOKUP($C20,Futtermittel!$C$13:$J$133,4,FALSE))","v":""},{"$f":"IF($C20=\"\",\"\",VLOOKUP($C20,Futtermittel!$C$13:$J$133,3,FALSE))","v":""},{"$f":"IF($C20=\"\",\"\",VLOOKUP($C20,Futtermittel!$C$13:$J$133,5,FALSE))","v":""},{"$f":"IF($C20=\"\",\"\",VLOOKUP($C20,Futtermittel!$C$13:$J$133,6,FALSE))","v":""},{"$f":"IF($C20=\"\",\"\",VLOOKUP($C20,Futtermittel!$C$13:$J$133,7,FALSE))","v":""},0,"","","","","","",{"$f":"IF(C20=\"\",\"\",VLOOKUP($C20,Futtermittel!$C$13:$J$133,8,FALSE))","v":""},"",null,"","1.-8. W. mit zwei Lämmern",2.2825000000000002,null,0,0,0,0]
[null,{"$f":"IF($C21=\"\",\"\",VLOOKUP($C21,Futtermittel!$C$11:$S$142,16,FALSE))","v":""},null,{"$f":"IF(C21=\"\",\"\",VLOOKUP($C21,Futtermittel!$C$13:$J$133,2,FALSE))","v":""},{"$f":"IF($C21=\"\",\"\",VLOOKUP($C21,Futtermittel!$C$13:$J$133,4,FALSE))","v":""},{"$f":"IF($C21=\"\",\"\",VLOOKUP($C21,Futtermittel!$C$13:$J$133,3,FALSE))","v":""},{"$f":"IF($C21=\"\",\"\",VLOOKUP($C21,Futtermittel!$C$13:$J$133,5,FALSE))","v":""},{"$f":"IF($C21=\"\",\"\",VLOOKUP($C21,Futtermittel!$C$13:$J$133,6,FALSE))","v":""},{"$f":"IF($C21=\"\",\"\",VLOOKUP($C21,Futtermittel!$C$13:$J$133,7,FALSE))","v":""},0,"","","","","","",{"$f":"IF(C21=\"\",\"\",VLOOKUP($C21,Futtermittel!$C$13:$J$133,8,FALSE))","v":""},"",null,"","9.-16. W. mit einem Lamm",2,0,0,0,0,0]
[null,{"$f":"IF($C22=\"\",\"\",VLOOKUP($C22,Futtermittel!$C$11:$S$142,16,FALSE))","v":""},null,{"$f":"IF(C22=\"\",\"\",VLOOKUP($C22,Futtermittel!$C$13:$J$133,2,FALSE))","v":""},{"$f":"IF($C22=\"\",\"\",VLOOKUP($C22,Futtermittel!$C$13:$J$133,4,FALSE))","v":""},{"$f":"IF($C22=\"\",\"\",VLOOKUP($C22,Futtermittel!$C$13:$J$133,3,FALSE))","v":""},{"$f":"IF($C22=\"\",\"\",VLOOKUP($C22,Futtermittel!$C$13:$J$133,5,FALSE))","v":""},{"$f":"IF($C22=\"\",\"\",VLOOKUP($C22,Futtermittel!$C$13:$J$133,6,FALSE))","v":""},{"$f":"IF($C22=\"\",\"\",VLOOKUP($C22,Futtermittel!$C$13:$J$133,7,FALSE))","v":""},{"$f":"S22","v":0},"","","","","","",{"$f":"IF(C22=\"\",\"\",VLOOKUP($C22,Futtermittel!$C$13:$J$133,8,FALSE))","v":""},"",null,{"$f":"SUM(T10:T21)","v":1.0000000000000002},"9.-16. W. mit zwei Lämmern",2.2000000000000002,null,0,0,{"$f":"O37","v":0},{"$f":"P37","v":0}]
[null,null,null,null,null,null,null,null,null,null,"TM (kg)","Rohfaser","Rohprotein","ME","Ca","P",null,{"$f":"SUM(R11:R22)","v":0.25765000000000005},{"$f":"K25","v":2.1395999999999997},null,"kg TM-Aufnahme","Bilanz:",null,{"$f":"X10-SUM(X13:X22)","v":2.51400000000001},{"$f":"Y10-SUM(Y13:Y22)","v":0.79694000000000287},{"$f":"Z10-SUM(Z13:Z22)","v":1.7728000000000002},{"$f":"AA10-SUM(AA13:AA22)","v":0.26980000000000093}]
[null,null,"in einem kg der Ration",null,null,null,null,null,null,"kg in der ",null,"g/kg","g/kg FM","MJ / kg FM","g","g"]
[null,null,"in der Gesamtration",null,null,null,null,null,null,"Ration",{"$f":"SUM($K$10:$K$22)","v":2.1395999999999997},{"$f":"SUM($L$10:$L$22)","v":655.67000000000007},{"$f":"SUM($M$10:$M$22)","v":267.51400000000001},{"$f":"SUM($N$10:$N$22)","v":19.746940000000002},{"$f":"SUM($O$10:$O$22)","v":10.0228},{"$f":"SUM($P$10:$P$22)","v":5.5198000000000009}]
[]
[null,null,"Bedarf","75 kg Schaf","Erhaltung nach Bellof",85,11.7,7.8,5.8]
[null,null,"Milchschaf",{"$f":"0.55+0.01*V3+(0.5*V4)","v":2.8},"nach DLG 70 kg",{"$f":"(75-2*70+2*V3)+(109-21*5+21*V6)*V4","v":412},{"$f":"(6.4/0.6-0.12/0.6*70+0.12/0.6*V3)+(4.3/0.6-0.4/0.6*6+0.4/0.6*V5)*V4","v":33.166666666666671},{"$f":"(7.5-0.05*70+0.05*V3)+7*V4","v":28.75},{"$f":"(5.5-0.05*70+0.05*V3)+2.8*V4","v":14.149999999999999},{"$f":"W13","v":0},null,null,{"$f":"$J28*F28","v":0},0,0,0]
[null,null,"güst, niedertragend",{"$f":"1.4-(70*0.0165-$V$3*0.0165)","v":1.4824999999999999},"nach DLG 70 kg",{"$f":"120-70+V$3","v":125},{"$f":"10.4-0.11*70+0.11*V$3","v":10.95},{"$f":"5-0.05*70+0.05*V$3","v":5.25},{"$f":"3-0.05*70+0.05*V$3","v":3.25},{"$f":"W14","v":0},{"$f":"$J29*D29","v":0},null,0,0,0,0]
[null,null,"hochtragend mit",null,null,null,null,null,null,{"$f":"W15","v":0}]
[null,null,"1 Lamm (5 kg)",{"$f":"1.6-(70*0.0165-$V$3*0.0165)","v":1.6825000000000001},"nach DLG 70 kg",{"$f":"170-70+V$3","v":175},{"$f":"14.6-0.11*70+0.11*V$3","v":15.149999999999999},{"$f":"7-0.05*70+0.05*V$3","v":7.25},{"$f":"4-0.05*70+0.05*V$3","v":4.25},0,{"$f":"$J31*D31","v":0},null,0,{"$f":"$J31*G31","v":0},{"$f":"$J31*H31","v":0},{"$f":"$J31*I31","v":0}]
[null,null,"2 Lämmer (5 kg)",{"$f":"1.8-(70*0.0165-$V$3*0.0165)","v":1.8825000000000001},"nach DLG 70 kg",{"$f":"190-2.1*70+2.1*V$3","v":200.5},{"$f":"17-0.11*70+0.11*V$3","v":17.55},{"$f":"11-0.05*70+0.05*V$3","v":11.25},{"$f":"5-0.05*70+0.05*V$3","v":5.25},0,0,null,0,0,{"$f":"$J32*H32","v":0},{"$f":"$J32*I32","v":0}]
[null,null,"laktierend",null,null,null,null,null,null,0]
[null,null,"1.-8. W. mit einem Lamm",{"$f":"2-(70*0.0165-$V$3*0.0165)","v":2.0825},"nach DLG 70 kg",{"$f":"260-70+V$3","v":265},{"$f":"18.4-0.11*70+0.11*V$3","v":18.95},{"$f":"8-0.05*70+0.05*V$3","v":8.25},{"$f":"5-0.05*70+0.05*V$3","v":5.25},1,{"$f":"$J34*D34","v":2.0825},null,265,18.95,8.25,5.25]
[null,null,"1.-8. W. mit zwei Lämmern",{"$f":"2.2-(70*0.0165-$V$3*0.0165)","v":2.2825000000000002},"nach DLG 70 kg",{"$f":"340-70+V$3","v":345},{"$f":"22.4-0.11*70+0.11*V$3","v":22.95},{"$f":"11-0.05*70+0.05*V$3","v":11.25},{"$f":"7-0.05*70+0.05*V$3","v":7.25},0,0,null,0,0,0,0]
[null,null,"9.-16. W. mit einem Lamm",{"$f":"2-(75*0.0165-$V$3*0.0165)","v":2},"nach Quanz",{"$f":"170-75+V$3","v":170},{"$f":"16.7-0.11*75+0.11*V$3","v":16.7},{"$f":"11-0.05*75+0.05*V$3","v":11},{"$f":"6-0.05*75+0.05*V$3","v":6},0,0,null,0,0,0,0]
[null,null,"9.-16. W. mit zwei Lämmern",{"$f":"2.2-(75*0.0165-$V$3*0.0165)","v":2.2000000000000002},"nach Quanz",{"$f":"200-75+V$3","v":200},{"$f":"22.4-0.11*75+0.11*V$3","v":22.4},{"$f":"14-0.05*75+0.05*V$3","v":14},{"$f":"8-0.05*75+0.05*V$3","v":8},0,0,null,0,0,0,0]
[null,null,"Bilanz",null,null,null,null,null,null,null,{"$f":"SUM(K29:K36)-K25","v":-5.7099999999999707E-2},null,-2.51400000000001,-0.79694000000000287,-1.7728000000000002,-0.26980000000000093]

{"sheet":"Lämmer","index":2,"n_rows":38,"n_cols":27,"rows_kept":38,"cut":false,"hidden":false,"merged":[[7,18,8,18],[0,16,0,26],[7,19,8,19]]}
[null,null,"Landesbetrieb Landwirtschaft Hessen",null,null,null,null,null,null,null,null,null,null,null,null,null,"Rationsberechnung für Schafslämmer"]
[null,null,"Landwirtschaftszentrum Eichhof",null,null,"Rationsberechnung für Schafe",null,null,null,null,null,null,null,null,null,null,null,null,null,null,"Abkürzungen.:","Umsetzbare Energie",null,"ME in MJ"]
[null,null,"36251 Bad Hersfeld",null,null,null,null,null,null,null,null,null,null,null,null,null,null,null,null,null,null,"Frischmasse",null,"FM"]
[null,null,null,null,null,null,null,null,null,null,null,null,null,null,null,null,null,null,null,null,null,"Trockenmasse",null,"TM"]
[null,null,"Dr. Quanz, Tel.: 06621 9228--890",null,null,null,null,null,null,null,null,null,null,null,null,null,null,null,null,null,null,"Rohprotein",null,"XP"]
[null,null,null,null,null,null,null,null,null,null,null,null,null,null,null,null,null,null,null,null,null,"Tageszunahmen",null,"TZ"]
[]
[null,null,null,"TM (%)","Rohfaser","Rohprotein","ME","Ca","P","kg in der","TM (kg)","Rohfaser","Rohprotein","ME","Ca","P","Preis ","in der Ration","kg FM in der Ration","% TM Futter in 1 kg TM",null,"TM","Rohfaser","Roh-protein","ME","Calcium (Ca)","Phosphor (P)"]
[null,"Nr.","Futtermittel",null,"g/kg TM","g/kg TM","MJ / kg TM","g/kg TM","g/kg TM","Ration",null,"g in FM","g in FM","MJ in FM","g in FM","g in FM","€/dt","€",null,null,"Einheit","kg","g","g","MJ ","g","g"]
[null,{"$f":"IF($C10=\"\",\"\",VLOOKUP($C10,Futtermittel!$C$11:$S$142,16,FALSE))","v":""},null,{"$f":"IF(C10=\"\",\"\",VLOOKUP($C10,Futtermittel!$C$13:$J$133,2,FALSE))","v":""},{"$f":"IF($C10=\"\",\"\",VLOOKUP($C10,Futtermittel!$C$13:$J$133,4,FALSE))","v":""},{"$f":"IF($C10=\"\",\"\",VLOOKUP($C10,Futtermittel!$C$13:$J$133,3,FALSE))","v":""},{"$f":"IF($C10=\"\",\"\",VLOOKUP($C10,Futtermittel!$C$13:$J$133,5,FALSE))","v":""},{"$f":"IF($C10=\"\",\"\",VLOOKUP($C10,Futtermittel!$C$13:$J$133,6,FALSE))","v":""},{"$f":"IF($C10=\"\",\"\",VLOOKUP($C10,Futtermittel!$C$13:$J$133,7,FALSE))","v":""},{"$f":"S10","v":0},{"$f":"IF(C10=\"\",\"\",J10*D10/1000)","v":""},{"$f":"IF(C10=\"\",\"\",$J10*E10*$D10/1000)","v":""},{"$f":"IF(C10=\"\",\"\",$J10*F10*$D10/1000)","v":""},{"$f":"IF(C10=\"\",\"\",$J10*G10*$D10/1000)","v":""},{"$f":"IF(C10=\"\",\"\",$J10*H10*$D10/1000)","v":""},{"$f":"IF(C10=\"\",\"\",$J10*I10*$D10/1000)","v":""},{"$f":"IF(C10=\"\",\"\",VLOOKUP($C10,Futtermittel!$C$13:$J$133,8,FALSE))","v":""},{"$f":"IF(C10=\"\",\"\",(Q10/100*J10)*SUM(W$13:W$22))","v":""},null,{"$f":"IF(C10=\"\",\"\",S10*(D10/1000)/S$23)","v":""},"in der ges. Ration",{"$f":"SUM($K$10:$K$22)*SUM(W13:W22)","v":1.3820000000000001},{"$f":"SUM($L$10:$L$22)*SUM(W13:W22)","v":83.812000000000012},{"$f":"SUM($M$10:$M$22)*SUM(W13:W22)","v":272.24799999999999},{"$f":"SUM($N$10:$N$22)*SUM(W13:W22)","v":17.671939999999999},{"$f":"SUM($O$10:$O$22)*SUM(W13:W22)","v":14.061800000000002},{"$f":"SUM($P$10:$P$22)*SUM(W13:W22)","v":7.9588000000000001}]
[null,{"$f":"IF($C11=\"\",\"\",VLOOKUP($C11,Futtermittel!$C$11:$S$142,16,FALSE))","v":1},"Grünland 1. Aufwuchs  Beg. Ähren-/Rispenschieben",{"$f":"IF(C11=\"\",\"\",VLOOKUP($C11,Futtermittel!$C$13:$J$133,2,FALSE))","v":170},{"$f":"IF($C11=\"\",\"\",VLOOKUP($C11,Futtermittel!$C$13:$J$133,4,FALSE))","v":206},{"$f":"IF($C11=\"\",\"\",VLOOKUP($C11,Futtermittel!$C$13:$J$133,3,FALSE))","v":224},{"$f":"IF($C11=\"\",\"\",VLOOKUP($C11,Futtermittel!$C$13:$J$133,5,FALSE))","v":11.47},{"$f":"IF($C11=\"\",\"\",VLOOKUP($C11,Futtermittel!$C$13:$J$133,6,FALSE))","v":5.9},{"$f":"IF($C11=\"\",\"\",VLOOKUP($C11,Futtermittel!$C$13:$J$133,7,FALSE))","v":4.4000000000000004},{"$f":"S11","v":0.6},{"$f":"IF(C11=\"\",\"\",J11*D11/1000)","v":0.10199999999999999},{"$f":"IF(C11=\"\",\"\",$J11*E11*$D11/1000)","v":21.012},{"$f":"IF(C11=\"\",\"\",$J11*F11*$D11/1000)","v":22.847999999999999},{"$f":"IF(C11=\"\",\"\",$J11*G11*$D11/1000)","v":1.16994},{"$f":"IF(C11=\"\",\"\",$J11*H11*$D11/1000)","v":0.6018},{"$f":"IF(C11=\"\",\"\",$J11*I11*$D11/1000)","v":0.44880000000000003},{"$f":"IF(C11=\"\",\"\",VLOOKUP($C11,Futtermittel!$C$13:$J$133,8,FALSE))","v":1.4},{"$f":"IF(C11=\"\",\"\",(Q11/100*J11)*SUM(W$13:W$22))","v":8.3999999999999995E-3},0.6,{"$f":"IF(C11=\"\",\"\",S11*(D11/1000)/S$23)","v":7.3806078147612156E-2},"je kg TM ",null,{"$f":"W10/$V10/1000","v":6.0645441389290886E-2},{"$f":"X10/$V10/1000","v":0.19699565846599129},{"$f":"Y10/V10","v":12.787221418234441},{"$f":"Z10/$V10/1000","v":1.0174963820549929E-2},{"$f":"AA10/$V10/1000","v":5.7589001447178002E-3}]
[null,{"$f":"IF($C12=\"\",\"\",VLOOKUP($C12,Futtermittel!$C$11:$S$142,16,FALSE))","v":59},"Stroh (Gerste)",{"$f":"IF(C12=\"\",\"\",VLOOKUP($C12,Futtermittel!$C$13:$J$133,2,FALSE))","v":860},{"$f":"IF($C12=\"\",\"\",VLOOKUP($C12,Futtermittel!$C$13:$J$133,4,FALSE))","v":442},{"$f":"IF($C12=\"\",\"\",VLOOKUP($C12,Futtermittel!$C$13:$J$133,3,FALSE))","v":39},{"$f":"IF($C12=\"\",\"\",VLOOKUP($C12,Futtermittel!$C$13:$J$133,5,FALSE))","v":6.8},{"$f":"IF($C12=\"\",\"\",VLOOKUP($C12,Futtermittel!$C$13:$J$133,6,FALSE))","v":3.8372093023255811},{"$f":"IF($C12=\"\",\"\",VLOOKUP($C12,Futtermittel!$C$13:$J$133,7,FALSE))","v":0.93023255813953498},{"$f":"S12","v":0},0,0,0,0,0,0,{"$f":"IF(C12=\"\",\"\",VLOOKUP($C12,Futtermittel!$C$13:$J$133,8,FALSE))","v":3},0,null,{"$f":"IF(C12=\"\",\"\",S12*(D12/1000)/S$23)","v":0},"Leistungsstadium","TM-Aufn.","Gruppe","XP","ME","Ca","P"]
[null,{"$f":"IF($C13=\"\",\"\",VLOOKUP($C13,Futtermittel!$C$11:$S$142,16,FALSE))","v":63},"Weizen, Körner",{"$f":"IF(C13=\"\",\"\",VLOOKUP($C13,Futtermittel!$C$13:$J$133,2,FALSE))","v":880},{"$f":"IF($C13=\"\",\"\",VLOOKUP($C13,Futtermittel!$C$13:$J$133,4,FALSE))","v":29.545454545454547},{"$f":"IF($C13=\"\",\"\",VLOOKUP($C13,Futtermittel!$C$13:$J$133,3,FALSE))","v":137.5},{"$f":"IF($C13=\"\",\"\",VLOOKUP($C13,Futtermittel!$C$13:$J$133,5,FALSE))","v":13.375},{"$f":"IF($C13=\"\",\"\",VLOOKUP($C13,Futtermittel!$C$13:$J$133,6,FALSE))","v":0.45454545454545453},{"$f":"IF($C13=\"\",\"\",VLOOKUP($C13,Futtermittel!$C$13:$J$133,7,FALSE))","v":3.75},{"$f":"S13","v":0.6},0.52800000000000002,15.6,72.599999999999994,7.0620000000000003,0.23999999999999996,1.98,{"$f":"IF(C13=\"\",\"\",VLOOKUP($C13,Futtermittel!$C$13:$J$133,8,FALSE))","v":20.100000000000001},0.1206,0.6,0.38205499276410998,{"$f":"C28","v":"Lamm 15 kg 200 g TZ"},{"$f":"D28","v":0.5},null,{"$f":"M28","v":0},0,0,0]
[null,{"$f":"IF($C14=\"\",\"\",VLOOKUP($C14,Futtermittel!$C$11:$S$142,16,FALSE))","v":70},"Erbsen, Samen",{"$f":"IF(C14=\"\",\"\",VLOOKUP($C14,Futtermittel!$C$13:$J$133,2,FALSE))","v":880},{"$f":"IF($C14=\"\",\"\",VLOOKUP($C14,Futtermittel!$C$13:$J$133,4,FALSE))","v":67.045454545454547},{"$f":"IF($C14=\"\",\"\",VLOOKUP($C14,Futtermittel!$C$13:$J$133,3,FALSE))","v":251.13636363636363},{"$f":"IF($C14=\"\",\"\",VLOOKUP($C14,Futtermittel!$C$13:$J$133,5,FALSE))","v":13.409090909090908},{"$f":"IF($C14=\"\",\"\",VLOOKUP($C14,Futtermittel!$C$13:$J$133,6,FALSE))","v":1.0227272727272727},{"$f":"IF($C14=\"\",\"\",VLOOKUP($C14,Futtermittel!$C$13:$J$133,7,FALSE))","v":4.6590909090909092},{"$f":"S14","v":0.8},0.70399999999999996,47.2,176.8,9.44,0.72,3.28,{"$f":"IF(C14=\"\",\"\",VLOOKUP($C14,Futtermittel!$C$13:$J$133,8,FALSE))","v":31.5},0.252,0.8,0.50940665701881327,{"$f":"C29","v":"Lamm 15 kg 300 g TZ"},{"$f":"D29","v":0.8},null,0,0,0,0]
[null,{"$f":"IF($C15=\"\",\"\",VLOOKUP($C15,Futtermittel!$C$11:$S$142,16,FALSE))","v":77},"Mineralfutter (Schafsmast)",{"$f":"IF(C15=\"\",\"\",VLOOKUP($C15,Futtermittel!$C$13:$J$133,2,FALSE))","v":960},{"$f":"IF($C15=\"\",\"\",VLOOKUP($C15,Futtermittel!$C$13:$J$133,4,FALSE))","v":0},{"$f":"IF($C15=\"\",\"\",VLOOKUP($C15,Futtermittel!$C$13:$J$133,3,FALSE))","v":0},{"$f":"IF($C15=\"\",\"\",VLOOKUP($C15,Futtermittel!$C$13:$J$133,5,FALSE))","v":0},{"$f":"IF($C15=\"\",\"\",VLOOKUP($C15,Futtermittel!$C$13:$J$133,6,FALSE))","v":260.41666666666669},{"$f":"IF($C15=\"\",\"\",VLOOKUP($C15,Futtermittel!$C$13:$J$133,7,FALSE))","v":46.875},0.05,4.8000000000000001E-2,0,0,0,12.500000000000002,2.25,{"$f":"IF(C15=\"\",\"\",VLOOKUP($C15,Futtermittel!$C$13:$J$133,8,FALSE))","v":65},3.2500000000000001E-2,0.05,3.473227206946454E-2,"Lamm 25 kg 200 g TZ",0.7,null,0,0,0,0]
[null,{"$f":"IF($C16=\"\",\"\",VLOOKUP($C16,Futtermittel!$C$11:$S$142,16,FALSE))","v":""},null,{"$f":"IF(C16=\"\",\"\",VLOOKUP($C16,Futtermittel!$C$13:$J$133,2,FALSE))","v":""},{"$f":"IF($C16=\"\",\"\",VLOOKUP($C16,Futtermittel!$C$13:$J$133,4,FALSE))","v":""},{"$f":"IF($C16=\"\",\"\",VLOOKUP($C16,Futtermittel!$C$13:$J$133,3,FALSE))","v":""},{"$f":"IF($C16=\"\",\"\",VLOOKUP($C16,Futtermittel!$C$13:$J$133,5,FALSE))","v":""},{"$f":"IF($C16=\"\",\"\",VLOOKUP($C16,Futtermittel!$C$13:$J$133,6,FALSE))","v":""},{"$f":"IF($C16=\"\",\"\",VLOOKUP($C16,Futtermittel!$C$13:$J$133,7,FALSE))","v":""},0,"","","","","","",{"$f":"IF(C16=\"\",\"\",VLOOKUP($C16,Futtermittel!$C$13:$J$133,8,FALSE))","v":""},"",null,"","Lamm 25 kg 300 g TZ",0.95,null,{"$f":"M31","v":0},0,0,0]
[null,{"$f":"IF($C17=\"\",\"\",VLOOKUP($C17,Futtermittel!$C$11:$S$142,16,FALSE))","v":""},null,{"$f":"IF(C17=\"\",\"\",VLOOKUP($C17,Futtermittel!$C$13:$J$133,2,FALSE))","v":""},{"$f":"IF($C17=\"\",\"\",VLOOKUP($C17,Futtermittel!$C$13:$J$133,4,FALSE))","v":""},{"$f":"IF($C17=\"\",\"\",VLOOKUP($C17,Futtermittel!$C$13:$J$133,3,FALSE))","v":""},{"$f":"IF($C17=\"\",\"\",VLOOKUP($C17,Futtermittel!$C$13:$J$133,5,FALSE))","v":""},{"$f":"IF($C17=\"\",\"\",VLOOKUP($C17,Futtermittel!$C$13:$J$133,6,FALSE))","v":""},{"$f":"IF($C17=\"\",\"\",VLOOKUP($C17,Futtermittel!$C$13:$J$133,7,FALSE))","v":""},0,"","","","","","",{"$f":"IF(C17=\"\",\"\",VLOOKUP($C17,Futtermittel!$C$13:$J$133,8,FALSE))","v":""},"",null,"","Lamm 25 kg 400 g TZ",1.2,null,0,0,0,0]
[null,{"$f":"IF($C18=\"\",\"\",VLOOKUP($C18,Futtermittel!$C$11:$S$142,16,FALSE))","v":""},null,{"$f":"IF(C18=\"\",\"\",VLOOKUP($C18,Futtermittel!$C$13:$J$133,2,FALSE))","v":""},{"$f":"IF($C18=\"\",\"\",VLOOKUP($C18,Futtermittel!$C$13:$J$133,4,FALSE))","v":""},{"$f":"IF($C18=\"\",\"\",VLOOKUP($C18,Futtermittel!$C$13:$J$133,3,FALSE))","v":""},{"$f":"IF($C18=\"\",\"\",VLOOKUP($C18,Futtermittel!$C$13:$J$133,5,FALSE))","v":""},{"$f":"IF($C18=\"\",\"\",VLOOKUP($C18,Futtermittel!$C$13:$J$133,6,FALSE))","v":""},{"$f":"IF($C18=\"\",\"\",VLOOKUP($C18,Futtermittel!$C$13:$J$133,7,FALSE))","v":""},0,"","","","","","",{"$f":"IF(C18=\"\",\"\",VLOOKUP($C18,Futtermittel!$C$13:$J$133,8,FALSE))","v":""},"",null,"","Lamm 35 kg 200 g TZ",0.9,null,{"$f":"M33","v":0},{"$f":"N33","v":0},{"$f":"O33","v":0},{"$f":"P33","v":0}]
[null,{"$f":"IF($C19=\"\",\"\",VLOOKUP($C19,Futtermittel!$C$11:$S$142,16,FALSE))","v":""},null,{"$f":"IF(C19=\"\",\"\",VLOOKUP($C19,Futtermittel!$C$13:$J$133,2,FALSE))","v":""},{"$f":"IF($C19=\"\",\"\",VLOOKUP($C19,Futtermittel!$C$13:$J$133,4,FALSE))","v":""},{"$f":"IF($C19=\"\",\"\",VLOOKUP($C19,Futtermittel!$C$13:$J$133,3,FALSE))","v":""},{"$f":"IF($C19=\"\",\"\",VLOOKUP($C19,Futtermittel!$C$13:$J$133,5,FALSE))","v":""},{"$f":"IF($C19=\"\",\"\",VLOOKUP($C19,Futtermittel!$C$13:$J$133,6,FALSE))","v":""},{"$f":"IF($C19=\"\",\"\",VLOOKUP($C19,Futtermittel!$C$13:$J$133,7,FALSE))","v":""},0,"","","","","","",{"$f":"IF(C19=\"\",\"\",VLOOKUP($C19,Futtermittel!$C$13:$J$133,8,FALSE))","v":""},"",null,"","Lamm 35 kg 300 g TZ",1.1499999999999999,null,0,0,0,0]
[null,{"$f":"IF($C20=\"\",\"\",VLOOKUP($C20,Futtermittel!$C$11:$S$142,16,FALSE))","v":""},null,{"$f":"IF(C20=\"\",\"\",VLOOKUP($C20,Futtermittel!$C$13:$J$133,2,FALSE))","v":""},{"$f":"IF($C20=\"\",\"\",VLOOKUP($C20,Futtermittel!$C$13:$J$133,4,FALSE))","v":""},{"$f":"IF($C20=\"\",\"\",VLOOKUP($C20,Futtermittel!$C$13:$J$133,3,FALSE))","v":""},{"$f":"IF($C20=\"\",\"\",VLOOKUP($C20,Futtermittel!$C$13:$J$133,5,FALSE))","v":""},{"$f":"IF($C20=\"\",\"\",VLOOKUP($C20,Futtermittel!$C$13:$J$133,6,FALSE))","v":""},{"$f":"IF($C20=\"\",\"\",VLOOKUP($C20,Futtermittel!$C$13:$J$133,7,FALSE))","v":""},0,"","","","","","",{"$f":"IF(C20=\"\",\"\",VLOOKUP($C20,Futtermittel!$C$13:$J$133,8,FALSE))","v":""},"",null,"","Lamm 35 kg 400 g TZ",1.4,1,250,17.7,13,6]
[null,{"$f":"IF($C21=\"\",\"\",VLOOKUP($C21,Futtermittel!$C$11:$S$142,16,FALSE))","v":""},null,{"$f":"IF(C21=\"\",\"\",VLOOKUP($C21,Futtermittel!$C$13:$J$133,2,FALSE))","v":""},{"$f":"IF($C21=\"\",\"\",VLOOKUP($C21,Futtermittel!$C$13:$J$133,4,FALSE))","v":""},{"$f":"IF($C21=\"\",\"\",VLOOKUP($C21,Futtermittel!$C$13:$J$133,3,FALSE))","v":""},{"$f":"IF($C21=\"\",\"\",VLOOKUP($C21,Futtermittel!$C$13:$J$133,5,FALSE))","v":""},{"$f":"IF($C21=\"\",\"\",VLOOKUP($C21,Futtermittel!$C$13:$J$133,6,FALSE))","v":""},{"$f":"IF($C21=\"\",\"\",VLOOKUP($C21,Futtermittel!$C$13:$J$133,7,FALSE))","v":""},0,"","","","","","",{"$f":"IF(C21=\"\",\"\",VLOOKUP($C21,Futtermittel!$C$13:$J$133,8,FALSE))","v":""},"",null,"","Lamm 45 kg 200 g TZ",1,null,0,0,0,0]
[null,{"$f":"IF($C22=\"\",\"\",VLOOKUP($C22,Futtermittel!$C$11:$S$142,16,FALSE))","v":""},null,{"$f":"IF(C22=\"\",\"\",VLOOKUP($C22,Futtermittel!$C$13:$J$133,2,FALSE))","v":""},{"$f":"IF($C22=\"\",\"\",VLOOKUP($C22,Futtermittel!$C$13:$J$133,4,FALSE))","v":""},{"$f":"IF($C22=\"\",\"\",VLOOKUP($C22,Futtermittel!$C$13:$J$133,3,FALSE))","v":""},{"$f":"IF($C22=\"\",\"\",VLOOKUP($C22,Futtermittel!$C$13:$J$133,5,FALSE))","v":""},{"$f":"IF($C22=\"\",\"\",VLOOKUP($C22,Futtermittel!$C$13:$J$133,6,FALSE))","v":""},{"$f":"IF($C22=\"\",\"\",VLOOKUP($C22,Futtermittel!$C$13:$J$133,7,FALSE))","v":""},{"$f":"S22","v":0},"","","","","","",{"$f":"IF(C22=\"\",\"\",VLOOKUP($C22,Futtermittel!$C$13:$J$133,8,FALSE))","v":""},"",null,{"$f":"SUM(T10:T21)","v":0.99999999999999989},"Lamm 45 kg 300 g TZ",1.5,null,0,0,{"$f":"O37","v":0},{"$f":"P37","v":0}]
[null,null,null,null,null,null,null,null,null,null,"TM (kg)","Rohfaser","Rohprotein","ME","Ca","P",null,{"$f":"SUM(R11:R22)","v":0.41349999999999998},{"$f":"K25","v":1.3820000000000001},null,"kg TM-Aufnahme","Bilanz:",null,{"$f":"X10-SUM(X14:X22)","v":22.24799999999999},{"$f":"Y10-SUM(Y14:Y22)","v":-2.8059999999999974E-2},{"$f":"Z10-SUM(Z14:Z22)","v":1.0618000000000016},{"$f":"AA10-SUM(AA14:AA22)","v":1.9588000000000001}]
[null,null,"in einem kg der Ration",null,null,null,null,null,null,"kg in der ",null,"g/kg","g/kg FM","MJ / kg TM","g","g"]
[null,null,"in der Gesamtration",null,null,null,null,null,null,"Ration",{"$f":"SUM($K$10:$K$22)","v":1.3820000000000001},{"$f":"SUM($L$10:$L$22)","v":83.812000000000012},{"$f":"SUM($M$10:$M$22)","v":272.24799999999999},{"$f":"SUM($N$10:$N$22)","v":17.671939999999999},{"$f":"SUM($O$10:$O$22)","v":14.061800000000002},{"$f":"SUM($P$10:$P$22)","v":7.9588000000000001}]
[]
[null,null,"Bedarf"]
[null,null,"Lamm 15 kg 200 g TZ",0.5,"nach DLG",110,7.6,6,3,{"$f":"W13","v":0},{"$f":"$J28*D28","v":0},null,{"$f":"$J28*F28","v":0},0,0,0]
[null,null,"Lamm 15 kg 300 g TZ",0.8,"nach DLG",160,10.4,9,4,{"$f":"W14","v":0},{"$f":"$J29*D29","v":0},null,0,0,0,0]
[null,null,"Lamm 25 kg 200 g TZ",0.7,"nach DLG",140,9.3000000000000007,7,3,{"$f":"W15","v":0},{"$f":"$J30*D30","v":0},null,0,0,0,0]
[null,null,"Lamm 25 kg 300 g TZ",0.95,"nach DLG",180,12.3,9.5,4.5,{"$f":"W16","v":0},{"$f":"$J31*D31","v":0},null,0,0,{"$f":"$J31*H31","v":0},{"$f":"$J31*I31","v":0}]
[null,null,"Lamm 25 kg 400 g TZ",1.2,"nach DLG",230,15.8,12.5,5.5,0,0,null,0,0,{"$f":"$J32*H32","v":0},{"$f":"$J32*I32","v":0}]
[null,null,"Lamm 35 kg 200 g TZ",0.9,"nach DLG",150,11,7,3.5,0,{"$f":"$J33*D33","v":0},null,{"$f":"$J33*F33","v":0},0,0,0]
[null,null,"Lamm 35 kg 300 g TZ",1.1499999999999999,"nach DLG",210,14.1,10,4.5,0,{"$f":"$J34*D34","v":0},null,0,0,0,0]
[null,null,"Lamm 35 kg 400 g TZ",1.4,"nach DLG",250,17.7,13,6,1,{"$f":"$J35*D35","v":1.4},null,250,17.7,13,6]
[null,null,"Lamm 45 kg 200 g TZ",1,"nach DLG",170,12.5,7,3.5,0,0,null,0,0,0,0]
[null,null,"Lamm 45 kg 300 g TZ",1.5,"nach DLG",220,15.8,11,5,0,0,null,0,0,0,0]
[null,null,"Bilanz",null,null,null,null,null,null,null,{"$f":"SUM(K29:K36)-K25","v":1.7999999999999794E-2},null,-22.24799999999999,2.8059999999999974E-2,-1.0618000000000016,-1.9588000000000001]