{"text_format":"1","workbook":"xlsx","n_sheets":80,"sheets":["Einführung","BWE","Ackerfläche","Grünland","Kulturen","Dünger","PSM","170 Kontrollwert","eigene Werte","Zus. Anlage 5 DüV","A1","A2","A3","A4","A5","A6","A7","A8","A9","A10","A11","A12","A13","A14","A15","A16","A17","A18","A19","A20","A21","A22","A23","A24","A25","A26","A27","A28","A29","A30","A31","A32","A33","A34","A35","A36","A37","A38","A39","A40","A41","A42","A43","A44","A45","A46","A47","A48","A49","G1","G2","G3","G4","G5","G6","G7","G8","G9","G10","G11","G12","G13","G14","G15","G16","G17","G18","G19","G20","Liste"],"not_rendered":{"charts":0,"images":187,"macros":1,"external_links":1,"defined_names":76,"comments":66,"pivot_tables":0},"unopened":[],"bounds":{"document_bytes":16777216,"sheet_cells":100000,"rows_first":2000,"rows_last":500,"rows_between":2000,"halvings":0,"cell_chars":16384,"cell_head_chars":4096},"cells_cut":0,"cells_raw":0,"read":"whole","date_system":"1900"}

{"sheet":"Einführung","index":0,"n_rows":78,"n_cols":13,"rows_kept":78,"cut":false,"hidden":false,"merged":[[77,1,77,10],[59,2,64,19],[43,2,43,5],[44,2,44,5],[38,2,38,5],[39,2,39,5],[40,2,40,5],[41,2,41,5],[42,2,42,5],[9,8,9,11],[10,8,10,11],[11,8,11,11],[12,8,12,11],[37,2,37,5],[14,1,14,12],[9,1,9,6],[10,1,10,6],[11,1,11,4],[12,1,12,4],[0,1,0,12],[1,1,1,6],[5,1,5,6],[7,1,7,6],[8,1,8,6],[1,8,1,11],[6,8,6,11],[7,8,7,11],[8,8,8,11],[2,8,2,11],[3,9,3,11],[4,8,4,11],[6,1,6,6],[5,8,5,11]]}
[null,"Daten des betrieblichen Nährstoffeinsatzes"]
[null,"Eindeutige Bezeichnung des Betriebes"]
[null,"Straße"]
[null,"PLZ ","Ort"]
[null,"PI Ident (Gemeinsamer Antrag)"]
[null,"Größe in Hektar LN",null,null,null,null,null,null,{"$f":"Ackerfläche!D46+Grünland!E25","v":0}]
[null,"Größe in Hektar LN (ohne HALM-Flächen mit Düngeverbot)",null,null,null,null,null,null,{"$f":"(Ackerfläche!D46-Ackerfläche!C58)+(Grünland!E25-Grünland!C37)","v":0}]
[null,"Anfang Düngejahr (tt.mm.jj)"]
[null,"Ende Düngejahr  (tt.mm.jj)"]
[null,"Datum Erstellung  (tt.mm.jj)"]
[null,"Gesamtbetrieblicher Düngebedarf"]
[null,"N",null,null,null,"kg/Betrieb*a",null,null,{"$f":"'Zus. Anlage 5 DüV'!D12","v":0}]
[null,"P2O5",null,null,null,"kg/Betrieb*a",null,null,{"$f":"'Zus. Anlage 5 DüV'!D13","v":0}]
[]
[null,"Um die Arbeitsblätter sichtbar zu machen - bitte mit einem Doppelklick auf der grauen Fläche ein \"X\" setzen\nA = Ackerflächen; G = Grünlandflächen"]
[null,1,"Einführung","x",21,"A1","x",41,"A21",null,61,"G1","x"]
[null,2,"Ackerfläche","x",22,"A2","x",42,"A22",null,62,"G2","x"]
[null,3,"Grünland","x",23,"A3","x",43,"A23",null,63,"G3","x"]
[null,4,"Kulturen",null,24,"A4","x",44,"A24",null,64,"G4","x"]
[null,5,"Dünger","x",25,"A5","x",45,"A25",null,65,"G5","x"]
[null,6,"PSM",null,26,"A6","x",46,"A26",null,66,"G6","x"]
[null,7,"170 Kontrollwert","x",27,"A7","x",47,"A27",null,67,"G7","x"]
[null,8,"eigene Werte","x",28,"A8","x",48,"A28",null,68,"G8","x"]
[null,9,"Zus. Anlage 5 DüV","x",29,"A9","x",49,"A29",null,69,"G9","x"]
[null,10,"BWE",null,30,"A10","x",50,"A30",null,70,"G10","x"]
[null,11,null,null,31,"A11","x",51,"A31",null,71,"G11","x"]
[null,12,null,null,32,"A12","x",52,"A32",null,72,"G12","x"]
[null,13,null,null,33,"A13","x",53,"A33",null,73,"G13","x"]
[null,14,null,null,34,"A14","x",54,"A34",null,74,"G14","x"]
[null,15,null,null,35,"A15","x",55,"A35",null,75,"G15","x"]
[null,16,null,null,36,"A16","x",56,"A36",null,76,"G16","x"]
[null,17,null,null,37,"A17","x",57,"A37",null,77,"G17","x"]
[null,18,null,null,38,"A18","x",58,"A38",null,78,"G18","x"]
[null,19,null,null,39,"A19","x",59,"A39",null,79,"G19","x"]
[null,20,null,null,40,"A20","x",60,"A40",null,80,"G20","x"]
[]
[]
[null,null,"Anwender Pflanzenschutz"]
[]
[]
[]
[]
[]
[]
[]
[]
[]
[null,null,"Bedienungshinweise:",null,null,null,null,null,"Inhalte können verändert werden"]
[]
[null,null,null,null,null,null,null,null,"Pflichtfelder müssen eingegeben werden"]
[]
[null,null,null,null,null,null,null,null,"Drop Down Listen zum Auswählen"]
[]
[null,null,null,null,null,null,null,null,"Pflichtfelder müssen eingegeben werden"]
[]
[null,null,null,null,null,null,null,null,"Zellen mit Formelinhalten können nicht verändert werden"]
[]
[]
[]
[]
[]
[]
[]
[]
[]
[]
[]
[]
[]
[]
[]
[]
[]
[]
[]
[]
[]
[null,"Sicherheitsrisiko: Makros sollten in Excel nur dann aktiviert sein, wenn ihr sie wirklich benötigt. Danach empfehlen wir, diese wieder zu deaktivieren. \nAußerdem solltet ihr bedenken, dass sich die Makroeinstellungen im Vertrauensstellungscenter ausschließlich auf das Office-Programm auswirken, \nin dem ihr die Änderungen durchführt – in dem Fall also nur für Excel und nicht für Word oder PowerPoint."]

{"sheet":"BWE","index":1,"n_rows":125,"n_cols":13,"rows_kept":125,"cut":false,"hidden":true,"merged":[[2,1,2,6],[2,10,2,12],[0,1,0,6]]}
[null,"1) Tragen sie die ihre Flächen und Flächengröße in Tabelle 1 ein\n2) Tragen Sie die dazugehörigen Kulturen ein\n3) Richten Sie die Bewirtschaftungseinheiten in Tabelle 2 ein\n4) Ordnen Sie ihre Flächen den Bewirtschaftungseinheiten (Tabelle 1) zu\n5) Kopieren sie die Angaben der Tabelle 2 auf die Karteireiter Ackerfläche und Grünland "]
[]
[null,"Tabelle 1: Übersicht aller Flächen im Betrieb",null,null,null,null,null,null,null,null,"Tabelle 2:Bezeichnung Bewirtschaftungseinheit"]
[null,"Name Schlag","Hektar","Name Berwirtschaftungseinheit","aktuelle Kultur","Sorte","Vorfrucht",null,null,null,"Bezeichnung Bewirtschaftungseinheit","Hektar","Kultur"]
[1,null,null,null,null,null,null,null,null,1,null,{"$f":"IF(K5=\"\",\"\",SUMIF($D$5:$D$124,K5,$C$5:$C$124))","v":""},{"$f":"IF(OR(K5=\"\",L5=\"\",L5=0),\"\",VLOOKUP(K5,$D$5:$E$124,2,FALSE))","v":""}]
[2,null,null,null,null,null,null,null,null,2,null,"",{"$f":"IF(OR(K6=\"\",L6=\"\",L6=0),\"\",VLOOKUP(K6,$D$5:$E$124,2,FALSE))","v":""}]
[3,null,null,null,null,null,null,null,null,3,null,"",""]
[4,null,null,null,null,null,null,null,null,4,null,"",""]
[5,null,null,null,null,null,null,null,null,5,null,"",""]
[6,null,null,null,null,null,null,null,null,6,null,"",""]
[7,null,null,null,null,null,null,null,null,7,null,"",""]
[8,null,null,null,null,null,null,null,null,8,null,"",""]
[9,null,null,null,null,null,null,null,null,9,null,"",""]
[10,null,null,null,null,null,null,null,null,10,null,"",""]
[11,null,null,null,null,null,null,null,null,11,null,"",""]
[12,null,null,null,null,null,null,null,null,12,null,"",""]
[13,null,null,null,null,null,null,null,null,13,null,"",""]
[14,null,null,null,null,null,null,null,null,14,null,"",""]
[15,null,null,null,null,null,null,null,null,15,null,"",""]
[16,null,null,null,null,null,null,null,null,16,null,"",""]
[17,null,null,null,null,null,null,null,null,17,null,"",""]
[18,null,null,null,null,null,null,null,null,18,null,"",""]
[19,null,null,null,null,null,null,null,null,19,null,"",""]
[20,null,null,null,null,null,null,null,null,20,null,"",""]
[21,null,null,null,null,null,null,null,null,21,null,"",""]
[22,null,null,null,null,null,null,null,null,22,null,"",""]
[23,null,null,null,null,null,null,null,null,23,null,"",""]
[24,null,null,null,null,null,null,null,null,24,null,"",""]
[25,null,null,null,null,null,null,null,null,25,null,"",""]
[26,null,null,null,null,null,null,null,null,26,null,"",""]
[27,null,null,null,null,null,null,null,null,27,null,"",""]
[28,null,null,null,null,null,null,null,null,28,null,"",""]
[29,null,null,null,null,null,null,null,null,29,null,"",""]
[30,null,null,null,null,null,null,null,null,30,null,"",""]
[31,null,null,null,null,null,null,null,null,31,null,"",""]
[32,null,null,null,null,null,null,null,null,32,null,"",""]
[33,null,null,null,null,null,null,null,null,33,null,"",""]
[34,null,null,null,null,null,null,null,null,34,null,"",""]
[35,null,null,null,null,null,null,null,null,35,null,"",""]
[36,null,null,null,null,null,null,null,null,36,null,"",""]
[37,null,null,null,null,null,null,null,null,37,null,"",""]
[38,null,null,null,null,null,null,null,null,38,null,"",""]
[39,null,null,null,null,null,null,null,null,39,null,"",""]
[40,null,null,null,null,null,null,null,null,40,null,"",""]
[41,null,null,null,null,null,null,null,null,null,null,{"$f":"SUM(L5:L44)","v":0}]
[42]
[43]
[44]
[45]
[46]
[47]
[48]
[49]
[50]
[51]
[52]
[53]
[54]
[55]
[56]
[57]
[58]
[59]
[60]
[61]
[62]
[63]
[64]
[65]
[66]
[67]
[68]
[69]
[70]
[71]
[72]
[73]
[74]
[75]
[76]
[77]
[78]
[79]
[80]
[81]
[82]
[83]
[84]
[85]
[86]
[87]
[88]
[89]
[90]
[91]
[92]
[93]
[94]
[95]
[96]
[97]
[98]
[99]
[100]
[101]
[102]
[103]
[104]
[105]
[106]
[107]
[108]
[109]
[110]
[111]
[112]
[113]
[114]
[115]
[116]
[117]
[118]
[119]
[120]
[null,null,{"$f":"SUM(C5:C124)","v":0}]

{"sheet":"Ackerfläche","index":2,"n_rows":58,"n_cols":128,"rows_kept":58,"cut":false,"hidden":false,"merged":[[57,3,57,5],[0,65,0,70],[1,37,1,38],[1,51,1,56],[1,59,1,63],[45,9,45,17],[46,9,46,17],[47,9,47,17],[1,69,1,70],[1,65,1,68],[46,19,46,23]]}
[null,1,2,3,4,5,6,7,8,9,10,11,12,13,14,15,16,17,18,19,20,21,22,23,24,25,26,27,28,29,30,31,32,33,34,35,36,37,38,39,40,41,42,43,44,45,46,47,48,49,50,51,52,53,54,55,56,57,58,59,60,61,62,63,null,"Auswertung"]
[null,null,null,null,null,null,null,null,null,null,null,null,null,null,null,null,null,null,null,null,null,null,null,null,null,null,null,null,null,null,null,null,null,null,null,null,null,null,null,null,null,null,null,null,null,null,null,null,null,null,null,"Saat",null,null,null,null,null,null,null,"Ernte, Leistungen",null,null,null,null,null,"Kosten",null,null,null,"Direktkostenfreie \nLeistung"]
["Gehe zu",null,"Ackerschläge","ha","Kultur","5-jähriges Ertragsmitel \ndt/ha","Ertragskorrektur Sollwert DÜV","nach dem Ertrag korrigierte\nN Bedarfsermitttlung in dt N/ha","Sorte","Vorfrucht","Vorfrucht Korrekturfaktor N kg/ha","Zwischenfrucht","Korrekturfaktor Zwischenfrucht","Humusgehalt in %","Korrekturfaktir Humusgehalt kg N/ha","weitere Auflagen ?","org. Düngung Vorkulturen 10 % kg N/ha\n(Kompostdüngung 1. VJ 4%; 2 VJ 3%; 3 VJ 3 %)","N min Geahlt kg N/ha\nwww.llh.hessen.de","Stickstoffbedarfswert kg/ha","in NO3 belasteten Gebieten \nN-DBE minus 20 % in kg N/ha","NO3 belastete Kulisse","P eutrophierte Kulisse Gebiet","Datum der Bodenprobe (tt.mm.jj)","Status","P2O5 mg/100 g Boden","K2O mg/100 g Boden","MgO 100 g Boden","pH Wert","Bodenartgruppe",null,"Versorgungsstufe P2O5","Versorgungstufe K2O","Versorgungsstufe MgO","Gehaltsklasse pH Wert",null,null,"Entzug kg/ha N ","Bedarf P2O5 kg/ha\nBerücksichtigung der \nVersorgungsstufe","Bedarf K2O kg/ha","Bedarf MgO kg/ha","Bedarf CaO kg/ha","Bedarf S kg/ha"," Bedarf P2O5 kg/ha\nohne Berücksichtigung der \nVersorgungsstufen","N Bedarfswert nach DÜV\nkg N/Schlag","N Bedarfswert nach DÜV rotes Gebiet\nN kg/Schlag","Bedarf nach Entzug\nP2O5 kg/Schlag","Bedarf nach Entzug\nK2O kg/Schlag","Bedarf nach Entzug\nMgO kg/Schlag","Bedarf nach Entzug\nCaO kg/Schlag","Bedarf nach Entzug\nS kg/Schlag",null,"Datum","Körner/m2","TKG","Keimfähigkeit","kg/ha","kg/Schlag",null,"Erntedatum","€/dt","dt/ha","Hauptleistung €/ha","Nebenleistung €/ha","Marktleistung €/ha",null,"Saatgut €/ha","Dünger €/ha","Pflanzenschutz €/ha","Summe Saatgut\nDünger und\nPflanzenschutz €/ha","Marktleisung\nminus Saatgut,\nDünger,PSM\n€/ha","Voratsdünung\ndurchgeführt ?",null,"170 N kg/ha \nGesamtfläche","130 N kg Gesamtfläche\nrotes Gebiet",null,"Vorfrucht Leguminose?","Zwischenfrucht Legumionose",null,null,null,null,null,null,null,null,null,null,null,null,null,null,null,null,null,null,null,null,null,null,null,null,null,null,null,null,null,null,null,null,null,null,null,null,null,null,null,null,null,null,null,"Kosten Saatgut/Schlag €","Kosten Düngung/schlag","Summe Kosten Pflanzenschutz/Schlag €","Erntemenge in dt/Schlag"]
[null,1,null,null,null,null,{"$f":"IF(OR(E4=\"\",F4=\"\"),\"\",F4-VLOOKUP(E4,AckerbauKulturen,13,0))","v":""},{"$f":"IF(G4=\"\",\"\",IF(G4>=0,G4*VLOOKUP(E4,AckerbauKulturen,15,0)+VLOOKUP(E4,AckerbauKulturen,14,0),G4*VLOOKUP(E4,AckerbauKulturen,16,0)+VLOOKUP(E4,AckerbauKulturen,14,0)))","v":""},null,null,null,null,{"$f":"IF(L4=\"\",0,VLOOKUP(L4,Zwischenfrucht,2,0))","v":0},"bis 4 %",{"$f":"IF(N4=\"\",0,VLOOKUP(N4,Humusgehalt,2,0))","v":0},null,null,null,{"$f":"IF(IF(P4=\"HalmC35Ack.\",0,IF(OR(F4=\"\",R4=\"\"),\"0\",H4-K4-M4-O4-Q4-R4))<0,\"0\",IF(P4=\"HalmC35Ack.\",0,IF(OR(F4=\"\",R4=\"\"),\"0\",H4-K4-M4-O4-Q4-R4)))","v":"0"},{"$f":"IF(OR(F4=\"\",R4=\"\"),0,IF(U4=\"ja\",S4*0.8,\"\"))","v":0},null,null,null,{"$f":"IF(W4=\"\",\"\",IF(W4>=TODAY()-2190,\"ok\",\"Probe ziehen\"))","v":""},null,null,null,null,null,null,{"$f":"IF(Y4=\"\",\"C\",IF(Y4>=33,\"E\",IF(Y4>=20,\"D\",IF(Y4>=12,\"C\",IF(Y4>=5,\"B\",\"A\")))))","v":"C"},{"$f":"IF(OR(Z4=\"\",AC4=\"\"),\"C\",IF(AC4=\"I\",IF(Z4>=28,\"E\",IF(Z4>=19,\"D\",IF(Z4>=11,\"C\",IF(Z4>=5,\"B\",\"A\")))),IF(AC4=\"II\",IF(Z4>=33,\"E\",IF(Z4>=21,\"D\",IF(Z4>=12,\"C\",IF(Z4>=6,\"B\",\"A\")))),IF(AC4=\"III\",IF(Z4>=38,\"E\",IF(Z4>=25,\"D\",IF(Z4>=15,\"C\",IF(Z4>=7,\"B\",\"A\"))))))))","v":"C"},{"$f":"IF(OR(AA4=\"\",AC4=\"\"),\"C\",IF(AC4=\"I\",IF(AA4>=8,\"E\",IF(AA4>=6,\"D\",IF(AA4>=4,\"C\",IF(AA4>=2,\"B\",\"A\")))),IF(AC4=\"II\",IF(AA4>=13,\"E\",IF(AA4>=9,\"D\",IF(AA4>=5,\"C\",IF(AA4>=2,\"B\",\"A\")))),IF(AC4=\"III\",IF(AA4>=20,\"E\",IF(AA4>=13,\"D\",IF(AA4>=7,\"C\",IF(AA4>=3,\"B\",\"A\"))))))))","v":"C"},{"$f":"IF(OR(AB4=\"\",AC4=\"\"),\"C\",IF(AC4=\"I\",IF(AB4>=6.4,\"E\",IF(AB4>=6.2,\"D\",IF(AB4>=5.6,\"C\",IF(AB4>=4.8,\"B\",\"A\")))),IF(AC4=\"II\",IF(AB4>=7.3,\"E\",IF(AB4>=7,\"D\",IF(AB4>=6.2,\"C\",IF(AB4>=5.2,\"B\",\"A\")))),IF(AC4=\"III\",IF(AB4>=7.7,\"E\",IF(AB4>=7.3,\"D\",IF(AB4>=6.4,\"C\",IF(AB4>=5.4,\"B\",\"A\"))))))))","v":"C"},null,null,{"$f":"IF(OR($E4=\"\",F4=\"\"),\"0\",VLOOKUP($E4,AckerbauKulturen,6,0))*F4","v":0},{"$f":"IF(OR($E4=\"\",F4=\"\"),\"0\",IF(AE4=\"A\",2*VLOOKUP($E4,AckerbauKulturen,7,0),IF(AE4=\"B\",1.5*VLOOKUP($E4,AckerbauKulturen,7,0),IF(AE4=\"C\",1*VLOOKUP($E4,AckerbauKulturen,7,0),IF(AE4=\"D\",0.5*VLOOKUP($E4,AckerbauKulturen,7,0),0*VLOOKUP($E4,AckerbauKulturen,7,0)))))*F4)","v":"0"},{"$f":"IF(OR($E4=\"\",F4=\"\"),\"0\",IF(AF4=\"A\",2*VLOOKUP($E4,AckerbauKulturen,8,0),IF(AF4=\"B\",1.5*VLOOKUP($E4,AckerbauKulturen,8,0),IF(AF4=\"C\",1*VLOOKUP($E4,AckerbauKulturen,8,0),IF(AF4=\"D\",0.5*VLOOKUP($E4,AckerbauKulturen,8,0),0*VLOOKUP($E4,AckerbauKulturen,8,0)))))*F4)","v":"0"},{"$f":"IF(OR($E4=\"\",F4=\"\"),\"0\",IF(AG4=\"A\",2*VLOOKUP($E4,AckerbauKulturen,9,0),IF(AG4=\"B\",1.5*VLOOKUP($E4,AckerbauKulturen,9,0),IF(AG4=\"C\",1*VLOOKUP($E4,AckerbauKulturen,9,0),IF(AG4=\"D\",0.5*VLOOKUP($E4,AckerbauKulturen,9,0),0*VLOOKUP($E4,AckerbauKulturen,9,0)))))*F4)","v":"0"},null,{"$f":"IF(OR($E4=\"\",F4=\"\"),\"0\",VLOOKUP(E4,AckerbauKulturen,10,0)*F4)","v":"0"},{"$f":"IF(E4=\"\",\"\",VLOOKUP(E4,AckerbauKulturen,7,0)*F4)","v":""},{"$f":"IF(OR(E4=\"\",F4=\"\"),\"0\",IF(U4=\"ja\",0,S4*D4))","v":"0"},{"$f":"IF(T4=\"\",\"\",IF(U4=\"ja\",T4*D4,\"\"))","v":""},{"$f":"IF(AQ4=\"\",\"\",AQ4*D4)","v":""},{"$f":"IF(AM4=\"\",\"\",AM4*D4)","v":0},{"$f":"IF(AN4=\"\",\"\",AN4*D4)","v":0},null,{"$f":"IF(AP4=\"\",\"\",AP4*D4)","v":0},null,null,null,null,null,{"$f":"IF(BC4=\"\",\"\",BA4*BB4/BC4)","v":""},{"$f":"IF(OR(D4=\"\",BA4=\"\",BB4=\"\",BC4=\"\"),\"\",BD4*D4)","v":""},null,null,null,null,{"$f":"IF(OR(BH4=\"\",BI4=\"\"),\"\",BI4*BH4)","v":""},null,{"$f":"IF(BJ4=\"\",\"\",BJ4+BK4)","v":""},null,null,null,null,null,null,null,null,{"$f":"'A1'!$W$30","v":0},{"$f":"'A1'!$N$4","v":""},null,{"$f":"IF(J4=\"\",\"\",VLOOKUP(J4,AckerbauKulturen,18,))","v":""},{"$f":"IF(L4=\"\",\"\",VLOOKUP(L4,Zwischenfrucht,3,))","v":""},null,null,null,null,null,null,null,null,null,null,null,null,null,null,null,null,null,null,null,null,null,null,null,null,null,null,null,null,null,null,null,null,null,null,null,null,null,null,null,null,null,null,null,{"$f":"BN4*$D4","v":0},{"$f":"BO4*D4","v":0},{"$f":"BP4*D4","v":0},{"$f":"D4*BI4","v":0},null,null,null,"ja"]
[null,2,null,null,null,null,"","",null,null,{"$f":"IF(J5=\"\",0,VLOOKUP(J5,Kulturen!$B$4:$U$130,19,0))","v":0},null,0,"bis 4 %",0,null,null,null,{"$f":"IF(IF(P5=\"HalmC35Ack.\",0,IF(OR(F5=\"\",R5=\"\"),\"0\",H5-K5-M5-O5-Q5-R5))<0,\"0\",IF(P5=\"HalmC35Ack.\",0,IF(OR(F5=\"\",R5=\"\"),\"0\",H5-K5-M5-O5-Q5-R5)))","v":"0"},{"$f":"IF(OR(F5=\"\",R5=\"\"),0,IF(U5=\"ja\",S5*0.8,\"\"))","v":0},null,null,null,{"$f":"IF(W5=\"\",\"\",IF(W5>=TODAY()-2190,\"ok\",\"Probe ziehen\"))","v":""},null,null,null,null,null,null,{"$f":"IF(Y5=\"\",\"C\",IF(Y5>=33,\"E\",IF(Y5>=20,\"D\",IF(Y5>=12,\"C\",IF(Y5>=5,\"B\",\"A\")))))","v":"C"},{"$f":"IF(OR(Z5=\"\",AC5=\"\"),\"C\",IF(AC5=\"I\",IF(Z5>=28,\"E\",IF(Z5>=19,\"D\",IF(Z5>=11,\"C\",IF(Z5>=5,\"B\",\"A\")))),IF(AC5=\"II\",IF(Z5>=33,\"E\",IF(Z5>=21,\"D\",IF(Z5>=12,\"C\",IF(Z5>=6,\"B\",\"A\")))),IF(AC5=\"III\",IF(Z5>=38,\"E\",IF(Z5>=25,\"D\",IF(Z5>=15,\"C\",IF(Z5>=7,\"B\",\"A\"))))))))","v":"C"},{"$f":"IF(OR(AA5=\"\",AC5=\"\"),\"C\",IF(AC5=\"I\",IF(AA5>=8,\"E\",IF(AA5>=6,\"D\",IF(AA5>=4,\"C\",IF(AA5>=2,\"B\",\"A\")))),IF(AC5=\"II\",IF(AA5>=13,\"E\",IF(AA5>=9,\"D\",IF(AA5>=5,\"C\",IF(AA5>=2,\"B\",\"A\")))),IF(AC5=\"III\",IF(AA5>=20,\"E\",IF(AA5>=13,\"D\",IF(AA5>=7,\"C\",IF(AA5>=3,\"B\",\"A\"))))))))","v":"C"},{"$f":"IF(OR(AB5=\"\",AC5=\"\"),\"C\",IF(AC5=\"I\",IF(AB5>=6.4,\"E\",IF(AB5>=6.2,\"D\",IF(AB5>=5.6,\"C\",IF(AB5>=4.8,\"B\",\"A\")))),IF(AC5=\"II\",IF(AB5>=7.3,\"E\",IF(AB5>=7,\"D\",IF(AB5>=6.2,\"C\",IF(AB5>=5.2,\"B\",\"A\")))),IF(AC5=\"III\",IF(AB5>=7.7,\"E\",IF(AB5>=7.3,\"D\",IF(AB5>=6.4,\"C\",IF(AB5>=5.4,\"B\",\"A\"))))))))","v":"C"},null,null,0,"0","0",{"$f":"IF(OR($E5=\"\",F5=\"\"),\"0\",IF(AF5=\"A\",2*VLOOKUP($E5,AckerbauKulturen,9,0),IF(AF5=\"B\",1.5*VLOOKUP($E5,AckerbauKulturen,9,0),IF(AF5=\"C\",1*VLOOKUP($E5,AckerbauKulturen,9,0),IF(AF5=\"D\",0.5*VLOOKUP($E5,AckerbauKulturen,9,0),0*VLOOKUP($E5,AckerbauKulturen,9,0)))))*F5)","v":"0"},null,"0","",{"$f":"IF(OR(E5=\"\",F5=\"\"),\"0\",IF(U5=\"ja\",0,S5*D5))","v":"0"},{"$f":"IF(T5=\"\",\"\",IF(U5=\"ja\",T5*D5,\"\"))","v":""},{"$f":"IF(AQ5=\"\",\"\",AQ5*D5)","v":""},0,{"$f":"IF(AN5=\"\",\"\",AN5*D5)","v":0},null,{"$f":"IF(AP5=\"\",\"\",AP5*D5)","v":0},null,null,null,null,null,"","",null,null,null,null,"",null,"",null,null,null,null,null,null,null,null,{"$f":"'A2'!$W$30","v":0},{"$f":"'A2'!$N$4","v":""},null,"","",null,null,null,null,null,null,null,null,null,null,null,null,null,null,null,null,null,null,null,null,null,null,null,null,null,null,null,null,null,null,null,null,null,null,null,null,null,null,null,null,null,null,null,{"$f":"BN5*$D5","v":0},{"$f":"BO5*D5","v":0},{"$f":"BP5*D5","v":0},{"$f":"D5*BI5","v":0},null,null,null,"nein"]
[null,3,null,null,null,null,"","",null,null,{"$f":"IF(J6=\"\",0,VLOOKUP(J6,Kulturen!$B$4:$U$130,19,0))","v":0},null,0,"bis 4 %",0,null,null,null,"0",0,null,null,null,"",null,null,null,null,null,null,"C","C","C","C",null,null,0,"0","0","0",null,"0","","0","","",0,0,null,0,null,null,null,null,null,"","",null,null,null,null,"",null,"",null,null,null,null,null,null,null,null,{"$f":"'A3'!$W$30","v":0},{"$f":"'A3'!$N$4","v":""},null,"","",null,null,null,null,null,null,null,null,null,null,null,null,null,null,null,null,null,null,null,null,null,null,null,null,null,null,null,null,null,null,null,null,null,null,null,null,null,null,null,null,null,null,null,{"$f":"BN6*$D6","v":0},{"$f":"BO6*D6","v":0},{"$f":"BP6*D6","v":0},{"$f":"D6*BI6","v":0}]
[null,4,null,null,null,null,"",{"$f":"IF(G7=\"\",\"\",IF(G7>=0,G7*VLOOKUP(E7,AckerbauKulturen,15,0)+VLOOKUP(E7,AckerbauKulturen,14,0),G7*VLOOKUP(E7,AckerbauKulturen,16,0)+VLOOKUP(E7,AckerbauKulturen,14,0)))","v":""},null,null,{"$f":"IF(J7=\"\",0,VLOOKUP(J7,Kulturen!$B$4:$U$130,19,0))","v":0},null,0,"bis 4 %",0,null,null,null,"0",0,null,null,null,"",null,null,null,null,null,null,"C","C","C","C",null,null,0,"0","0","0",null,"0","","0","","",0,0,null,0,null,null,null,null,null,"","",null,null,null,null,"",null,"",null,null,null,null,null,null,null,null,{"$f":"'A4'!$W$30","v":0},{"$f":"'A4'!$N$4","v":""},null,"",""]
[null,5,null,null,null,null,"","",null,null,{"$f":"IF(J8=\"\",0,VLOOKUP(J8,Kulturen!$B$4:$U$130,19,0))","v":0},null,0,"bis 4 %",0,null,null,null,"0",0,null,null,null,"",null,null,null,null,null,null,"C","C","C","C",null,null,0,"0","0","0",null,"0","","0","","",0,0,null,0,null,null,null,null,null,"","",null,null,null,null,"",null,"",null,null,null,null,null,null,null,null,{"$f":"'A5'!$W$30","v":0},{"$f":"'A5'!$N$4","v":""},null,"",""]
[null,6,null,null,null,null,"","",null,null,{"$f":"IF(J9=\"\",0,VLOOKUP(J9,Kulturen!$B$4:$U$130,19,0))","v":0},null,0,"bis 4 %",0,null,null,null,"0",0,null,null,null,"",null,null,null,null,null,null,"C","C","C","C",null,null,0,"0","0","0",null,"0","","0","","",0,0,null,0,null,null,null,null,null,"","",null,null,null,null,"",null,"",null,null,null,null,null,null,null,null,{"$f":"'A6'!$W$30","v":0},{"$f":"'A6'!$N$4","v":""},null,"",""]
[null,7,null,null,null,null,"","",null,null,{"$f":"IF(J10=\"\",0,VLOOKUP(J10,Kulturen!$B$4:$U$130,19,0))","v":0},null,0,"bis 4 %",0,null,null,null,"0",0,null,null,null,"",null,null,null,null,null,null,"C","C","C","C",null,null,0,"0","0","0",null,"0","","0","","",0,0,null,0,null,null,null,null,null,"","",null,null,null,null,"",null,"",null,null,null,null,null,null,null,null,{"$f":"'A7'!$W$30","v":0},{"$f":"'A7'!$N$4","v":""},null,"",""]
[null,8,null,null,null,null,"","",null,null,{"$f":"IF(J11=\"\",0,VLOOKUP(J11,Kulturen!$B$4:$U$130,19,0))","v":0},null,0,"bis 4 %",0,null,null,null,"0",0,null,null,null,"",null,null,null,null,null,null,"C","C","C","C",null,null,0,"0","0","0",null,"0","","0","","",0,0,null,0,null,null,null,null,null,"","",null,null,null,null,"",null,"",null,null,null,null,null,null,null,null,{"$f":"'A8'!$W$30","v":0},{"$f":"'A8'!$N$4","v":""},null,"","",null,null,null,null,null,null,null,null,null,null,null,null,null,null,null,null,null,null,null,null,null,null,null,null,null,null,null,null,null,null,null,null,null,null,null,null,null,null,null,null,null,null,null,{"$f":"BN11*$D11","v":0},{"$f":"BO11*D11","v":0},{"$f":"BP11*D11","v":0},{"$f":"D11*BI11","v":0}]
[null,9,null,null,null,null,"","",null,null,{"$f":"IF(J12=\"\",0,VLOOKUP(J12,Kulturen!$B$4:$U$130,19,0))","v":0},null,0,"bis 4 %",0,null,null,null,"0",0,null,null,null,"",null,null,null,null,null,null,"C","C","C","C",null,null,0,"0","0","0",null,"0","","0","","",0,0,null,0,null,null,null,null,null,"","",null,null,null,null,"",null,"",null,null,null,null,null,null,null,null,{"$f":"'A9'!$W$30","v":0},{"$f":"'A9'!$N$4","v":""},null,"","",null,null,null,null,null,null,null,null,null,null,null,null,null,null,null,null,null,null,null,null,null,null,null,null,null,null,null,null,null,null,null,null,null,null,null,null,null,null,null,null,null,null,null,0,0,0,0]
[null,10,null,null,null,null,"","",null,null,{"$f":"IF(J13=\"\",0,VLOOKUP(J13,Kulturen!$B$4:$U$130,19,0))","v":0},null,0,"bis 4 %",0,null,null,null,"0",0,null,null,null,"",null,null,null,null,null,null,"C","C","C","C",null,null,0,"0","0","0",null,"0","","0","","",0,0,null,0,null,null,null,null,null,"","",null,null,null,null,"",null,"",null,null,null,null,null,null,null,null,{"$f":"'A10'!$W$30","v":0},{"$f":"'A10'!$N$4","v":""},null,"","",null,null,null,null,null,null,null,null,null,null,null,null,null,null,null,null,null,null,null,null,null,null,null,null,null,null,null,null,null,null,null,null,null,null,null,null,null,null,null,null,null,null,null,0,0,0,0]
[null,11,null,null,null,null,"","",null,null,{"$f":"IF(J14=\"\",0,VLOOKUP(J14,Kulturen!$B$4:$U$130,19,0))","v":0},null,0,"bis 4 %",0,null,null,null,"0",0,null,null,null,"",null,null,null,null,null,null,"C","C","C","C",null,null,0,"0","0","0",null,"0","","0","","",0,0,null,0,null,null,null,null,null,"","",null,null,null,null,"",null,"",null,null,null,null,null,null,null,null,{"$f":"'A11'!$W$30","v":0},{"$f":"'A11'!$N$4","v":""},null,"","",null,null,null,null,null,null,null,null,null,null,null,null,null,null,null,null,null,null,null,null,null,null,null,null,null,null,null,null,null,null,null,null,null,null,null,null,null,null,null,null,null,null,null,0,0,0,0]
[null,12,null,null,null,null,"","",null,null,{"$f":"IF(J15=\"\",0,VLOOKUP(J15,Kulturen!$B$4:$U$130,19,0))","v":0},null,0,"bis 4 %",0,null,null,null,"0",0,null,null,null,"",null,null,null,null,null,null,"C","C","C","C",null,null,0,"0","0","0",null,"0","","0","","",0,0,null,0,null,null,null,null,null,"","",null,null,null,null,"",null,"",null,null,null,null,null,null,null,null,{"$f":"'A12'!$W$30","v":0},{"$f":"'A12'!$N$4","v":""},null,"","",null,null,null,null,null,null,null,null,null,null,null,null,null,null,null,null,null,null,null,null,null,null,null,null,null,null,null,null,null,null,null,null,null,null,null,null,null,null,null,null,null,null,null,0,0,0,0]
[null,13,null,null,null,null,"","",null,null,{"$f":"IF(J16=\"\",0,VLOOKUP(J16,Kulturen!$B$4:$U$130,19,0))","v":0},null,0,"bis 4 %",0,null,null,null,"0",0,null,null,null,"",null,null,null,null,null,null,"C","C","C","C",null,null,0,"0","0","0",null,"0","","0","","",0,0,null,0,null,null,null,null,null,"","",null,null,null,null,"",null,"",null,null,null,null,null,null,null,null,{"$f":"'A13'!$W$30","v":0},{"$f":"'A13'!$N$4","v":""},null,"","",null,null,null,null,null,null,null,null,null,null,null,null,null,null,null,null,null,null,null,null,null,null,null,null,null,null,null,null,null,null,null,null,null,null,null,null,null,null,null,null,null,null,null,0,0,0,0]
[null,14,null,null,null,null,"","",null,null,{"$f":"IF(J17=\"\",0,VLOOKUP(J17,Kulturen!$B$4:$U$130,19,0))","v":0},null,0,"bis 4 %",0,null,null,null,"0",0,null,null,null,"",null,null,null,null,null,null,"C","C","C","C",null,null,0,"0","0","0",null,"0","","0","","",0,0,null,0,null,null,null,null,null,"","",null,null,null,null,"",null,"",null,null,null,null,null,null,null,null,{"$f":"'A14'!$W$30","v":0},{"$f":"'A14'!$N$4","v":""},null,"","",null,null,null,null,null,null,null,null,null,null,null,null,null,null,null,null,null,null,null,null,null,null,null,null,null,null,null,null,null,null,null,null,null,null,null,null,null,null,null,null,null,null,null,0,0,0,0]
[null,15,null,null,null,null,"","",null,null,{"$f":"IF(J18=\"\",0,VLOOKUP(J18,Kulturen!$B$4:$U$130,19,0))","v":0},null,0,"bis 4 %",0,null,null,null,"0",0,null,null,null,"",null,null,null,null,null,null,"C","C","C","C",null,null,0,"0","0","0",null,"0","","0","","",0,0,null,0,null,null,null,null,null,"","",null,null,null,null,"",null,"",null,null,null,null,null,null,null,null,{"$f":"'A15'!$W$30","v":0},{"$f":"'A15'!$N$4","v":""},null,"","",null,null,null,null,null,null,null,null,null,null,null,null,null,null,null,null,null,null,null,null,null,null,null,null,null,null,null,null,null,null,null,null,null,null,null,null,null,null,null,null,null,null,null,0,0,0,0]
[null,16,null,null,null,null,"","",null,null,{"$f":"IF(J19=\"\",0,VLOOKUP(J19,Kulturen!$B$4:$U$130,19,0))","v":0},null,0,"bis 4 %",0,null,null,null,"0",0,null,null,null,"",null,null,null,null,null,null,"C","C","C","C",null,null,0,"0","0","0",null,"0","","0","","",0,0,null,0,null,null,null,null,null,"","",null,null,null,null,"",null,"",null,null,null,null,null,null,null,null,{"$f":"'A16'!$W$30","v":0},{"$f":"'A16'!$N$4","v":""},null,"","",null,null,null,null,null,null,null,null,null,null,null,null,null,null,null,null,null,null,null,null,null,null,null,null,null,null,null,null,null,null,null,null,null,null,null,null,null,null,null,null,null,null,null,0,0,0,0]
[null,17,null,null,null,null,"","",null,null,{"$f":"IF(J20=\"\",0,VLOOKUP(J20,Kulturen!$B$4:$U$130,19,0))","v":0},null,0,"bis 4 %",0,null,null,null,"0",0,null,null,null,"",null,null,null,null,null,null,"C","C","C","C",null,null,0,"0","0","0",null,"0","","0","","",0,0,null,0,null,null,null,null,null,"","",null,null,null,null,"",null,"",null,null,null,null,null,null,null,null,{"$f":"'A17'!$W$30","v":0},{"$f":"'A17'!$N$4","v":""},null,"","",null,null,null,null,null,null,null,null,null,null,null,null,null,null,null,null,null,null,null,null,null,null,null,null,null,null,null,null,null,null,null,null,null,null,null,null,null,null,null,null,null,null,null,0,0,0,0]
[null,18,null,null,null,null,"","",null,null,{"$f":"IF(J21=\"\",0,VLOOKUP(J21,Kulturen!$B$4:$U$130,19,0))","v":0},null,0,"bis 4 %",0,null,null,null,"0",0,null,null,null,"",null,null,null,null,null,null,"C","C","C","C",null,null,0,"0","0","0",null,"0","","0","","",0,0,null,0,null,null,null,null,null,"","",null,null,null,null,"",null,"",null,null,null,null,null,null,null,null,{"$f":"'A18'!$W$30","v":0},{"$f":"'A18'!$N$4","v":""},null,"","",null,null,null,null,null,null,null,null,null,null,null,null,null,null,null,null,null,null,null,null,null,null,null,null,null,null,null,null,null,null,null,null,null,null,null,null,null,null,null,null,null,null,null,0,0,0,0]
[null,19,null,null,null,null,"","",null,null,{"$f":"IF(J22=\"\",0,VLOOKUP(J22,Kulturen!$B$4:$U$130,19,0))","v":0},null,0,"bis 4 %",0,null,null,null,"0",0,null,null,null,"",null,null,null,null,null,null,"C","C","C","C",null,null,0,"0","0","0",null,"0","","0","","",0,0,null,0,null,null,null,null,null,{"$f":"IF(BC22=\"\",\"\",BA22*BB22/BC22)","v":""},"",null,null,null,null,"",null,"",null,null,null,null,null,null,null,null,{"$f":"'A19'!$W$30","v":0},{"$f":"'A19'!$N$4","v":""},null,"","",null,null,null,null,null,null,null,null,null,null,null,null,null,null,null,null,null,null,null,null,null,null,null,null,null,null,null,null,null,null,null,null,null,null,null,null,null,null,null,null,null,null,null,0,0,0,0]
[null,20,null,null,null,null,"","",null,null,{"$f":"IF(J23=\"\",0,VLOOKUP(J23,Kulturen!$B$4:$U$130,19,0))","v":0},null,0,"bis 4 %",0,null,null,null,"0",0,null,null,null,"",null,null,null,null,null,null,"C","C","C","C",null,null,0,"0","0","0",null,"0","","0","","",0,0,null,0,null,null,null,null,null,"","",null,null,null,null,"",null,"",null,null,null,null,null,null,null,null,{"$f":"'A20'!$W$30","v":0},{"$f":"'A20'!$N$4","v":""},null,"","",null,null,null,null,null,null,null,null,null,null,null,null,null,null,null,null,null,null,null,null,null,null,null,null,null,null,null,null,null,null,null,null,null,null,null,null,null,null,null,null,null,null,null,0,0,0,0]
[null,21,null,null,null,null,"","",null,null,{"$f":"IF(J24=\"\",0,VLOOKUP(J24,Kulturen!$B$4:$U$130,19,0))","v":0},null,0,"bis 4 %",0,null,null,null,"0",0,null,null,null,"",null,null,null,null,null,null,"C","C","C","C",null,null,0,"0","0","0",null,"0","","0","","",0,0,null,0,null,null,null,null,null,"","",null,null,null,null,"",null,"",null,null,null,null,null,null,null,null,{"$f":"'A21'!$W$30","v":0},{"$f":"'A21'!$N$4","v":""},null,"","",null,null,null,null,null,null,null,null,null,null,null,null,null,null,null,null,null,null,null,null,null,null,null,null,null,null,null,null,null,null,null,null,null,null,null,null,null,null,null,null,null,null,null,0,0,0,0]
[null,22,null,null,null,null,"","",null,null,{"$f":"IF(J25=\"\",0,VLOOKUP(J25,Kulturen!$B$4:$U$130,19,0))","v":0},null,0,"bis 4 %",0,null,null,null,"0",0,null,null,null,"",null,null,null,null,null,null,"C","C","C","C",null,null,0,"0","0","0",null,"0","","0","","",0,0,null,0,null,null,null,null,null,"","",null,null,null,null,"",null,"",null,null,null,null,null,null,null,null,{"$f":"'A22'!$W$30","v":0},{"$f":"'A22'!$N$4","v":""},null,"","",null,null,null,null,null,null,null,null,null,null,null,null,null,null,null,null,null,null,null,null,null,null,null,null,null,null,null,null,null,null,null,null,null,null,null,null,null,null,null,null,null,null,null,0,0,0,0]
[null,23,null,null,null,null,"","",null,null,{"$f":"IF(J26=\"\",0,VLOOKUP(J26,Kulturen!$B$4:$U$130,19,0))","v":0},null,0,"bis 4 %",0,null,null,null,"0",0,null,null,null,"",null,null,null,null,null,null,"C","C","C","C",null,null,0,"0","0","0",null,"0","","0","","",0,0,null,0,null,null,null,null,null,"","",null,null,null,null,"",null,"",null,null,null,null,null,null,null,null,{"$f":"'A23'!$W$30","v":0},{"$f":"'A23'!$N$4","v":""},null,"","",null,null,null,null,null,null,null,null,null,null,null,null,null,null,null,null,null,null,null,null,null,null,null,null,null,null,null,null,null,null,null,null,null,null,null,null,null,null,null,null,null,null,null,0,0,0,0]
[null,24,null,null,null,null,"","",null,null,{"$f":"IF(J27=\"\",0,VLOOKUP(J27,Kulturen!$B$4:$U$130,19,0))","v":0},null,0,"bis 4 %",0,null,null,null,"0",0,null,null,null,"",null,null,null,null,null,null,"C","C","C","C",null,null,0,"0","0","0",null,"0","","0","","",0,0,null,0,null,null,null,null,null,"","",null,null,null,null,"",null,"",null,null,null,null,null,null,null,null,{"$f":"'A24'!$W$30","v":0},{"$f":"'A24'!$N$4","v":""},null,"","",null,null,null,null,null,null,null,null,null,null,null,null,null,null,null,null,null,null,null,null,null,null,null,null,null,null,null,null,null,null,null,null,null,null,null,null,null,null,null,null,null,null,null,0,0,0,0]
[null,25,null,null,null,null,"","",null,null,{"$f":"IF(J28=\"\",0,VLOOKUP(J28,Kulturen!$B$4:$U$130,19,0))","v":0},null,0,"bis 4 %",0,null,null,null,"0",0,null,null,null,"",null,null,null,null,null,null,"C","C","C","C",null,null,0,"0","0","0",null,"0","","0","","",0,0,null,0,null,null,null,null,null,"","",null,null,null,null,"",null,"",null,null,null,null,null,null,null,null,{"$f":"'A25'!$W$30","v":0},{"$f":"'A25'!$N$4","v":""},null,"","",null,null,null,null,null,null,null,null,null,null,null,null,null,null,null,null,null,null,null,null,null,null,null,null,null,null,null,null,null,null,null,null,null,null,null,null,null,null,null,null,null,null,null,0,0,0,0]
[null,26,null,null,null,null,"","",null,null,{"$f":"IF(J29=\"\",0,VLOOKUP(J29,Kulturen!$B$4:$U$130,19,0))","v":0},null,0,"bis 4 %",0,null,null,null,"0",0,null,null,null,"",null,null,null,null,null,null,"C","C","C","C",null,null,0,"0","0","0",null,"0","","0","","",0,0,null,0,null,null,null,null,null,"","",null,null,null,null,"",null,"",null,null,null,null,null,null,null,null,{"$f":"'A26'!$W$30","v":0},{"$f":"'A26'!$N$4","v":""},null,"","",null,null,null,null,null,null,null,null,null,null,null,null,null,null,null,null,null,null,null,null,null,null,null,null,null,null,null,null,null,null,null,null,null,null,null,null,null,null,null,null,null,null,null,0,0,0,0]
[null,27,null,null,null,null,"","",null,null,{"$f":"IF(J30=\"\",0,VLOOKUP(J30,Kulturen!$B$4:$U$130,19,0))","v":0},null,0,"bis 4 %",0,null,null,null,"0",0,null,null,null,"",null,null,null,null,null,null,"C","C","C","C",null,null,0,"0","0","0",null,"0","","0","","",0,0,null,0,null,null,null,null,null,"","",null,null,null,null,"",null,"",null,null,null,null,null,null,null,null,{"$f":"'A27'!$W$30","v":0},{"$f":"'A27'!$N$4","v":""},null,"","",null,null,null,null,null,null,null,null,null,null,null,null,null,null,null,null,null,null,null,null,null,null,null,null,null,null,null,null,null,null,null,null,null,null,null,null,null,null,null,null,null,null,null,0,0,0,0]
[null,28,null,null,null,null,"","",null,null,{"$f":"IF(J31=\"\",0,VLOOKUP(J31,Kulturen!$B$4:$U$130,19,0))","v":0},null,0,"bis 4 %",0,null,null,null,"0",0,null,null,null,"",null,null,null,null,null,null,"C","C","C","C",null,null,0,"0","0","0",null,"0","","0","","",0,0,null,0,null,null,null,null,null,"","",null,null,null,null,"",null,"",null,null,null,null,null,null,null,null,{"$f":"'A28'!$W$30","v":0},{"$f":"'A28'!$N$4","v":""},null,"","",null,null,null,null,null,null,null,null,null,null,null,null,null,null,null,null,null,null,null,null,null,null,null,null,null,null,null,null,null,null,null,null,null,null,null,null,null,null,null,null,null,null,null,0,0,0,0]
[null,29,null,null,null,null,"","",null,null,{"$f":"IF(J32=\"\",0,VLOOKUP(J32,Kulturen!$B$4:$U$130,19,0))","v":0},null,0,"bis 4 %",0,null,null,null,"0",0,null,null,null,"",null,null,null,null,null,null,"C","C","C","C",null,null,0,"0","0","0",null,"0","","0","","",0,0,null,0,null,null,null,null,null,"","",null,null,null,null,"",null,"",null,null,null,null,null,null,null,null,{"$f":"'A29'!$W$30","v":0},{"$f":"'A29'!$N$4","v":""},null,"","",null,null,null,null,null,null,null,null,null,null,null,null,null,null,null,null,null,null,null,null,null,null,null,null,null,null,null,null,null,null,null,null,null,null,null,null,null,null,null,null,null,null,null,0,0,0,0]
[null,30,null,null,null,null,"","",null,null,null,null,null,"bis 4 %",null,null,null,null,"0",0,null,null,null,"",null,null,null,null,null,null,"C","C","C","C",null,null,0,"0","0","0",null,"0","","0","","",0,0,null,0,null,null,null,null,null,"","",null,null,null,null,"",null,"",null,null,null,null,null,null,null,null,{"$f":"'A30'!$W$30","v":0},{"$f":"'A30'!$N$4","v":""},null,"","",null,null,null,null,null,null,null,null,null,null,null,null,null,null,null,null,null,null,null,null,null,null,null,null,null,null,null,null,null,null,null,null,null,null,null,null,null,null,null,null,null,null,null,0,0,0,0]
[null,31,null,null,null,null,"","",null,null,{"$f":"IF(J34=\"\",0,VLOOKUP(J34,Kulturen!$B$4:$U$130,19,0))","v":0},null,0,"bis 4 %",0,null,null,null,"0",0,null,null,null,"",null,null,null,null,null,null,"C","C","C","C",null,null,0,"0","0","0",null,"0","","0","","",0,0,null,0,null,null,null,null,null,"","",null,null,null,null,"",null,"",null,null,null,null,null,null,null,null,{"$f":"'A31'!$W$30","v":0},{"$f":"'A31'!$N$4","v":""},null,"","",null,null,null,null,null,null,null,null,null,null,null,null,null,null,null,null,null,null,null,null,null,null,null,null,null,null,null,null,null,null,null,null,null,null,null,null,null,null,null,null,null,null,null,0,0,0,0]
[null,32,null,null,null,null,"","",null,null,{"$f":"IF(J35=\"\",0,VLOOKUP(J35,Kulturen!$B$4:$U$130,19,0))","v":0},null,0,"bis 4 %",0,null,null,null,"0",0,null,null,null,"",null,null,null,null,null,null,"C","C","C","C",null,null,0,"0","0","0",null,"0","","0","","",0,0,null,0,null,null,null,null,null,"","",null,null,null,null,"",null,"",null,null,null,null,null,null,null,null,{"$f":"'A32'!$W$30","v":0},{"$f":"'A32'!$N$4","v":""},null,"","",null,null,null,null,null,null,null,null,null,null,null,null,null,null,null,null,null,null,null,null,null,null,null,null,null,null,null,null,null,null,null,null,null,null,null,null,null,null,null,null,null,null,null,0,0,0,0]
[null,33,null,null,null,null,"","",null,null,{"$f":"IF(J36=\"\",0,VLOOKUP(J36,Kulturen!$B$4:$U$130,19,0))","v":0},null,0,"bis 4 %",0,null,null,null,"0",0,null,null,null,"",null,null,null,null,null,null,"C","C","C","C",null,null,{"$f":"IF(OR($E36=\"\",F36=\"\"),\"0\",VLOOKUP($E36,AckerbauKulturen,6,0))*F36","v":0},{"$f":"IF(OR($E36=\"\",F36=\"\"),\"0\",IF(AE36=\"A\",2*VLOOKUP($E36,AckerbauKulturen,7,0),IF(AE36=\"B\",1.5*VLOOKUP($E36,AckerbauKulturen,7,0),IF(AE36=\"C\",1*VLOOKUP($E36,AckerbauKulturen,7,0),IF(AE36=\"D\",0.5*VLOOKUP($E36,AckerbauKulturen,7,0),0*VLOOKUP($E36,AckerbauKulturen,7,0)))))*F36)","v":"0"},{"$f":"IF(OR($E36=\"\",F36=\"\"),\"0\",IF(AF36=\"A\",2*VLOOKUP($E36,AckerbauKulturen,8,0),IF(AF36=\"B\",1.5*VLOOKUP($E36,AckerbauKulturen,8,0),IF(AF36=\"C\",1*VLOOKUP($E36,AckerbauKulturen,8,0),IF(AF36=\"D\",0.5*VLOOKUP($E36,AckerbauKulturen,8,0),0*VLOOKUP($E36,AckerbauKulturen,8,0)))))*F36)","v":"0"},"0",null,{"$f":"IF(OR($E36=\"\",F36=\"\"),\"0\",VLOOKUP(E36,AckerbauKulturen,10,0)*F36)","v":"0"},{"$f":"IF(E36=\"\",\"\",VLOOKUP(E36,AckerbauKulturen,7,0)*F36)","v":""},"0","","",{"$f":"IF(AM36=\"\",\"\",AM36*D36)","v":0},0,null,0,null,null,null,null,null,"","",null,null,null,null,"",null,"",null,null,null,null,null,null,null,null,{"$f":"'A33'!$W$30","v":0},{"$f":"'A33'!$N$4","v":""},null,"","",null,null,null,null,null,null,null,null,null,null,null,null,null,null,null,null,null,null,null,null,null,null,null,null,null,null,null,null,null,null,null,null,null,null,null,null,null,null,null,null,null,null,null,0,0,0,0]
[null,34,null,null,null,null,"","",null,null,{"$f":"IF(J37=\"\",0,VLOOKUP(J37,Kulturen!$B$4:$U$130,19,0))","v":0},null,0,"bis 4 %",0,null,null,null,"0",0,null,null,null,"",null,null,null,null,null,null,"C","C","C","C",null,null,0,"0","0",{"$f":"IF(OR($E37=\"\",F37=\"\"),\"0\",IF(AF37=\"A\",2*VLOOKUP($E37,AckerbauKulturen,9,0),IF(AF37=\"B\",1.5*VLOOKUP($E37,AckerbauKulturen,9,0),IF(AF37=\"C\",1*VLOOKUP($E37,AckerbauKulturen,9,0),IF(AF37=\"D\",0.5*VLOOKUP($E37,AckerbauKulturen,9,0),0*VLOOKUP($E37,AckerbauKulturen,9,0)))))*F37)","v":"0"},null,"0","","0","","",0,0,null,0,null,null,null,null,null,"","",null,null,null,null,"",null,"",null,null,null,null,null,null,null,null,{"$f":"'A34'!$W$30","v":0},{"$f":"'A34'!$N$4","v":""},null,"","",null,null,null,null,null,null,null,null,null,null,null,null,null,null,null,null,null,null,null,null,null,null,null,null,null,null,null,null,null,null,null,null,null,null,null,null,null,null,null,null,null,null,null,0,0,0,0]
[null,35,null,null,null,null,"","",null,null,{"$f":"IF(J38=\"\",0,VLOOKUP(J38,Kulturen!$B$4:$U$130,19,0))","v":0},null,0,"bis 4 %",0,null,null,null,"0",0,null,null,null,"",null,null,null,null,null,null,"C","C","C","C",null,null,0,"0","0","0",null,"0","","0","","",0,0,null,0,null,null,null,null,null,"","",null,null,null,null,"",null,"",null,null,null,null,null,null,null,null,{"$f":"'A35'!$W$30","v":0},{"$f":"'A35'!$N$4","v":""},null,"","",null,null,null,null,null,null,null,null,null,null,null,null,null,null,null,null,null,null,null,null,null,null,null,null,null,null,null,null,null,null,null,null,null,null,null,null,null,null,null,null,null,null,null,0,0,0,0]
[null,36,null,null,null,null,"","",null,null,{"$f":"IF(J39=\"\",0,VLOOKUP(J39,Kulturen!$B$4:$U$130,19,0))","v":0},null,0,"bis 4 %",0,null,null,null,"0",0,null,null,null,"",null,null,null,null,null,null,"C","C","C","C",null,null,0,"0","0","0",null,"0","","0","","",0,0,null,0,null,null,null,null,null,"","",null,null,null,null,"",null,"",null,null,null,null,null,null,null,null,{"$f":"'A36'!$W$30","v":0},{"$f":"'A36'!$N$4","v":""},null,"","",null,null,null,null,null,null,null,null,null,null,null,null,null,null,null,null,null,null,null,null,null,null,null,null,null,null,null,null,null,null,null,null,null,null,null,null,null,null,null,null,null,null,null,0,0,0,0]
[null,37,null,null,null,null,"","",null,null,{"$f":"IF(J40=\"\",0,VLOOKUP(J40,Kulturen!$B$4:$U$130,19,0))","v":0},null,0,"bis 4 %",0,null,null,null,"0",0,null,null,null,"",null,null,null,null,null,null,"C","C","C","C",null,null,0,"0","0","0",null,"0","","0","","",0,0,null,0,null,null,null,null,null,{"$f":"IF(BC40=\"\",\"\",BA40*BB40/BC40)","v":""},"",null,null,null,null,"",null,"",null,null,null,null,null,null,null,null,{"$f":"'A37'!$W$30","v":0},{"$f":"'A37'!$N$4","v":""},null,"","",null,null,null,null,null,null,null,null,null,null,null,null,null,null,null,null,null,null,null,null,null,null,null,null,null,null,null,null,null,null,null,null,null,null,null,null,null,null,null,null,null,null,null,0,0,0,0]
[null,38,null,null,null,null,"","",null,null,{"$f":"IF(J41=\"\",0,VLOOKUP(J41,Kulturen!$B$4:$U$130,19,0))","v":0},null,0,"bis 4 %",0,null,null,null,"0",0,null,null,null,"",null,null,null,null,null,null,"C","C","C","C",null,null,0,"0","0","0",null,"0","","0","","",0,0,null,0,null,null,null,null,null,{"$f":"IF(BC41=\"\",\"\",BA41*BB41/BC41)","v":""},"",null,null,null,null,"",null,"",null,null,null,null,null,null,null,null,{"$f":"'A38'!$W$30","v":0},{"$f":"'A38'!$N$4","v":""},null,"","",null,null,null,null,null,null,null,null,null,null,null,null,null,null,null,null,null,null,null,null,null,null,null,null,null,null,null,null,null,null,null,null,null,null,null,null,null,null,null,null,null,null,null,0,0,0,0]
[null,39,null,null,null,null,"","",null,null,{"$f":"IF(J42=\"\",0,VLOOKUP(J42,Kulturen!$B$4:$U$130,19,0))","v":0},null,0,"bis 4 %",0,null,null,null,"0",0,null,null,null,"",null,null,null,null,null,null,"C","C","C","C",null,null,0,"0","0","0",null,"0","","0","","",0,0,null,0,null,null,null,null,null,{"$f":"IF(BC42=\"\",\"\",BA42*BB42/BC42)","v":""},"",null,null,null,null,"",null,"",null,null,null,null,null,null,null,null,{"$f":"'A39'!$W$30","v":0},{"$f":"'A39'!$N$4","v":""},null,"","",null,null,null,null,null,null,null,null,null,null,null,null,null,null,null,null,null,null,null,null,null,null,null,null,null,null,null,null,null,null,null,null,null,null,null,null,null,null,null,null,null,null,null,0,0,0,0]
[null,40,null,null,null,null,"","",null,"Ackerbohnen Korn",{"$f":"IF(J43=\"\",0,VLOOKUP(J43,Kulturen!$B$4:$U$130,19,0))","v":10},null,0,"bis 4 %",0,null,null,null,"0",0,null,null,null,"",null,null,null,null,null,null,"C","C","C","C",null,null,0,"0","0","0",null,"0","","0",{"$f":"IF(T43=\"\",\"\",IF(U43=\"ja\",T43*D43,\"\"))","v":""},"",0,0,null,0,null,null,null,null,null,{"$f":"IF(BC43=\"\",\"\",BA43*BB43/BC43)","v":""},"",null,null,null,null,{"$f":"IF(OR(BH43=\"\",BI43=\"\"),\"\",BI43*BH43)","v":""},null,{"$f":"IF(BJ43=\"\",\"\",BJ43+BK43)","v":""},null,null,null,null,null,null,null,null,{"$f":"'A40'!$W$30","v":0},{"$f":"'A40'!$N$4","v":""},null,"Leg","",null,null,null,null,null,null,null,null,null,null,null,null,null,null,null,null,null,null,null,null,null,null,null,null,null,null,null,null,null,null,null,null,null,null,null,null,null,null,null,null,null,null,null,0,0,0,0]
[null,null,null,null,null,null,null,null,null,null,null,null,null,null,null,null,null,null,null,null,null,null,null,null,null,null,null,null,null,null,null,null,null,null,null,null,null,null,null,null,null,null,null,null,null,null,null,null,null,null,null,null,null,null,null,{"$f":"IF(BC44=\"\",\"\",BA44*BB44/BC44)","v":""},"",null,null,null,null,null,null,null,null,null,null,null,null,null,null,null,null,null,null,null,null,null,null,null,null,null,null,null,null,null,null,null,null,null,null,null,null,null,null,null,null,null,null,null,null,null,null,null,null,null,null,null,null,null,null,null,null,null,null,null,null,null,null,null,0,{"$f":"BO44*$D44","v":0},0,0]
[null,null,null,null,null,null,null,null,null,null,null,null,null,null,null,null,null,null,null,null,null,null,null,null,null,null,null,null,null,null,null,null,null,null,null,null,null,null,null,null,null,null,null,null,null,null,null,null,null,null,null,null,null,null,null,null,null,null,null,null,null,null,null,null,null,null,null,null,null,null,null,null,null,null,null,null,null,null,null,null,null,null,null,null,null,null,null,null,null,null,null,null,null,null,null,null,null,null,null,null,null,null,null,null,null,null,null,null,null,null,null,null,null,null,null,null,null,null,null,null,{"$f":"SUM(DQ4:DQ44)","v":0},{"$f":"SUM(DR4:DR44)","v":0},{"$f":"SUM(DS4:DS44)","v":0}]
[null,null,"Summe aller Schläge",{"$f":"SUM(D4:D44)","v":0},null,null,null,null,null,"Gesamtsumme N Bedarf aller Schläge  außerhalb Nitrat Kulisse",null,null,null,null,null,null,null,null,{"$f":"IF(AR46=\"\",\"\",AR46)","v":0},null,null,null,null,null,null,null,null,null,null,null,null,null,null,null,null,null,null,null,null,null,null,null,{"$f":"SUM(AQ4:AQ45)","v":0},{"$f":"SUM(AR4:AR45)","v":0},{"$f":"SUM(AS4:AS45)","v":0},{"$f":"SUM(AT4:AT45)","v":0},null,null,null,null,null,null,null,null,null,null,null,null,null,null,null,null,null,null,null,null,null,null,null,null,null,null,{"$f":"SUM(BU4:BU43)","v":0},{"$f":"SUM(BV4:BV43)","v":0}]
[null,null,"Summe NO3 belasteten Schläge",{"$f":"SUMIF(U4:U44,\"ja\",D4:D44)","v":0},null,null,null,null,null,"Gesamtsumme  N Bedarf aller Schläge innerhalb Nitrat Kulisse ",null,null,null,null,null,null,null,null,{"$f":"SUMIF(U4:U44,\"ja\",AS4:AS44)","v":0},"Düngebedarf wurde um 20 % reduziert",null,null,null,null,null,null,null,null,null,null,null,null,null,null,null,null,null,null,null,null,null,null,null,{"$f":"SUMIF(U4:U44,\"ja\",AR4:AR45)","v":0},null,null,null,null,null,null,null,null,null,null,null,null,null,null,null,null,null,null,null,null,null,null,null,null,null,null,null,null,{"$f":"IF(D46=0,0,SUM(BU4:BU43)/D46)","v":0},{"$f":"IF(D46=0,0,SUM(BV4:BV43)/D47)","v":0}]
[null,null,"Summe aller eutrophierten Schläge",{"$f":"SUMIF(V4:V44,\"ja\",D4:D44)","v":0},null,null,null,null,null,"Gesamtsumme  N Bedarf aller Schläge",null,null,null,null,null,null,null,null,{"$f":"SUM(S46:S47)","v":0}]
[null,null,"Summe alle Flächen o. HALM C3.5 Aufl.",{"$f":"D46-C58","v":0}]
[]
[]
[null,null,null,null,null,null,null,null,null,null,null,null,null,null,null,null,null,null,null,null,null,null,null,null,null,null,null,null,null,null,null,null,null,null,null,null,null,null,null,null,null,null,null,null,null,null,null,null,null,null,null,null,null,null,null,null,null,null,null,null,null,null,null,null,null,null,null,null,null,null,null,null,null,null,null,"Vorfrucht","Zwischenfrucht"]
[null,null,null,null,null,null,null,null,null,null,null,null,null,null,null,null,null,null,null,null,null,null,null,null,null,null,null,null,null,null,null,null,null,null,null,null,null,null,null,null,null,null,null,null,null,null,null,null,null,null,null,null,null,null,null,null,null,null,null,null,null,null,null,null,null,null,null,null,null,null,null,null,null,null,"Summe Wirkung Leguminosen",{"$f":"SUMIF(BX4:BX43,\"Leg\",K4:K43)","v":10},{"$f":"SUMIF(BY4:BY43,\"Leg\",M4:M43)","v":0}]
[null,null,null,null,null,null,null,null,null,null,null,null,null,null,null,null,null,null,null,null,null,null,null,null,null,null,null,null,null,null,null,null,null,null,null,null,null,null,null,null,null,null,null,null,null,null,null,null,null,null,null,null,null,null,null,null,null,null,null,null,null,null,null,null,null,null,null,null,null,null,null,null,null,null,"Hektar mit Leguminosen.",{"$f":"SUMIF(BX4:BX43,\"Leg\",D4:D43)","v":0},{"$f":"SUMIF(BY4:BY43,\"Leg\",D4:D43)","v":0}]
[null,null,null,null,null,null,null,null,null,null,null,null,null,null,null,null,null,null,null,null,null,null,null,null,null,null,null,null,null,null,null,null,null,null,null,null,null,null,null,null,null,null,null,null,null,null,null,null,null,null,null,null,null,null,null,null,null,null,null,null,null,null,null,null,null,null,null,null,null,null,null,null,null,null,"N Fixierung über Legu Ackerflächen",{"$f":"BX53*BX54","v":0},{"$f":"BY53*BY54","v":0}]
[]
[]
[null,null,{"$f":"SUMIF(P4:P43,Liste!F27,D4:D43)","v":0},"Hektar mit Halm C38 Ackerfläche Auflage"]

{"sheet":"Grünland","index":3,"n_rows":37,"n_cols":72,"rows_kept":37,"cut":false,"hidden":false,"merged":[[0,51,0,56],[1,45,1,49],[1,51,1,54],[26,23,26,28],[36,3,36,5],[26,1,26,3],[24,1,24,3],[25,20,25,21],[1,55,1,56],[25,10,25,19],[25,1,25,3],[26,20,26,21],[27,20,27,21],[26,10,26,19],[27,10,27,19]]}
[null,null,null,null,null,null,null,null,null,null,null,null,null,null,null,null,null,null,null,null,null,null,null,null,null,null,null,null,null,null,null,null,null,null,null,null,null,null,null,null,null,null,null,null,null,null,null,null,null,null,null,"Auswertung"]
[null,null,null,null,null,null,null,null,null,null,null,null,null,null,null,null,null,null,null,null,null,null,null,null,null,null,null,null,null,null,null,null,null,null,null,null,null,null,null,null,null,null,null,null,null,null,null,null,null,null,null,"Kosten",null,null,null,"Direktkostenfreie \nLeistung"]
[null,"gehe zu!","Grünland\nschläge","ha","Nutzung","5-jähriges Ertragsmitel \ndt/ha","Ertragskorrektur Sollwert DÜV","Düngebedarf korrigiert um Ertragserwartung","RP Gehalt","RP Korrektur","Humusgehalt","N Bodengehalt \nKorrektur kg/ha","Leguminosenanteile",null,"Herbstdüngung \nnachdem letzten \nSchnitt","organische Düngung \nVorjahr 10 % Gesamt-\nN-Gehalt",null,"weitere Auflagen ?","Stickstoffbedarfswert kg/ha","in NO3 belasteten Gebieten \nN-DBE minus 20 % in kg N/ha","Nitrat belastete Kulisse","P eutrophierte Kulisse","Datum der Bodenprobe","Status","P2O5 mg/100 g Boden","K2O mg/100 g Boden","MgO 100 g Boden","pH Wert","Bodenartgruppe",null,"Versorgungsstufe P2O5","Versorgungstufe K2O","Versorgungsstufe MgO","Gehaltsklasse pH Wert","Stickstoff Bedarf  kg N/Schlag","N Entzug nach kg/ha","P2O5 Entzug kg/ha \nnach Korrektur VS","K2O Entzug kg/ha \nnach Korrektur VS","N Bedarfswert nach DÜV\nkg N/Schlag nitrat Kulisse","N - Entzug kg N/Fläche","P2O5 Entzug Fläche\nnach Korrektur VS","K2O EntzugFläche\nnach Korrektur VS","P2O5 Entzug kg/Fläche\nohne Korrektur nach VS",null,null,null,null,null,null,null,null,"Saatgut €/ha","Dünger €/ha","Pflanzenschutz €/ha","Summe Saatgut\nDünger und\nPflanzenschutz €/ha","Marktleisung\nminus Saatgut,\nDünger,PSM\n€/ha","Voratsdünung\ndurchgeführt ?","Bedarf MgO kg/ha","Bedarf CaO kg/ha","Bedarf S kg/ha",null,"N Bedarfswert nach DÜV\nkg N/Schlag","Bedarf nach Entzug\nN kg/Schlag","Bedarf nach Entzug\nP2O5 kg/Schlag","Bedarf nach Entzug\nK2O kg/Schlag","Bedarf nach Entzug\nMgO kg/Schlag","Bedarf nach Entzug\nCaO kg/Schlag","Bedarf nach Entzug\nS kg/Schlag",null,null,"170 N kg/ha \nGesqamtfläche","130 N kg Gesamtfläche\nrotes Gebiet"]
[null,1,null,null,null,null,{"$f":"IF(OR(E4=\"\",F4=\"\"),\"\",F4-VLOOKUP(E4,Grünlandnutzungen,13,0))","v":""},{"$f":"IF(G4=\"\",\"\",VLOOKUP(E4,Grünlandnutzungen,22,0)*G4+(VLOOKUP(E4,Grünlandnutzungen,14,0)))","v":""},null,{"$f":"IF(OR(E4=\"\",I4=\"\"),\"\",(I4-VLOOKUP(E4,Grünlandnutzungen,21,0))*VLOOKUP(E4,Grünlandnutzungen,23,0))","v":""},null,null,null,{"$f":"IF(OR(E4=\"\",M4=\"\"),\"\",VLOOKUP(M4,GrülaabschlLEgu,2,0))","v":""},null,null,null,null,{"$f":"IF(R4=\"HalmD1Grünl.\",0,IF(OR(E4=\"\",I4=\"\",K4=\"\",M4=\"\"),\"\",H4+J4-L4-N4-O4-P4))","v":""},{"$f":"IF(OR(D4=\"\",E4=\"\"),\"\",IF(U4=\"ja\",S4*0.8,\"\"))","v":""},null,null,null,{"$f":"IF(W4=\"\",\"\",IF(W4>=TODAY()-2190,\"ok\",\"Probe ziehen\"))","v":""},null,null,null,null,null,null,{"$f":"IF(Y4=\"\",\"C\",IF(Y4>=33,\"E\",IF(Y4>=21,\"D\",IF(Y4>=12,\"C\",IF(Y4>=6,\"B\",\"A\")))))","v":"C"},{"$f":"IF(Z4=\"\",\"C\",IF(Z4>=33,\"E\",IF(Z4>=21,\"D\",IF(Z4>=12,\"C\",IF(Z4>=6,\"B\",\"A\")))))","v":"C"},{"$f":"IF(AA4=\"\",\"C\",IF(AA4>=13,\"E\",IF(AA4>=9,\"D\",IF(AA4>=5,\"C\",IF(AA4>=2,\"B\",\"A\")))))","v":"C"},{"$f":"IF(OR(AB4=\"\",AC4=\"\"),\"C\",IF(AC4=\"I\",IF(AB4>=5.9,\"E\",IF(AB4>=5.6,\"D\",IF(AB4>=5,\"C\",IF(AB4>=4.3,\"B\",\"A\")))),IF(AC4=\"II\",IF(AB4>=6.7,\"E\",IF(AB4>=6.3,\"D\",IF(AB4>=5.5,\"C\",IF(AB4>=4.7,\"B\",\"A\")))),IF(AC4=\"III\",IF(AB4>=7,\"E\",IF(AB4>=6.6,\"D\",IF(AB4>=5.7,\"C\",IF(AB4>=4.8,\"B\",\"A\"))))))))","v":"C"},{"$f":"IF(OR(S4=\"\",D4=\"\"),\"\",S4*D4)","v":""},{"$f":"IF(S4=\"\",\"\",IF(U4=\"ja\",\"\",S4*D4))","v":""},{"$f":"IF(OR(E4=\"\",F4=\"\"),\"\",IF(AE4=\"A\",2*VLOOKUP($E4,Grünlandnutzungen,7,0),IF(AE4=\"B\",1.5*VLOOKUP($E4,Grünlandnutzungen,7,0),IF(AE4=\"C\",1*VLOOKUP($E4,Grünlandnutzungen,7,0),IF(AE4=\"D\",0.5*VLOOKUP($E4,Grünlandnutzungen,7,0),0*VLOOKUP($E4,Grünlandnutzungen,7,0)))))*F4)","v":""},{"$f":"IF(OR(E4=\"\",F4=\"\"),\"\",IF(AF4=\"A\",2*VLOOKUP($E4,Grünlandnutzungen,8,0),IF(AF4=\"B\",1.5*VLOOKUP($E4,Grünlandnutzungen,8,0),IF(AF4=\"C\",1*VLOOKUP($E4,Grünlandnutzungen,8,0),IF(AF4=\"D\",0.5*VLOOKUP($E4,Grünlandnutzungen,8,0),0*VLOOKUP($E4,Grünlandnutzungen,8,0)))))*F4)","v":""},{"$f":"IF(OR(D4=\"\",T4=\"\"),\"\",T4*D4)","v":""},null,{"$f":"IF($D4=\"\",\"\",AK4*$D4)","v":""},"",{"$f":"IF(OR($E4=\"\",F4=\"\"),\"\",F4*VLOOKUP(E4,Grünlandnutzungen,7,0)*D4)","v":""},null,null,null,null,null,null,null,null,null,null,null,null,null,null,{"$f":"IF(OR($E4=\"\",E4=\"\"),\"0\",IF(AG4=\"A\",2*VLOOKUP($E4,AckerbauKulturen,9,0),IF(AG4=\"B\",1.5*VLOOKUP($E4,AckerbauKulturen,9,0),IF(AG4=\"C\",1*VLOOKUP($E4,AckerbauKulturen,9,0),IF(AG4=\"D\",0.5*VLOOKUP($E4,AckerbauKulturen,9,0),0*VLOOKUP($E4,AckerbauKulturen,9,0)))))*E4)","v":"0"},null,{"$f":"IF(OR($E4=\"\",E4=\"\"),\"0\",VLOOKUP(D4,AckerbauKulturen,10,0)*E4)","v":"0"},null,{"$f":"IF(D4=\"\",\"\",R4*C4)","v":""},{"$f":"IF(D4=\"\",\"\",BC4*C4)","v":""},{"$f":"IF(BD4=\"\",\"\",BD4*C4)","v":""},{"$f":"IF(BE4=\"\",\"\",BE4*C4)","v":""},{"$f":"IF(BF4=\"\",\"\",BF4*C4)","v":0},null,{"$f":"IF(BH4=\"\",\"\",BH4*C4)","v":0},null,null,{"$f":"'G1'!W$20","v":""}]
[null,2,null,null,null,null,{"$f":"IF(OR(E5=\"\",F5=\"\"),\"\",F5-VLOOKUP(E5,Grünlandnutzungen,13,0))","v":""},"",null,"",null,null,null,"",null,null,null,null,{"$f":"IF(R5=\"HalmD1Grünl.\",0,IF(OR(E5=\"\",I5=\"\",K5=\"\",M5=\"\"),\"\",H5+J5-L5-N5-O5-P5))","v":""},{"$f":"IF(OR(D5=\"\",E5=\"\"),\"\",IF(U5=\"ja\",S5*0.8,\"\"))","v":""},null,null,null,{"$f":"IF(W5=\"\",\"\",IF(W5>=TODAY()-2190,\"ok\",\"Probe ziehen\"))","v":""},null,null,null,null,null,null,{"$f":"IF(Y5=\"\",\"C\",IF(Y5>=33,\"E\",IF(Y5>=21,\"D\",IF(Y5>=12,\"C\",IF(Y5>=6,\"B\",\"A\")))))","v":"C"},{"$f":"IF(Z5=\"\",\"C\",IF(Z5>=33,\"E\",IF(Z5>=21,\"D\",IF(Z5>=12,\"C\",IF(Z5>=6,\"B\",\"A\")))))","v":"C"},{"$f":"IF(AA5=\"\",\"C\",IF(AA5>=13,\"E\",IF(AA5>=9,\"D\",IF(AA5>=5,\"C\",IF(AA5>=2,\"B\",\"A\")))))","v":"C"},{"$f":"IF(OR(AB5=\"\",AC5=\"\"),\"C\",IF(AC5=\"I\",IF(AB5>=5.9,\"E\",IF(AB5>=5.6,\"D\",IF(AB5>=5,\"C\",IF(AB5>=4.3,\"B\",\"A\")))),IF(AC5=\"II\",IF(AB5>=6.7,\"E\",IF(AB5>=6.3,\"D\",IF(AB5>=5.5,\"C\",IF(AB5>=4.7,\"B\",\"A\")))),IF(AC5=\"III\",IF(AB5>=7,\"E\",IF(AB5>=6.6,\"D\",IF(AB5>=5.7,\"C\",IF(AB5>=4.8,\"B\",\"A\"))))))))","v":"C"},{"$f":"IF(OR(S5=\"\",D5=\"\"),\"\",S5*D5)","v":""},{"$f":"IF(S5=\"\",\"\",IF(U5=\"ja\",\"\",S5*D5))","v":""},{"$f":"IF($E5=\"\",\"\",VLOOKUP($E5,Grünlandnutzungen,7,0)*$F5)","v":""},{"$f":"IF($E5=\"\",\"\",VLOOKUP($E5,Grünlandnutzungen,8,0)*$F5)","v":""},{"$f":"IF(OR(D5=\"\",T5=\"\"),\"\",T5*D5)","v":""},null,"","","",null,null,null,null,null,null,null,null,null,null,null,null,null,null,{"$f":"IF(OR($E5=\"\",E5=\"\"),\"0\",IF(AF5=\"A\",2*VLOOKUP($E5,AckerbauKulturen,9,0),IF(AF5=\"B\",1.5*VLOOKUP($E5,AckerbauKulturen,9,0),IF(AF5=\"C\",1*VLOOKUP($E5,AckerbauKulturen,9,0),IF(AF5=\"D\",0.5*VLOOKUP($E5,AckerbauKulturen,9,0),0*VLOOKUP($E5,AckerbauKulturen,9,0)))))*E5)","v":"0"},null,"0",null,"","","","",0,null,0,null,null,{"$f":"'G2'!W$20","v":""}]
[null,3,null,null,null,null,"","",null,"",null,{"$f":"IF(K6=\"\",\"\",VLOOKUP(K6,Grünland_Dauergrünland,2,0))","v":""},null,"",null,null,null,null,"","",null,null,null,"",null,null,null,null,null,null,"C","C","C","C","","","","","",null,"","","",null,null,null,null,null,null,null,null,null,null,null,null,null,null,"0",null,"0",null,"","","","",0,null,0,null,null,{"$f":"'G3'!W$20","v":""}]
[null,4,null,null,null,null,"","",null,"",null,"",null,"",null,null,null,null,"","",null,null,null,"",null,null,null,null,null,null,"C","C","C","C","","","","","",null,"","","",null,null,null,null,null,null,null,null,null,null,null,null,null,null,"0",null,"0",null,"","","","",0,null,0,null,null,{"$f":"'G4'!W$20","v":""}]
[null,5,null,null,null,null,"","",null,"",null,"",null,"",null,null,null,null,"","",null,null,null,"",null,null,null,null,null,null,"C","C","C","C","","","","","",null,"","","",null,null,null,null,null,null,null,null,null,null,null,null,null,null,"0",null,"0",null,"","","","",0,null,0,null,null,{"$f":"'G5'!W$20","v":""}]
[null,6,null,null,null,null,"","",null,"",null,"",null,"",null,null,null,null,"","",null,null,null,"",null,null,null,null,null,null,"C","C","C","C","","","","","",null,"","","",null,null,null,null,null,null,null,null,null,null,null,null,null,null,"0",null,"0",null,"","","","",0,null,0,null,null,{"$f":"'G6'!W$20","v":""}]
[null,7,null,null,null,null,"","",null,"",null,"",null,"",null,null,null,null,"","",null,null,null,"",null,null,null,null,null,null,"C","C","C","C","","","","","",null,"","","",null,null,null,null,null,null,null,null,null,null,null,null,null,null,"0",null,"0",null,"","","","",0,null,0,null,null,{"$f":"'G7'!W$20","v":""}]
[null,8,null,null,null,null,"","",null,"",null,"",null,"",null,null,null,null,"","",null,null,null,"",null,null,null,null,null,null,"C","C","C","C","","","","","",null,"","","",null,null,null,null,null,null,null,null,null,null,null,null,null,null,"0",null,"0",null,"","","","",0,null,0,null,null,{"$f":"'G8'!W$20","v":""}]
[null,9,null,null,null,null,"","",null,"",null,"",null,"",null,null,null,null,"","",null,null,null,"",null,null,null,null,null,null,"C","C","C","C","","","","","",null,"","","",null,null,null,null,null,null,null,null,null,null,null,null,null,null,"0",null,"0",null,"","","","",0,null,0,null,null,{"$f":"'G9'!W$20","v":""}]
[null,10,null,null,null,null,"","",null,"",null,"",null,"",null,null,null,null,"","",null,null,null,"",null,null,null,null,null,null,"C","C","C","C","","","","","",null,"","","",null,null,null,null,null,null,null,null,null,null,null,null,null,null,"0",null,"0",null,"","","","",0,null,0,null,null,{"$f":"'G10'!W$20","v":""}]
[null,11,null,null,null,null,"","",null,"",null,"",null,"",null,null,null,null,"","",null,null,null,"",null,null,null,null,null,null,"C","C","C","C","","","","","",null,"","","",null,null,null,null,null,null,null,null,null,null,null,null,null,null,"0",null,"0",null,"","","","",0,null,0,null,null,{"$f":"'G11'!W$20","v":""}]
[null,12,null,null,null,null,"","",null,"",null,"",null,"",null,null,null,null,"","",null,null,null,"",null,null,null,null,null,null,"C","C","C","C","","","","","",null,"","","",null,null,null,null,null,null,null,null,null,null,null,null,null,null,"0",null,"0",null,"","","","",0,null,0,null,null,{"$f":"'G12'!W$20","v":""}]
[null,13,null,null,null,null,"","",null,{"$f":"IF(OR(E16=\"\",I16=\"\"),\"\",(I16-VLOOKUP(E16,Grünlandnutzungen,21,0))*VLOOKUP(E16,Grünlandnutzungen,23,0))","v":""},null,"",null,"",null,null,null,null,"","",null,null,null,"",null,null,null,null,null,null,"C","C","C","C","","","","","",null,"","","",null,null,null,null,null,null,null,null,null,null,null,null,null,null,"0",null,"0",null,"","","","",0,null,0,null,null,{"$f":"'G13'!W$20","v":""}]
[null,14,null,null,null,null,"","",null,"",null,"",null,"",null,null,null,null,"","",null,null,null,"",null,null,null,null,null,null,"C","C","C","C","","","","","",null,"","","",null,null,null,null,null,null,null,null,null,null,null,null,null,null,"0",null,"0",null,"","","","",0,null,0,null,null,{"$f":"'G14'!W$20","v":""}]
[null,15,null,null,null,null,"","",null,"",null,"",null,"",null,null,null,null,"","",null,null,null,"",null,null,null,null,null,null,"C","C","C","C","","","","","",null,"","","",null,null,null,null,null,null,null,null,null,null,null,null,null,null,"0",null,"0",null,"","","","",0,null,0,null,null,{"$f":"'G15'!W$20","v":""}]
[null,16,null,null,null,null,"","",null,"",null,"",null,"",null,null,null,null,"","",null,null,null,"",null,null,null,null,null,null,"C","C","C","C","","","","","",null,"","","",null,null,null,null,null,null,null,null,null,null,null,null,null,null,"0",null,"0",null,"","","","",0,null,0,null,null,{"$f":"'G16'!W$20","v":""}]
[null,17,null,null,null,null,"","",null,"",null,"",null,"",null,null,null,null,"","",null,null,null,"",null,null,null,null,null,null,"C","C","C","C","","","","","",null,{"$f":"IF($D20=\"\",\"\",AK20*$D20)","v":""},"","",null,null,null,null,null,null,null,null,null,null,null,null,null,null,"0",null,"0",null,"","","","",0,null,0,null,null,{"$f":"'G17'!W$20","v":""}]
[null,18,null,null,null,null,"","",null,"",null,"",null,"",null,null,null,null,"","",null,null,null,"",null,null,null,null,null,null,"C","C","C","C","","","","","",null,"","","",null,null,null,null,null,null,null,null,null,null,null,null,null,null,"0",null,"0",null,"","","","",0,null,0,null,null,{"$f":"'G18'!W$20","v":""}]
[null,19,null,null,null,null,"","",null,"",null,"",null,"",null,null,null,null,"","",null,null,null,"",null,null,null,null,null,null,"C","C","C","C","","","","","",null,"","","",null,null,null,null,null,null,null,null,null,null,null,null,null,null,"0",null,"0",null,"","","","",0,null,0,null,null,{"$f":"'G19'!W$20","v":""}]
[null,20,null,null,null,null,"","",null,null,null,"",null,"",null,null,null,null,"","",null,null,null,"",null,null,null,null,null,null,"C","C","C","C",{"$f":"IF(OR(S23=\"\",D23=\"\"),\"\",S23*D23)","v":""},"","","","",null,"","","",null,null,null,null,null,null,null,null,null,null,null,null,null,null,"0",null,"0",null,"","","","",0,null,0,null,null,{"$f":"'G20'!W$20","v":""}]
[null,null,null,null,null,null,null,null,null,null,null,null,null,null,null,null,null,null,null,null,null,null,null,null,null,null,null,null,null,null,null,null,null,null,null,null,null,null,null,null,null,null,null,null,null,null,null,null,null,null,null,null,null,null,null,null,null,null,null,null,null,null,null,null,null,null,null,null,null,null,{"$f":"SUM(BS4:BS23)","v":0}]
[null,"Summe aller Schläge",null,null,{"$f":"SUM(D4:D23)","v":0},"ha",null,null,null,null,null,null,null,null,null,null,null,null,null,null,null,null,null,null,null,null,null,null,null,null,null,null,null,null,null,null,{"$f":"SUM(AK4:AK23)","v":0},null,null,{"$f":"SUM(AN4:AN23)","v":0},{"$f":"SUM(AO4:AO23)","v":0},{"$f":"SUM(AP4:AP23)","v":0},{"$f":"SUM(AQ4:AQ23)","v":0},null,null,null,null,null,null,null,null,null,null,null,null,null,null,null,null,null,null,null,null,null,null,null,null,null,null,null,{"$f":"IF(E25=0,0,SUM(BS4:BS23)/E25)","v":0}]
[null,"Summe Flächen in einer Nitrat Kulisse",null,null,{"$f":"SUMIF(U4:U23,\"ja\",D4:D23)","v":0},"ha",null,null,null,null,"Gesamtsumme N Bedarf aller Schläge außerhalb der Nitrat Kulisse",null,null,null,null,null,null,null,null,null,{"$f":"SUM(AJ4:AJ23)","v":0},null,"kg N",null,null,null,null,null,null,null,null,null,null,null,null,null,null,null,{"$f":"SUM(AM4:AM23)","v":0},{"$f":"SUMIF(U4:U23,\"ja\",AN4:AN23)","v":0}]
[null,"Summe Flächen ohne \"HALM D1\" Auflage",null,null,{"$f":"E25-C37","v":0},"ha",null,null,null,null,"Gesamtsumme  N Bedarf aller Schläge innerhalb Nitrat Kulisse ",null,null,null,null,null,null,null,null,null,{"$f":"SUMIF(U4:U23,\"ja\",AM4:AM23)","v":0},null,"kg N","Düngebedarf wurde um 20 % reduziert",null,null,null,null,null,null,null,null,null,null,null,{"$f":"SUM(AJ4:AJ23)","v":0},null,null,0]
[null,null,null,null,null,null,null,null,null,null,"Gesamtsumme  N Bedarf aller Schläge",null,null,null,null,null,null,null,null,null,{"$f":"IF(OR(AJ27=\"\",AM27=\"\"),\"\",AJ27+AM27)","v":0},null,"kg N"]
[]
[]
[]
[]
[]
[]
[]
[]
[null,null,{"$f":"SUMIF(R4:R23,Liste!I27,D4:D23)","v":0},"Hektar mit Halm D1 GrünlandAuflage",null,null,null,null,null,null,null,null,null,{"$f":"SUM(N4:N23)*E25","v":0}]

{"sheet":"Kulturen","index":4,"n_rows":405,"n_cols":32,"rows_kept":405,"cut":false,"hidden":true,"merged":[[1,1,2,1],[2,22,2,24]]}
[null,1,2,3,4,5,6,7,8,9,10,11,12,13,14,15,16,17,18,19,20,21,22,23,24,"25 unvermeidbare N Verluste",26,27]
[null,"Kultur",null,null,null,"Faktor","kg N/dt","kg P2O5/dt ","kg K2O/dt","kg MgO/dt","kg S/dt",null,null,"dt TM/ha","N-Bedarfswert","1 dt mehr","1 dt weniger","max. Nmin-Probentiefe cm",null,"Vorfruchtwert","Zwischenfruchtwert",null,"je dt TM/ha Differenz","je % RP in der TM RP Differenz"]
[null,null,null,null,null,"Grobfutter","Frischmasse","Frischmasse","Frischmasse",null,null,"unvermeidbare N-Verluste","N Gehalt kg/dt Ganzpflanze",null,null,null,null,null,null,null,null,"RP Gehalt","Zu und Abschläge Grünland",null,null,null,"N Fixierung\nkg/dt FM","N Fixierung \nN/ha"]
[1,"Weizen C Korn ","Frischmasse","86","Korn",null,1.81,0.8,0.6,0.2,0.2,null,null,80,210,1,1.5,90,null,0,null,null,null,null,null,null,null,null,null,"Zwischenfrucht"]
[2,"Weizen C Korn + Stroh","Frischmasse","86","Korn+Stroh",null,2.21,1.04,1.72,0.4,0.35,null,null,80,210,1,1.5,90,null,0,null,null,null,null,null,null,null,null,null,"Nichtleguminose abgefroren",0]
[3,"Weizen Stroh","Frischmasse","86","Stroh",null,0.5,0.3,1.4,0.2,0.15,null,null,null,null,null,null,null,null,null,null,null,null,null,null,null,null,null,null,"Nichtlegumin. Herbst-eingearb. ",0]
[4,"Weizen A/B Korn","Frischmasse","86","Korn",null,2.11,0.8,0.6,0.2,0.2,null,null,80,230,1,1.5,90,null,0,null,null,null,null,null,null,null,null,null,"Nichtlegumin. Frühjahr-eingearb. ",20]
[5,"Weizen A/B Korn + Stroh","Frischmasse",null,"Korn+Stroh",null,2.5099999999999998,1.04,1.72,0.4,0.35,null,null,80,230,1,1.5,90,null,0,null,null,null,null,null,null,null,null,null,"Leguminose - abgefroren",10,"Leg"]
[7,"Weizen E Korn","Frischmasse","86","Korn",null,2.41,0.8,0.6,0.2,0.2,null,null,80,260,1,1.5,90,null,0,null,null,null,null,null,null,null,null,null,"Leguminose Herbst-eingearb. ",10,"Leg"]
[9,"Weizen E Korn + Stroh","Frischmasse",null,"Stroh",null,2.81,1.04,1.72,0.4,0.35,null,null,80,260,1,1.5,90,null,0,null,null,null,null,null,null,null,null,null,"Leguminose Frühjahr-eingearb. ",40,"Leg"]
[10,"Durum Korn ","Frischmasse","86","Korn",null,2.2599999999999998,0.8,0.6,0.2,0.2,null,null,55,200,1,1.5,90,null,0,null,null,null,null,null,null,null,null,null,"Futter-Nichtleguminose",0]
[11,"Durum Korn + Stroh","Frischmasse",null,"Korn+Stroh",null,2.66,1.04,1.96,0.4,0.35,null,null,55,200,1,1.5,90,null,0,null,null,null,null,null,null,null,null,null,"Futterleguminose",10,"Leg"]
[12,"Winterroggen 11% RP Korn","Frischmasse","86","Korn",null,1.51,0.8,0.6,0.2,0.2,null,null,70,170,1,1.5,90,null,0,null,null,null,null,null,null,null,null,null,"keine",0]
[13,"Winterroggen 11% RP Korn + Stroh","Frischmasse",null,"Korn+Stroh",null,1.96,1.07,2.4,0.4,0.35,null,null,70,170,1,1.5,90,null,0]
[14,"Winterroggen 11% RP Stroh","Frischmasse","86","Stroh",null,0.5,0.3,2,0.2,0.15,null,null,null,null,null,null,null,null,null,null,null,null,null,null,null,null,null,null,"Humusgehalt"]
[15,"Winterroggen 12% RP Korn ","Frischmasse","86","Korn",null,1.65,0.8,0.6,0.2,0.2,null,null,70,170,1,1.5,90,null,0,null,null,null,null,null,null,null,null,null,"ab 4 %",20]
[16,"Winterroggen 12% RP Korn + Stroh","Frischmasse",null,"Korn+Stroh",null,2.1,1.07,2.4,0.4,0.25,null,null,70,170,1,1.5,90,null,0,null,null,null,null,null,null,null,null,null,"bis 4 %",0]
[17,"Winterroggen 12% RP Stroh","Frischmasse","86","Stroh",null,0.5,0.3,2,0.2,0.15]
[18,"Triticale 12% RP Korn","Frischmasse","86","Korn",null,1.65,0.8,0.6,0.2,0.2,null,null,70,190,1,1.5,90,null,0]
[19,"Triticale 12% RP Korn + Stroh","Frischmasse",null,"Korn+Stroh",null,2.1,1.07,2.13,0.4,0.35,null,null,70,190,1,1.5,90,null,0]
[20,"Triticale 12% RP Stroh","Frischmasse","86","Stroh",null,0.5,0.3,1.7,0.2,0.15]
[21,"Triticale 13% RP Korn","Frischmasse","86","Korn",null,1.79,0.8,0.6,0.2,0.2,null,null,70,190,1,1.5,90,null,0]
[22,"Triticale 13% RP Korn + Stroh","Frischmasse",null,"Korn+Stroh",null,2.2400000000000002,1.07,2.13,0.4,0.35,null,null,70,190,1,1.5,90,null,0]
[23,"Triticale 13% RP Stroh","Frischmasse",null,"Stroh",null,0.5,0.3,1.7,0.2,0.15]
[24,"Wintergerste 12% RP Korn","Frischmasse","86","Korn",null,1.65,0.8,0.6,0.2,0.2,null,null,70,180,1,1.5,90,null,0]
[25,"Wintergerste 12% RP Korn + Stroh","Frischmasse",null,"Korn+Stroh",null,2,1.01,1.79,0.4,0.35,null,null,70,180,1,1.5,90,null,0]
[26,"Wintergerste 12% RP Stroh","Frischmasse","86","Stroh",null,0.5,0.3,1.7,0.2,0.15]
[27,"Wintergerste 13% RP Korn","Frischmasse","86","Korn",null,1.79,0.8,0.6,0.2,0.2,null,null,70,180,1,1.5,90,null,0]
[28,"Wintergerste 13% RP Korn + Stroh","Frischmasse",null,"Korn+Stroh",null,2.14,1.01,1.79,0.4,0.35,null,null,70,180,1,1.5,90,null,0]
[29,"Wintergerste 13% RP Stroh","Frischmasse","86","Stroh",null,0.5,0.3,1.7,0.2,0.15]
[30,"S.Futtergerste 12% RP Korn","Frischmasse","86","Korn",null,1.65,0.8,0.6,0.2,0.2,null,null,50,140,1,1.5,60,null,0]
[31,"S.Futtergerste 12% RP Korn + Stroh","Frischmasse",null,"Korn+Stroh",null,2.0499999999999998,1.04,1.96,0.4,0.35,null,null,50,140,1,1.5,60,null,0]
[32,"S.Futtergerste 12% RP Stroh","Frischmasse","86","Stroh",null,0.5,0.3,1.7,0.2,0.15]
[33,"S.Futtergerste 13% RP Korn","Frischmasse","86","Korn",null,1.79,0.8,0.6,0.2,0.2,null,null,50,140,1,1.5,60,null,0]
[34,"S.Futtergerste 13% RP Korn + Stroh","Frischmasse",null,"Korn+Stroh",null,2.19,1.04,1.96,0.4,0.35,null,null,50,140,1,1.5,60,null,0]
[35,"S.Futtergerste 13% RP Stroh","Frischmasse","86","Stroh",null,0.5,0.3,1.7,0.2,0.15]
[36,"Braugerste 10% RP Korn","Frischmasse","86","Korn",null,1.38,0.8,0.6,0.2,0.2,null,null,50,140,1,1.5,60,null,0]
[37,"Braugerste 10% RP Korn + Stroh","Frischmasse",null,"Korn+Stroh",null,1.73,1.01,1.79,0.4,0.35,null,null,50,140,1,1.5,60,null,0]
[38,"Braugerste 10% RP Stroh","Frischmasse","86","Stroh",null,0.5,0.3,1.7,0.2,0.15]
[39,"Braugerste 11% RP Korn ","Frischmasse","86","Korn",null,1.51,0.8,0.6,0.2,0.2,null,null,50,140,1,1.5,60,null,0]
[40,"Braugerste 11% RP Korn + Stroh","Frischmasse",null,"Korn+Stroh",null,1.86,1.01,1.79,0.4,0.35,null,null,50,140,1,1.5,60,null,0]
[41,"Braugerste 11% RP Stroh","Frischmasse","86","Stroh",null,0.5,0.3,1.7,0.2,0.15]
[42,"Hafer 11% RP Korn","Frischmasse","86","Korn",null,1.51,0.8,0.6,0.2,0.2,null,null,55,130,1,1.5,60,null,0]
[43,"Hafer 11% RP Korn + Stroh","Frischmasse",null,"Korn+Stroh",null,2.06,1.1299999999999999,2.4700000000000002,0.4,0.35,null,null,55,130,1,1.5,60,null,0]
[44,"Hafer 11% RP Stroh","Frischmasse","86","Stroh",null,0.5,0.3,1.7,0.2,0.15]
[45,"Hafer 12% RP Korn ","Frischmasse","86","Korn",null,1.65,0.8,0.6,0.2,0.2,null,null,55,130,1,1.5,60,null,0]
[46,"Hafer 12% RP Korn + Stroh","Frischmasse",null,"Korn+Stroh",null,2.2000000000000002,1.1299999999999999,2.4700000000000002,0.4,0.35,null,null,55,130,1,1.5,60,null,0]
[47,"Hafer 12% RP Stroh","Frischmasse","86","Stroh",null,0.5,0.3,1.7,0.2,0.15]
[48,"Dinkel (m.Spelz) Korn","Frischmasse","86","Korn",null,1.6,0.8,0.8,0.2,0.2,null,null,55,170,1,1.5,90,null,0]
[49,"Dinkel (m.Spelz) Korn + Stroh","Frischmasse",null,"Korn+Stroh",null,2.1,1.1000000000000001,2.5,0.4,0.35,null,null,55,170,1,1.5,90,null,0]
[50,"Dinkel Stroh","Frischmasse","86","Stroh",null,0.5,0.3,1.7,0.2,0.15]
[51,"Körnermais 10% RP Korn","Frischmasse","86","Korn",null,1.38,0.8,0.5,0.6,0.2,null,null,90,200,1,1.5,90,null,0]
[52,"Körnermais 10% RP Korn + Stroh","Frischmasse",null,"Korn+Stroh",null,2.2799999999999998,1,2.5,0.9,0.35,null,null,90,200,1,1.5,90,null,0]
[53,"Körnermais 10% RP Stroh","Frischmasse","86","Stroh",null,0.9,0.2,2,0.3,0.15]
[54,"Körnermais 11% RP Korn","Frischmasse","86","Korn",null,1.51,0.8,0.5,0.6,0.2,null,null,90,200,1,1.5,90,null,0]
[55,"Körnermais 11% RP Korn + Stroh","Frischmasse",null,"Korn+Stroh",null,2.41,1,2.5,0.9,0.35,null,null,90,200,1,1.5,90,null,0]
[56,"Körnermais 11% RP Stroh","Frischmasse","86","Stroh",null,0.9,0.2,2,0.3,0.15]
[57,"Ackerbohnen Korn","Frischmasse","86","Korn",null,4.0999999999999996,1.2,1.4,0.2,0.2,null,null,35,60,null,null,30,"Leg",10,null,null,null,null,null,null,5]
[58,"Ackerbohnen Korn + Stroh","Frischmasse",null,"Korn+Stroh",null,5.6,1.5,4,0.45,0.65,null,null,35,60,null,null,30,"Leg",10,null,null,null,null,null,null,5]
[59,"Ackerbohnen Stroh","Frischmasse","86","Stroh",null,1.5,0.3,2.6,0.25,0.45]
[60,"Körnererbsen Korn","Frischmasse","86","Korn",null,3.6,1.1000000000000001,1.4,0.2,0.2,null,null,30,60,null,null,30,"Leg",10,null,null,null,null,null,null,4.4000000000000004]
[61,"Körnererbsen Korn + Stroh","Frischmasse",null,"Korn+Stroh",null,5.0999999999999996,1.4,4,0.45,0.65,null,null,30,60,null,null,30,"Leg",10,null,null,null,null,null,null,4.4000000000000004]
[62,"Körnererbsen Stroh","Frischmasse","86","Stroh",null,1.5,0.3,2.6,0.25,0.45]
[63,"Sojabohnen Korn","Frischmasse","86","Korn",null,5.8,1.62,1.94,0.2,0.2,null,null,25,60,null,null,30,"Leg",10,null,null,null,null,null,null,5.3]
[64,"Sojabohnen Korn+Stroh","Frischmasse",null,"Korn+Stroh",null,7.3,2,3.5,0.45,0.65,null,null,25,60,null,null,30,"Leg",10,null,null,null,null,null,null,5.3]
[65,"Sojabohnen Stroh","Frischmasse","86","Stroh",null,1.5,0.38,1.63,0.25,0.45]
[66,"Bl. Lupinen Korn","Frischmasse","86","Korn",null,4.4800000000000004,1.39,1.66,0.2,0.2,null,null,25,60,null,null,30,"Leg",10,null,null,null,null,null,null,4]
[67,"Bl. Lupinen Korn+Stroh","Frischmasse",null,"Korn+Stroh",null,5.98,1.72,3.29,0.45,0.65,null,null,25,60,null,null,30,"Leg",10,null,null,null,null,null,null,4]
[68,"Bl. Lupinen Stroh","Frischmasse","86","Stroh",null,1.5,0.33,1.63,0.25,0.45]
[69,"Raps 23% RP Korn","Frischmasse","91","Korn",null,3.35,1.8,1,0.5,0.5,null,null,40,200,2,3,90,null,10]
[70,"Raps 23% RP Korn + Stroh","Frischmasse",null,"Korn+Stroh",null,4.54,2.48,5.25,0.75,0.65,null,null,40,200,2,3,90,null,10]
[71,"Raps 23% RP Stroh","Frischmasse","86","Stroh",null,0.7,0.4,2.5,0.25,0.15]
[72,"Sonnenblumen 20% RP Korn","Frischmasse","91","Korn",null,2.91,1.6,2.4,null,null,null,null,30,120,2,3,90,null,10]
[73,"Sonnenblumen 20% RP Korn + Stroh","Frischmasse",null,"Korn+Stroh",null,4.91,3.4,12.4,null,null,null,null,30,120,2,3,90,null,10]
[74,"Sonnenblumen 20% RP Stroh","Frischmasse","86","Stroh",null,1,0.9,5]
[75,"Senf Korn","Frischmasse","91","Korn",null,5.08,1.77,0.93,null,null,null,null,25,160,2,2,60,null,10]
[76,"Senf Korn + Stroh","Frischmasse",null,"Korn+Stroh",null,6.13,2.37,4.6900000000000004,null,null,null,null,25,160,2,2,60,null,10]
[77,"Senf Stroh","Frischmasse","86","Stroh",null,0.7,0.4,2.5]
[78,"Öllein Korn","Frischmasse","91","Korn",null,3.5,1.2,1,null,null,null,null,20,100,2,2,60,null,10]
[79,"Öllein Korn + Stroh","Frischmasse",null,"Korn+Stroh",null,4.3,1.5,3.1,null,null,null,null,20,100,2,2,60,null,10]
[80,"Öllein Stroh","Frischmasse","86","Stroh",null,0.53,0.2,1.4]
[81,"Kartoffeln Knollen","Frischmasse","22","Knollen",null,0.35,0.14000000000000001,0.6,null,null,null,null,450,180,0.2,0.2,60,null,0]
[82,"Kartoffeln Knollen + Blatt","Frischmasse",null,"Knollen+Blatt",null,0.39,0.16,0.67,null,null,null,null,450,180,0.2,0.2,60,null,0]
[83,"Kartoffeln Blatt","Frischmasse","15","Blatt",null,0.2,0.1,0.36]
[84,"Zuckerrüben Rüben","Frischmasse","23","Rüben ",null,0.18,0.1,0.25,null,null,null,null,650,170,0.1,0.15,90,null,10]
[85,"Zuckerrüben Rüben + Blatt","Frischmasse",null,"Rüben+Blatt",null,{"$f":"0.46","v":0.46},0.16,0.57999999999999996,null,null,null,null,650,170,0.1,0.15,90,null,10]
[86,"Zuckerrüben Blatt","Frischmasse","18","Blatt",null,0.4,0.11,0.6]
[87,"Gehaltsrüben Rüben","Frischmasse","15","Rüben ",null,0.18,0.1,0.25,null,null,null,null,650,190,{"$f":"10/50","v":0.2},{"$f":"12/50","v":0.24},90,null,10]
[88,"Gehaltsrüben Rüben + Blatt","Frischmasse",null,"Rüben+Blatt",null,0.3,0.12,0.7,null,null,null,null,650,190,0.2,0.24,90,null,10]
[89,"Gehaltsrüben Blatt","Frischmasse","16","Blatt",null,0.3,0.08,0.5]
[90,"Massenrüben Rüben","Frischmasse","12","Rüben ",null,0.14000000000000001,7.0000000000000007E-2,0.45,null,null,null,null,850,220,0.18,{"$f":"11/50","v":0.22},90,null,10]
[91,"Massenrüben Rüben + Blatt","Frischmasse",null,"Rüben+Blatt",null,0.24,0.09,0.61,null,null,null,null,850,220,0.18,0.22,90,null,10]
[92,"Massenrüben Blatt","Frischmasse","16","Blatt",null,0.25,0.06,0.4]
[93,"Silomais (28% TM) Ganzpflanze","Frischmasse","28","Grobfutter",1.1499999999999999,0.38,0.16,0.45,null,null,null,null,450,200,0.2,0.6,90,null,0]
[94,"Silomais (32% TM) Ganzpflanze","Frischmasse","32","Grobfutter",1.1499999999999999,0.43,0.18,0.51,null,null,null,null,450,200,0.2,0.6,90,null,0]
[95,"Corn-Cob-Mix Kolben + teilw. Lieschbl.","Frischmasse","60",null,null,1,0.5,0.4,null,null,null,null,120,200,1,1.5,90,null,0]
[96,"Lieschkolben Kolben + Lieschbl.","Frischmasse",null,null,null,0.76,0.32,0.36,null,null,null,null,120,200,1,1.5,90,null,0]
[97,"Rotkohl 500 dt FM/ha ","Frischmasse",null,"Gemüse",null,0.22,0.09,0.36,null,0.25600000000000001,null,null,600,260,0.5,0.5,60,null,null,null,null,null,null,null,-60]
[98,"Weißkohl Industrie","Frischmasse",null,"Gemüse",null,0.2,0.08,0.31,null,0.24199999999999999,null,null,1000,320,0.5,0.5,60,null,null,null,null,null,null,null,-60]
[99,"Topinambur Knollen","Frischmasse",null,null,null,0.23,0.15,0.63]
[100,"Topinambur Knollen + Blatt","Frischmasse",null,null,null,0.28000000000000003,0.17,0.73]
[101,"Topinambur Blatt","Frischmasse",null,null,null,0.22,7.0000000000000007E-2,0.43]
[102,"Grassamen Korn","Frischmasse","86","Korn",null,2.2000000000000002,0.7,0.6,null,null,null,null,null,null,null,null,null,null,0]
[103,"Grassamen Korn + Stroh","Frischmasse",null,"Korn+Stroh",null,14.2,3.1,21.5,null,null,null,null,null,null,null,null,null,null,0]
[104,"Grassamen Stroh","Frischmasse","86","Stroh",null,1.5,0.3,2.6]
[105,"Klee-/Luzernesamen Korn","Frischmasse","91","Korn",null,5.5,1.46,1.25,null,null,null,null,null,null,null,null,null,"Leg",10]
[106,"Klee-/Luzernesamen Korn + Stroh","Frischmasse",null,"Korn+Stroh",null,17.5,3.86,22,null,null,null,null,null,null,null,null,null,"Leg",10]
[107,"Klee-/Luzernesamen Stroh","Frischmasse","86","Stroh",null,1.5,0.3,2.6,null,null,null,null,null,null,null,null,null,"Leg"]
[108,"Weizen (Milch- bis Teigreife) Ganzpflanze","Frischmasse","20","Grobfutter",1.1499999999999999,0.49,0.2,0.41,null,null,null,null,null,null,null,null,null,null,0]
[109,"Triticale (Mich- bis Teigreife) Ganzpflanze","Frischmasse","20","Grobfutter",1.1499999999999999,0.39,0.21,0.48,null,null,null,null,null,null,null,null,null,null,0]
[110,"Hafer (Milchreife) Ganzpflanze","Frischmasse","20","Grobfutter",1.1499999999999999,0.53,0.22,0.94,null,null,null,null,null,null,null,null,null,null,0]
[111,"Getreide allg. Ganzpflanze","Frischmasse","20","Grobfutter",1.1499999999999999,0.56000000000000005,0.28000000000000003,0.49,null,null,null,null,null,null,null,null,null,null,0]
[112,"Sonnenblume (Zitronenreife) Ganzpflanze","Frischmasse","20","GP ",null,0.47,0.12,0.98,null,null,null,null,null,null,null,null,null,null,0]
[113,"Sonnenblume/Mais Ganzpflanze","Frischmasse","20","GP ",null,0.34,0.17,0.72,null,null,null,null,null,null,null,null,null,null,0]
[114,"Sudangras (Teigreife) Ganzpflanze","Frischmasse","28","GP ",null,0.27,0.23,0.38,null,null,null,null,null,null,null,null,null,null,0]
[115,"Zuckerhirse (Milch- bis Teigreife) Ganzpflanze","Frischmasse","28","GP ",null,0.35,0.17,0.52,null,null,null,null,null,null,null,null,null,null,0]
[116,"Rotklee  Ganzpflanze","Frischmasse","20","Grobfutter",1.25,0.55000000000000004,0.13,0.6,null,null,null,null,null,null,null,null,null,"Leg",20,null,null,null,null,null,null,0.47]
[117,"Luzerne  Ganzpflanze","Frischmasse","20","Grobfutter",1.25,0.6,0.14000000000000001,0.65,null,null,null,null,null,null,null,null,null,"Leg",20,null,null,null,null,null,null,0.56999999999999995]
[118,"Weidelgras Ganzpflanze","Frischmasse","20","Grobfutter",1.25,0.48,0.16,0.65,null,null,null,null,null,null,null,null,null,null,20]
[119,"Kleegras (50:50) Ganzpflanze","Frischmasse","20","Grobfutter",1.25,0.52,0.14000000000000001,0.62,null,null,null,null,null,null,null,null,null,null,20,null,null,null,null,null,null,0.27]
[120,"Luzernegras (50:50) Ganzpflanze","Frischmasse","20","Grobfutter",1.25,0.54,0.15,0.65,null,null,null,null,null,null,null,null,null,null,20,null,null,null,null,null,null,0.31]
[121,"Kleegras (70:30) Ganzpflanze","Frischmasse","20","Grobfutter",1.25,0.53,0.14000000000000001,0.62,null,null,null,null,null,null,null,null,null,null,20,null,null,null,null,null,null,0.27]
[122,"Luzernegras (70:30) Ganzpflanze","Frischmasse","20","Grobfutter",1.25,0.55000000000000004,0.15,0.65,null,null,null,null,null,null,null,null,null,null,20,null,null,null,null,null,null,0.38]
[123,"Futterzwischenfrüchte Ganzpflanze","Frischmasse","15","Grobfutter",1.1499999999999999,0.35,0.11,0.45,null,null,null,null,null,null,null,null,null,null,10]
[124,"Flachs (Faserlein) Ganzpflanze","Frischmasse","86","GP ",null,1,0.6,1.6,null,null,null,null,null,null,null,null,null,null,10]
[125,"Hanf (100-150 dt TM) Ganzpflanze","Frischmasse","40","GP ",null,0.4,0.24,0.09,null,null,null,null,null,null,null,null,null,null,10]
[126,"Micanthus Ganzpflanze","Frischmasse","80","GP ",null,0.15,0.12,0.6]
[127,"Rotationsbrache mit Leguminosen","Frischmasse",null,"GP ",null,2.9,0.9,3.5,null,null,null,null,null,null,null,null,null,null,20]
[128,"Rotationsbrache ohne Leguminnosen","Frischmasse",null,"GP ",null,0.35,0.11,0.45,null,null,null,null,null,null,null,null,null,null,10]
[129,"Leguminosenzwischenfrüchte ","Frischmasse","15","GP ",null,2.9,0.9,3.5,null,null,null,null,null,null,null,null,null,null,20]
[130,"Grünl. 1 Nutz. 40 dt TM 8,6 % RP","Trockenmasse","25","Grobfutter",1.25,1.3,0.6,1.5,null,null,null,null,40,55,null,null,null,null,null,null,8.6,1.4,6,null,null,null,30]
[131,"Grünl.2 Nutz 55 dt TM 11,4% RP","Trockenmasse","25","Grobfutter",1.25,1.8,0.7,2.5,null,null,null,null,55,100,null,null,null,null,null,null,11.4,1.8,9,null,null,null,30]
[132,"Grünl. 3 Nutz 80 dt TM 15% RP","Trockenmasse","20","Grobfutter",1.25,2.2000000000000002,0.95,2.9,null,null,null,null,80,190,null,null,null,null,null,null,15,2.4,13,null,null,null,30]
[133,"Grünl. 4 Nutz 90 dt TM 17% ","Trockenmasse","20","Grobfutter",1.25,2.7,1,3,null,null,null,null,90,245,null,null,null,null,null,null,17,2.7,14,null,null,null,30]
[134,"Grünl. 5 Nutz 110 dt TM RP 17,5% RP","Trockenmasse","20","Grobfutter",1.25,2.8,1,3,null,null,null,null,110,310,null,null,null,null,null,null,17.5,2.8,18,null,null,null,30]
[135,"Grünl. 6 Nutz.120 dt/ha RP 18,2% RP","Trockenmasse","17","Grobfutter",1.25,2.8,1,3,null,null,null,null,120,350,null,null,null,null,null,null,18.2,2.9,19,null,null,null,30]
[136,"Weide intensiv 18% RP","Trockenmasse","17","Grobfutter",1.25,2.8,1,3,null,null,null,null,90,130,null,null,null,null,null,null,18,1.5,8,null,null,null,30]
[137,"Mähw. 60% Weideanteil 17,55% RP","Trockenmasse","25","Grobfutter",1.25,2.8,1,3,null,null,null,null,94,190,null,null,null,null,null,null,17.600000000000001,2,11,null,null,null,30]
[138,"Mähw. 20 % Weideanteil 17,2% RP","Trockenmasse","25","Grobfutter",1.25,2.8,1,3,null,null,null,null,98,245,null,null,null,null,null,null,17.2,2.5,14,null,null,null,30]
[139,"Weide extensiv 12,5% RP","Trockenmasse","25","Grobfutter",1.25,2.8,1,3,null,null,null,null,65,65,null,null,null,null,null,null,12.5,1,5,null,null,null,30]
[140,"Ackergras 5 Sch.pro Jahr 16,6% RP","Trockenmasse","25","Grobfutter",1.25,2.8,1,3,null,null,null,null,150,400,null,null,null,null,null,null,16.600000000000001,2.7,24]
[141,"Ackergras 3-4 Sch.pro Jahr 16,2% RP","Trockenmasse","20","Grobfutter",1.25,2.8,1,3,null,null,null,null,120,310,null,null,null,null,null,null,16.2,2.6,19]
[142,"Klee/Luz.gras 3-4 Schn.50 % Grä.18,2 % RP","Trockenmasse","25","Grobfutter",1.25,2.8,1,3,null,null,null,null,120,350,null,null,null,null,null,null,18.2,2.9,19,null,null,0.31]
[143,"Rotklee/Luzerne in Reinkultur 20,5% RrP","Trockenmasse","25","Grobfutter",1.25,1.6,0.7,2.5,null,null,null,null,110,360,null,null,null,null,null,null,20.5,null,null,null,null,0.24]
[144]
[145]
[146]
[147]
[148]
[149]
[150]
[151]
[152]
[153]
[154,"Wein ",null,null,null,null,0.02,0.02,7.0000000000000007E-2]
[155,"Most ",null,null,null,null,0.06,0.04,0.14000000000000001]
[156,"Reben (Trauben) ",null,null,null,null,0.25,0.1,0.4]
[157,"Weinhefe flüssig (20% TM) ",null,null,null,null,0.8,0.3,1.2]
[158,"Hopfen Dolden",null,null,null,null,3,1,3]
[159,"Hopfen Rebenhäcksel",null,null,null,null,0.56000000000000005,0.09,0.47]
[160,"Tabak (Burley + DLT) Blätter",null,null,null,null,4,1.3,6.9]
[161,"Tabak (Virgin) Blätter",null,null,null,null,2.1,0.77,6.7]
[162,"Kernobst            400 dt FM/ha ","Frischmasse",null,null,null,0.11,0.03,0.19]
[163,"Steinobst           200 dt FM/ha ","Frischmasse",null,null,null,0.25,0.06,0.4]
[164,"Erdbeere, Pflanzung  140 dt FM/ha ","Frischmasse",null,null,null,0.17,0.05,0.28000000000000003,null,null,null,null,0,60,null,null,30]
[165,"Erdbeere, Frühjahr  140 dt FM/ha ","Frischmasse",null,null,null,0.17,0.05,0.28000000000000003,null,null,null,null,140,60,null,null,30]
[166,"Erdbeere, nach Ernte  140 dt FM/ha ","Frischmasse",null,null,null,0.17,0.05,0.28000000000000003,null,null,null,null,140,60,null,null,30]
[167,"Himbeere           100 dt FM/ha  ","Frischmasse",null,null,null,0.2,0.04,0.2]
[168,"Johannisbeere    100 dt FM/ha ","Frischmasse",null,null,null,0.2,0.04,0.2]
[169,"Christbaumkultur kg/ha u. Jahr ","Frischmasse",null,null,null,20,10,20]
[170,"Blumenkohl         350 dt FM/ha ","Frischmasse",null,"Gemüse",null,0.28000000000000003,0.11,0.36,null,0.314,null,null,350,300,null,null,60,null,null,null,null,null,null,null,-60]
[171,"Brokkoli              150 dt FM/ha ","Frischmasse",null,"Gemüse",null,0.45,0.15,0.46,null,0.371,null,null,150,310,null,null,60,null,null,null,null,null,null,null,-60]
[172,"Buschbohnen      80 dt FM/ha Industrie","Frischmasse",null,"Gemüse",null,0.25,0.09,0.3,null,0.34699999999999998,null,null,null,null,null,null,60,null,null,null,null,null,null,null,-60]
[173,"Buschbohnen      120 dt FM/ha Frischmarkt","Frischmasse",null,"Gemüse",null,0.25,0.09,0.3,null,0.34699999999999998,null,null,120,110,null,null,60,null,null,null,null,null,null,null,-60]
[174,"Chicoree             450 dt FM/ha ","Frischmasse",null,"Gemüse",null,0.25,0.12,0.54,null,null,null,null,450,135,null,null,90]
[175,"Chinakohl           700 dt FM/ha ","Frischmasse",null,"Gemüse",null,0.15,0.1,0.28999999999999998,null,0.16300000000000001,null,null,700,210,null,null,60,null,null,null,null,null,null,null,-60]
[176,"Dill                     200 dt FM/ha ","Frischmasse",null,"Gemüse",null,0.3,0.09,0.6,null,0.3,null,null,200,85,null,null,30,null,null,null,null,null,null,null,-60]
[177,"Dill, Industrieware","Frischmasse",null,"Gemüse",null,0.3,0.09,0.6,null,0.3,null,null,250,105,null,null,30,null,null,null,null,null,null,null,-60]
[178,"Eichblatt             400 dt FM/ha ","Frischmasse",null,"Gemüse",null,0.19,7.0000000000000007E-2,0.38,null,0.19,null,null,null,null,null,null,null,null,null,null,null,null,null,null,-60]
[179,"Einlegegurke       700 dt FM/ha ","Frischmasse",null,"Gemüse",null,0.15,7.0000000000000007E-2,0.24,null,0.17100000000000001,null,null,null,null,null,null,null,null,null,null,null,null,null,null,-60]
[180,"Eissalat              450 dt FM/ha ","Frischmasse",null,"Gemüse",null,0.15,0.06,0.3,null,0.155,null,null,null,null,null,null,null,null,null,null,null,null,null,null,-60]
[181,"Endivien Frisée","Frischmasse",null,"Gemüse",null,0.25,null,null,null,0.25,null,null,null,null,null,null,null,null,null,null,null,null,null,null,-60]
[182,"Endivien              600 dt FM/ha ","Frischmasse",null,"Gemüse",null,0.25,0.06,0.55000000000000004,null,0.25,null,null,null,null,null,null,null,null,null,null,null,null,null,null,-60]
[183,"Feldsalat            80 dt FM/ha ","Frischmasse",null,"Gemüse",null,0.45,0.1,0.65,null,0.45,null,null,80,85,null,null,15,null,null,null,null,null,null,null,-60]
[184,"Feldsalat, großblättrig","Frischmasse",null,"Gemüse",null,0.46,0.1,0.65,null,0.45,null,null,130,110,null,null,15,null,null,null,null,null,null,null,-60]
[185,"Fenchel, Knollen- 400 dt FM/ha ","Frischmasse",null,"Gemüse",null,0.2,7.0000000000000007E-2,0.48,null,0.24299999999999999,null,null,400,200,null,null,60,null,null,null,null,null,null,null,-60]
[186,"Gemüseerbse  80 dt/ha","Frischmasse",null,"Gemüse",null,1,0.23,null,null,0.52,null,null,80,85,null,null,60,null,null,null,null,null,null,null,-60]
[187,"Grünerbse Hülse 100 dt FM/ha Hülse","Frischmasse",null,"Gemüse",null,0.16,0.17,0.4,null,null,null,null,null,null,null,null,null,null,null,null,null,null,null,null,-60]
[188,"Grünerbse Korn    50 dt FM/ha Korn","Frischmasse",null,"Gemüse",null,1,0.23,0.36,null,null,null,null,null,null,null,null,null,null,null,null,null,null,null,null,-60]
[189,"Grünkohl            400 dt FM/ha ","Frischmasse",null,"Gemüse",null,0.49,0.17,0.59,null,0.46200000000000002,null,null,400,200,null,null,60,null,null,null,null,null,null,null,-60]
[190,"Gurke Einleger  800 dt/ha","Frischmasse",null,"Gemüse",null,0.17100000000000001,null,null,null,0.17100000000000001,null,null,800,210,null,null,30,null,null,null,null,null,null,null,-60]
[191,"Kohlrabi             450 dt FM/ha ","Frischmasse",null,"Gemüse",null,0.28000000000000003,0.11,0.42,null,0.29799999999999999,null,null,450,230,null,null,30,null,null,null,null,null,null,null,-60]
[192,"Kohlrübe","Frischmasse",null,"Gemüse",null,0.26,0.16,null,null,null,null,null,null,null,null,null,null,null,null,null,null,null,null,null,-60]
[193,"Kopfsalat            500 dt FM/ha ","Frischmasse",null,"Gemüse",null,0.18,7.0000000000000007E-2,0.36,null,0.18,null,null,null,null,null,null,null,null,null,null,null,null,null,null,-60]
[194,"Kürbis 400 dt/ha","Frischmasse",null,"Gemüse",null,0.25,0.21,null,null,0.25,null,null,400,140,null,null,60]
[195,"Lollo Salat ","Frischmasse",null,"Gemüse",null,0.19,7.0000000000000007E-2,0.38,null,0.19,null,null,null,null,null,null,null,null,null,null,null,null,null,null,-60]
[196,"Mairüben (mit Laub) 650 dt/ha  Bund","Frischmasse",null,"Gemüse",null,0.17,0.1,null,null,0.17,null,null,650,170,null,null,30,null,null,null,null,null,null,null,-60]
[197,"Möhren   Bund    600 dt FM/ha Bund","Frischmasse",null,"Gemüse",null,0.13,0.09,0.53,null,0.17,null,null,600,115,null,null,60]
[198,"Möhre Industrie 900 dt/ha","Frischmasse",null,"Gemüse",null,0.13,0.08,null,null,0.17299999999999999,null,null,900,165,null,null,90]
[199,"Möhren Wasch    700dt FM/ha","Frischmasse",null,"Gemüse",null,0.13,0.09,0.42,null,0.16800000000000001,null,null,700,125,null,null,60]
[200,"Paprika              500 dt FM/ha ","Frischmasse",null,"Gemüse",null,0.23,0.08,0.28999999999999998,null,null,null,null,null,null,null,null,null,null,null,null,null,null,null,null,-60]
[201,"Pastinaken  400 dt/ha","Frischmasse",null,"Gemüse",null,0.25,0.24,null,null,0.33300000000000002,null,null,400,140,null,null,60]
[202,"Petersilie erster Schnitt","Frischmasse",null,"Gemüse",null,0.45,0.11,0.66,null,0.45,null,null,240,160,null,null,60,null,null,null,null,null,null,null,-60]
[203,"Petersilie, nach einem Schnitt","Frischmasse",null,"Gemüse",null,0.45,0.12,null,null,0.436,null,null,160,100,null,null,60,null,null,null,null,null,null,null,-60]
[204,"Petersilie, Wurzel","Frischmasse",null,"Gemüse",null,0.42,0.14000000000000001,null,null,0.42,null,null,400,130,null,null,60]
[205,"Porree                600 dt FM/ha  ","Frischmasse",null,"Gemüse",null,0.25,0.09,0.36,null,0.27,null,null,600,250,null,null,60,null,null,null,null,null,null,null,-60]
[206,"Radicchio           280 dt FM/ha ","Frischmasse",null,"Gemüse",null,0.25,0.09,0.48,null,0.25,null,null,null,null,null,null,null,null,null,null,null,null,null,null,-60]
[207,"Radies               300 dt FM/ha  ","Frischmasse",null,"Gemüse",null,0.2,7.0000000000000007E-2,0.34,null,0.2,null,null,300,110,null,null,30,null,null,null,null,null,null,null,-60]
[208,"Rettich Bund      500 dt FM/ha           Bund","Frischmasse",null,"Gemüse",null,0.17,0.09,0.36,null,0.17,null,null,500,140,null,null,30,null,null,null,null,null,null,null,-60]
[209,"Rettich 550 dt FM/ha Deutscher","Frischmasse",null,"Gemüse",null,0.14000000000000001,0.09,0.4,null,0.17100000000000001,null,null,550,175,null,null,60,null,null,null,null,null,null,null,-60]
[210,"Rettich 900 dt FM/ha Japaner","Frischmasse",null,"Gemüse",null,0.1,7.0000000000000007E-2,0.34,null,0.13100000000000001,null,null,1000,230,null,null,60,null,null,null,null,null,null,null,-60]
[211,"Rhabarber 1. Standjahr","Frischmasse",null,"Gemüse",null,0.18,null,null,null,null,null,null,0,130,null,null,30]
[212,"Rhabarber 2. Standjahr Austrieb","Frischmasse",null,"Gemüse",null,0.18,null,null,null,null,null,null,100,100,null,null,30]
[213,"Rhabarber 3. Standjahr Austrieb","Frischmasse",null,"Gemüse",null,0.18,null,null,null,null,null,null,200,120,null,null,60]
[214,"Rhabarber ab 4. Standjahr Austrieb","Frischmasse",null,"Gemüse",null,0.18,null,null,null,null,null,null,350,140,null,null,60]
[215,"Rhabarber 2. Standjahr nach Ernte","Frischmasse",null,"Gemüse",null,0.18,null,null,null,null,null,null,null,150,null,null,60]
[216,"Rhabarber 3. Standjahr nach Ernte","Frischmasse",null,"Gemüse",null,0.18,null,null,null,null,null,null,null,170,null,null,90]
[217,"Rhabarber ab 4. Standjahr nach Ernte","Frischmasse",null,"Gemüse",null,0.18,null,null,null,null,null,null,null,140,null,null,90]
[218,"Rhababer","Frischmasse",null,"Gemüse",null,0.18,0.05,null,null,null,null,null,null,null,null,null,null,null,null,null,null,null,null,null,-60]
[219,"Romana  ","Frischmasse",null,"Gemüse",null,0.2,0.09,0.4,null,0.2,null,null,null,null,null,null,null,null,null,null,null,null,null,null,-60]
[220,"Romana Herzen","Frischmasse",null,"Gemüse",null,0.24,null,null,null,0.26800000000000002,null,null,null,null,null,null,null,null,null,null,null,null,null,null,-60]
[221,"Rosenkohl 250 dt FM/ha ","Frischmasse",null,"Gemüse",null,0.65,0.2,0.66,null,0.46899999999999997,null,null,250,310,null,null,90,null,null,null,null,null,null,null,-60]
[222,"Rote Rüben Bund 500 dt FM/ha Bund","Frischmasse",null,"Gemüse",null,0.27,0.11,0.55000000000000004,null,null,null,null,null,null,null,null,null,null,null,null,null,null,null,null,-60]
[223,"Rote Rüben Knoll 600 dt FM/ha Knolle","Frischmasse",null,"Gemüse",null,0.28000000000000003,0.11,0.48,null,0.27,null,null,600,250,null,null,60,null,null,null,null,null,null,null,-60]
[224,"Rotkohl 500 dt FM/ha ","Frischmasse",null,"Gemüse",null,0.22,0.09,0.36,null,0.25600000000000001,null,null,600,260,null,null,60,null,null,null,null,null,null,null,-60]
[225,"Rucola, Feinware","Frischmasse",null,"Gemüse",null,0.4,0.1,null,null,0.36699999999999999,null,null,175,150,null,null,30,null,null,null,null,null,null,null,-60]
[226,"Rucola, Grobware","Frischmasse",null,"Gemüse",null,0.4,0.1,null,null,0.36699999999999999,null,null,300,210,null,null,30,null,null,null,null,null,null,null,-60]
[227,"Salate, Baby Leaf Lettuce","Frischmasse",null,"Gemüse",null,0.35,0.08,null,null,null,null,null,140,90,null,null,30]
[228,"Salate, Blatt-, grün (Lollo, Eichblatt, Krul)","Frischmasse",null,"Gemüse",null,0.19,7.0000000000000007E-2,0.38,null,0.19,null,null,350,130,null,null,30,null,null,null,null,null,null,null,-60]
[229,"Salate, Blatt-, rot (Lollo, Eichblatt, Krul)","Frischmasse",null,"Gemüse",null,0.19,7.0000000000000007E-2,0.38,null,0.19,null,null,300,115,null,null,30,null,null,null,null,null,null,null,-60]
[230,"Salate, Eissalat","Frischmasse",null,"Gemüse",null,0.15,0.06,0.3,null,0.155,null,null,600,175,null,null,30,null,null,null,null,null,null,null,-60]
[231,"Salate, Endivien, Frisée","Frischmasse",null,"Gemüse",null,0.25,0.06,null,null,0.25,null,null,350,150,null,null,60,null,null,null,null,null,null,null,-60]
[232,"Salate, Endivien, glattblättrig","Frischmasse",null,"Gemüse",null,0.25,0.06,0.55000000000000004,null,0.25,null,null,600,190,null,null,60,null,null,null,null,null,null,null,-60]
[233,"Salate, Kopfsalat","Frischmasse",null,"Gemüse",null,0.18,7.0000000000000007E-2,0.36,null,0.18,null,null,500,150,null,null,30,null,null,null,null,null,null,null,-60]
[234,"Salate, Radicchio","Frischmasse",null,"Gemüse",null,0.25,0.09,0.48,null,0.25,null,null,280,140,null,null,60,null,null,null,null,null,null,null,-60]
[235,"Salate, verschiedene Arten","Frischmasse",null,"Gemüse",null,0.19,7.0000000000000007E-2,null,null,null,null,null,450,150,null,null,30]
[236,"Salate, Romana","Frischmasse",null,"Gemüse",null,0.2,0.09,0.4,null,0.2,null,null,450,140,null,null,60,null,null,null,null,null,null,null,-60]
[237,"Salate, Romana Herzen","Frischmasse",null,"Gemüse",null,0.24,0.09,null,null,0.26800000000000002,null,null,300,150,null,null,30,null,null,null,null,null,null,null,-60]
[238,"Salate, Zuckerhut","Frischmasse",null,"Gemüse",null,0.2,0.11,0.3,null,0.02,null,null,600,190,null,null,60,null,null,null,null,null,null,null,-60]
[239,"Schnittlauch        300 dt FM/ha ","Frischmasse",null,"Gemüse",null,0.5,0.14000000000000001,0.54,null,0.5,null,null,null,null,null,null,null,null,null,null,null,null,null,null,-60]
[240,"Schnittlauch, gesät, bis zum 1. Schnitt**","Frischmasse",null,"Gemüse",null,0.5,0.14000000000000001,null,null,null,null,null,300,210,null,null,60]
[241,"Schnittlauch, gesät, nach einem Schnitt","Frischmasse",null,"Gemüse",null,0.5,0.14000000000000001,null,null,null,null,null,200,180,null,null,60]
[242,"Schnittlauch, Anbau für Treiberei**","Frischmasse",null,"Gemüse",null,0.5,0.14000000000000001,null,null,null,null,null,280,240,null,null,60]
[243,"Schwarzwurzel","Frischmasse",null,"Gemüse",null,0.23,0.16,null,null,0.23799999999999999,null,null,200,75,null,null,90]
[244,"Sellerie Bund   ","Frischmasse",null,"Gemüse",null,0.27,0.13,0.56999999999999995,null,0.27,null,null,600,205,null,null,30,null,null,null,null,null,null,null,-60]
[245,"Sellerie Knolle     650 dt FM/ha Knolle; Industrie","Frischmasse",null,"Gemüse",null,0.25,0.16,0.54,null,0.26700000000000002,null,null,650,220,null,null,60,null,null,null,null,null,null,null,-60]
[246,"Sellerie               500 dt FM/ha Stangen","Frischmasse",null,"Gemüse",null,0.25,0.11,0.54,null,0.25,null,null,500,230,null,null,30,null,null,null,null,null,null,null,-60]
[247,"Spargel 1. Standjahr","Frischmasse",null,"Gemüse",null,null,null,null,null,null,null,null,0,140,null,null,60]
[248,"Spargel 2. Standjahr","Frischmasse",null,"Gemüse",null,0.26,0.08,null,null,null,null,null,20,160,null,null,90]
[249,"Spargel 3. Standjahr","Frischmasse",null,"Gemüse",null,0.26,0.08,null,null,null,null,null,80,160,null,null,90]
[250,"Spargel ab dem 4. Standjahr","Frischmasse",null,"Gemüse",null,0.26,0.08,null,null,null,null,null,100,80,null,null,90]
[251,"Spargel                 40 dt FM/ha ","Frischmasse",null,"Gemüse",null,0.36,0.3,1.25,null,null,null,null,null,null,null,null,null,null,null,null,null,null,null,null,-60]
[252,"Spinat Blatt Baby","Frischmasse",null,"Gemüse",null,0.45,0.11,0.66,null,0.45,null,null,100,100,null,null,30,null,null,null,null,null,null,null,-60]
[253,"Spinat Blatt Standard","Frischmasse",null,"Gemüse",null,0.4,0.11,0.66,null,0.4,null,null,250,190,null,null,30,null,null,null,null,null,null,null,-60]
[254,"Spinat Hack Standard","Frischmasse",null,"Gemüse",null,0.36,0.11,0.66,null,0.36,null,null,300,205,null,null,30,null,null,null,null,null,null,null,-60]
[255,"Stangenbohnen   250 dt FM/ha ","Frischmasse",null,"Gemüse",null,0.25,0.09,0.3,null,0.29499999999999998,null,null,250,100,null,null,60]
[256,"Teltower Rübchen (Herbstanbau)","Frischmasse",null,"Gemüse",null,0.45,0.24,null,null,null,null,null,150,110,null,null,60]
[257,"Tomaten             450 dt FM/ha ","Frischmasse",null,"Gemüse",null,0.16,0.05,0.39,null,null,null,null,null,null,null,null,null,null,null,null,null,null,null,null,-60]
[258,"Weißkohl Frischmarkt","Frischmasse",null,"Gemüse",null,0.2,0.08,0.31,null,0.24199999999999999,null,null,700,260,null,null,60,null,null,null,null,null,null,null,-60]
[259,"Weißkohl, Industrie","Frischmasse",null,"Gemüse",null,0.2,7.0000000000000007E-2,null,null,0.23300000000000001,null,null,1000,320,null,null,90,null,null,null,null,null,null,null,-60]
[260,"Wirsing               350 dt FM/ha ","Frischmasse",null,"Gemüse",null,0.35,0.12,0.39,null,0.375,null,null,400,285,null,null,60,null,null,null,null,null,null,null,-60]
[261,"Zucchini           500 dt FM/ha ","Frischmasse",null,"Gemüse",null,0.16,0.06,0.2,null,0.23,null,null,650,250,null,null,60,null,null,null,null,null,null,null,-60]
[262,"Zuckerhut            600 dt FM/ha ","Frischmasse",null,"Gemüse",null,0.2,0.11,0.3,null,0.02,null,null,null,null,null,null,null,null,null,null,null,null,null,null,-60]
[263,"Zuckermais         200 dt FM/ha ","Frischmasse",null,"Gemüse",null,0.35,0.16,0.26,null,0.317,null,null,200,160,null,null,90,null,null,null,null,null,null,null,-60]
[264,"Zwiebel Bund","Frischmasse",null,"Gemüse",null,0.2,0.09,0.24,null,0.2,null,null,680,210,null,null,30,null,null,null,null,null,null,null,-60]
[265,"Zwiebel Trocken","Frischmasse",null,"Gemüse",null,0.18,0.09,0.24,null,0.224,null,null,600,155,null,null,60]
[266,"Ackerschachtelh.  50 dt FM/ha Kraut (sterile Triebe)","Frischmasse",null,null,null,0.5,0.23,0.74,null,null,null,null,50,25,null,null,30]
[267,"Akelei blüh. Kraut","Frischmasse",null,"Gewürzpflanze",null,0.46,0.14000000000000001,0.82,null,null,null,null,100,86,null,null,60]
[268,"Alant                  300 dt FM/ha Wurzeln","Frischmasse",null,"Gewürzpflanze",null,0.5,0.21,0.76,null,null,null,null,300,206,null,null,60]
[269,"Alant                  130 dt FM/ha Krauternterückstän.","Frischmasse",null,"Gewürzpflanze",null,0.28000000000000003,7.0000000000000007E-2,0.99]
[270,"Ampfer, Krauser (Kraut nach Blüte)",null,null,"Gewürzpflanze",null,0.5,0.16,0.8,null,null,null,null,610,345,null,null,60]
[271,"Ampfer,Wiesen (Blätter)",null,null,"Gewürzpflanze",null,0.33,0.11,0.53,null,null,null,null,150,90,null,null,30]
[272,"Anis (Früchte, Droge!) Samen",null,null,"Gewürzpflanze",null,2.65,1.1499999999999999,1.55,null,null,null,null,15,94,null,null,30]
[273,"Anis Stroh Samenernterückst.",null,null,"Gewürzpflanze",null,0.23,0.21,1.05]
[274,"Artischocke (Kardone) Kraut",null,null,"Gewürzpflanze",null,0.41,0.08,0.8,null,null,null,null,150,82,null,null,60]
[275,"Arzneifenchel        25 dt FM/ha Früchte ( Droge! )","Frischmasse",null,"Gewürzpflanze",null,2.78,1.26,2.58,null,null,null,null,25,148,null,null,60]
[276,"Arzneifenchel      150 dt FM/ha Kraut ohne Früchte","Frischmasse",null,"Gewürzpflanze",null,0.39,0.16,1.1499999999999999]
[277,"Arzneirhabarber (Wurzeln)",null,null,"Gewürzpflanze",null,0.4,0.25,0.47,null,null,null,null,300,255,null,null,60]
[278,"Arzneirhabarber Krauternterückstände",null,null,"Gewürzpflanze",null,0.23,0.1,0.54]
[279,"Bärlauch (Kraut)",null,null,"Gewürzpflanze",null,0.5,0.75,0.4,null,null,null,null,20,10,null,null,30]
[280,"Baikal-Helmkraut (Wurzeln)",null,null,"Gewürzpflanze",null,0.75,0.25,0.62,null,null,null,null,20,102,null,null,30]
[281,"Baldrian             150 dt FM/ha Wurzeln","Frischmasse",null,"Gewürzpflanze",null,0.28999999999999998,0.19,0.41,null,null,null,null,150,120,null,null,30]
[282,"Baldrian             200 dt FM/ha Krauternterückst.","Frischmasse",null,"Gewürzpflanze",null,0.28000000000000003,0.1,0.5]
[283,"Basilikum (Kraut b.Blühbeginn)",null,null,"Gewürzpflanze",null,0.33,0.09,0.39,null,null,null,null,150,90,null,null,30]
[284,"Bergarnika           40 dt FM/ha Blütenkörbe","Frischmasse",null,"Gewürzpflanze",null,0.4,0.16,0.48,null,null,null,null,40,69,null,null,30]
[285,"Bergarnika           60 dt FM/ha Wurzeln","Frischmasse",null,"Gewürzpflanze",null,0.68,0.3,0.65]
[286,"Bergarnika           70 dt FM/ha Krauternterückst.","Frischmasse",null,"Gewürzpflanze",null,0.47,0.16,0.74]
[287,"Bergbohnenkraut135 dt FM/ha Blühendes Kraut",null,null,"Gewürzpflanze",null,0.65,0.16,0.74,null,null,null,null,135,128,null,null,60]
[288,"Bergbohnenkraut130 dt FM/ha Kraut",null,null,"Gewürzpflanze",null,0.32,0.11,0.72]
[289,"Besenbeifuß (A.scoparia) Kraut",null,null,"Gewürzpflanze",null,0.59,0.15,0.76,null,null,null,null,250,188,null,null,60]
[290,"Bibernelle (kl.)     70 dt FM/ha Wurzeln",null,null,"Gewürzpflanze",null,0.35,0.17,0.51,null,null,null,null,70,157,null,null,60]
[291,"Bibernelle (kl.)    250 dt FM/ha Krauternterückst.",null,null,"Gewürzpflanze",null,0.45,0.21,0.85]
[292,"Bockshornklee     20 dt FM/ha Kraut z.Samenernte",null,null,"Gewürzpflanze",null,0.68,0.42,0.82]
[293,"Bockshornklee      5 dt FM/ha Samen (Droge)",null,null,"Gewürzpflanze",null,3.87,1.4,1.53,null,null,null,null,5,33,null,null,60]
[294,"Bohnenkraut      150 dt FM/ha Abgeblühtes Kraut",null,null,"Gewürzpflanze",null,0.85,0.27,0.62]
[295,"Bohnenkraut einj.450 dt FM/ha Blühendes Kraut",null,null,"Gewürzpflanze",null,0.32,0.12,0.49,null,null,null,null,450,184,null,null,30]
[296,"Borretsch           700 dt FM/ha Blühendes Kraut",null,null,"Gewürzpflanze",null,0.15,0.05,0.44,null,null,null,null,700,145,null,null,60]
[297,"Braunelle, Kraut zu Ende d. Blüte",null,null,"Gewürzpflanze",null,0.34,0.17,0.8,null,null,null,null,300,142,null,null,60]
[298,"Brennessel (gr.)  400 dt FM/ha Nicht blüh.Kraut",null,null,"Gewürzpflanze",null,0.59,0.16,0.69,null,null,null,null,400,276,null,null,60]
[299,"Brennessel (gr.)    80 dt FM/ha Wurzeln",null,null,"Gewürzpflanze",null,0.38,0.2,0.51]
[300,"Brennessel (kl.)  120 dt FM/ha Blühendes Kraut",null,null,"Gewürzpflanze",null,0.7,0.15,0.79,null,null,null,null,120,124,null,null,30]
[301,"Brunenkresse Kraut",null,null,"Gewürzpflanze",null,0.3,9.1999999999999998E-2,0.71,null,null,null,null,150,65,null,null,30]
[302,"Dill Frischmarkt Kraut",null,null,"Gewürzpflanze",null,0.3,9.1999999999999998E-2,0.71,null,null,null,null,200,85,null,null,30]
[303,"Dill Industrieware",null,null,"Gewürzpflanze",null,0.3,9.1999999999999998E-2,0.71,null,null,null,null,250,105,null,null,30]
[304,"Dost                  120 dt FM/ha Blühendes Kraut",null,null,"Gewürzpflanze",null,0.5,0.14000000000000001,0.52,null,null,null,null,120,100,null,null,30]
[305,"Drachenkopf       500 dt FM/ha Blühendes Kraut",null,null,"Gewürzpflanze",null,0.27,0.11,0.65,null,null,null,null,500,175,null,null,60]
[306,"Eibisch              150 dt FM/ha Wurzeln",null,null,"Gewürzpflanze",null,0.66,0.3,0.72,null,null,null,null,150,141,null,null,60]
[307,"Eibisch              100 dt FM/ha Krauternterückst.",null,null,"Gewürzpflanze",null,0.22,7.0000000000000007E-2,0.8]
[308,"Eisenkraut, Echtes nicht blüh. Kraut",null,null,"Gewürzpflanze",null,0.48,0.14000000000000001,0.6,null,null,null,null,500,280,null,null,60]
[309,"Engelwurz, Chinesische Wurzeln",null,null,"Gewürzpflanze",null,0.3,0.23,0.65,null,null,null,null,200,164,null,null,60]
[310,"Engelwurz, Europäische Wurzeln",null,null,"Gewürzpflanze",null,0.3,0.23,0.65,null,null,null,null,200,140,null,null,60]
[311,"Engelwurz          400 dt FM/ha Krauternterückst.",null,null,"Gewürzpflanze",null,0.15,7.0000000000000007E-2,0.72]
[312,"Enzian, ohne Ernte",null,null,"Gewürzpflanze",null,null,null,null,null,null,null,null,0,80,null,null,30]
[313,"Enzian, Erntejahr, Wurzeln (nach 4 Jahren)",null,null,"Gewürzpflanze",null,0.3,0.2,0.6,null,null,null,null,300,80,null,null,30]
[314,"Estragon            110 dt FM/ha Abgeblühtes Kraut",null,null,"Gewürzpflanze",null,0.76,0.16,0.62]
[315,"Estragon (dtsch) 150 dt FM/ha Nicht blüh.Kraut",null,null,"Gewürzpflanze",null,0.55000000000000004,0.16,0.88,null,null,null,null,150,123,null,null,30]
[316,"Färberdiestel (Samen)",null,null,"Gewürzpflanze",null,2.06,1.1200000000000001,0.66,null,null,null,null,15,113,null,null,60]
[317,"Federmohn  Kraut 1.Standjahr",null,null,"Gewürzpflanze",null,0.52,0.08,0.41,null,null,null,null,220,134,null,null,60]
[318,"Federmohn Kraut ab 2.Standjahr",null,null,"Gewürzpflanze",null,0.36,0.05,0.26,null,null,null,null,480,193,null,null,60]
[319,"Frauenmantel blüh. Kraut",null,null,"Gewürzpflanze",null,0.38,0.14000000000000001,0.53,null,null,null,null,230,127,null,null,30]
[320,"Galega (Geißkraut) Kraut",null,null,"Gewürzpflanze",null,0.37,0.08,0.66,null,null,null,null,300,131,null,null,60]
[321,"Gartenkresse Kraut",null,null,"Gewürzpflanze",null,0.67,0.09,0.66,null,null,null,null,50,54,null,null,30]
[322,"Goldrute             210 dt FM/ha Blühhorizont",null,null,"Gewürzpflanze",null,0.6,0.21,0.77,null,null,null,null,210,166,null,null,60]
[323,"Johanniskraut     200 dt FM/ha Blühendes Kraut",null,null,"Gewürzpflanze",null,0.53,0.2,0.6,null,null,null,null,200,146,null,null,60]
[324,"Kamille                60 dt FM/ha Kraut ohne Blüten",null,null,"Gewürzpflanze",null,0.26,0.09,0.53]
[325,"Kamille                40 dt FM/ha Blüten",null,null,"Gewürzpflanze",null,0.42,0.21,0.54,null,null,null,null,40,52,null,null,30]
[326,"Kapuzinerkresse, blüh.Kraut",null,null,"Gewürzpflanze",null,0.35,0.09,0.37,null,null,null,null,150,93,null,null,30]
[327,"Kerbel Blätter",null,null,"Gewürzpflanze",null,0.41,0.1,0.7,null,null,null,null,100,81,null,null,30]
[328,"Knoblauch, Zwiebeln ganz",null,null,"Gewürzpflanze",null,null,null,null,null,null,null,null,100,120,null,null,30]
[329,"Knoblauch            80 dt FM/ha Zehen",null,null,"Gewürzpflanze",null,0.61,0.28999999999999998,0.52]
[330,"Knoblauch            20 dt FM/ha Krauternterückst.get",null,null,"Gewürzpflanze",null,0.65,0.23,0.57999999999999996]
[331,"Koriander, Kraut (Blattnutzung)",null,null,"Gewürzpflanze",null,0.41,0.1,0.7,null,null,null,null,120,89,null,null,30]
[332,"Koriander, Samen (Droge!)",null,null,"Gewürzpflanze",null,2.6,1.1000000000000001,1.55,null,null,null,null,15,80,null,null,30]
[333,"Kornblume            70 dt FM/ha Blüten",null,null,"Gewürzpflanze",null,0.44,0.19,0.5,null,null,null,null,70,162,null,null,30]
[334,"Kornblume          130 dt FM/ha Kraut ohne Blüten",null,null,"Gewürzpflanze",null,0.7,7.0000000000000007E-2,0.88]
[335,"Kornblume          200 dt FM/ha Blühendes Kraut",null,null,"Gewürzpflanze",null,0.37,0.1,0.63,null,null,null,null,200,114,null,null,30]
[336,"Kümmel               12 dt FM/ha Samen",null,null,"Gewürzpflanze",null,3.31,0.98,1.2]
[337,"Kümmel  Früchte (Droge!)",null,null,"Gewürzpflanze",null,2.65,1.1499999999999999,1.55,null,null,null,null,20,108,null,null,60]
[338,"Lavendel  , Blütenähren",null,null,"Gewürzpflanze",null,0.51,0.13,0.77,null,null,null,null,25,91,null,null,30]
[339,"Liebstöckel          550 dt FM/ha Nicht blüh.Kraut",null,null,"Gewürzpflanze",null,0.37,0.11,0.5,null,null,null,null,550,244,null,null,60]
[340,"Liebstöckel          120 dt FM/ha Wurzeln",null,null,"Gewürzpflanze",null,0.21,0.15,0.24]
[341,"Löwenzahn  Kraut",null,null,"Gewürzpflanze",null,0.33,0.11,0.53,null,null,null,null,200,106,null,null,30]
[342,"Löwenzahn , Kaukasischer Wurzeln",null,null,"Gewürzpflanze",null,0.5,0.21,0.76,null,null,null,null,30,95,null,null,30]
[343,"Löwenzahn , Kaukasischer Krauternterückstände",null,null,"Gewürzpflanze",null,0.28000000000000003,7.0000000000000007E-2,0.99]
[344,"Mädesüß , blüh.Kraut",null,null,"Gewürzpflanze",null,0.49,0.2,0.79,null,null,null,null,100,69,null,null,60]
[345,"Majoran             200 dt FM/ha Kraut bei Blühbeg.",null,null,"Gewürzpflanze",null,0.48,0.14000000000000001,0.59,null,null,null,null,200,136,null,null,30]
[346,"Malve (blaue)     100 dt FM/ha Blüten",null,null,"Gewürzpflanze",null,0.3,0.16,0.47,null,null,null,null,100,234,null,null,60]
[347,"Malve (blaue)     400 dt FM/ha Kraut ohne Blüten",null,null,"Gewürzpflanze",null,0.41,0.18,0.8]
[348,"Malve (blaue)     500 dt FM/ha Blühendes Kraut",null,null,"Gewürzpflanze",null,0.35,0.16,0.69,null,null,null,null,500,215,null,null,60]
[349,"Mariendistel  Samen (Droge!)",null,null,"Gewürzpflanze",null,2.06,1.1200000000000001,0.66,null,null,null,null,15,100,null,null,30]
[350,"Meerrettich        200 dt FM/ha Wurzeln (Seitenw.)",null,null,"Gewürzpflanze",null,0.69,0.22,0.75,null,null,null,null,200,253,null,null,60]
[351,"Meerrettich        250 dt FM/ha Krauternterückst.",null,null,"Gewürzpflanze",null,0.38,0.1,0.64]
[352,"Melde   Kraut",null,null,"Gewürzpflanze",null,0.33,0.11,0.53,null,null,null,null,150,90,null,null,30]
[353,"Melisse             300 dt FM/ha Nicht blüh.Kraut",null,null,"Gewürzpflanze",null,0.59,0.18,0.59]
[354,"Mohn Samen und Kapsel",null,null,"Gewürzpflanze",null,1.59,0.95,1.63,null,null,null,null,25,78,null,null,60]
[355,"Muskatteller Salbei blüh. Kraut",null,null,"Gewürzpflanze",null,0.24,7.0000000000000007E-2,0.35,null,null,null,null,300,112,null,null,60]
[356,"Mutterkraut        120 dt FM/ha Blühendes Kraut",null,null,"Gewürzpflanze",null,0.45,0.16,0.8,null,null,null,null,120,94,null,null,60]
[357,"Mutterkraut  Chinesisch , blüh. Kraut",null,null,"Gewürzpflanze",null,0.51,0.14000000000000001,0.84,null,null,null,null,250,168,null,null,60]
[358,"Nachtkerze          13 dt FM/ha Samen",null,null,"Gewürzpflanze",null,2.06,1.1200000000000001,0.66,null,null,null,null,13,96,null,null,60]
[359,"Nachtkerze        140 dt FM/ha Kraut",null,null,"Gewürzpflanze",null,0.35,0.14000000000000001,0.48]
[360,"Petersilie (Blatt-) Blätter bis 1.Schmitt",null,null,"Gewürzpflanze",null,0.45,0.12,0.53,null,null,null,null,240,160,null,null,60]
[361,"Petersilie (Blatt-) Blätter nach 1.Schmitt",null,null,"Gewürzpflanze",null,0.45,0.12,0.53,null,null,null,null,160,100,null,null,60]
[362,"Pfefferminze       400 dt FM/ha Nicht blüh.Kraut",null,null,"Gewürzpflanze",null,0.42,0.11,0.55000000000000004,null,null,null,null,400,208,null,null,30]
[363,"Ringelblume       450 dt FM/ha Kraut ohne Blüten",null,null,"Gewürzpflanze",null,0.28999999999999998,7.0000000000000007E-2,0.7]
[364,"Ringelblume         50 dt FM/ha Blüten",null,null,"Gewürzpflanze",null,0.3,0.12,0.46,null,null,null,null,50,186,null,null,60]
[365,"Ringelblume       600 dt FM/ha Blühendes Kraut",null,null,"Gewürzpflanze",null,0.28999999999999998,7.0000000000000007E-2,0.5,null,null,null,null,600,214,null,null,60]
[366,"Rosmarien nicht blüh.Kraut",null,null,"Gewürzpflanze",null,0.57999999999999996,0.09,0.5,null,null,null,null,80,90,null,null,30]
[367,"Rotwurzelsalbei Wurzeln",null,null,"Gewürzpflanze",null,0.36,0.13,0.41,null,null,null,null,200,173,null,null,60]
[368,"Salbei                350 dt FM/ha Nicht blüh.Kraut",null,null,"Gewürzpflanze",null,0.49,0.11,0.62,null,null,null,null,350,212,null,null,60]
[369,"Saposhnikovia Wurzeln",null,null,"Gewürzpflanze",null,0.5,0.23,0.64,null,null,null,null,80,109,null,null,30]
[370,"Saposhnikovia Krauternterückstände",null,null,"Gewürzpflanze",null,0.61,0.15,0.89]
[371,"Saussurea costus Wurzel",null,null,"Gewürzpflanze",null,0.5,0.21,0.76,null,null,null,null,100,98,null,null,60]
[372,"Saussurea costus Krautrnterückstände",null,null,"Gewürzpflanze",null,0.28000000000000003,7.0000000000000007E-2,0.99]
[373,"Schabzigerklee   300 dt FM/ha Blühendes Kraut",null,null,"Gewürzpflanze",null,0.37,0.08,0.66,null,null,null,null,300,131,null,null,60]
[374,"Schafgarbe         350 dt FM/ha Blühhorizont",null,null,"Gewürzpflanze",null,0.46,0.16,0.77,null,null,null,null,350,181,null,null,60]
[375,"Schleifenblume, Bittere  Kraut",null,null,"Gewürzpflanze",null,0.35,0.09,0.37,null,null,null,null,150,93,null,null,30]
[376,"Schlüsselblume Wurzeln",null,null,"Gewürzpflanze",null,0.27,0.15,0.35,null,null,null,null,120,105,null,null,30]
[377,"Schnittknoblauch Kraut",null,null,"Gewürzpflanze",null,0.5,0.14000000000000001,0.52,null,null,null,null,200,160,null,null,60]
[378,"Schnittauch , Kraut bis 1.Schnitt",null,null,"Gewürzpflanze",null,0.5,0.13700000000000001,0.52,null,null,null,null,300,210,null,null,60]
[379,"Schnittauch , Kraut nach 1.Schnitt",null,null,"Gewürzpflanze",null,0.5,0.13700000000000001,0.52,null,null,null,null,200,180,null,null,60]
[380,"Schnittlauch f. Treiberei",null,null,"Gewürzpflanze",null,0.5,0.13700000000000001,0.52,null,null,null,null,280,240,null,null,60]
[381,"Schöllkraut         300 dt FM/ha Blühendes Kraut",null,null,"Gewürzpflanze",null,0.4,0.11,0.5,null,null,null,null,300,160,null,null,60]
[382,"Sellerie, Schnitt Kraut",null,null,"Gewürzpflanze",null,0.37,0.11,0.5,null,null,null,null,550,244,null,null,60]
[383,"Senf, Brauner  Samen (Droge!)",null,null,"Gewürzpflanze",null,5,1.77,0.93,null,null,null,null,15,96,null,null,60]
[384,"Senf, Gelber   Samen (Droge!)",null,null,"Gewürzpflanze",null,5,1.77,0.93,null,null,null,null,15,96,null,null,60]
[385,"Siegesbeckia  blüh.Kraut",null,null,"Gewürzpflanze",null,0.26,0.1,0.54,null,null,null,null,500,150,null,null,60]
[386,"SonnenhutEch.ang.50dt FM/ha Blühendes Kraut",null,null,"Gewürzpflanze",null,0.56000000000000005,0.12,0.82,null,null,null,null,50,75,null,null,60]
[387,"SonnenhutEch.ang.20dt FM/ha Wurzeln",null,null,"Gewürzpflanze",null,0.95,0.2,0.45]
[388,"Sonnenhut (roter) 300 dt FM/ha Blühendes Kraut",null,null,"Gewürzpflanze",null,0.44,0.13,0.83,null,null,null,null,300,215,null,null,60]
[389,"Sonnenhut (roter) 150 dt FM/ha Wurzeln",null,null,"Gewürzpflanze",null,0.46,0.14000000000000001,0.5]
[390,"SonnenhutEch.pal.300dt FM/ha Blühendes Kraut",null,null,"Gewürzpflanze",null,0.31,0.1,0.45,null,null,null,null,300,169,null,null,60]
[391,"SonnenhutEch.pal.150dt FM/ha Wurzeln",null,null,"Gewürzpflanze",null,0.57999999999999996,0.14000000000000001,0.49]
[392,"Spitzwegerich     200 dt FM/ha Kraut",null,null,"Gewürzpflanze",null,0.33,0.11,0.53,null,null,null,null,200,10,null,null,60]
[393,"Steinklee (blauer)400 dt FM/ha Blühendes Kraut",null,null,"Gewürzpflanze",null,0.37,0.11,0.91]
[394,"Steinklee (gelber)350 dt FM/ha Blühendes Kraut",null,null,"Gewürzpflanze",null,0.57999999999999996,0.14000000000000001,0.41,null,null,null,null,350,223,null,null,30]
[395,"Schwarzkümmel   Samen(Droge!)",null,null,"Gewürzpflanze",null,3.6,1.71,0.92,null,null,null,null,15,105,null,null,60]
[396,"Thymian             150 dt FM/ha Blühendes Kraut",null,null,"Gewürzpflanze",null,0.44,0.12,0.77,null,null,null,null,150,106,null,null,60]
[397,"Tollkirsche   Kraut",null,null,"Gewürzpflanze",null,0.73,0.46,0.55000000000000004,null,null,null,null,120,128,null,null,60]
[398,"Tragant, Chinesischer  Wurzeln",null,null,"Gewürzpflanze",null,0.56999999999999995,0.25,0.49,null,null,null,null,40,151,null,null,60]
[399,"Wermut, Beifuß   nicht blüh. Kraut",null,null,"Gewürzpflanze",null,0.39,0.17,0.67,null,null,null,null,300,137,null,null,60]
[400,"Wiesenknopf, Kleiner  Kraut",null,null,"Gewürzpflanze",null,0.41,0.1,0.7,null,null,null,null,100,81,null,null,30]
[401,"Winterheckenzwiebel  Kraut",null,null,"Gewürzpflanze",null,0.5,0.14000000000000001,0.52,null,null,null,null,200,140,null,null,30]
[402,"Ysop  blüh. Kraut",null,null,"Gewürzpflanze",null,0.42,0.1,0.56000000000000005,null,null,null,null,150,103,null,null,30]
[403,"Zitronenmelisse  300 dt FM/ha Nicht blüh.Kraut",null,null,"Gewürzpflanze",null,0.49,0.14000000000000001,0.76,null,null,null,null,300,187,null,null,60]
[404,"Zirtonenverbene  Kraur",null,null,"Gewürzpflanze",null,0.48,0.14000000000000001,0.6,null,null,null,null,500,280,null,null,60]

{"sheet":"Dünger","index":5,"n_rows":147,"n_cols":23,"rows_kept":147,"cut":false,"hidden":false,"merged":[]}
[null,1,2,3,4,5,6,7,8,9,10,11,12,13,14,15,16,17,18,19,20]
[null,"Düngemittel","€/dt","TS","N\nkg pro \nm³, dt oder t","NH3 N\nkg pro \nm³, dt oder t","Amid N","P2O5\nkg pro \nm³, dt oder t","K2O\nkg pro \nm³, dt oder t","MgO\nkg pro \nm³, dt oder t","S\nkg pro \nm³, dt oder t","CaO \nAckerland","CaO \nGrünland","basisch wirksame\nBestandteilekg/m3","Anrechnung \n170 kg/ha","Anrechnung \nNährstoffbilanz","Aufnahme fremder \nWD im Betrieb","Mindestanrechnung \nAnwendungsjahr\nAcker","Mindestanrechnung \nAnwendungsjahr\nGrünland",null,"Kategorie"]
[1,"AH-Lösung kg/dt",null,null,28,null,null,0,0,null,null,-38,-22,null,null,1,null,null,null,null,"mineralisch"]
[2,"AH-Lösung kg/m3",null,null,36,null,null,0,0,null,null,null,null,null,null,1,null,null,null,null,"mineralisch"]
[3,"Alzon ",null,null,25,null,null,0,0,null,13,null,null,null,null,1,null,null,null,null,"mineralisch"]
[4,"Ammoniak-Gas   kg/m3",null,null,82,null,null,0,0,null,null,null,null,null,null,1,null,null,null,null,"mineralisch"]
[5,"Kalkstickstoff-gek.",null,null,20,13.5,null,0,0,null,null,35,39,null,null,1,null,null,null,null,"mineralisch"]
[6,"Kalkstickstoff-gem.",null,null,20.5,13.5,null,0,0,null,null,35,39,null,null,1,null,null,null,null,"mineralisch"]
[7,"Harnstoff",null,null,46,null,46,0,0,null,null,-46,-37,null,null,1,null,null,null,null,"mineralisch"]
[8,"Kalkammonsalpeter 27",null,null,27,13.5,null,0,0,null,null,-13,-8,null,null,1,null,null,null,null,"mineralisch"]
[9,"Kalkammonsalpeter 26",null,null,26,13,null,0,0,null,null,-12,-7,null,null,1,null,null,null,null,"mineralisch"]
[10,"ASS",null,null,26,19,null,0,0,null,13,-63,-59,null,null,1,null,null,null,null,"mineralisch"]
[11,"Piagran Pro",null,null,46,null,46,0,0,null,null,-46,-37,null,null,1,null,null,null,null,"mineralisch"]
[12,"Alzon Neo N",null,null,46,null,46,0,0,null,null,-46,-37,null,null,1,null,null,null,null,"mineralisch"]
[13,"Alzon fl.",null,null,46,null,46,0,0,null,null,-46,-46,null,null,null,null,null,null,null,"mineralisch"]
[14,"Entec",null,null,26,18.5,null,0,0,null,13,-20,-20,null,null,null,null,null,null,null,"mineralisch"]
[15,"Schw. Ammoniak",null,null,21,21,null,0,0,null,24,-63,-63,null,null,1,null,null,null,null,"mineralisch"]
[16,"Stickstoffmagnesia",null,null,22,null,null,0,0,null,null,null,null,null,null,1,null,null,null,null,"mineralisch"]
[17,"Kalktickstoff Perlka",null,null,19.8,18.3,null,0,0,null,null,170,170,null,null,1,null,null,null,null,"mineralisch"]
[18,"NP 10+34",null,null,10,null,null,34,0,null,null,null,null,null,null,1,null,null,null,null,"mineralisch"]
[19,"NP 11+52 (Monoammonp.)",null,null,11,null,null,52,0,null,null,-37,-30,null,null,1,null,null,null,null,"mineralisch"]
[20,"NP 18+46 (Diamon.)",null,null,18,null,null,46,0,null,null,-38,-30,null,null,1,null,null,null,null,"mineralisch"]
[21,"NP 26+14",null,null,26,null,null,14,0,null,null,-24,-20,null,null,1,null,null,null,null,"mineralisch"]
[22,"NP 20+20",null,null,20,null,null,20,0,null,null,-18,-15,null,null,1,null,null,null,null,"mineralisch"]
[23,"NPK 6+10+18+2",null,null,6,null,null,10,18,2,null,-6,-6,null,null,1,null,null,null,null,"mineralisch"]
[24,"NPK 6+12+18",null,null,6,null,null,12,18,null,null,-6,-6,null,null,1,null,null,null,null,"mineralisch"]
[25,"NPK 10,+8+18",null,null,10,null,null,8,18,null,null,-10,-8,null,null,1,null,null,null,null,"mineralisch"]
[26,"NPK 10+15+20",null,null,10,null,null,15,20,null,null,-10,-8,null,null,1,null,null,null,null,"mineralisch"]
[27,"NPK 10+15+20+2",null,null,10,null,null,15,20,2,null,-10,-8,null,null,1,null,null,null,null,"mineralisch"]
[28,"NPK 12+12+17+2",null,null,12,null,null,12,17,2,null,-12,-10,null,null,1,null,null,null,null,"mineralisch"]
[29,"NPK 12+12+17+2clarm",null,null,12,null,null,12,17,2,null,-12,-10,null,null,1,null,null,null,null,"mineralisch"]
[30,"NPK 13+13+21",null,null,13,null,null,13,21,null,null,-13,-10,null,null,1,null,null,null,null,"mineralisch"]
[31,"NPK 13+13+21+BOR",null,null,13,null,null,13,21,null,null,-12,-9,null,null,1,null,null,null,null,"mineralisch"]
[32,"NPK 15+15+15",null,null,15,null,null,15,15,null,null,-14,-11,null,null,1,null,null,null,null,"mineralisch"]
[33,"NPK 15+10+20",null,null,15,null,null,10,20,null,null,-14,-11,null,null,1,null,null,null,null,"mineralisch"]
[34,"NPK 15+9+15+4",null,null,15,null,null,9,15,4,null,-15,-11,null,null,1,null,null,null,null,"mineralisch"]
[35,"NPK 15+9+15+2",null,null,15,null,null,9,15,2,null,-15,-11,null,null,1,null,null,null,null,"mineralisch"]
[36,"NPK 15+5+16+4clarm",null,null,15,null,null,5,16,4,null,null,null,null,null,1,null,null,null,null,"mineralisch"]
[37,"NPK 15+5+20+2clarm",null,null,15,null,null,5,20,2,null,null,null,null,null,1,null,null,null,null,"mineralisch"]
[38,"NPK 24+8+8",null,null,24,null,null,8,8,null,null,null,null,null,null,1,null,null,null,null,"mineralisch"]
[39,"Thomaskali 8+15+5",null,null,0,null,null,8,15,5,null,23,23,null,null,1,null,null,null,null,"mineralisch"]
[40,"Thomaskali 10+15+2",null,null,0,null,null,10,15,2,null,30,30,null,null,1,null,null,null,null,"mineralisch"]
[41,"Thomaskali 10+20-3",null,null,0,null,null,10,20,3,null,30,30,null,null,1,null,null,null,null,"mineralisch"]
[42,"Thomaskali 11+11+4",null,null,0,null,null,11,11,4,null,25,25,null,null,1,null,null,null,null,"mineralisch"]
[43,"Thomaskali 12+18+3",null,null,0,null,null,12,18,3,null,23,23,null,null,1,null,null,null,null,"mineralisch"]
[44,"SupRheKaPhos 14+24",null,null,0,null,null,14,24,null,null,0,0,null,null,1,null,null,null,null,"mineralisch"]
[45,"SupRheKaPhos 16+20",null,null,0,null,null,16,20,null,null,0,0,null,null,1,null,null,null,null,"mineralisch"]
[46,"SupRheKaPhos 18+24",null,null,0,null,null,18,24,null,null,0,0,null,null,1,null,null,null,null,"mineralisch"]
[47,"SupRhKaPhos 9+25",null,null,0,null,null,9,25,null,null,0,0,null,null,1,null,null,null,null,"mineralisch"]
[48,"SupRheKaPhos 14+14+4",null,null,0,null,null,14,14,4,null,0,0,null,null,1,null,null,null,null,"mineralisch"]
[49,"SupRheKaPhos 9+21+4",null,null,0,null,null,9,21,4,null,0,0,null,null,1,null,null,null,null,"mineralisch"]
[50,"SupRheKaPhos 14+8+8",null,null,0,null,null,14,8,8,null,0,0,null,null,1,null,null,null,null,"mineralisch"]
[51,"Carolan PK 13+13+5",null,null,0,null,null,13,13,5,null,5,5,null,null,1,null,null,null,null,"mineralisch"]
[52,"Carolan PK 14+24",null,null,0,null,null,14,24,null,null,5,5,null,null,1,null,null,null,null,"mineralisch"]
[53,"Carolon PK 18+18",null,null,0,null,null,18,18,null,null,7,7,null,null,1,null,null,null,null,"mineralisch"]
[54,"Carolan PK 21+11",null,null,0,null,null,21,11,null,null,9,9,null,null,1,null,null,null,null,"mineralisch"]
[55,"Hyperp-kali 15+25",null,null,0,null,null,15,25,null,null,9,9,null,null,1,null,null,null,null,"mineralisch"]
[56,"Hyperp-Kali 19+19",null,null,0,null,null,19,19,null,null,12,12,null,null,1,null,null,null,null,"mineralisch"]
[57,"Hyperp-Kali 22+12",null,null,0,null,null,22,12,null,null,16,16,null,null,1,null,null,null,null,"mineralisch"]
[58,"Hyperp-Kali 12+24+4",null,null,0,null,null,12,24,4,null,16,16,null,null,1,null,null,null,null,"mineralisch"]
[59,"Hyperp-Kali 14+18+5",null,null,0,null,null,14,18,5,null,9,9,null,null,1,null,null,null,null,"mineralisch"]
[60,"Hyperp-Kali 14+14+6",null,null,0,null,null,14,14,6,null,9,9,null,null,1,null,null,null,null,"mineralisch"]
[61,"Hyperp-Kali 18+10-5",null,null,0,null,null,18,10,5,null,12,12,null,null,1,null,null,null,null,"mineralisch"]
[62,"Thomasmehl 12",null,null,0,null,null,12,0,null,null,40,40,null,null,1,null,null,null,null,"mineralisch"]
[63,"Thomasmehl 15",null,null,0,null,null,15,0,null,null,45,45,null,null,1,null,null,null,null,"mineralisch"]
[64,"Thomasmehl 18",null,null,0,null,null,18,0,null,null,50,50,null,null,1,null,null,null,null,"mineralisch"]
[65,"Sup.phosphat 18",null,null,0,null,null,18,0,null,null,0,0,null,null,1,null,null,null,null,"mineralisch"]
[66,"Novaphos 17+7",null,null,0,null,null,17,0,7,null,22,22,null,null,1,null,null,null,null,"mineralisch"]
[67,"Novaphos 23",null,null,0,null,null,23,0,null,null,33,33,null,null,1,null,null,null,null,"mineralisch"]
[68,"Triplephos 46",null,null,0,null,null,46,0,null,null,-3,-3,null,null,1,null,null,null,null,"mineralisch"]
[69,"Hyperphosph, 30",null,null,0,null,null,30,0,null,null,16,16,null,null,1,null,null,null,null,"mineralisch"]
[70,"Phosphatkali 9+25",null,null,0,null,null,9,25,null,null,0,0,null,null,1,null,null,null,null,"mineralisch"]
[71,"Phosphatkali 12+24",null,null,0,null,null,12,24,null,null,0,0,null,null,1,null,null,null,null,"mineralisch"]
[72,"Phosphatkali 15+20",null,null,0,null,null,15,20,null,null,0,0,null,null,1,null,null,null,null,"mineralisch"]
[73,"Phosphatkali 16+16",null,null,0,null,null,16,16,null,null,0,0,null,null,1,null,null,null,null,"mineralisch"]
[74,"Phosphatkali 18+10",null,null,0,null,null,18,10,null,null,0,0,null,null,1,null,null,null,null,"mineralisch"]
[75,"Phosphatkali 20+30",null,null,0,null,null,20,30,null,null,0,0,null,null,1,null,null,null,null,"mineralisch"]
[76,"Hyperphosph, 26",null,null,0,null,null,26,0,null,null,18,18,null,null,1,null,null,null,null,"mineralisch"]
[77,"Hyperphosph, 21+7",null,null,0,null,null,21,0,7,null,12,12,null,null,1,null,null,null,null,"mineralisch"]
[78,"Carolonphos, 20+7",null,null,0,null,null,20,0,7,null,8,8,null,null,1,null,null,null,null,"mineralisch"]
[79,"Carolonphos, 26",null,null,0,null,null,26,0,null,null,9,9,null,null,1,null,null,null,null,"mineralisch"]
[80,"Dolophos 15+7",null,null,0,null,null,15,0,7,null,null,null,null,null,1,null,null,null,null,"mineralisch"]
[81,"Kornkali 40+6",null,null,0,null,null,0,40,6,null,null,null,null,null,1,null,null,null,null,"mineralisch"]
[82,"Kalimagnesia 30+10",null,null,0,null,null,0,30,10,null,null,null,null,null,1,null,null,null,null,"mineralisch"]
[83,"Kaliumsulfat 50",null,null,0,null,null,0,50,null,null,null,null,null,null,1,null,null,null,null,"mineralisch"]
[84,"Magnesia-Kainit 11+5",null,null,0,null,null,0,11,5,null,null,null,null,null,1,null,null,null,null,"mineralisch"]
[85,"60er Kali",null,null,0,null,null,0,60,null,null,null,null,null,null,1,null,null,null,null,"mineralisch"]
[86,"kohlensaurer Kalk",null,null,null,null,null,null,null,7,null,45,45,null,null,1,null,null,null,null,"mineralisch"]
[87,"kohlensaurer Magnesiumkalk",null,null,null,null,null,null,null,20,null,45,45,null,null,1,null,null,null,null,"mineralisch"]
[88,"Branntkalk",null,null,null,null,null,null,null,null,null,85,85,null,null,1,null,null,null,null,"mineralisch"]
[89,"Carbokalk",null,null,null,null,null,null,null,null,null,30,30,null,null,1,null,null,null,null,"mineralisch"]
[90,"Hüttenkalk",null,null,null,null,null,4,null,10,null,46,46,null,null,1,null,null,null,null,"mineralisch"]
[91,{"$f":"IF('eigene Werte'!A8=\"\",\"\",'eigene Werte'!A8)","v":""},null,{"$f":"IF('eigene Werte'!B8=\"\",\"\",'eigene Werte'!B8)","v":""},{"$f":"IF('eigene Werte'!C8=\"\",\"\",'eigene Werte'!C8)","v":""},{"$f":"IF('eigene Werte'!D8=\"\",\"\",'eigene Werte'!D8)","v":""},{"$f":"IF('eigene Werte'!E8=\"\",\"\",'eigene Werte'!E8)","v":""},{"$f":"IF('eigene Werte'!F8=\"\",\"\",'eigene Werte'!F8)","v":""},{"$f":"IF('eigene Werte'!G8=\"\",\"\",'eigene Werte'!G8)","v":""},{"$f":"IF('eigene Werte'!H8=\"\",\"\",'eigene Werte'!H8)","v":""},{"$f":"IF('eigene Werte'!I8=\"\",\"\",'eigene Werte'!I8)","v":""},null,null,null,null,null,null,null,null,null,"mineralisch"]
[92,{"$f":"IF('eigene Werte'!A9=\"\",\"\",'eigene Werte'!A9)","v":""},null,{"$f":"IF('eigene Werte'!B9=\"\",\"\",'eigene Werte'!B9)","v":""},{"$f":"IF('eigene Werte'!C9=\"\",\"\",'eigene Werte'!C9)","v":""},{"$f":"IF('eigene Werte'!D9=\"\",\"\",'eigene Werte'!D9)","v":""},{"$f":"IF('eigene Werte'!E9=\"\",\"\",'eigene Werte'!E9)","v":""},{"$f":"IF('eigene Werte'!F9=\"\",\"\",'eigene Werte'!F9)","v":""},{"$f":"IF('eigene Werte'!G9=\"\",\"\",'eigene Werte'!G9)","v":""},{"$f":"IF('eigene Werte'!H9=\"\",\"\",'eigene Werte'!H9)","v":""},{"$f":"IF('eigene Werte'!I9=\"\",\"\",'eigene Werte'!I9)","v":""},null,null,null,null,null,null,null,null,null,"mineralisch"]
[93,{"$f":"IF('eigene Werte'!A10=\"\",\"\",'eigene Werte'!A10)","v":""},null,{"$f":"IF('eigene Werte'!B10=\"\",\"\",'eigene Werte'!B10)","v":""},{"$f":"IF('eigene Werte'!C10=\"\",\"\",'eigene Werte'!C10)","v":""},{"$f":"IF('eigene Werte'!D10=\"\",\"\",'eigene Werte'!D10)","v":""},{"$f":"IF('eigene Werte'!E10=\"\",\"\",'eigene Werte'!E10)","v":""},{"$f":"IF('eigene Werte'!F10=\"\",\"\",'eigene Werte'!F10)","v":""},{"$f":"IF('eigene Werte'!G10=\"\",\"\",'eigene Werte'!G10)","v":""},{"$f":"IF('eigene Werte'!H10=\"\",\"\",'eigene Werte'!H10)","v":""},{"$f":"IF('eigene Werte'!I10=\"\",\"\",'eigene Werte'!I10)","v":""},null,null,null,null,null,null,null,null,null,"mineralisch"]
[94,{"$f":"IF('eigene Werte'!A11=\"\",\"\",'eigene Werte'!A11)","v":""},null,{"$f":"IF('eigene Werte'!B11=\"\",\"\",'eigene Werte'!B11)","v":""},{"$f":"IF('eigene Werte'!C11=\"\",\"\",'eigene Werte'!C11)","v":""},{"$f":"IF('eigene Werte'!D11=\"\",\"\",'eigene Werte'!D11)","v":""},{"$f":"IF('eigene Werte'!E11=\"\",\"\",'eigene Werte'!E11)","v":""},{"$f":"IF('eigene Werte'!F11=\"\",\"\",'eigene Werte'!F11)","v":""},{"$f":"IF('eigene Werte'!G11=\"\",\"\",'eigene Werte'!G11)","v":""},{"$f":"IF('eigene Werte'!H11=\"\",\"\",'eigene Werte'!H11)","v":""},{"$f":"IF('eigene Werte'!I11=\"\",\"\",'eigene Werte'!I11)","v":""},null,null,null,null,null,null,null,null,null,"mineralisch"]
[95,{"$f":"IF('eigene Werte'!A12=\"\",\"\",'eigene Werte'!A12)","v":""},null,{"$f":"IF('eigene Werte'!B12=\"\",\"\",'eigene Werte'!B12)","v":""},{"$f":"IF('eigene Werte'!C12=\"\",\"\",'eigene Werte'!C12)","v":""},{"$f":"IF('eigene Werte'!D12=\"\",\"\",'eigene Werte'!D12)","v":""},{"$f":"IF('eigene Werte'!E12=\"\",\"\",'eigene Werte'!E12)","v":""},{"$f":"IF('eigene Werte'!F12=\"\",\"\",'eigene Werte'!F12)","v":""},{"$f":"IF('eigene Werte'!G12=\"\",\"\",'eigene Werte'!G12)","v":""},{"$f":"IF('eigene Werte'!H12=\"\",\"\",'eigene Werte'!H12)","v":""},{"$f":"IF('eigene Werte'!I12=\"\",\"\",'eigene Werte'!I12)","v":""},null,null,null,null,null,null,null,null,null,"mineralisch"]
[96,{"$f":"IF('eigene Werte'!A13=\"\",\"\",'eigene Werte'!A13)","v":""},null,{"$f":"IF('eigene Werte'!B13=\"\",\"\",'eigene Werte'!B13)","v":""},{"$f":"IF('eigene Werte'!C13=\"\",\"\",'eigene Werte'!C13)","v":""},{"$f":"IF('eigene Werte'!D13=\"\",\"\",'eigene Werte'!D13)","v":""},{"$f":"IF('eigene Werte'!E13=\"\",\"\",'eigene Werte'!E13)","v":""},{"$f":"IF('eigene Werte'!F13=\"\",\"\",'eigene Werte'!F13)","v":""},{"$f":"IF('eigene Werte'!G13=\"\",\"\",'eigene Werte'!G13)","v":""},{"$f":"IF('eigene Werte'!H13=\"\",\"\",'eigene Werte'!H13)","v":""},{"$f":"IF('eigene Werte'!I13=\"\",\"\",'eigene Werte'!I13)","v":""},null,null,null,null,null,null,null,null,null,"mineralisch"]
[97,{"$f":"IF('eigene Werte'!A14=\"\",\"\",'eigene Werte'!A14)","v":""},null,{"$f":"IF('eigene Werte'!B14=\"\",\"\",'eigene Werte'!B14)","v":""},{"$f":"IF('eigene Werte'!C14=\"\",\"\",'eigene Werte'!C14)","v":""},{"$f":"IF('eigene Werte'!D14=\"\",\"\",'eigene Werte'!D14)","v":""},{"$f":"IF('eigene Werte'!E14=\"\",\"\",'eigene Werte'!E14)","v":""},{"$f":"IF('eigene Werte'!F14=\"\",\"\",'eigene Werte'!F14)","v":""},{"$f":"IF('eigene Werte'!G14=\"\",\"\",'eigene Werte'!G14)","v":""},{"$f":"IF('eigene Werte'!H14=\"\",\"\",'eigene Werte'!H14)","v":""},{"$f":"IF('eigene Werte'!I14=\"\",\"\",'eigene Werte'!I14)","v":""},null,null,null,null,null,null,null,null,null,"mineralisch"]
[98,{"$f":"IF('eigene Werte'!A15=\"\",\"\",'eigene Werte'!A15)","v":""},null,{"$f":"IF('eigene Werte'!B15=\"\",\"\",'eigene Werte'!B15)","v":""},{"$f":"IF('eigene Werte'!C15=\"\",\"\",'eigene Werte'!C15)","v":""},{"$f":"IF('eigene Werte'!D15=\"\",\"\",'eigene Werte'!D15)","v":""},{"$f":"IF('eigene Werte'!E15=\"\",\"\",'eigene Werte'!E15)","v":""},{"$f":"IF('eigene Werte'!F15=\"\",\"\",'eigene Werte'!F15)","v":""},{"$f":"IF('eigene Werte'!G15=\"\",\"\",'eigene Werte'!G15)","v":""},{"$f":"IF('eigene Werte'!H15=\"\",\"\",'eigene Werte'!H15)","v":""},{"$f":"IF('eigene Werte'!I15=\"\",\"\",'eigene Werte'!I15)","v":""},null,null,null,null,null,null,null,null,null,"mineralisch"]
[99,null,null,null,null,null,null,null,null,null,null,null,null,null,null,null,null,null,null,null,"mineralisch"]
[100,null,null,null,null,null,null,null,null,null,null,null,null,null,null,null,null,null,null,null,"mineralisch"]
[101,null,null,null,null,null,null,null,null,null,null,null,null,null,null,null,null,null,null,null,"mineralisch"]
[102]
[103,"Rindergülle",null,8.2899999999999991,4,1.8,null,1.6,4.3,1,0.4,{"$f":"-F105","v":-1.8},{"$f":"-F105","v":-1.8},1.9,0.85,0.85,1,0.6,0.5,1,"organisch","Rindergülle"]
[104,"Milchviehgülle",null,8.93,3.6,2,null,1.8,4.0999999999999996,null,0.4,{"$f":"-F106","v":-2},{"$f":"-F106","v":-2},1.8,0.85,0.85,1,0.6,0.5,1,"organisch","Rindergülle"]
[105,"Jungvieh/Bullengülle",null,7.23,3.4,1.8,null,1.4,3.8,null,null,-1.8,-1.8,1.4,0.85,0.85,1,0.6,0.5,1,"organisch","Rindergülle"]
[106,"Schweinegülle",null,4.1399999999999997,4.4000000000000004,3.5,null,2.2000000000000002,2.7,0.9,0.3,-3.5,-3.5,2.6,0.8,0.7,1,0.7,0.6,1,"organisch","Schweinegülle"]
[107,"Sauen/Ferkelgülle",null,2.88,2.9,2.5,null,1.6,1.9,null,0.2,-2.5,-2.5,0.3,0.8,0.7,1,0.7,0.6,1,"organisch","Schweinegülle"]
[108,"Mischgülle",null,6.8114999999999997,3.9,2.5,null,1.9,4,null,0.4,-2.5,-2.5,0.5,0.8,0.7,1,0.7,0.6,1,"organisch","Schweinegülle"]
[109,"Jauche Schwein",null,1.18,1.3,1,null,0.1,2.5,null,0.1,-1,-1,0.4,0.7,0.6,1,0.9,0.9,1,"organisch","Schweinejauche"]
[110,"Jauche Rimd",null,1.18,1.3,1,null,0.1,2.5,null,0.1,{"$f":"-F112","v":-1},{"$f":"-F112","v":-1},0.4,0.7,0.6,1,0.9,0.9,1,"organisch","Rinderjauche"]
[111,"Rindermist",null,23.3,5.5,0.1,null,2.7,8.1999999999999993,1.7,1.2,-0.1,-0.1,0.8,0.7,0.6,1,0.25,0.25,1,"organisch","Rindermist"]
[112,"Schweinemist",null,22.4,8.1,0.1,null,7,6,2.6,1.2,-0.1,-0.1,0.5,0.7,0.6,1,0.3,0.3,1,"organisch","Schweinemist"]
[113,"Mischmist",null,26.6,5.9,0.1,null,3.5,9,null,1,-0.1,-0.1,0.6,0.7,0.6,1,0.3,0.3,1,"organisch","Schweinemist"]
[114,"Schaf/Ziegenmist",null,32.9,8.6999999999999993,1.1000000000000001,null,5.3,13.1,2.7,0.1,-1.1000000000000001,-1.1000000000000001,2.2000000000000002,0.55000000000000004,0.5,1,0.25,0.25,1,"organisch","Schafmist"]
[115,"Pferdemist",null,33.4,4.3,1,null,2.5,9.1999999999999993,1.6,0.8,-1,-1,1.2,0.55000000000000004,0.5,1,0.25,0.25,1,"organisch","Pferdemist"]
[116,"HTK",null,55.3,26.1,4.3,null,17.600000000000001,19.8,7.2,3.1,{"$f":"-F118","v":-4.3},{"$f":"-F118","v":-4.3},8.9,0.6,0.5,1,0.6,0.6,1,"organisch","Hühnertrockenkot"]
[117,"Geflügelmist <40% TS",null,28.6,16.399999999999999,2.6,null,10.6,10.1,3.6,1.5,-2.6,-2.6,4.2,0.6,0.5,1,0.3,0.3,1,"organisch","Geflügel- und Kaninchenmist"]
[118,"Geflügelmist >40% TS",null,55.3,26.1,4.3,null,17.600000000000001,19.8,7.2,3.1,-4.3,-4.3,8.9,0.6,0.5,1,0.6,0.6,1,"organisch","Geflügel- und Kaninchenmist"]
[119,"Weizenstroh",null,null,0.5,null,null,0.3,null,null,null,0,0,null,null,1,1,null,null,null,"organisch"]
[120,"Gerstenstroh",null,null,0.5,null,null,0.3,null,null,null,0,0,null,null,1,1,null,null,null,"organisch"]
[121,"Roggens/Triticalestroh",null,null,0.5,null,null,0.3,null,null,null,0,0,null,null,1,1,null,null,null,"organisch"]
[122,"Kompost",null,55,1.2,0.1,null,0.4,0.8,null,0.1,-0.1,-0.1,null,1,1,1,0.05,0.05,1,"organisch","Sonstiger Kompost","Gülle Rind"]
[123,"Bioabfallkompost",null,55.1,1.6,0,null,0.5,1.2,0.8,0.2,0,0,3.4,1,1,1,0.05,0.05,1,"organisch","Sonstiger Kompost","Gülle Schwein"]
[124,"Grüngutkompost",null,50.9,1.2,null,null,0.3,0.8,0.8,null,0,0,null,1,1,1,0.03,0.03,1,"organisch","Grünschnittkompost","Stallmist Rind"]
[125,"Klärschlammkompost",null,29.9,1,0.2,null,1.3,0.2,0.3,0.2,-0.2,-0.2,1.4,1,1,1,0.3,0.3,1,"organisch","Klärschlamm < 15 %","Stallmist Schwein"]
[126,"Klärschlamm, 0-5 % TS",null,2.76,1.3,0.4,null,1.3,0.2,0.3,0.2,-0.4,-0.4,1,1,1,1,0.3,0.3,1,"organisch","Klärschlamm < 15 %","Geflügelmist"]
[127,"Klärschlamm, 5-10% TS",null,6.5586500000000001,1.8,0.4,null,1.9,0.3,0.7,0.5,-0.4,-0.4,2.2999999999999998,1,1,1,0.3,0.3,1,"organisch","Klärschlamm < 15 %","Gärreste"]
[128,"Klärschlamm, 10-20% TS",null,15.9,7.5,0.7,null,5.2,0.7,1.5,1.2,-0.7,-0.7,6.6,1,1,1,0.25,0.25,1,"organisch","Klärschlamm >= 15 %","Jauche"]
[129,"Klärschlamm, 20-30% TS",null,24.5,10,2,null,16,1,3,2,-2,-2,16,1,1,1,0.25,0.25,1,"organisch","Klärschlamm >= 15 %","Hühnertrockenkot"]
[130,"Klärschlamm, 30-40% TS",null,33.85,8,1,null,15,1,4,2,-1,-1,54,1,1,1,0.25,0.25,1,"organisch","Klärschlamm >= 15 %","Klärschlamm fl"]
[131,"Klärschlamm, 40-80% TS",null,42.4,8,1,null,10,1,4,3,-1,-1,84,1,1,1,0.25,0.25,1,"organisch","Klärschlamm >= 15 %","Klärschlamm fest"]
[132,"Klärschlamm, > 80% TS",null,95.88,36,6,null,78,3,9,10,-6,-6,49,1,1,1,0.25,0.25,1,"organisch","Klärschlamm >= 15 %","Pilzsubstrat"]
[133,"Biogasgülle",null,6.92,4.7,3.5,null,1.9,4.9000000000000004,0.8,0.5,-3.5,-3.5,4,0.95,0.85,1,0.6,0.5,1,"organisch","Biogasanlagen Gärreste fl.","Grünschnittkompost"]
[134,"Biogasgülle, flüssig",null,4.8499999999999996,6.7,4.5999999999999996,null,0.9,3,0.4,0.4,-4.5999999999999996,-4.5999999999999996,2.2000000000000002,0.95,0.85,1,0.6,0.5,1,"organisch","Biogasanlagen Gärreste fl.","Sonstiger Kompost"]
[135,"Biogasgülle, fest",null,23.3,7.5,1,null,6.5,3.7,3,1.5,-1,-1,22,0.95,0.85,1,0.3,0.3,1,"organisch","Biogasanlagen Gärreste fest","Gärreste fest"]
[136,{"$f":"IF('eigene Werte'!B22=\"\",\"\",'eigene Werte'!B22)","v":""},null,{"$f":"IF('eigene Werte'!C22=\"\",0,'eigene Werte'!C22)","v":0},{"$f":"IF('eigene Werte'!D22=\"\",0,'eigene Werte'!D22)","v":0},{"$f":"IF('eigene Werte'!E22=\"\",0,'eigene Werte'!E22)","v":0},null,{"$f":"IF('eigene Werte'!F22=\"\",0,'eigene Werte'!F22)","v":0},{"$f":"IF('eigene Werte'!G22=\"\",0,'eigene Werte'!G22)","v":0},{"$f":"IF('eigene Werte'!H22=\"\",0,'eigene Werte'!H22)","v":0},{"$f":"IF('eigene Werte'!I22=\"\",0,'eigene Werte'!I22)","v":0},{"$f":"IF('eigene Werte'!J22=\"\",0,'eigene Werte'!J22)","v":0},{"$f":"IF('eigene Werte'!K22=\"\",0,'eigene Werte'!K22)","v":0},{"$f":"IF('eigene Werte'!L22=\"\",0,'eigene Werte'!L22)","v":0},{"$f":"IF('eigene Werte'!M22=\"\",\"\",'eigene Werte'!M22)","v":""},null,{"$f":"IF('eigene Werte'!P22=\"\",\"\",'eigene Werte'!P22)","v":1},{"$f":"IF('eigene Werte'!N22=\"\",\"\",'eigene Werte'!N22)","v":""},{"$f":"IF('eigene Werte'!O22=\"\",\"\",'eigene Werte'!O22)","v":""},1,"organisch"]
[137,{"$f":"IF('eigene Werte'!B23=\"\",\"\",'eigene Werte'!B23)","v":""},null,{"$f":"IF('eigene Werte'!C23=\"\",0,'eigene Werte'!C23)","v":0},{"$f":"IF('eigene Werte'!D23=\"\",0,'eigene Werte'!D23)","v":0},{"$f":"IF('eigene Werte'!E23=\"\",0,'eigene Werte'!E23)","v":0},null,{"$f":"IF('eigene Werte'!F23=\"\",0,'eigene Werte'!F23)","v":0},{"$f":"IF('eigene Werte'!G23=\"\",0,'eigene Werte'!G23)","v":0},{"$f":"IF('eigene Werte'!H23=\"\",0,'eigene Werte'!H23)","v":0},{"$f":"IF('eigene Werte'!I23=\"\",0,'eigene Werte'!I23)","v":0},{"$f":"IF('eigene Werte'!J23=\"\",0,'eigene Werte'!J23)","v":0},{"$f":"IF('eigene Werte'!K23=\"\",0,'eigene Werte'!K23)","v":0},{"$f":"IF('eigene Werte'!L23=\"\",0,'eigene Werte'!L23)","v":0},{"$f":"IF('eigene Werte'!M23=\"\",\"\",'eigene Werte'!M23)","v":""},null,{"$f":"IF('eigene Werte'!P23=\"\",\"\",'eigene Werte'!P23)","v":1},{"$f":"IF('eigene Werte'!N23=\"\",\"\",'eigene Werte'!N23)","v":""},{"$f":"IF('eigene Werte'!O23=\"\",\"\",'eigene Werte'!O23)","v":""},1,"organisch"]
[138,{"$f":"IF('eigene Werte'!B24=\"\",\"\",'eigene Werte'!B24)","v":""},null,{"$f":"IF('eigene Werte'!C24=\"\",0,'eigene Werte'!C24)","v":0},{"$f":"IF('eigene Werte'!D24=\"\",0,'eigene Werte'!D24)","v":0},{"$f":"IF('eigene Werte'!E24=\"\",0,'eigene Werte'!E24)","v":0},null,{"$f":"IF('eigene Werte'!F24=\"\",0,'eigene Werte'!F24)","v":0},{"$f":"IF('eigene Werte'!G24=\"\",0,'eigene Werte'!G24)","v":0},{"$f":"IF('eigene Werte'!H24=\"\",0,'eigene Werte'!H24)","v":0},{"$f":"IF('eigene Werte'!I24=\"\",0,'eigene Werte'!I24)","v":0},{"$f":"IF('eigene Werte'!J24=\"\",0,'eigene Werte'!J24)","v":0},{"$f":"IF('eigene Werte'!K24=\"\",0,'eigene Werte'!K24)","v":0},{"$f":"IF('eigene Werte'!L24=\"\",0,'eigene Werte'!L24)","v":0},{"$f":"IF('eigene Werte'!M24=\"\",\"\",'eigene Werte'!M24)","v":""},null,{"$f":"IF('eigene Werte'!P24=\"\",\"\",'eigene Werte'!P24)","v":1},{"$f":"IF('eigene Werte'!N24=\"\",\"\",'eigene Werte'!N24)","v":""},{"$f":"IF('eigene Werte'!O24=\"\",\"\",'eigene Werte'!O24)","v":""},1,"organisch"]
[139,{"$f":"IF('eigene Werte'!B25=\"\",\"\",'eigene Werte'!B25)","v":""},null,{"$f":"IF('eigene Werte'!C25=\"\",0,'eigene Werte'!C25)","v":0},{"$f":"IF('eigene Werte'!D25=\"\",0,'eigene Werte'!D25)","v":0},{"$f":"IF('eigene Werte'!E25=\"\",0,'eigene Werte'!E25)","v":0},null,{"$f":"IF('eigene Werte'!F25=\"\",0,'eigene Werte'!F25)","v":0},{"$f":"IF('eigene Werte'!G25=\"\",0,'eigene Werte'!G25)","v":0},{"$f":"IF('eigene Werte'!H25=\"\",0,'eigene Werte'!H25)","v":0},{"$f":"IF('eigene Werte'!I25=\"\",0,'eigene Werte'!I25)","v":0},{"$f":"IF('eigene Werte'!J25=\"\",0,'eigene Werte'!J25)","v":0},{"$f":"IF('eigene Werte'!K25=\"\",0,'eigene Werte'!K25)","v":0},{"$f":"IF('eigene Werte'!L25=\"\",0,'eigene Werte'!L25)","v":0},{"$f":"IF('eigene Werte'!M25=\"\",\"\",'eigene Werte'!M25)","v":""},null,{"$f":"IF('eigene Werte'!P25=\"\",\"\",'eigene Werte'!P25)","v":1},{"$f":"IF('eigene Werte'!N25=\"\",\"\",'eigene Werte'!N25)","v":""},{"$f":"IF('eigene Werte'!O25=\"\",\"\",'eigene Werte'!O25)","v":""},1,"organisch"]
[140,{"$f":"IF('eigene Werte'!B26=\"\",\"\",'eigene Werte'!B26)","v":""},null,{"$f":"IF('eigene Werte'!C26=\"\",0,'eigene Werte'!C26)","v":0},{"$f":"IF('eigene Werte'!D26=\"\",0,'eigene Werte'!D26)","v":0},{"$f":"IF('eigene Werte'!E26=\"\",0,'eigene Werte'!E26)","v":0},null,{"$f":"IF('eigene Werte'!F26=\"\",0,'eigene Werte'!F26)","v":0},{"$f":"IF('eigene Werte'!G26=\"\",0,'eigene Werte'!G26)","v":0},{"$f":"IF('eigene Werte'!H26=\"\",0,'eigene Werte'!H26)","v":0},{"$f":"IF('eigene Werte'!I26=\"\",0,'eigene Werte'!I26)","v":0},{"$f":"IF('eigene Werte'!J26=\"\",0,'eigene Werte'!J26)","v":0},{"$f":"IF('eigene Werte'!K26=\"\",0,'eigene Werte'!K26)","v":0},{"$f":"IF('eigene Werte'!L26=\"\",0,'eigene Werte'!L26)","v":0},{"$f":"IF('eigene Werte'!M26=\"\",\"\",'eigene Werte'!M26)","v":""},null,{"$f":"IF('eigene Werte'!P26=\"\",\"\",'eigene Werte'!P26)","v":1},{"$f":"IF('eigene Werte'!N26=\"\",\"\",'eigene Werte'!N26)","v":""},{"$f":"IF('eigene Werte'!O26=\"\",\"\",'eigene Werte'!O26)","v":""},1,"organisch"]
[141,{"$f":"IF('eigene Werte'!B27=\"\",\"\",'eigene Werte'!B27)","v":""},null,{"$f":"IF('eigene Werte'!C27=\"\",0,'eigene Werte'!C27)","v":0},{"$f":"IF('eigene Werte'!D27=\"\",0,'eigene Werte'!D27)","v":0},{"$f":"IF('eigene Werte'!E27=\"\",0,'eigene Werte'!E27)","v":0},null,{"$f":"IF('eigene Werte'!F27=\"\",0,'eigene Werte'!F27)","v":0},{"$f":"IF('eigene Werte'!G27=\"\",0,'eigene Werte'!G27)","v":0},{"$f":"IF('eigene Werte'!H27=\"\",0,'eigene Werte'!H27)","v":0},{"$f":"IF('eigene Werte'!I27=\"\",0,'eigene Werte'!I27)","v":0},{"$f":"IF('eigene Werte'!J27=\"\",0,'eigene Werte'!J27)","v":0},{"$f":"IF('eigene Werte'!K27=\"\",0,'eigene Werte'!K27)","v":0},{"$f":"IF('eigene Werte'!L27=\"\",0,'eigene Werte'!L27)","v":0},{"$f":"IF('eigene Werte'!M27=\"\",\"\",'eigene Werte'!M27)","v":""},null,{"$f":"IF('eigene Werte'!P27=\"\",\"\",'eigene Werte'!P27)","v":1},{"$f":"IF('eigene Werte'!N27=\"\",\"\",'eigene Werte'!N27)","v":""},{"$f":"IF('eigene Werte'!O27=\"\",\"\",'eigene Werte'!O27)","v":""},1,"organisch"]
[142,{"$f":"IF('eigene Werte'!B28=\"\",\"\",'eigene Werte'!B28)","v":""},null,{"$f":"IF('eigene Werte'!C28=\"\",0,'eigene Werte'!C28)","v":0},{"$f":"IF('eigene Werte'!D28=\"\",0,'eigene Werte'!D28)","v":0},{"$f":"IF('eigene Werte'!E28=\"\",0,'eigene Werte'!E28)","v":0},null,{"$f":"IF('eigene Werte'!F28=\"\",0,'eigene Werte'!F28)","v":0},{"$f":"IF('eigene Werte'!G28=\"\",0,'eigene Werte'!G28)","v":0},{"$f":"IF('eigene Werte'!H28=\"\",0,'eigene Werte'!H28)","v":0},{"$f":"IF('eigene Werte'!I28=\"\",0,'eigene Werte'!I28)","v":0},{"$f":"IF('eigene Werte'!J28=\"\",0,'eigene Werte'!J28)","v":0},{"$f":"IF('eigene Werte'!K28=\"\",0,'eigene Werte'!K28)","v":0},{"$f":"IF('eigene Werte'!L28=\"\",0,'eigene Werte'!L28)","v":0},{"$f":"IF('eigene Werte'!M28=\"\",\"\",'eigene Werte'!M28)","v":""},null,{"$f":"IF('eigene Werte'!P28=\"\",\"\",'eigene Werte'!P28)","v":1},{"$f":"IF('eigene Werte'!N28=\"\",\"\",'eigene Werte'!N28)","v":""},{"$f":"IF('eigene Werte'!O28=\"\",\"\",'eigene Werte'!O28)","v":""},1,"organisch"]
[143,{"$f":"IF('eigene Werte'!B29=\"\",\"\",'eigene Werte'!B29)","v":""},null,{"$f":"IF('eigene Werte'!C29=\"\",0,'eigene Werte'!C29)","v":0},{"$f":"IF('eigene Werte'!D29=\"\",0,'eigene Werte'!D29)","v":0},{"$f":"IF('eigene Werte'!E29=\"\",0,'eigene Werte'!E29)","v":0},null,{"$f":"IF('eigene Werte'!F29=\"\",0,'eigene Werte'!F29)","v":0},{"$f":"IF('eigene Werte'!G29=\"\",0,'eigene Werte'!G29)","v":0},{"$f":"IF('eigene Werte'!H29=\"\",0,'eigene Werte'!H29)","v":0},{"$f":"IF('eigene Werte'!I29=\"\",0,'eigene Werte'!I29)","v":0},{"$f":"IF('eigene Werte'!J29=\"\",0,'eigene Werte'!J29)","v":0},{"$f":"IF('eigene Werte'!K29=\"\",0,'eigene Werte'!K29)","v":0},{"$f":"IF('eigene Werte'!L29=\"\",0,'eigene Werte'!L29)","v":0},{"$f":"IF('eigene Werte'!M29=\"\",\"\",'eigene Werte'!M29)","v":""},null,{"$f":"IF('eigene Werte'!P29=\"\",\"\",'eigene Werte'!P29)","v":1},{"$f":"IF('eigene Werte'!N29=\"\",\"\",'eigene Werte'!N29)","v":""},{"$f":"IF('eigene Werte'!O29=\"\",\"\",'eigene Werte'!O29)","v":""},1,"organisch"]
[144,{"$f":"IF('eigene Werte'!B30=\"\",\"\",'eigene Werte'!B30)","v":""},null,{"$f":"IF('eigene Werte'!C30=\"\",0,'eigene Werte'!C30)","v":0},{"$f":"IF('eigene Werte'!D30=\"\",0,'eigene Werte'!D30)","v":0},{"$f":"IF('eigene Werte'!E30=\"\",0,'eigene Werte'!E30)","v":0},null,{"$f":"IF('eigene Werte'!F30=\"\",0,'eigene Werte'!F30)","v":0},{"$f":"IF('eigene Werte'!G30=\"\",0,'eigene Werte'!G30)","v":0},{"$f":"IF('eigene Werte'!H30=\"\",0,'eigene Werte'!H30)","v":0},{"$f":"IF('eigene Werte'!I30=\"\",0,'eigene Werte'!I30)","v":0},{"$f":"IF('eigene Werte'!J30=\"\",0,'eigene Werte'!J30)","v":0},{"$f":"IF('eigene Werte'!K30=\"\",0,'eigene Werte'!K30)","v":0},{"$f":"IF('eigene Werte'!L30=\"\",0,'eigene Werte'!L30)","v":0},{"$f":"IF('eigene Werte'!M30=\"\",\"\",'eigene Werte'!M30)","v":""},null,{"$f":"IF('eigene Werte'!P30=\"\",\"\",'eigene Werte'!P30)","v":1},{"$f":"IF('eigene Werte'!N30=\"\",\"\",'eigene Werte'!N30)","v":""},{"$f":"IF('eigene Werte'!O30=\"\",\"\",'eigene Werte'!O30)","v":""},1,"organisch"]
[145,{"$f":"IF('eigene Werte'!B31=\"\",\"\",'eigene Werte'!B31)","v":""},null,{"$f":"IF('eigene Werte'!C31=\"\",0,'eigene Werte'!C31)","v":0},{"$f":"IF('eigene Werte'!D31=\"\",0,'eigene Werte'!D31)","v":0},{"$f":"IF('eigene Werte'!E31=\"\",0,'eigene Werte'!E31)","v":0},null,{"$f":"IF('eigene Werte'!F31=\"\",0,'eigene Werte'!F31)","v":0},{"$f":"IF('eigene Werte'!G31=\"\",0,'eigene Werte'!G31)","v":0},{"$f":"IF('eigene Werte'!H31=\"\",0,'eigene Werte'!H31)","v":0},{"$f":"IF('eigene Werte'!I31=\"\",0,'eigene Werte'!I31)","v":0},{"$f":"IF('eigene Werte'!J31=\"\",0,'eigene Werte'!J31)","v":0},{"$f":"IF('eigene Werte'!K31=\"\",0,'eigene Werte'!K31)","v":0},{"$f":"IF('eigene Werte'!L31=\"\",0,'eigene Werte'!L31)","v":0},{"$f":"IF('eigene Werte'!M31=\"\",\"\",'eigene Werte'!M31)","v":""},null,{"$f":"IF('eigene Werte'!P31=\"\",\"\",'eigene Werte'!P31)","v":1},{"$f":"IF('eigene Werte'!N31=\"\",\"\",'eigene Werte'!N31)","v":""},{"$f":"IF('eigene Werte'!O31=\"\",\"\",'eigene Werte'!O31)","v":""},1,"organisch"]

{"sheet":"PSM","index":6,"n_rows":102,"n_cols":6,"rows_kept":102,"cut":false,"hidden":true,"merged":[]}
["Name","Preis €/Einheit","Wirkstoff","Konzentration","Aufwandmenge","HARC"]
["Cadou SC*",null,"Flufenacet",500]
["Fence",null,"Flufenacet",480]
["Diplomat",null,"Flufenacet",480]
["Franzi*",null,"Flufenacet",480]
["Palisade",null,"Flufenacet",480]
["Steeple",null,"Flufenacet",480]
["Fluent 500 SC",null,"Flufenacet",500]
["Fleet",null,"Flufenacet",500]
["Vulcanus",null,"Flufenacet",600]
["Activus SC ",null,"Pendimethalin ",null,4,"K1 "]
["Addition ",null,"Pendimethalin + DFF ","400 + 40",2.5,"K1, F1 "]
["Agolin ",null,"Pendimethalin + DFF ","400 + 40",2.5,"K1, F1 "]
["Alliance; Acupro ",null,"Metsulfuron + DFF ","57,8 + 600",6.5000000000000002E-2,"B "]
["Arnold ",null,"Flufenacet + DFF ","400 + 200",0.6,"F1, K3 "]
["Atlantis OD ",null,"Mesosulfuron + Iodosulfuron ","9,72 + 1,86",0.6,"B "]
["Atlantis OD ",null,"Mesosulfuron + Iodosulfuron ","9,72 + 1,86",1,"B "]
["Atlantis OD ",null,"Mesosulfuron + Iodosulfuron ","9,72 + 1,86",1.2,"B "]
["Axial 50 ",null,"Pinoxaden ",null,0.9,"A "]
["Battle Delta",null,"Flufenacet + DFF ","400 + 200",0.6,"F1, K3 "]
["Beflex ",null,"Beflubutamid ",500,0.5,"F1 "]
["Boxer ",null,"Prosulfocarb ",800,5,"N "]
["Boxer ",null,"Prosulfocarb ",800,5,"N "]
["Broadcast",null,"Flufenacet + DFF ","400 + 200",0.6,"F1, K3 "]
["Cadou SC ",null,"Flufenacet ",500,0.5,"K3 "]
["Cadou SC ",null,"Flufenacet ",500,0.3,"K3 "]
["Carmina 640 ",null,"Chlortoluron + DFF ","600 + 40",3.5,"C2, F1 "]
["Carpatus SC ",null,"Flufenacet + DFF ","400 + 200",0.6,"F1, K3 "]
["Carpatus SC ",null,"Flufenacet + DFF ","400 + 200",0.6,"F1, K3 "]
["Cleanshot ",null,"Florasulam + Isoxaben ","40 + 610",9.5000000000000001E-2,"B, L "]
["Diflanil 500 SC ",null,"Diflufenican",null,0.37,"F1 "]
["Falkon ",null,"DFF + Penoxsulam ","100 + 15",1,"F1, B "]
["Fence ",null,"Flufenacet ",480,0.5,"K3 "]
["Filon ",null,"Prosulfocarb ",800,5,"N "]
["Filon ",null,"Prosulfocarb ",800,5,"N "]
["Franzi ",null,"Flufenacet ",480,0.5,"K3 "]
[]
[]
[]
[]
[]
[]
[]
[]
[]
[]
[]
[]
[]
[]
[]
[]
[]
[]
[]
[]
[]
[]
[]
[]
[]
[]
[]
[]
[]
[]
[]
[]
[]
[]
[]
[]
[]
[]
[]
[]
[]
[]
[]
[]
[]
[]
[]
[]
[]
[]
[]
[]
[]
[]
[]
[]
[]
[]
[]
[]
[]
[]
[]
[]
[]
["das biest ",13]

{"sheet":"170 Kontrollwert","index":7,"n_rows":146,"n_cols":33,"rows_kept":146,"cut":false,"hidden":false,"merged":[[61,10,61,12],[62,3,62,5],[62,10,62,12],[63,3,63,5],[63,10,63,12],[59,3,60,12],[71,4,71,6],[71,8,71,9],[71,10,71,12],[72,4,72,6],[74,4,74,6],[64,3,64,5],[64,10,66,12],[65,3,65,5],[66,3,66,5],[67,3,67,5],[67,8,70,9],[67,10,67,12],[68,3,68,5],[68,10,70,12],[69,3,69,5],[70,3,70,5],[86,11,86,12],[88,11,88,12],[84,7,84,10],[86,7,86,10],[88,7,88,10],[75,4,75,6],[76,4,76,6],[80,3,80,12],[83,11,83,12],[84,11,84,12],[51,9,51,12],[52,9,52,12],[47,8,52,8],[47,9,47,12],[48,9,48,12],[49,9,49,12],[50,9,50,12],[2,30,2,31],[4,26,4,27],[49,14,50,15],[51,14,51,15],[1,24,1,25],[1,26,1,27],[2,24,2,25],[2,26,2,27],[2,28,2,29],[33,12,33,13],[18,8,18,9],[18,10,18,11],[18,12,18,13],[33,7,34,7],[23,2,23,6],[20,2,20,6],[21,2,21,6],[18,1,19,6],[18,7,19,7],[22,2,22,6],[33,8,33,9],[33,10,33,11],[11,2,11,3],[11,4,11,6],[13,2,13,3],[10,4,10,6],[44,2,44,6],[24,2,24,6],[25,2,25,6],[26,2,26,6],[27,2,27,6],[28,2,28,6],[29,2,29,6],[33,1,34,6],[41,2,41,6],[42,2,42,6],[43,2,43,6],[36,2,36,6],[37,2,37,6],[38,2,38,6],[39,2,39,6],[40,2,40,6],[35,2,35,6],[0,3,0,12],[13,4,13,6],[12,4,12,6],[12,2,12,3],[2,14,2,15],[2,16,2,17],[3,2,3,3],[3,4,3,6],[4,2,4,3],[4,4,4,6],[2,2,2,8],[2,10,2,11],[2,12,2,13],[5,2,5,3],[5,4,5,6],[6,2,6,3],[6,4,6,6],[7,2,7,3],[7,4,7,6],[8,2,8,3],[8,4,8,6],[9,2,9,3],[9,4,9,6],[10,2,10,3]]}
[null,null,null,"Prüfung § 6 Absatz 4 (170 kg N/ha aus organischer Düngung Kontrollwert) im Kalenderjahr",null,null,null,null,null,null,null,null,null,null,null,null,null,null,null,null,null,null,1,2,3,4,5,6,7,8,9,10,11]
[null,null,null,null,null,null,null,null,null,null,null,null,null,null,null,null,null,null,null,null,null,null,null,null,"Anlage 1 Tabelle 1",null,"Anlage 1 Tabelle 2"]
[null,null,"Anfall organischer Stickstoff- und \nPhosphormengen aus der eigenen Tierhaltung",null,null,null,null,null,null,"Anteil","170 kg N/ha Regel\nnach Abzug der Stall-, \nLagerungs- und Weideverluste",null,"kg/Tierplatz oder Tier",null,"kg Betrieb",null,"Weidehaltung",null,"nach Abzug der\nVerluste aus Weidehaltung",null,null,null,null,null,"Mittlere Nährstoffausscheidung \nlandwirtschaftlicher Nutztiere \nje Stallplatz und Jahr bzw. je \nTier und Jahr",null,"Mittlere Nährstoffaufnahme von \nWiederkäuern aus Grobfutter je \nStallplatz und Jahr bzw. je Tier \nund Jahr",null,170,null,"NV"]
[null,null,"Kategorie",null,"Haltungsform",null,null,"Tieranzahl","Dungart","Weide","% N","kg N","kg N","kg P2O5","kg N","kg P2O5","kg N","kg P2O5","kg N",null,null,null,null,null,"N","P2O5","N","P2O5","Gülle","Mist","Gülle","Mist","Weide"]
[null,1,null,null,null,null,null,null,null,null,{"$f":"IF(I5=\"\",0,IF(I5=\"Gülle\",VLOOKUP($E5,Tierhaltung,7,0),VLOOKUP($E5,Tierhaltung,8,0)))","v":0},{"$f":"IF(K5=0,\"\",IF(E5=\"\",\"\",(O5-Q5)*K5)+S5)","v":""},{"$f":"IF(E5=\"\",\"\",VLOOKUP(E5,Tierhaltung,3,0))","v":""},{"$f":"IF(E5=\"\",\"\",VLOOKUP(E5,Tierhaltung,4,0))","v":""},{"$f":"IF(E5=\"\",\"\",H5*M5)","v":""},{"$f":"IF(E5=\"\",\"\",H5*N5)","v":""},{"$f":"IF(O5=\"\",\"\",O5*J5)","v":""},{"$f":"IF(P5=\"\",\"\",P5*J5)","v":""},{"$f":"IF(O5=\"\",\"\",(O5*J5)*VLOOKUP(E5,Tierhaltung,11,0))","v":""},null,null,null,null,null,"kg","kg","je Stallplatz und Jahr",null,0.85,0.7,0.7,0.6,0.7]
[null,2,null,null,null,null,null,null,null,null,0,"","","","","",{"$f":"IF(O6=\"\",\"\",O6*J6)","v":""},"","",null,null,null,"Kälberaufzucht",null,16.600000000000001,6.4,5.6,2,0.85,0.7,0.7,0.6,0.7]
[null,3,null,null,null,null,null,null,null,null,0,"","","","","",{"$f":"IF(O7=\"\",\"\",O7*J7)","v":""},"","",null,null,null,"Jungrinder Grünlandb. Konventionell",null,57,16.399999999999999,58,17,0.85,0.7,0.7,0.6,0.7]
[null,4,null,null,null,null,null,null,null,null,0,"","","","","","","","",null,null,null,"Jungrinder Grünlandb. Extensiv",null,54,16,53,16,0.85,0.7,0.7,0.6,0.7]
[null,5,null,null,null,null,null,null,null,null,0,"","","","","","","","",null,null,null,"Jungrinder Ackerbaub. mit Weide",null,48,15.5,48,15,0.85,0.7,0.7,0.6,0.7]
[null,6,null,null,null,null,null,null,null,null,0,"","","","","","","","",null,null,null,"Jungrinder Ackerbaub. Stallhaltung",null,45,15,43,14,0.85,0.7,0.7,0.6,0.7]
[null,7,null,null,null,null,null,null,null,null,0,"","","","","","","","",null,null,null,"Milch mittl. u. schwere R. Grünl. mit Weide 6000 kg",null,114,36,108,33,0.85,0.7,0.7,0.6,0.7]
[null,8,null,null,null,null,null,null,null,null,0,"","","","","","","","",null,null,null,"Milch mittl. u. schwere R. Grünl. mit Weide 8000 kg",null,129,43,111,34,0.85,0.7,0.7,0.6,0.7]
[null,9,null,null,null,null,null,null,null,null,{"$f":"IF(I13=\"\",0,IF(I13=\"Gülle\",VLOOKUP($E13,Tierhaltung,7,0),VLOOKUP($E13,Tierhaltung,8,0)))","v":0},"",{"$f":"IF(E13=\"\",\"\",VLOOKUP(E13,Tierhaltung,3,0))","v":""},{"$f":"IF(E13=\"\",\"\",VLOOKUP(E13,Tierhaltung,4,0))","v":""},{"$f":"IF(E13=\"\",\"\",H13*M13)","v":""},{"$f":"IF(E13=\"\",\"\",H13*N13)","v":""},{"$f":"IF(O13=\"\",\"\",O13*J13)","v":""},{"$f":"IF(P13=\"\",\"\",P13*J13)","v":""},"",null,null,null,"Milch mittl. u. schwere R. Grünl. mit Weide 10000 kg",null,143,47,113,36,0.85,0.7,0.7,0.6,0.7]
[null,10,null,null,null,null,null,null,null,null,0,"","","","","",{"$f":"IF(O14=\"\",\"\",O14*J14)","v":""},{"$f":"IF(P14=\"\",\"\",P14*J14)","v":""},"",null,null,null,"Milch mittl. u. schwere R. Grünl. ohne Weide 6000 kg",null,109,37,98,31,0.85,0.7,0.7,0.6,0.7]
[null,null,null,null,null,null,null,null,null,null,"Summe",{"$f":"SUM(L5:L14)","v":0},null,null,null,null,{"$f":"SUM(Q5:Q14)","v":0},{"$f":"SUM(R5:R14)","v":0},{"$f":"SUM(S5:S14)","v":0},null,null,null,"Milch mittl. u. schwere R. Grünl. ohne Weide 8000 kg",null,124,43,98,31,0.85,0.7,0.7,0.6,0.7]
[null,null,null,null,null,null,null,null,null,null,null,null,null,null,null,null,null,null,null,null,null,null,"Milch mittl. u. schwere R. Grünl. ohne Weide 10000 kg",null,141,48,101,33,0.85,0.7,0.7,0.6,0.7]
[null,null,null,null,null,null,null,null,null,null,null,null,null,null,null,null,null,null,null,null,null,null,"Milch mittl. u. schwere R. Grünl. ohne Weide 12000 kg",null,159,55,101,34,0.85,0.7,0.7,0.6,0.7]
[null,null,null,null,null,null,null,null,null,null,null,null,null,null,null,null,null,null,null,null,null,null,"Milch Ackerfutterb.mit Weide 6000 kg",null,103,37,86,28,0.85,0.7,0.7,0.6,0.7]
[null,"Aufnahme von organischen Düngern in den Betrieb",null,null,null,null,null,"m³ \noder t","kg/m3 oder t",null,"kg Betrieb",null,"170 kg N/ha Regel",null,null,null,null,null,null,null,null,null,"Milch Ackerfutterb.mit Weide 8000 kg",null,117,42,93,31,0.85,0.7,0.7,0.6,0.7]
[null,null,null,null,null,null,null,null,"N","P2O5","N","P2O5","% N","kg N",null,null,null,null,null,null,null,null,"Milch Ackerfutterb.mit Weide 10000 kg",null,134,47,98,33,0.85,0.7,0.7,0.6,0.7]
[null,1,null,null,null,null,null,null,{"$f":"IF($C21=\"\",\"\",VLOOKUP($C21,organische_Dünger,4,0))","v":""},{"$f":"IF($C21=\"\",\"\",VLOOKUP($C21,organische_Dünger,7,0))","v":""},{"$f":"IF(C21=\"\",\"\",I21*H21)","v":""},{"$f":"IF(C21=\"\",\"\",J21*H21)","v":""},{"$f":"IF($C21=\"\",\"\",VLOOKUP($C21,organische_Dünger,16,0))","v":""},{"$f":"IF(C21=\"\",\"\",M21*K21)","v":""},null,null,null,null,null,null,null,null,"Milch Ackerfutterb.mit Weide 12000 kg",null,153,52,101,34,0.85,0.7,0.7,0.6,0.7]
[null,2,null,null,null,null,null,null,"","",{"$f":"IF(C22=\"\",\"\",I22*H22)","v":""},{"$f":"IF(C22=\"\",\"\",J22*H22)","v":""},"",{"$f":"IF(C22=\"\",\"\",M22*K22)","v":""},null,null,null,null,null,null,null,null,"Milch Ackerfutterb. ohne Weide mit Heu 6000 kg",null,100,36,77,27,0.85,0.7,0.7,0.6,0.7]
[null,3,null,null,null,null,null,null,"","","","","","",null,null,null,null,null,null,null,null,"Milch Ackerfutterb. ohne Weide mit Heu 8000 kg",null,115,42,84,29,0.85,0.7,0.7,0.6,0.7]
[null,4,null,null,null,null,null,null,"","","","","","",null,null,null,null,null,null,null,null,"Milch Ackerfutterb. ohne Weide mit Heu 10000 kg",null,133,47,89,31,0.85,0.7,0.7,0.6,0.7]
[null,5,null,null,null,null,null,null,"","","","","","",null,null,null,null,null,null,null,null,"Milch Ackerfutterb. ohne Weide mit Heu 12000 kg",null,152,52,94,32,0.85,0.7,0.7,0.6,0.7]
[null,6,null,null,null,null,null,null,"","","","","","",null,null,null,null,null,null,null,null,"Milch leichte R. Ackerfutterbaub. 5000 kg",null,76,27,68,22,0.85,0.7,0.7,0.6,0.7]
[null,7,null,null,null,null,null,null,"","","","","","",null,null,null,null,null,null,null,null,"Milch leichte R. Ackerfutterbaub. 7000 kg",null,91,33,75,25,0.85,0.7,0.7,0.6,0.7]
[null,8,null,null,null,null,null,null,"","","","","","",null,null,null,null,null,null,null,null,"Milch leichte R. Ackerfutterbaub. 9000 kg",null,111,42,80,27,0.85,0.7,0.7,0.6,0.7]
[null,9,null,null,null,null,null,null,"","","","","","",null,null,null,null,null,null,null,null,"Mast von 50 bis 350 kg LM; 1,3 Umtriebe p.a.",null,31,12.7,7,2.9,0.85,0.7,0.7,0.6,0.7]
[null,10,null,null,null,null,null,null,"","","","","","",null,null,null,null,null,null,null,null,"Mast 50 bis 250 kg LM; 2,1 Umtriebe p.a.",null,13,6.5,0.6,0.4,0.85,0.7,0.7,0.6,0.7]
[null,null,null,null,null,null,null,null,null,null,null,null,"Summe",{"$f":"SUM(N21:N30)","v":0},null,null,null,null,null,null,null,null,"Mast 50 bis 260 kg LM; 1,9 Umtriebe p.a.",null,15.9,7.3,0.3,0.1,0.85,0.7,0.7,0.6,0.7]
[null,null,null,null,null,null,null,null,null,null,null,null,null,null,null,null,null,null,null,null,null,null,"Mast 80 bis 210 kg LM; 2,7 Umtriebe p.a.",null,15.7,5.4,6,2.2999999999999998,0.85,0.7,0.7,0.6,0.7]
[null,null,null,null,null,null,null,null,null,null,null,null,null,null,null,null,null,null,null,null,null,null,"Mast 80 bis 210 kg LM; 2,7 Umtriebe p.a. N/P reduziert",null,14.6,4.5,6,2.2999999999999998,0.85,0.7,0.7,0.6,0.7]
[null,"Abgabe von organischen Düngern ",null,null,null,null,null,"m³ \noder t","kg/m3 oder t",null,"kg Betrieb",null,"170 kg N/ha Regel",null,null,null,null,null,null,null,null,null,"Bullenmast bis 675 kg LM (19 Monate) ab Kalb 45 kg LM",null,36.6,14.2,19.600000000000001,7.9,0.85,0.7,0.7,0.6,0.7]
[null,null,null,null,null,null,null,null,"N","P2O5","N","P2O5","% N","kg N",null,null,null,null,null,null,null,null,"Bullenmast bis 750 kg LM ab Kalb 45 kg LM",null,39.1,14.3,20.2,8.1,0.85,0.7,0.7,0.6,0.7]
[null,1,null,null,null,null,null,null,{"$f":"IF($C36=\"\",\"\",VLOOKUP($C36,organische_Dünger,4,0))","v":""},{"$f":"IF($C36=\"\",\"\",VLOOKUP($C36,organische_Dünger,7,0))","v":""},{"$f":"IF(C36=\"\",\"\",I36*H36)","v":""},{"$f":"IF(C36=\"\",\"\",J36*H36)","v":""},{"$f":"IF($C36=\"\",\"\",VLOOKUP($C36,organische_Dünger,16,0))","v":""},{"$f":"IF(C36=\"\",\"\",M36*K36)","v":""},null,null,null,null,null,null,null,null,"Bullenmast bis 750 kg LM ab Kalb 45 kg LM",null,39.1,14.3,20.2,8.1,0.85,0.7,0.7,0.6,0.7]
[null,2,null,null,null,null,null,null,"","",{"$f":"IF(C37=\"\",\"\",I37*H37)","v":""},{"$f":"IF(C37=\"\",\"\",J37*H37)","v":""},"",{"$f":"IF(C37=\"\",\"\",M37*K37)","v":""},null,null,null,null,null,null,null,null,"Bullenmast bis 750 kg LM ab Kalb 80 kg LM",null,40.700000000000003,14.7,21,8.5,0.85,0.7,0.7,0.6,0.7]
[null,3,null,null,null,null,null,null,"","","","","","",null,null,null,null,null,null,null,null,"Bullenmast bis 750 kg LM ab Kalb 210 kg LM",null,41.3,14.8,22.4,9,0.85,0.7,0.7,0.6,0.7]
[null,4,null,null,null,null,null,null,"","","","","","",null,null,null,null,null,null,null,null,"männl. Rinder bis 6 Monate",null,22,7.6,17.5,5.8,0.85,0.7,0.7,0.6,0.7]
[null,5,null,null,null,null,null,null,"","","","","","",null,null,null,null,null,null,null,null,"männl. Rinder über 6 Monate bis 12 Monate",null,37.5,14.9,20,8,0.85,0.7,0.7,0.6,0.7]
[null,6,null,null,null,null,null,null,"","","","","","",null,null,null,null,null,null,null,null,"männl. Rinder über 12 Monate bis 24 Monate (Zuchtbullen)",null,54.5,20.5,28.5,11.5,0.85,0.7,0.7,0.6,0.7]
[null,7,null,null,null,null,null,null,"","","","","","",null,null,null,null,null,null,null,null,"männl. Rinder über 24 Monate (Zuchtbullen)",null,64,21,61,20,0.85,0.7,0.7,0.6,0.7]
[null,8,null,null,null,null,null,null,"","","","","","",null,null,null,null,null,null,null,null,"Mutterkuh 500 kg LM; 0,9 Kalb je Kuh p.a.; 6 Monate Säugezeit",null,88,26,90,27,0.85,0.7,0.7,0.6,0.7]
[null,9,null,null,null,null,null,null,"","","","","","",null,null,null,null,null,null,null,null,"Mutterkuh 700 kg LM; 0,9 Kalb je Kuh p.a.; 9 Monate Säugezeit (230 kg Abs.gew.)",null,105,31,108,32,0.85,0.7,0.7,0.6,0.7]
[null,10,null,null,null,null,null,null,"","","","","","",null,null,null,null,null,null,null,null,"Mutterkuh 700 kg LM; 0,9 Kalb je Kuh p.a.; (340 kg Abs.gew.)",null,114,33,120,36,0.85,0.7,0.7,0.6,0.7]
[null,null,null,null,null,null,null,null,"","","","","Summe",{"$f":"SUM(N36:N45)","v":0},null,null,null,null,null,null,null,null,null,null,null,null,null,null,null,null,null,null,0.7]
[null,null,null,null,null,null,null,null,null,null,null,null,null,null,null,null,null,null,null,null,null,null,"Sauenh. Ferkelaufzucht bis 8 kg, 22 Ferkel, Uni.Futter","je Sauenplatz und Jahr",27.1,12.6,null,null,0.8,0.7,0.7,0.6,0.7]
[null,null,null,null,null,null,null,null,"Gesamt","kg Stickstoff im Betrieb",null,null,null,{"$f":"L15","v":0},null,null,null,null,null,null,null,null,"Sauenh. Ferkelaufzucht bis 8 kg, 22 Ferkel, N/P red.Futter","je Sauenplatz und Jahr",24,11,null,null,0.8,0.7,0.7,0.6,0.7]
[null,null,null,null,null,null,null,null,null," + Aufnahme OD im Betrieb",null,null,null,{"$f":"N31","v":0},null,null,null,null,null,null,null,null,"Sauenh. Ferkelaufzucht bis 8 kg, 22 Ferkel, N/P stark red.Futter","je Sauenplatz und Jahr",23,10.3,null,null,0.8,0.7,0.7,0.6,0.7]
[null,null,null,null,null,null,null,null,null," - Abgabe aus dem Betrieb",null,null,null,{"$f":"N46","v":0},"Flächenangabe aus \nAckerfläche+Grünland",null,null,null,null,null,null,null,"Sauenh. Ferkelaufzucht bis 8 kg, 25 Ferkel, Uni.Futter","je Sauenplatz und Jahr",27.3,12.6,null,null,0.8,0.7,0.7,0.6,0.7]
[null,null,null,null,null,null,null,null,null,"Summe",null,null,null,{"$f":"N48+N49-N50","v":0},null,null,null,null,null,null,null,null,"Sauenh. Ferkelaufzucht bis 8 kg, 25 Ferkel, N/P red.Futter","je Sauenplatz und Jahr",24.1,11.2,null,null,0.8,0.7,0.7,0.6,0.7]
[null,null,null,null,null,null,null,null,null,"Acker- und Grünlandfläche ha",null,null,null,null,{"$f":"Ackerfläche!D46+Grünland!E25","v":0},null,null,null,null,null,null,null,"Sauenh. Ferkelaufzucht bis 8 kg, 25 Ferkel, N/P stark red.Futter","je Sauenplatz und Jahr",23.1,10.3,null,null,0.8,0.7,0.7,0.6,0.7]
[null,null,null,null,null,null,null,null,null,"Stickstoff aus org. Düngern kg/ha",null,null,null,{"$f":"IF(N52=0,\"\",N51/N52)","v":""},null,null,null,null,null,null,null,null,"Sauenh. Ferkelaufzucht bis 8 kg, 28 Ferkel, Uni.Futter","je Sauenplatz und Jahr",27.5,12.8,null,null,0.8,0.7,0.7,0.6,0.7]
[null,null,null,null,null,null,null,null,null,null,null,null,null,null,null,null,null,null,null,null,null,null,"Sauenh. Ferkelaufzucht bis 8 kg, 28 Ferkel, N/P red.Futter","je Sauenplatz und Jahr",24.2,11.2,null,null,0.8,0.7,0.7,0.6,0.7]
[null,null,null,null,null,null,null,null,null,null,null,null,null,null,null,null,null,null,null,null,null,null,"Sauenh. Ferkelaufzucht bis 8 kg, 28 Ferkel, N/P stark red.Futter","je Sauenplatz und Jahr",23.2,10.3,null,null,0.8,0.7,0.7,0.6,0.7]
[null,null,null,null,null,null,null,null,null,null,null,null,null,null,null,null,null,null,null,null,null,null,"Sauenh. Ferkelaufzucht bis 28 kg, 22 Ferkel, Uni.Futter","je Sauenplatz und Jahr",39.200000000000003,17.2,null,null,0.8,0.7,0.7,0.6,0.7]
[null,null,null,null,null,null,null,null,null,null,null,null,null,null,null,null,null,null,null,null,null,null,"Sauenh. Ferkelaufzucht bis 28 kg, 22 Ferkel, N/P red.Futter","je Sauenplatz und Jahr",35.1,15.3,null,null,0.8,0.7,0.7,0.6,0.7]
[null,null,null,null,null,null,null,null,null,null,null,null,null,null,null,null,null,null,null,null,null,null,"Sauenh. Ferkelaufzucht bis 28 kg, 22 Ferkel, N/P stark red.Futter","je Sauenplatz und Jahr",33.5,14,null,null,0.8,0.7,0.7,0.6,0.7]
[null,null,null,null,null,null,null,null,null,null,null,null,null,null,null,null,null,null,null,null,null,null,"Sauenh. Ferkelaufzucht bis 28 kg, 25 Ferkel, Uni.Futter","je Sauenplatz und Jahr",41.1,17.899999999999999,null,null,0.8,0.7,0.7,0.6,0.7]
[null,null,null,"Prüfung Anfall organischer N Mengen im Gesamtbetrieb anhand Mengenangaben (Acker- und Grünlandfläche)\nund mineralischen Ergänzungsbedarf",null,null,null,null,null,null,null,null,null,null,null,null,null,null,null,null,null,null,"Ferkelaufzucht bis 28 kg, 25 Ferkel, N/P red.Futter","je Sauenplatz und Jahr",36.799999999999997,16,null,null,0.8,0.7,0.7,0.6,0.7]
[null,null,null,null,null,null,null,null,null,null,null,null,null,null,null,null,null,null,null,null,null,null,"Ferkelaufzucht bis 28 kg, 25 Ferkel, N/P stark red.Futter","je Sauenplatz und Jahr",35,14.7,null,null,0.8,0.7,0.7,0.6,0.7]
[null,null,null,null,null,null,null,null,null,null,null,null,null,null,null,null,null,null,null,null,null,null,"Ferkelaufzucht bis 28 kg, 28 Ferkel, Uni.Futter","je Sauenplatz und Jahr",42.9,18.600000000000001,null,null,0.8,0.7,0.7,0.6,0.7]
[null,null,null,"Dünger",null,null,"Menge\nm³ od. dt/Gesamt-\nbetrieb","anrechenbare\nkg N/Betrieb\nAnfall Gesamt-\nbetrieb",null,null,"max. Bedarf org. N \nbelastetes Nitratgebiet kg N\n(max 130 kg N/ha)",null,null,null,null,null,null,null,null,null,null,null,"Ferkelaufzucht bis 28 kg, 28 Ferkel, N/P red.Futter","je Sauenplatz und Jahr",38.4,16.7,null,null,0.8,0.7,0.7,0.6,0.7]
[null,null,null,null,null,null,null,{"$f":"IF(D64=\"\",\"\",VLOOKUP(D64,organische_Dünger,4,0)*G64)","v":""},null,null,{"$f":"(Ackerfläche!D47+Grünland!E26)*130","v":0},null,null,null,null,null,null,null,null,null,null,null,"Ferkelaufzucht bis 28 kg, 28 Ferkel, N/P stark red.Futter","je Sauenplatz und Jahr",36.6,15.1,null,null,0.8,0.7,0.7,0.6,0.7]
[null,null,null,null,null,null,null,"",null,null,"max. Bedarf org. N\nnicht belastetes Gebiet\n(max 170 kg N/ha)",null,null,null,null,null,null,null,null,null,null,null,"spez. Ferkelaufzucht 450 g tgl. Zunah. 8 bis 28 kg LM Universalfutter ","je Ferkelplatz und Jahr",3.8,1.4,null,null,0.8,0.7,0.7,0.6,0.7]
[null,null,null,null,null,null,null,"",null,null,null,null,null,null,null,null,null,null,null,null,null,null,"spez. Ferkelaufzucht 450 g tgl. Zunah. ab 8 bzw. 15 kg LM N/P red. Futter","je Ferkelplatz und Jahr",3.6,1.4,null,null,0.8,0.7,0.7,0.6,0.7]
[null,null,null,null,null,null,null,"",null,null,null,null,null,null,null,null,null,null,null,null,null,null,"spez. Ferkelaufzucht 450 g tgl. Zunah. ab 8 bzw. 15 kg LM N/P stark red. Futter","je Ferkelplatz und Jahr",3.4,1.1000000000000001,null,null,0.8,0.7,0.7,0.6,0.7]
[null,null,null,null,null,null,null,"","bis zum Erreichen\nder Obergrenzen \nzusätzliche \nN Ausbringmenge",null,{"$f":"((Ackerfläche!D46-Ackerfläche!D47)+(Grünland!E25-Grünland!E26))*170","v":0},null,null,null,null,null,null,null,null,null,null,null,"spez. Ferkelaufzucht 500 g tgl. Zunah.8 bis 28 kg LM Universalfutter","je Ferkelplatz und Jahr",4.2,1.6,null,null,0.8,0.7,0.7,0.6,0.7]
[null,null,null,null,null,null,null,"",null,null,"Bedarf Gesamt N \naus org. Düngemitteln\nim Gesamtbetrieb",null,null,null,null,null,null,null,null,null,null,null,"spez. Ferkelaufzucht 500 g tgl. Zunah.ab 8 bzw. 15 kg LM N/P red. Futter","je Ferkelplatz und Jahr",3.8,1.4,null,null,0.8,0.7,0.7,0.6,0.7]
[null,null,null,null,null,null,null,"",null,null,null,null,null,null,null,null,null,null,null,null,null,null,"spez. Ferkelaufzucht 500 g tgl. Zunah.ab 8 bzw. 15 kg LM N/P stark red. Futter","je Ferkelplatz und Jahr",3.6,1.4,null,null,0.8,0.7,0.7,0.6,0.7]
[null,null,null,null,null,null,null,"",null,null,null,null,null,null,null,null,null,null,null,null,null,null,"Jungsauen spez. Ferkelaufzucht 28 bis 115 kg LM; 180 kg Zuwachs je Platz, Universalfutter","je Jungsauenplatz und Jahr",10.8,5.5,null,null,0.8,0.7,0.7,0.6,0.7]
[null,null,null,null,"kg Norg./Gesamtbetrieb",null,null,{"$f":"SUM(H64:H69)","v":0},{"$f":"IF(K72-H72<=0,\"\",K72-H72)","v":""},null,{"$f":"SUM(K68,K64)","v":0},null,null,null,null,null,null,null,null,null,null,null,"Jungsauen 29 bis 115 kg LM; 180 kg Zuwachs je Platz N/P Reduziert","je Jungsauenplatz und Jahr",9,4.5999999999999996,null,null,0.8,0.7,0.7,0.6,0.7]
[null,null,null,null,"kg Norg./ha Gesamtbetrieb",null,null,{"$f":"IF(N52=0,\"\",H72/N52)","v":""},null,null,null,null,null,null,null,null,null,null,null,null,null,null,"Jungsauen 95 bis 135 kg LM; 240 kg Zuwachs je Platz p.a. Universalfutter","je Jungsauenplatz und Jahr",15.4,8.5,null,null,0.8,0.7,0.7,0.6,0.7]
[null,null,null,null,null,null,null,null,null,null,null,null,null,null,null,null,null,null,null,null,null,null,"Jungsauen96 bis 135 kg LM; 240 kg Zuwachs je Platz p.a. N/P Reduziert","je Jungsauenplatz und Jahr",13.3,7.5,null,null,0.8,0.7,0.7,0.6,0.7]
[null,null,null,null,"N Gesamtbedarf im Betrieb",null,null,{"$f":"'Zus. Anlage 5 DüV'!D12","v":0},null,null,null,null,null,null,null,null,null,null,null,null,null,null,"Mast 700 g Tageszunahme; 210 kg Zuwachs Universalfutter","je Mastplatz und Jahr",11.1,4.8,null,null,0.8,0.7,0.7,0.6,0.7]
[null,null,null,null,"kg Norg./Gesamtbetrieb",null,null,{"$f":"H72","v":0},null,null,null,null,null,null,null,null,null,null,null,null,null,null,"Mast 700 g Tageszunahme; 210 kg Zuwachs N/P reduziert","je Mastplatz und Jahr",10.7,4.0999999999999996,null,null,0.8,0.7,0.7,0.6,0.7]
[null,null,null,null,"mögliche mineralische N Ergänzung kg",null,null,{"$f":"H75-H76","v":0},null,null,null,null,null,null,null,null,null,null,null,null,null,null,"Mast 700 g Tageszunahme; 210 kg Zuwachs stark N/P reduziert","je Mastplatz und Jahr",9.6,3.7,null,null,0.8,0.7,0.7,0.6,0.7]
[null,null,null,null,null,null,null,null,null,null,null,null,null,null,null,null,null,null,null,null,null,null,"Mast 750 g Tageszunahme; 223 kg Zuwachs Universalfutter","je Mastplatz und Jahr",11.4,4.8,null,null,0.8,0.7,0.7,0.6,0.7]
[null,null,null,null,null,null,null,null,null,null,null,null,null,null,null,null,null,null,null,null,null,null,"Mast 750 g Tageszunahme; 223 kg Zuwachs N/P reduziert","je Mastplatz und Jahr",10.9,4.0999999999999996,null,null,0.8,0.7,0.7,0.6,0.7]
[null,null,null,null,null,null,null,null,null,null,null,null,null,null,null,null,null,null,null,null,null,null,"Mast 750 g Tageszunahme; 223 kg Zuwachs stark N/P reduziert","je Mastplatz und Jahr",9.8000000000000007,3.9,null,null,0.8,0.7,0.7,0.6,0.7]
[null,null,null,"Prüfung 160/80 Ausnahmeregelungen für § 13a Absatz 2 Nr.1 und Nr. 2 ",null,null,null,null,null,null,null,null,null,null,null,null,null,null,null,null,null,null,"Mast 850 g Tageszunahme; 244 kg Zuwachs Universalfutter","je Mastplatz und Jahr",12.2,5,null,null,0.8,0.7,0.7,0.6,0.7]
[null,null,null,null,null,null,null,null,null,null,null,null,null,null,null,null,null,null,null,null,null,null,"Mast 850 g Tageszunahme; 244 kg Zuwachs N/P reduziert","je Mastplatz und Jahr",11.7,4.4000000000000004,null,null,0.8,0.7,0.7,0.6,0.7]
[null,null,null,null,null,null,null,null,null,null,null,null,null,null,null,null,null,null,null,null,null,null,"Mast 850 g Tageszunahme; 244 kg Zuwachs stark N/P reduziert","je Mastplatz und Jahr",10.6,3.9,null,null,0.8,0.7,0.7,0.6,0.7]
[null,null,null,null,"kg N Gesamt \nNitrat Kulisse","kg N/ha in \nNitratkulisse",null,null,null,null,null,"tatsächllich \nausgebrachte\nN kg Gesamt\nNitrat Kulisse",null,null,null,null,null,null,null,null,null,null,"Mast 950 g Tageszunahme; 267 kg Zuwachs Universalfutter","je Mastplatz und Jahr",12.5,5,null,null,0.8,0.7,0.7,0.6,0.7]
[null,null,null,null,{"$f":"'Zus. Anlage 5 DüV'!D39/80*100","v":0},{"$f":"IF(E85=0,\"\",E85/(Ackerfläche!D47+Grünland!E26))","v":""},null,"Gesamt N Bedarf in der Nitratkulisse",null,null,null,null,null,null,null,null,null,null,null,null,null,null,"Mast 950 g Tageszunahme; 267 kg Zuwachs N/P reduziert","je Mastplatz und Jahr",12,4.4000000000000004,null,null,0.8,0.7,0.7,0.6,0.7]
[null,null,null,null,null,null,null,null,null,null,null,null,null,null,null,null,null,null,null,null,null,null,"Mast 950 g Tageszunahme; 267 kg Zuwachs stark N/P reduziert","je Mastplatz und Jahr",10.8,3.9,null,null,0.8,0.7,0.7,0.6,0.7]
[null,null,null,null,{"$f":"(Ackerfläche!D47+Grünland!E26)*80","v":0},80,null,"davon maximal mineralisch möglich",null,null,null,{"$f":"'Zus. Anlage 5 DüV'!D38","v":0}]
[]
[null,null,null,null,{"$f":"(Ackerfläche!D47+Grünland!E26)*130","v":0},130,null,"davon maximal organisch möglich",null,null,null,{"$f":"SUM('A1:A40'!AB16,'G1:G20'!AD15)","v":0}]
[null,null,null,null,null,null,null,null,null,null,null,null,null,null,null,null,null,null,null,null,null,null,"Reitpferde 500 – 600 kg LM Stallhaltung",null,51.1,23.4,null,null,null,0.55000000000000004,null,0.5,0.55000000000000004]
[null,null,null,null,null,null,null,null,null,null,null,null,null,null,null,null,null,null,null,null,null,null,"Reitpferde 500 – 600 kg LM Stall-/Weidehaltung",null,53.6,23.4,null,null,null,0.55000000000000004,null,0.5,0.55000000000000004]
[null,null,null,null,null,null,null,null,null,null,null,null,null,null,null,null,null,null,null,null,null,null,"Reitponys 300 kg LM; leichte Arbeit Stallhaltung",null,34.9,16.5,null,null,null,0.55000000000000004,null,0.5,0.55000000000000004]
[null,null,null,null,null,null,null,null,null,null,null,null,null,null,null,null,null,null,null,null,null,null,"Reitponys 300 kg LM; leichte Arbeit SStall-/Weidehaltung",null,33.4,15.3,null,null,null,0.55000000000000004,null,0.5,0.55000000000000004]
[null,null,null,null,null,null,null,null,null,null,null,null,null,null,null,null,null,null,null,null,null,null,"Großpferd 600 kg LM; Stall-/Weidehaltung; 0,5 Fohlen p.a.",null,63.5,28,null,null,null,0.55000000000000004,null,0.5,0.55000000000000004]
[null,null,null,null,null,null,null,null,null,null,null,null,null,null,null,null,null,null,null,null,null,null,"Pony 350 kg LM; Stall-/Weidehaltung; 0,5 Fohlen p.a.",null,42.3,18.399999999999999,null,null,null,0.55000000000000004,null,0.5,0.55000000000000004]
[null,null,null,null,null,null,null,null,null,null,null,null,null,null,null,null,null,null,null,null,null,null,"Großpferd; 365 kg Zuwachs; Stall/Weidehaltung; 6. - 36. Monat",null,44.5,18.899999999999999,null,null,null,0.55000000000000004,null,0.5,0.55000000000000004]
[null,null,null,null,null,null,null,null,null,null,null,null,null,null,null,null,null,null,null,null,null,null,"Kleinpferde 300-500 kg LG, Stall-/Weidehaltung, leichte Arbeit",null,43.5,19.350000000000001,null,null,null,0.55000000000000004,null,0.5,0.55000000000000004]
[null,null,null,null,null,null,null,null,null,null,null,null,null,null,null,null,null,null,null,null,null,null,"Zuchtstuten Kleinpferde 350-550 kg, 0,5 Fohlen/Jahr Stall-/Weidehaltung\n",null,52.9,23.2,null,null,null,0.55000000000000004,null,0.5,0.55000000000000004]
[null,null,null,null,null,null,null,null,null,null,null,null,null,null,null,null,null,null,null,null,null,null,"Aufzuchtpferde Kleinpferde, 6.-36. Monat, Stall-/Weidehaltung",null,38.049999999999997,16.2,null,null,null,0.55000000000000004,null,0.5,0.55000000000000004]
[null,null,null,null,null,null,null,null,null,null,null,null,null,null,null,null,null,null,null,null,null,null,"Pony; 150 kg Zuwachs; Stall-/Weidehaltung; 6. - 36. Monat",null,31.6,13.5,null,null,null,0.55000000000000004,null,0.5,0.55000000000000004]
[]
[]
[null,null,null,null,null,null,null,null,null,null,null,null,null,null,null,null,null,null,null,null,null,null,"Schaf 1,5 Lämmer/Schaf; 40 kg Zuwachs je Lamm, konventionell",null,20.100000000000001,6.2,18.2,5.3,null,0.55000000000000004,null,0.5,0.55000000000000004]
[null,null,null,null,null,null,null,null,null,null,null,null,null,null,null,null,null,null,null,null,null,null,"Schaf 1,1 Lämmer/Schaf; 40 kg Zuwachs je Lamm exensiv",null,17.600000000000001,5,17.3,5,null,0.55000000000000004,null,0.5,0.55000000000000004]
[null,null,null,null,null,null,null,null,null,null,null,null,null,null,null,null,null,null,null,null,null,null,"Ziege 800 kg Milch/Ziege p.a.; 1,5 Lämmer je Ziege; 16 kg Zuwachs/Lamm mit Nachzucht",null,15.2,5.7,11.7,3.8,null,0.55000000000000004,null,0.5,0.55000000000000004]
[null,null,null,null,null,null,null,null,null,null,null,null,null,null,null,null,null,null,null,null,null,null,"Ziege 45 kg Zuwachs je Produktionseinheit (1 Alttier mit 0,85 Kalb)",null,null,null,21.3,6.1,null,0.55000000000000004,null,0.5,0.55000000000000004]
[null,null,null,null,null,null,null,null,null,null,null,null,null,null,null,null,null,null,null,null,null,null,"Lämmer, Schafe bis 12 Monate",null,5.9,1.9,5.4,1.7,null,0.55000000000000004,null,0.5,0.55000000000000004]
[null,null,null,null,null,null,null,null,null,null,null,null,null,null,null,null,null,null,null,null,null,null,"Mutterschafe ohne Lamm, andere Schafe",null,14.2,4.3,12.4,3.6,null,0.55000000000000004,null,0.5,0.55000000000000004]
[null,null,null,null,null,null,null,null,null,null,null,null,null,null,null,null,null,null,null,null,null,null,"andere Ziegen",null,15.2,5.7,11.7,3.8,null,0.55000000000000004,null,0.5,0.55000000000000004]
[null,null,null,null,null,null,null,null,null,null,null,null,null,null,null,null,null,null,null,null,null,null,null,null,null,null,null,null,null,null,null,null,0.55000000000000004]
[null,null,null,null,null,null,null,null,null,null,null,null,null,null,null,null,null,null,null,null,null,null,"52 aufgezogene Jungtiere/ Häsin p.a. Aufzucht bis 0,6 kg LM",null,2.6,1.5,null,null,null,0.55000000000000004,null,0.5,0.55000000000000004]
[null,null,null,null,null,null,null,null,null,null,null,null,null,null,null,null,null,null,null,null,null,null," 52 aufgezogene Jungtiere/ Häsin p.a.Aufzucht bis 3 kg LM",null,9.6999999999999993,5.4,null,null,null,0.55000000000000004,null,0.5,0.55000000000000004]
[null,null,null,null,null,null,null,null,null,null,null,null,null,null,null,null,null,null,null,null,null,null,"Mast 0,6 bis 3 kg LM; 14 kg Zuwachs/Platz",null,0.7,0.4,null,null,null,0.55000000000000004,null,0.5,0.55000000000000004]
[null,null,null,null,null,null,null,null,null,null,null,null,null,null,null,null,null,null,null,null,null,null,null,null,null,null,null,null,null,null,null,null,0.55000000000000004]
[null,null,null,null,null,null,null,null,null,null,null,null,null,null,null,null,null,null,null,null,null,null,null,null,null,null,null,null,null,null,null,null,0.55000000000000004]
[null,null,null,null,null,null,null,null,null,null,null,null,null,null,null,null,null,null,null,null,null,null,"Fleischerzeugung; 45 kg Zuwachs (1 Alttier mit 0,85 Kalb)",null,21.6,6.2,null,null,null,0.55000000000000004,null,0.5,0.55000000000000004]
[null,null,null,null,null,null,null,null,null,null,null,null,null,null,null,null,null,null,null,null,null,null,null,null,null,null,null,null,null,null,null,null,0.55000000000000004]
[null,null,null,null,null,null,null,null,null,null,null,null,null,null,null,null,null,null,null,null,null,null,null,null,null,null,null,null,null,null,null,null,0.55000000000000004]
[null,null,null,null,null,null,null,null,null,null,null,null,null,null,null,null,null,null,null,null,null,null,"Junghennenaufzucht 3,5 kg Zuwachs, Standardfutter",null,0.26900000000000002,0.17599999999999999,null,null,null,0.6,null,0.5,0.6]
[null,null,null,null,null,null,null,null,null,null,null,null,null,null,null,null,null,null,null,null,null,null,"Junghennenaufzucht 3,5 kg Zuwachs, N-/P-reduziert",null,0.252,0.151,null,null,null,0.6,null,0.5,0.6]
[null,null,null,null,null,null,null,null,null,null,null,null,null,null,null,null,null,null,null,null,null,null,"Legehennenhaltung Standardfutter",null,0.76400000000000001,0.39600000000000002,null,null,null,0.6,null,0.5,0.6]
[null,null,null,null,null,null,null,null,null,null,null,null,null,null,null,null,null,null,null,null,null,null,"Legehennenhaltung N-/P-reduziert",null,0.73099999999999998,0.34599999999999997,null,null,null,0.6,null,0.5,0.6]
[null,null,null,null,null,null,null,null,null,null,null,null,null,null,null,null,null,null,null,null,null,null,"Hähnchenmast, Mast über 39 Tage; Standartfutter",null,0.41299999999999998,0.20799999999999999,null,null,null,0.6,null,0.5,0.6]
[null,null,null,null,null,null,null,null,null,null,null,null,null,null,null,null,null,null,null,null,null,null,"Hähnchenmast, 2,6 kg Zuwachs/Tier N-/P-reduziert",null,0.38500000000000001,0.17599999999999999,null,null,null,0.6,null,0.5,0.6]
[null,null,null,null,null,null,null,null,null,null,null,null,null,null,null,null,null,null,null,null,null,null,"Hähnchenmast, Mast über 34 bis 38 Tage; Standartfutter",null,0.38800000000000001,0.19,null,null,null,0.6,null,0.5,0.6]
[null,null,null,null,null,null,null,null,null,null,null,null,null,null,null,null,null,null,null,null,null,null,"Hähnchenmast, 2,3 kg Zuwachs/Tier N-/P-reduziert",null,0.35699999999999998,0.17399999999999999,null,null,null,0.6,null,0.5,0.6]
[null,null,null,null,null,null,null,null,null,null,null,null,null,null,null,null,null,null,null,null,null,null,"Hähnchenmast, Mast über 30 bis 33 Tage; Standartfutter",null,0.32800000000000001,0.17399999999999999,null,null,null,0.6,null,0.5,0.6]
[null,null,null,null,null,null,null,null,null,null,null,null,null,null,null,null,null,null,null,null,null,null,"Hähnchenmast, 1,8 kg Zuwachs/Tier N-/P-reduziert",null,0.311,0.153,null,null,null,0.6,null,0.5,0.6]
[null,null,null,null,null,null,null,null,null,null,null,null,null,null,null,null,null,null,null,null,null,null,"Hähnchenmast, Mast über 39 Tage; Standartfutter",null,0.26700000000000002,0.14199999999999999,null,null,null,0.6,null,0.5,0.6]
[null,null,null,null,null,null,null,null,null,null,null,null,null,null,null,null,null,null,null,null,null,null,"Hähnchenmast, 1,55 kg Zuwachs/Tier N-/P-reduziert",null,0.249,0.121,null,null,null,0.6,null,0.5,0.6]
[null,null,null,null,null,null,null,null,null,null,null,null,null,null,null,null,null,null,null,null,null,null,"Hähne, 22,1 kg Zuwachs; bis 21 Wochen Mast (56,4 kg Futterverbrauch je Tier), Standartfutter",null,2.145,1.2090000000000001,null,null,null,0.6,null,0.5,0.6]
[null,null,null,null,null,null,null,null,null,null,null,null,null,null,null,null,null,null,null,null,null,null,"Hähne, 22,1 kg Zuwachs; bis 21 Wochen Mast (56,4 kg Futterverbrauch je Tier), N-/P-reduziert",null,1.9910000000000001,0.94099999999999995,null,null,null,0.6,null,0.5,0.6]
[null,null,null,null,null,null,null,null,null,null,null,null,null,null,null,null,null,null,null,null,null,null,"Hennen 10,9 kg Zuwachs; 16 Wochen Mast (26,7 kg Futterverbrauch je Tier), Standardfutter",null,1.42,0.77400000000000002,null,null,null,0.6,null,0.5,0.6]
[null,null,null,null,null,null,null,null,null,null,null,null,null,null,null,null,null,null,null,null,null,null,"Hennen 10,9 kg Zuwachs; 16 Wochen Mast (26,7 kg Futterverbrauch je Tier), N-/P-reduziert",null,1.3420000000000001,0.54300000000000004,null,null,null,0.6,null,0.5,0.6]
[null,null,null,null,null,null,null,null,null,null,null,null,null,null,null,null,null,null,null,null,null,null,"Hähne ab der 6. Woche, Standardfutter",null,2.468,1.3720000000000001,null,null,null,0.6,null,0.5,0.6]
[null,null,null,null,null,null,null,null,null,null,null,null,null,null,null,null,null,null,null,null,null,null,"Hähne ab der 6. Woche, N-/P-reduziert",null,2.282,1.044,null,null,null,0.6,null,0.5,0.6]
[null,null,null,null,null,null,null,null,null,null,null,null,null,null,null,null,null,null,null,null,null,null,"Hennen ab der 6. Woche, Standardfutter",null,1.6519999999999999,0.92300000000000004,null,null,null,0.6,null,0.5,0.6]
[null,null,null,null,null,null,null,null,null,null,null,null,null,null,null,null,null,null,null,null,null,null,"Hennen ab der 6. Woche, N-/P-reduziert",null,1.542,0.72599999999999998,null,null,null,0.6,null,0.5,0.6]
[null,null,null,null,null,null,null,null,null,null,null,null,null,null,null,null,null,null,null,null,null,null,"gemischt geschlechtliche Mast; 50 % Hähne und 50% Hennen, Standardfutter",null,1.6519999999999999,0.92300000000000004,null,null,null,0.6,null,0.5,0.6]
[null,null,null,null,null,null,null,null,null,null,null,null,null,null,null,null,null,null,null,null,null,null,"gemischt geschlechtliche Mast; 50 % Hähne und 50% Hennen, N-/P-reduziert",null,1.542,0.72599999999999998,null,null,null,0.6,null,0.5,0.6]
[null,null,null,null,null,null,null,null,null,null,null,null,null,null,null,null,null,null,null,null,null,null,"Putenaufzucht bis 5 Wochen 20 % Hähne, 50 % Hennen, Standardfutter",null,0.442,0.28899999999999998,null,null,null,0.6,null,0.5,0.6]
[null,null,null,null,null,null,null,null,null,null,null,null,null,null,null,null,null,null,null,null,null,null,"Pekingenten, 19,5 kg Zuwachs/Platz p.a.; 6,5 Durchgänge (3,0 kg Zuwachs je Tier)",null,0.60499999999999998,0.34399999999999997,null,null,null,0.6,null,0.5,0.6]
[null,null,null,null,null,null,null,null,null,null,null,null,null,null,null,null,null,null,null,null,null,null,"Flugenten 15,4 kg Zuwachs/Platz p.a.; 4 Durchgänge; 2,7 kg weiblich, 5,0 kg männlich (w:m = 1:1)",null,0.57599999999999996,0.36699999999999999,null,null,null,0.6,null,0.5,0.6]
[null,null,null,null,null,null,null,null,null,null,null,null,null,null,null,null,null,null,null,null,null,null,"Schnellmast, 5,0 kg Zuwachs/Tier",null,0.23100000000000001,0.13300000000000001,null,null,null,0.6,null,0.5,0.6]
[null,null,null,null,null,null,null,null,null,null,null,null,null,null,null,null,null,null,null,null,null,null,"Mittelmast, 6,8 kg Zuwachs/Tier",null,0.70199999999999996,0.38700000000000001,null,null,null,0.6,null,0.5,0.6]
[null,null,null,null,null,null,null,null,null,null,null,null,null,null,null,null,null,null,null,null,null,null,"Spät-/Weidemast, 7,8 kg Zuwachs/Tier",null,1.0740000000000001,0.33400000000000002,null,null,null,0.6,null,0.5,0.6]

{"sheet":"eigene Werte","index":8,"n_rows":43,"n_cols":16,"rows_kept":43,"cut":false,"hidden":false,"merged":[[19,0,20,0],[19,12,19,14]]}
[]
[]
[]
[null,null,"eigene mineralsiche Dünger"]
[null,"TS Gehalt ","ges. N ","NH4-N","Amid N","P2O5","K2O","MgO","S","CaO \nAckerland","CaO \nGrünland","basisch wirk-same Stoffe (bwSt.)"]
["Bezeichnung","%","kg/dt o.m3","kg/dt o.m3","kg/dt o.m3","kg/dt o.m3","kg/dt o.m3","kg/dt o.m3","kg/dt o.m3",null,null,"kg/t o.m3"]
[]
[]
[]
[]
[]
[]
[]
[]
[]
[]
[]
[]
[null,null,"eigene organische Dünger"]
["Bevor ein organischer Dünger mit eigenen Werten eingetragen wird, muss die dazugehörige Kategorie aus dem Drop Down Menue ausgewählt werden!!!",null,"TS Gehalt ","ges. N ","NH4-N","P2O5","K2O","MgO","S","CaO \nAckerland","CaO \nGrünland","basisch wirk-same Stoffe (bwSt.)","Anrechnung"]
[null,"Bezeichnung","%","kg/t o.m3","kg/t o.m3","kg/t o.m3","kg/t o.m3","kg/t o.m3","kg/t o.m3",null,null,"kg/t o.m3","170 kg Kontrollwert","Anrechnung im \nAnwendungsjahr\nAckerland","Anrechnung im \nAnwendungsjahr\nGrünland","Aufnahme oder Abgabe \norgaischer Dünger"]
[null,null,null,null,null,null,null,null,null,null,null,null,{"$f":"IF(A22=\"\",\"\",IF(A22=\"Gülle Rind\",\"85%\",IF(A22=\"Gülle Schwein\",\"80%\",IF(A22=\"Stallmist Rind\",\"70%\",IF(A22=\"Geflügelmist\",\"60%\",IF(A22=\"Stallmist Schwein\",\"70%\",IF(A22=\"Sonstiges\",\"100%\",IF(A22=\"Gärreste\",\"95%\",\"100%\"))))))))","v":""},{"$f":"IF(A22=\"\",\"\",IF(A22=\"Gülle Rind\",\"60%\",IF(A22=\"Gülle Schwein\",\"70%\",IF(A22=\"Stallmist Rind\",\"25%\",IF(A22=\"Geflügelmist\",\"30%\",IF(A22=\"Stallmist Schwein\",\"30%\",IF(A22=\"Pferdemist\",\"25%\",IF(A22=\"Gärreste\",\"60%\",IF(A22=\"Jauche\",\"90%\",IF(A22=\"Hühnertrockenkot\",\"60%\",IF(A22=\"Klärschlamm fl\",\"30%\",IF(A22=\"Klärschlamm fest\",\"60%\",IF(A22=\"Pilzsubstrat\",\"10%\",IF(A22=\"Grünschnittkompost\",\"3%\",IF(A22=\"Sonstiger Kompost\",\"5%\",IF(A22=\"Gärreste fest\",\"30%\",\"100%\"))))))))))))))))","v":""},{"$f":"IF(A22=\"\",\"\",IF(A22=\"Gülle Rind\",\"50%\",IF(A22=\"Gülle Schwein\",\"60%\",IF(A22=\"Stallmist Rind\",\"25%\",IF(A22=\"Geflügelmist\",\"30%\",IF(A22=\"Stallmist Schwein\",\"30%\",IF(A22=\"Pferdemist\",\"25%\",IF(A22=\"Gärreste\",\"50%\",IF(A22=\"Jauche\",\"90%\",IF(A22=\"Hühnertrockenkot\",\"60%\",IF(A22=\"Klärschlamm fl\",\"30%\",IF(A22=\"Klärschlamm fest\",\"60%\",IF(A22=\"Pilzsubstrat\",\"10%\",IF(A22=\"Grünschnittkompost\",\"3%\",IF(A22=\"Sonstiger Kompost\",\"5%\",IF(A22=\"Gärreste fest\",\"30%\",\"100%\"))))))))))))))))","v":""},1]
[null,null,null,null,null,null,null,null,null,null,null,null,"",{"$f":"IF(A23=\"\",\"\",IF(A23=\"Gülle Rind\",\"60%\",IF(A23=\"Gülle Schwein\",\"70%\",IF(A23=\"Stallmist Rind\",\"25%\",IF(A23=\"Geflügelmist\",\"30%\",IF(A23=\"Stallmist Schwein\",\"30%\",IF(A23=\"Pferdemist\",\"25%\",IF(A23=\"Gärreste\",\"60%\",IF(A23=\"Jauche\",\"90%\",IF(A23=\"Hühnertrockenkot\",\"60%\",IF(A23=\"Klärschlamm fl\",\"30%\",IF(A23=\"Klärschlamm fest\",\"60%\",IF(A23=\"Pilzsubstrat\",\"10%\",IF(A23=\"Grünschnittkompost\",\"3%\",IF(A23=\"Sonstiger Kompost\",\"5%\",IF(A23=\"Gärreste fest\",\"30%\",\"100%\"))))))))))))))))","v":""},{"$f":"IF(A23=\"\",\"\",IF(A23=\"Gülle Rind\",\"50%\",IF(A23=\"Gülle Schwein\",\"60%\",IF(A23=\"Stallmist Rind\",\"25%\",IF(A23=\"Geflügelmist\",\"30%\",IF(A23=\"Stallmist Schwein\",\"30%\",IF(A23=\"Pferdemist\",\"25%\",IF(A23=\"Gärreste\",\"50%\",IF(A23=\"Jauche\",\"90%\",IF(A23=\"Hühnertrockenkot\",\"60%\",IF(A23=\"Klärschlamm fl\",\"30%\",IF(A23=\"Klärschlamm fest\",\"60%\",IF(A23=\"Pilzsubstrat\",\"10%\",IF(A23=\"Grünschnittkompost\",\"3%\",IF(A23=\"Sonstiger Kompost\",\"5%\",IF(A23=\"Gärreste fest\",\"30%\",\"100%\"))))))))))))))))","v":""},1]
[null,null,null,null,null,null,null,null,null,null,null,null,"","","",1]
[null,null,null,null,null,null,null,null,null,null,null,null,"","","",1]
[null,null,null,null,null,null,null,null,null,null,null,null,"","","",1]
[null,null,null,null,null,null,null,null,null,null,null,null,"","","",1]
[null,null,null,null,null,null,null,null,null,null,null,null,"","","",1]
[null,null,null,null,null,null,null,null,null,null,null,null,"","","",1]
[null,null,null,null,null,null,null,null,null,null,null,null,"","","",1]
[null,null,null,null,null,null,null,null,null,null,null,null,"","","",1]
[]
[]
[]
[]
[]
["Auflagen Acker Bezeichung (z.B: HALM, WSG u.s.w.)"]
[]
[]
[]
[]
[]
["Auflagen Grünland Bezeichung (z.B: HALM, WSG u.s.w.)"]

{"sheet":"Zus. Anlage 5 DüV","index":9,"n_rows":43,"n_cols":14,"rows_kept":43,"cut":false,"hidden":false,"merged":[[0,1,0,5],[35,1,35,4],[10,3,10,4],[11,3,11,4],[12,3,12,4],[1,3,1,4],[5,3,5,4],[7,3,7,4],[10,1,13,1],[9,3,9,4],[1,1,9,1],[2,3,2,4],[8,3,8,4],[4,3,4,4],[32,3,32,4],[6,3,6,4]]}
[null,"Anlage 5 (zu § 10 Abs. 1 Satz 2 und Abs, 2 Satz 2 DüV)\n Erfassung der Daten für den betrieblichen Nährstoffeinsatz"]
[null,"Eingabe auf dem Tabllenblatt \nEinführung","Eindeutige Bezeichnung des Betriebes:",{"$f":"IF(Einführung!I2=\"\",\"\",Einführung!I2)","v":""},null,null,null,null,null,null,null,null,null,{"$f":"IF(OR(C4=\"\",H12=\"\"),\"\",H12*C4)","v":""}]
[null,null,"Strasse",{"$f":"IF(Einführung!I3=\"\",\"\",Einführung!I3)","v":""}]
[null,null,"PLZ, Ort",{"$f":"IF(Einführung!I4=\"\",\"\",Einführung!I4)","v":""},{"$f":"IF(Einführung!J4=\"\",\"\",Einführung!J4)","v":""}]
[null,null,"PI Ident",{"$f":"IF(Einführung!J4=\"\",\"\",Einführung!I5)","v":""}]
[null,null,"Größe des Betriebes in Hektar \nlandwirtschaftlich genutzter Fläche:",{"$f":"Einführung!I6","v":0}]
[null,null," (ohne HALM-Flächen mit Düngeverbot)",{"$f":"Einführung!I7","v":0}]
[null,null,"Beginn des Düngejahres:",{"$f":"IF(Einführung!I8=\"\",\"\",Einführung!I8)","v":""}]
[null,null,"Ende des Düngejahres:",{"$f":"IF(Einführung!I9=\"\",\"\",Einführung!I9)","v":""}]
[null,null,"Datum der Erstellung: ",{"$f":"IF(Einführung!I10=\"\",\"\",Einführung!I10)","v":""}]
[null,null,"Gesamtbetrieblicher Düngebedarf:"]
[null,null,"Stickstoff (in kg N):",{"$f":"Ackerfläche!AR46+Grünland!U28","v":0}]
[null,null,"Phosphat (in kg P2O5):",{"$f":"Ackerfläche!AT46+Grünland!AQ25","v":0}]
[]
[]
[null,null,"Erfassung der im Betrieb aufgebrachten Nährstoffe Gesamtbetrieb","kg N","kg P2O5","Datenherkunft"]
[null,"1.","Mineralische Düngemittel",{"$f":"SUM('A1:A40'!R5)+SUM('G1:G20'!R5)","v":0},{"$f":"SUM('A1:A40'!T9)+SUM('G1:G20'!T9)","v":0},"Ackerflächen,\nGrünlandflächen"]
[null,"2.","Wirtschaftsdünger tierischer Herkunft",{"$f":"SUM('A1:A40'!R7)+SUM('G1:G20'!R7)","v":0},{"$f":"SUM('A1:A40'!U10)+SUM('G1:G20'!U10)","v":0},"Ackerflächen,\nGrünlandflächen"]
[null,"3.","davon anrechenbarer (verfügbarer) Stickstoff",{"$f":"SUM('A1:A40'!X30)+SUM('G1:G20'!X20)","v":0},null,"Anlage 3 DüV"]
[null,"4.","Weidehaltung",{"$f":"'170 Kontrollwert'!Q15","v":0},{"$f":"'170 Kontrollwert'!R15","v":0},"zus. Anlage 5 DüV\nKontrollblatt"]
[null,"5.","Sonstige organische Düngemittel",{"$f":"SUM('A1:A40'!R11)+SUM('G1:G20'!R11)","v":0},{"$f":"SUM('A1:A40'!T11)+SUM('G1:G20'!T11)","v":0},"Ackerflächen,\nGrünlandflächen"]
[null,"6.","davon verfügbarer Stickstoff",{"$f":"SUM('A1:A40'!S11)+SUM('G1:G20'!S11)","v":0},null,"Ackerflächen,\nGrünlandflächen"]
[null,"7.","Bodenhilfsstoffe",{"$f":"SUM('A1:A40'!R12)+SUM('G1:G20'!R12)","v":0},{"$f":"SUM('A1:A40'!T12)+SUM('G1:G20'!T12)","v":0},"Ackerflächen,\nGrünlandflächen"]
[null,"8.","Kultursubstrate",{"$f":"SUM('A1:A40'!R13)+SUM('G1:G20'!R13)","v":0},{"$f":"SUM('A1:A40'!T13)+SUM('G1:G20'!T13)","v":0},"Ackerflächen,\nGrünlandflächen"]
[null,"9.","Pflanzenhilfsmittel",{"$f":"SUM('A1:A40'!R14)+SUM('G1:G20'!R14)","v":0},{"$f":"SUM('A1:A40'!T14)+SUM('G1:G20'!T14)","v":0},"Ackerflächen,\nGrünlandflächen"]
[null,"10.","Abfälle zur Beseitigung (§ 28 Absatz 2 oder 3 KrWG)",{"$f":"SUM('A1:A40'!R15)+SUM('G1:G20'!R15)","v":0},{"$f":"SUM('A1:A40'!T15)+SUM('G1:G20'!T15)","v":0},"Ackerflächen,\nGrünlandflächen"]
[null,"11.","Stickstoffbindung durch Leguminosen",{"$f":"Ackerfläche!BX55+Ackerfläche!BY55+Grünland!N37","v":0},null,"Ackerflächen,Grünland\n"]
[null,"12.","Sonstige"]
[null,"13.","Summe Gesamtstickstoff",{"$f":"D17+D18+D21+D23+D24+D25+D26+D28","v":0},{"$f":"E28+E26+E25+E24+E23+E21+E18+E17","v":0},"1,3, 6, 7, 8, \n9, 10, 12"]
[null,"14.","Summe Gesamtstickstoff in kg N pro ha landwirtschaftlich genutzter Fläche nach § 6 Absatz 4",{"$f":"IF(D6=0,\"\",'170 Kontrollwert'!N53)","v":""},null,"zus. Anlage 5 DüV\nKontrollblatt",{"$f":"IF(D6=0,\"\",(Ackerfläche!BU46+Grünland!BS24)/(Ackerfläche!D46+Grünland!E25))","v":""}]
[null,"15.","Summe verfügbarer Stickstoff",{"$f":"D17+D19+D22+D23+D24+D25+D26","v":0},null,"1,3, 6, 7, 8, \n9, 10, 12"]
[]
[]
[]
[]
[null,"Erfassung der im Betrieb aufgebrachten Nährstoffe in Nitratbelastetenden Gebieten"]
[null,null,"Stickstoff","kg N","kg P2O5"]
[null,"1.","Einsatz mineralische Düngemittel kg",{"$f":"SUM('A1:A40'!R20)+SUM('G1:G20'!R20)","v":0},{"$f":"SUM('A1:A40'!T24)+SUM('G1:G20'!T24)","v":0}]
[null,null,"Düngebedarf in mit Nitrat belasteten Gebieten",{"$f":"SUM('A1:A40'!N5,'G1:G20'!N5)","v":0},{"$f":"SUM('A1:A40'!N7,'G1:G20'!N7)","v":0}]
[null,"14.","Summe Gesamtstickstoff in kg N pro ha landwirtschaftlich genutzter Fläche nach § 6 Absatz 4 in §13 Gebieten 130 kg N/ha",{"$f":"IF(F40=0,\"\",(SUM(Ackerfläche!BV4:BV43)+SUM(Grünland!BS4:BS23))/F40)","v":""},null,{"$f":"Ackerfläche!D47+Grünland!E26","v":0}]
[]
[null,null,"Summe verfügbarer (anrechenbarer) N kg Gesamtfläche in Nitrat belasteten Gebieten",{"$f":"SUM('A1:A40'!N6,'G1:G20'!N6)","v":0}]
[null,null,"noch abzudeckender N Bedarf in mit Nitrat belasteten Gebieten kg Gesamtfläche",{"$f":"D39-SUM('A1:A40'!N6,'G1:G20'!N6)","v":0}]

{"sheet":"A1","index":10,"n_rows":61,"n_cols":30,"rows_kept":61,"cut":false,"hidden":false,"merged":[[13,27,13,28],[13,29,16,30],[17,16,17,20],[28,1,28,6],[29,1,29,6],[28,9,28,10],[29,9,29,10],[11,4,11,6],[11,7,11,8],[25,9,25,10],[26,9,26,10],[27,9,27,10],[11,9,11,10],[12,9,12,10],[13,9,13,10],[14,9,14,10],[15,9,15,10],[16,9,16,10],[17,9,17,10],[18,9,18,10],[19,9,19,10],[20,9,20,10],[24,9,24,10],[11,25,12,25],[58,5,58,6],[74,2,74,3],[74,4,74,5],[74,6,74,7],[74,8,74,9],[74,10,74,12],[71,2,71,3],[72,2,72,3],[67,6,67,7],[67,8,67,9],[67,10,67,12],[68,10,68,12],[69,10,69,12],[70,10,70,12],[71,10,71,12],[72,10,72,12],[68,8,68,9],[60,2,60,3],[73,2,73,3],[71,8,71,9],[72,8,72,9],[73,4,73,5],[58,9,58,11],[63,2,63,3],[55,1,55,2],[55,3,55,4],[55,9,55,10],[21,9,21,10],[6,7,6,12],[7,7,7,8],[8,7,8,8],[7,9,7,10],[8,9,8,10],[10,8,10,12],[55,11,55,12],[55,6,55,8],[35,7,35,9],[36,7,36,9],[10,1,10,2],[11,1,11,2],[30,0,30,1],[22,9,22,10],[23,9,23,10],[51,7,51,9],[38,7,38,9],[39,7,39,9],[49,7,49,9],[50,7,50,9],[0,1,0,12],[4,2,4,3],[4,4,4,6],[3,2,3,3],[2,4,2,6],[2,2,2,3],[3,4,3,6],[1,2,1,3],[1,4,1,6],[1,7,1,9],[2,7,2,9],[1,10,1,12],[4,7,4,9],[4,10,4,12],[3,7,3,10],[2,10,2,12],[3,11,3,12],[5,7,5,10],[5,11,5,12],[63,6,63,7],[64,6,64,7],[59,1,59,12],[53,1,53,5],[54,1,54,6],[33,7,33,9],[52,7,52,9],[36,10,36,12],[28,7,28,8],[29,7,29,8],[31,7,31,9],[32,7,32,9],[34,7,34,9],[53,7,53,12],[30,7,30,9],[30,10,30,12],[37,7,37,9],[37,10,37,12],[38,10,38,12],[46,7,46,9],[47,7,47,9],[48,7,48,9],[72,4,72,5],[65,4,65,5],[66,4,66,5],[64,2,64,3],[57,5,57,6],[60,8,60,9],[61,8,61,9],[9,7,9,12],[62,8,62,9],[63,8,63,9],[56,1,56,2],[57,9,57,12],[57,3,57,4],[60,4,60,5],[61,4,61,5],[62,4,62,5],[63,4,63,5],[64,4,64,5],[56,3,56,4],[56,5,56,6],[56,9,56,12],[58,3,58,4],[61,2,61,3],[62,2,62,3],[71,6,71,7],[68,2,68,3],[67,4,67,5],[68,4,68,5],[69,4,69,5],[70,4,70,5],[69,2,69,3],[70,2,70,3],[65,2,65,3],[66,2,66,3],[67,2,67,3],[71,4,71,5],[73,10,73,12],[60,10,60,12],[61,10,61,12],[62,10,62,12],[63,10,63,12],[66,6,66,7],[64,10,64,12],[65,10,65,12],[66,10,66,12],[64,8,64,9],[65,8,65,9],[66,8,66,9],[73,6,73,7],[60,6,60,7],[61,6,61,7],[62,6,62,7],[69,8,69,9],[70,8,70,9],[72,6,72,7],[68,6,68,7],[69,6,69,7],[65,6,65,7],[73,8,73,9],[70,6,70,7],[48,10,48,12],[49,10,49,12],[50,10,50,12],[51,10,51,12],[52,10,52,12],[31,10,31,12],[32,10,32,12],[33,10,33,12],[34,10,34,12],[35,10,35,12],[39,10,39,12],[40,10,40,12],[41,10,41,12],[42,10,42,12],[43,10,43,12],[44,10,44,12],[45,10,45,12],[46,10,46,12],[47,10,47,12],[33,22,33,23],[34,22,34,23],[40,7,40,9],[41,7,41,9],[42,7,42,9],[43,7,43,9],[44,7,44,9],[45,7,45,9],[32,16,32,20]]}
[null,"Ackerland"]
[null,1,"Name:",null,{"$f":"IF(B2=\"\",\"\",VLOOKUP(B2,Anbauplan,2,0))","v":0},null,null,"Jahr:",null,null,{"$f":"IF(Einführung!I8=\"\",\"\",Einführung!I8)","v":""},null,null,{"$f":"IF(OR(B4=\"\",H12=\"\"),\"\",H12*B4)","v":0},"DB kg * Fläche"]
[null,"Hektar ","Hauptfrucht ",null,{"$f":"IF(B2=\"\",\"\",VLOOKUP(B2,Ackerbauplan,4,0))","v":0},null,null,"Nitratkulisse",null,null,{"$f":"IF(B2=\"\",\"\",VLOOKUP(B2,Ackerbauplan,20,0))","v":0},null,null,{"$f":"L4","v":""},"kg/ha org. Dünger für Kontrollgrenze"]
[null,{"$f":"IF(B2=\"\",\"\",VLOOKUP(B2,Ackerbauplan,3,0))","v":0},"Vorfrucht",null,{"$f":"IF(B2=\"\",\"\",VLOOKUP(B2,Ackerbauplan,9,0))","v":0},null,null,"Wirtschaftsdünger zur Berechung\ndes 130 kg N/ha Anteils in kg/ha",null,null,null,{"$f":"IF(K3=\"ja\",W29,\"\")","v":""},null,{"$f":"IF(N3=\"\",\"\",N3*B4)","v":""},"kg Gesamtschlag org Dünger für 170 Kontrollgrenze",null,null,"Gesamt N","NH4-N","P2O5 mineral.","P2O5 organisch"]
[null,"Sorte","VorVorfrucht",null,null,null,null,"Phosphatkulisse",null,null,{"$f":"IF(B2=\"\",\"\",VLOOKUP(B2,Ackerbauplan,21,0))","v":0},null,null,{"$f":"IF(H12=\"\",\"\",IF(K3=\"ja\",N2*0.8,\"\"))","v":""},"Nitrat belastetes Gebiet Düngebedarf Gesamtschlag kg N/ha",null,"N Gesamt minerl.",{"$f":"SUMIF($N$14:$N$28,\"mineralisch\",$H$14:$H$28)*B4","v":0}]
[null,{"$f":"IF(B2=\"\",\"\",VLOOKUP(B2,Ackerbauplan,8,0))","v":0},null,null,null,null,null,"sonstige Auflagen",null,null,null,null,null,{"$f":"IF(K3=\"ja\",X30+Y30,\"\")","v":""},"org +min .anrechenbare N Menge Gesamtschlag  kg N/ha",null,"NH4-N minerlisch",null,{"$f":"SUMIF($N$14:$N$28,\"mineralisch\",$I$14:$I$28)*B4","v":0}]
[null,"Aussaatdatum","Kö./m² ",{"$f":"IF(B2=\"\",\"\",VLOOKUP(B2,Ackerbauplan,52,0))","v":0},null,"Eigen","Zukauf","Versorgungsstufen",null,null,null,null,null,{"$f":"IF(K3=\"ja\",J12*B4,\"\")","v":""},null,null,"N Gesamt organsich",{"$f":"SUMIF($N$14:$N$28,\"organisch\",$H$14:$H$28)*B4","v":0}]
[null,{"$f":"IF(B2=\"0\",\"\",VLOOKUP(B2,Ackerbauplan,51,0))","v":"00:00:00"},"x TKG ",{"$f":"IF(B2=\"\",\"\",VLOOKUP(B2,Ackerbauplan,53,0))","v":0},"dt/ha ",null,null,"Nmin",null,"P2O5",null,"K2O","MgO",null,null,null,"NH4-N organsich",null,{"$f":"SUMIF($N$14:$N$28,\"organisch\",I14:I28)*B4","v":0}]
[null,"Beize","/Kei.fäh.",{"$f":"IF(B2=\"\",\"\",VLOOKUP(B2,Ackerbauplan,54,0))","v":0},"€/dt",null,null,{"$f":"IF(B2=\"\",\"\",VLOOKUP(B2,Ackerbauplan,17,0))","v":0},null,{"$f":"IF(B2=\"\",\"\",VLOOKUP(B2,Ackerbauplan,30,0))","v":"C"},null,{"$f":"IF(B2=\"\",\"\",VLOOKUP(B2,Ackerbauplan,31,0))","v":"C"},{"$f":"IF(B2=\"\",\"\",VLOOKUP(B2,Ackerbauplan,32,0))","v":"C"},null,null,null,"P2O5 mineralisch",null,null,{"$f":"SUMIF($N$14:$N$28,\"mineralisch\",$J$14:$J$28)*B4","v":0}]
[null,null,"= kg/ha",{"$f":"IF(B2=\"\",\"\",VLOOKUP(B2,Ackerbauplan,55,0))","v":""},"€/ha ",{"$f":"F8*F9","v":0},{"$f":"G8*G9","v":0},"Düngebedarf kg/ha (Blatt Ackerfläche)",null,null,null,null,null,null,"Düngebedarf um 20% reduziert",null,"P2O5 organisch",null,null,null,{"$f":"SUMIF($N$14:$N$28,\"organisch\",$J$14:$J$28)*B4","v":0},null,null,null,null,null,null,{"$f":"IF(K3=\"ja\",\"Noch nicht ausgeschöpfter Stickstoff Düngebedarf aller Flächen\",\"\")","v":""}]
[null,"Saatgutkennnummer",null,null,null,"Summe",{"$f":"F10+G10","v":0},{"$f":"IF(H12=\"\",\"\",IF(K3=\"ja\",H12*0.8,\"\"))","v":""},{"$f":"IF(K3=\"ja\",O10,\"\")","v":""},null,null,null,null,null,null,null,"Sonstige organische Düngemittel",{"$f":"SUMIF($N$14:$N$28,Q11,$H$14:$H$28)*B4","v":0},{"$f":"SUMIF($N$14:$N$28,Q11,$I$14:$I$28)*B4","v":0},{"$f":"SUMIF($N$14:$N$28,Q11,$J$14:$J$28)*B4","v":0},null,null,null,null,null,null,null,{"$f":"IF(K3=\"ja\",'Zus. Anlage 5 DüV'!D43,\"\")","v":""},{"$f":"IF(K3=\"ja\",\"kg N Gesamtfläche\",\"\")","v":""}]
[null,null,null,null,"N Bedarf DÜV kg/ha",null,null,{"$f":"IF(B2=\"\",\"\",VLOOKUP(B2,Ackerbauplan,18,0))","v":"0"},null,{"$f":"IF(B2=\"\",\"\",VLOOKUP(B2,Ackerbauplan,37,0))","v":"0"},null,{"$f":"IF(B2=\"\",\"\",VLOOKUP(B2,Ackerbauplan,38,0))","v":"0"},null,null,null,null,"Bodenhilfsstoffe",{"$f":"SUMIF($N$14:$N$28,Q12,$H$14:$H$28)*B4","v":0},null,{"$f":"SUMIF($N$14:$N$28,Q12,$J$14:$J$28)*B4","v":0},null,"Anrechnung","Anrechnung ","Prüfung NH4","mineral","Kontroll\nSumme"]
[null,"Dünger","Datum","EC","m³o.dt/ha","€/dt","€/ha","Ges.-N","NH4-N","P2O5",null,"K2O","S",null,null,null,"Kultursubstrate",{"$f":"SUMIF($N$14:$N$28,Q13,$H$14:$H$28)*B4","v":0},null,{"$f":"SUMIF($N$14:$N$28,Q13,$J$14:$J$28)*B4","v":0},null,"aktuelles Jahr","170 kg GW"," oder Anlage3","Stickstoff"]
[null,null,null,null,null,{"$f":"IF(B14=\"\",\"\",VLOOKUP(B14,Düngemiteldaten,2,0))","v":""},{"$f":"IF(B14=\"\",\"\",E14*F14)","v":""},{"$f":"IF(B14=\"\",\"\",VLOOKUP(B14,Düngemiteldaten,4,0)*E14)","v":""},{"$f":"IF(B14=\"\",\"\",VLOOKUP(B14,Düngemiteldaten,5,0)*E14)","v":""},{"$f":"IF(B14=\"\",\"\",VLOOKUP(B14,Düngemiteldaten,7,0)*E14)","v":""},null,{"$f":"IF(B14=\"\",\"\",VLOOKUP(B14,Düngemiteldaten,8,0)*E14)","v":""},{"$f":"IF(B14=\"\",\"\",VLOOKUP(B14,Düngemiteldaten,10,0)*E14)","v":""},{"$f":"IF(B14=\"\",\"\",VLOOKUP(B14,Düngemiteldaten,20,0))","v":""},null,null,"Pflanzenhilfsmittel",{"$f":"SUMIF($N$14:$N$28,Q14,$H$14:$H$28)*B4","v":0},null,{"$f":"SUMIF($N$14:$N$28,Q14,$J$14:$J$28)*B4","v":0},null,{"$f":"IF(OR(B14=\"\",N14=\"\"),\"\",IF(N14=\"mineralisch\",\"\",VLOOKUP(B14,Düngemiteldaten,17,0)*VLOOKUP(B14,Düngemiteldaten,4,0)*E14))","v":""},{"$f":"IF(N14=\"organisch\",VLOOKUP(B14,Düngemiteldaten,4,0)*E14*VLOOKUP(B14,Düngemiteldaten,19,0),\"\")","v":""},{"$f":"IF(B14=\"\",\"\",IF(V14<I14,I14,V14))","v":""},{"$f":"IF(B14=\"\",\"\",IF(N14=\"organisch\",0,H14))","v":""},{"$f":"IF(SUM(V14:Y14)=0,\"\",SUM(X14:Y14))","v":""},null,{"$f":"IF(K3=\"ja\",\"Summe Gesamtstickstoff\",\"\")","v":""},null,{"$f":"IF(K3=\"ja\",\"Anteil § 13a Prüfung \n160 kg N/ha Gesamt\n80 kg N/ha mineralisch\",\"\")","v":""}]
[null,null,null,null,null,"",{"$f":"IF(B15=\"\",\"\",E15*F15)","v":""},"","","",null,"","","",null,null,"Abfälle zur Beseitigung (§ 28 Absatz 2 odeS 3 KSWG)",{"$f":"SUMIF($N$14:$N$28,Q15,$H$14:$H$28)*B4","v":0},null,{"$f":"SUMIF($N$14:$N$28,Q15,$J$14:$J$28)*B4","v":0},null,"","",{"$f":"IF(B15=\"\",\"\",IF(V15<I15,I15,V15))","v":""},{"$f":"IF(B15=\"\",\"\",IF(N15=\"organisch\",0,H15))","v":""},{"$f":"IF(SUM(V15:Y15)=0,\"\",SUM(X15:Y15))","v":""},null,{"$f":"IF(L4=\"\",\"\",SUMIF($N$14:$N$28,\"mineralisch\",$H$14:$H$28))","v":""},{"$f":"IF(K3=\"ja\",\"mineralisch N kg/ha\",\"\")","v":""}]
[null,null,null,null,null,"","","","","",null,"","","",null,null,null,null,null,null,null,"","",{"$f":"IF(B16=\"\",\"\",IF(V16<I16,I16,V16))","v":""},"",{"$f":"IF(SUM(V16:Y16)=0,\"\",SUM(X16:Y16))","v":""},null,{"$f":"IF(L4=\"\",\"\",SUMIF($N$14:$N$28,\"organisch\",$H$14:$H$28)+SUMIF($N$14:$N$28,Q11,$H$14:$H$28))","v":""},{"$f":"IF(K3=\"ja\",\"organisch N kg/ha\",\"\")","v":""}]
[null,null,null,null,null,"","","","","",null,"","","",null,null,null,null,null,null,null,{"$f":"IF(OR(B17=\"\",N17=\"\"),\"\",IF(N17=\"mineralisch\",\"\",VLOOKUP(B17,Düngemiteldaten,17,0)*VLOOKUP(B17,Düngemiteldaten,4,0)*E17))","v":""},"","","","",null,{"$f":"IF(K3=\"ja\",(AB16+AB15),\"\")","v":""},{"$f":"IF(K3=\"ja\",\"Gesamt kg N/ha\",\"\")","v":""}]
[null,null,null,null,null,"","","","","",null,"","","",null,null,"Nährstoffherkunft auf gefährdeten Flächen §13",null,null,null,null,"","","","",""]
[null,null,null,null,null,"","","","","",null,"","","",null,null,null,"Gesamt N","NH4-N","P2O5 mineral.","P2O5 organisch","","","","",""]
[null,null,null,null,null,"","","","","",null,"","","",null,null,"N Gesamt minerl.",{"$f":"IF(K3=\"ja\",SUMIF($N$14:$N$28,\"mineralisch\",$H$14:$H$28),0)*B4","v":0},null,null,null,"","","","",""]
[null,null,null,null,null,"","","","","",null,"","","",null,null,"NH4-N minerlisch",null,{"$f":"IF(K3=\"ja\",SUMIF($N$14:$N$28,\"mineralisch\",$I$14:$I$28),0)*B4","v":0},null,null,"","","","",""]
[null,null,null,null,null,"","","","","",null,"","","",null,null,"N Gesamt organsich",{"$f":"IF(K3=\"ja\",SUMIF($N$14:$N$28,\"organisch\",$H$14:$H$28),0)*B4","v":0},null,null,null,"","","","",""]
[null,null,null,null,null,"","","","","",null,"","","",null,null,"NH4-N organsich",null,{"$f":"IF(K3=\"ja\",SUMIF($N$14:$N$28,\"organisch\",$I$14:$I$28),0)*B4","v":0},null,null,"","","","",""]
[null,null,null,null,null,"","","","","",null,"","","",null,null,"P2O5 mineralisch",null,null,{"$f":"IF(K3=\"ja\",SUMIF($N$14:$N$28,\"mineralisch\",$J$14:$J$28),0)*B4","v":0},null,"","","","",""]
[null,null,null,null,null,"","","","","",null,"","","",null,null,"P2O5 organisch",null,null,null,{"$f":"IF(K3=\"ja\",SUMIF($N$14:$N$28,\"organisch\",$J$14:$J$28),0)*B4","v":0},"","","","",""]
[null,null,null,null,null,"","","","","",null,"","","",null,null,"Sonstige organische Düngemittel",{"$f":"IF(K3=\"ja\",SUMIF($N$14:$N$28,Q26,$H$14:$H$28),0)*B4","v":0},{"$f":"IF(K3=\"ja\",SUMIF($N$14:$N$28,Q26,$I$14:$I$28),0)*B4","v":0},{"$f":"IF(K3=\"ja\",SUMIF($N$14:$N$28,Q26,$J$14:$J$28),0)*B4","v":0},null,"","","","",""]
[null,null,null,null,null,"","","","","",null,"","","",null,null,"Bodenhilfsstoffe",{"$f":"IF(K3=\"ja\",SUMIF($N$14:$N$28,Q27,$H$14:$H$28),0)*B4","v":0},null,{"$f":"IF(K3=\"ja\",SUMIF($N$14:$N$28,Q27,$J$14:$J$28),0)*B4","v":0},null,"","","","",""]
[null,null,null,null,null,"","","","","",null,"","","",null,null,"Kultursubstrate",{"$f":"IF(K3=\"ja\",SUMIF($N$14:$N$28,Q28,$H$14:$H$28),0)*B4","v":0},null,{"$f":"IF(K3=\"ja\",SUMIF($N$14:$N$28,Q28,$J$14:$J$28),0)*B4","v":0},null,"","","","",""]
[null,"anrechenbarer N aus org.Dgg. + min. Dgg. kg N/ha",null,null,null,null,null,{"$f":"X29+Y29","v":0},null,{"$f":"SUM(J14:J28)","v":0},null,{"$f":"SUM(L14:L28)","v":0},{"$f":"SUM(M14:M28)","v":0},null,null,null,"Pflanzenhilfsmittel",{"$f":"IF(K3=\"ja\",SUMIF($N$14:$N$28,Q29,$H$14:$H$28),0)*B4","v":0},null,{"$f":"IF(K3=\"ja\",SUMIF($N$14:$N$28,Q29,$J$14:$J$28),0)*B4","v":0},null,{"$f":"SUM(V14:V28)","v":0},{"$f":"SUM(W14:W28)","v":0},{"$f":"SUM(X14:X28)","v":0},{"$f":"SUM(Y14:Y28)","v":0},"kg/ha"]
[null,{"$f":"IF(K3=\"0\",O31,O30)","v":"Bilanz (anrechenbarer Dgg.- reduzierter Düngebedarf) kg N/ha"},null,null,null,null,null,{"$f":"IF(H12=\"\",0,IF(OR(K3=0,K3=\"nein\"),H29-H12,H29-H11))","v":0},null,{"$f":"IF(J12=\"\",\"\",J29-J12)","v":0},null,{"$f":"IF(L12=\"\",\"\",L29-L12)","v":0},{"$f":"IF(M12=\"\",\"\",M29-M12)","v":""},null,"Bilanz (anrechenbarer Dgg.- reduzierter Düngebedarf) kg N/ha",null,"Abfälle zur Beseitigung (§ 28 Absatz 2 odeS 3 KSWG)",{"$f":"IF(K3=\"ja\",SUMIF($N$14:$N$28,Q30,$H$14:$H$28),0)*B4","v":0},null,{"$f":"IF(K3=\"ja\",SUMIF($N$14:$N$28,Q30,$J$14:$J$28),0)*B4","v":0},null,{"$f":"V29*B4","v":0},{"$f":"W29*B4","v":0},{"$f":"X29*B4","v":0},{"$f":"Y29*B4","v":0},"kg/Schlag",null,{"$f":"IF(H30>0,\"Stickstoffmenge überschreitet den Düngebedarf\",\"\")","v":""}]
["Pflanzenschutzmittel",null,"Datum","EC","E./ha","€/E.","€/ha","Anwender",null,null,"Bemerkungen",null,null,null,"Bilanz (anrechenbarer Dgg.- Düngebedarf) kg N/ha"]
[null,null,null,null,null,{"$f":"IF($B32=\"\",\"\",VLOOKUP($B32,PSMMittel,2,0))","v":""},{"$f":"IF(B32=\"\",\"\",E32*F32)","v":""}]
[null,null,null,null,null,"",{"$f":"IF(B33=\"\",\"\",E33*F33)","v":""},null,null,null,null,null,null,null,null,null,"Stickstoffherkunft nicht gefährdetes Gebiet Gesamtfläche"]
[null,null,null,null,null,"","",null,null,null,null,null,null,null,null,null,null,"Gesamt N","NH4-N","P2O5 mineral.","P2O5 organisch",null,"N Fixierung kg N/ha"]
[null,null,null,null,null,"","",null,null,null,null,null,null,null,null,null,"N Gesamt minerl.",{"$f":"R5-R20","v":0},null,null,null,null,{"$f":"IF(E3=0,\"\",VLOOKUP(E3,AckerbauKulturen,26,0)*G56*B4)","v":""}]
[null,null,null,null,null,"","",null,null,null,null,null,null,null,null,null,"NH4-N minerlisch",null,{"$f":"S6-S21","v":0}]
[null,null,null,null,null,"","",null,null,null,null,null,null,null,null,null,"N Gesamt organsich",{"$f":"R7-R22","v":0}]
[null,null,null,null,null,"","",null,null,null,null,null,null,null,null,null,"NH4-N organsich",null,{"$f":"S8-S23","v":0}]
[null,null,null,null,null,"","",null,null,null,null,null,null,null,null,null,"P2O5 mineralisch",null,null,{"$f":"T9-T24","v":0}]
[null,null,null,null,null,"","",null,null,null,null,null,null,null,null,null,"P2O5 organisch",null,null,null,{"$f":"U10-U25","v":0}]
[null,null,null,null,null,"","",null,null,null,null,null,null,null,null,null,"Sonstige organische Düngemittel",{"$f":"R11-R26","v":0},{"$f":"S11-S26","v":0},{"$f":"T11-T26","v":0}]
[null,null,null,null,null,"","",null,null,null,null,null,null,null,null,null,"Bodenhilfsstoffe",{"$f":"R12-R27","v":0},null,{"$f":"T12-T27","v":0}]
[null,null,null,null,null,"","",null,null,null,null,null,null,null,null,null,"Kultursubstrate",{"$f":"R13-R28","v":0},null,{"$f":"T13-T28","v":0}]
[null,null,null,null,null,"","",null,null,null,null,null,null,null,null,null,"Pflanzenhilfsmittel",{"$f":"R14-R29","v":0},null,{"$f":"T14-T29","v":0}]
[null,null,null,null,null,"","",null,null,null,null,null,null,null,null,null,"Abfälle zur Beseitigung (§ 28 Absatz 2 odeS 3 KSWG)",{"$f":"R15-R30","v":0},null,{"$f":"T15-T30","v":0}]
[null,null,null,null,null,"",""]
[null,null,null,null,null,"",""]
[null,null,null,null,null,"",""]
[null,null,null,null,null,"",""]
[null,null,null,null,null,"",""]
[null,null,null,null,null,"",""]
[null,null,null,null,null,"",""]
[null,null,null,null,null,"",""]
[null,"Summe",null,null,null,null,{"$f":"SUM(G32:G53)","v":0}]
[]
[null,"Erntedatum:",null,{"$f":"IF(VLOOKUP($B$2,Ackerbauplan,58,0)=\"\",\"\",VLOOKUP($B$2,Ackerbauplan,58,0))","v":""},null,"dt/ha",{"$f":"VLOOKUP($B$2,Ackerbauplan,60,0)","v":0},null,null,"€/dt",null,{"$f":"VLOOKUP($B$2,Ackerbauplan,59,0)","v":0}]
[null,"   Hauptleistung ",null,{"$f":"IF(VLOOKUP($B$2,Ackerbauplan,61,0)=\"\",\"\",VLOOKUP($B$2,Ackerbauplan,61,0))","v":""},null,"Saatgut ",null,{"$f":"G11","v":0},"€/ha","Marktleistung -"]
[null,null,"+ Nebenleistung ",{"$f":"IF($B$2=\"\",\"\",VLOOKUP($B$2,Anbauplan,62,0))","v":0},null,"Dünger ",null,{"$f":"SUM(G14:G28)","v":0},"€/ha","Saatgut, Dünger, PSM"]
[null,null,"= Marktleistung ",{"$f":"IF(D57=\"\",\"\",D58+D57)","v":""},null,"Pflanzenschutz ",null,{"$f":"G54","v":0},"€/ha",{"$f":"IF(D59=\"\",\"\",D59-H57-H58-H59)","v":""},null,null,"€/ha"]
[null,{"$f":"IF($B$2=\"\",\"\",VLOOKUP($B$2,Anbauplan,2,0))","v":0}]
[null,"Bearbeitung","Maschine 1",null,"Maschine 2",null,"Maschine 3",null,"Datum",null,"Bemerkung"]

{"sheet":"A2","index":11,"n_rows":61,"n_cols":30,"rows_kept":61,"cut":false,"hidden":false,"merged":[[13,27,13,28],[13,29,16,30],[6,7,6,12],[7,7,7,8],[8,7,8,8],[7,9,7,10],[8,9,8,10],[10,8,10,12],[73,2,73,3],[73,4,73,5],[73,6,73,7],[73,8,73,9],[73,10,73,12],[69,2,69,3],[69,4,69,5],[69,6,69,7],[69,8,69,9],[69,10,69,12],[70,2,70,3],[70,4,70,5],[70,6,70,7],[70,8,70,9],[70,10,70,12],[67,2,67,3],[67,4,67,5],[67,6,67,7],[74,2,74,3],[74,4,74,5],[74,6,74,7],[74,8,74,9],[74,10,74,12],[71,2,71,3],[71,4,71,5],[71,6,71,7],[71,8,71,9],[71,10,71,12],[72,2,72,3],[72,4,72,5],[72,6,72,7],[72,8,72,9],[72,10,72,12],[67,8,67,9],[67,10,67,12],[68,2,68,3],[68,4,68,5],[68,6,68,7],[68,8,68,9],[68,10,68,12],[65,2,65,3],[65,4,65,5],[65,6,65,7],[65,8,65,9],[65,10,65,12],[66,2,66,3],[66,4,66,5],[66,6,66,7],[66,8,66,9],[66,10,66,12],[63,2,63,3],[63,4,63,5],[63,6,63,7],[63,8,63,9],[63,10,63,12],[64,2,64,3],[64,4,64,5],[64,6,64,7],[64,8,64,9],[64,10,64,12],[61,2,61,3],[61,4,61,5],[61,6,61,7],[61,8,61,9],[61,10,61,12],[62,2,62,3],[62,4,62,5],[62,6,62,7],[62,8,62,9],[62,10,62,12],[58,3,58,4],[58,5,58,6],[58,9,58,11],[59,1,59,12],[60,2,60,3],[60,4,60,5],[60,6,60,7],[60,8,60,9],[60,10,60,12],[56,1,56,2],[56,3,56,4],[56,5,56,6],[56,9,56,12],[57,3,57,4],[57,5,57,6],[57,9,57,12],[52,7,52,9],[52,10,52,12],[53,1,53,5],[53,7,53,12],[54,1,54,6],[55,1,55,2],[55,3,55,4],[55,6,55,8],[55,9,55,10],[55,11,55,12],[49,7,49,9],[49,10,49,12],[50,7,50,9],[50,10,50,12],[51,7,51,9],[51,10,51,12],[46,7,46,9],[46,10,46,12],[47,7,47,9],[47,10,47,12],[48,7,48,9],[48,10,48,12],[43,7,43,9],[43,10,43,12],[44,7,44,9],[44,10,44,12],[45,7,45,9],[45,10,45,12],[40,7,40,9],[40,10,40,12],[41,7,41,9],[41,10,41,12],[42,7,42,9],[42,10,42,12],[37,7,37,9],[37,10,37,12],[38,7,38,9],[38,10,38,12],[39,7,39,9],[39,10,39,12],[34,7,34,9],[34,10,34,12],[35,7,35,9],[35,10,35,12],[36,7,36,9],[36,10,36,12],[31,7,31,9],[31,10,31,12],[32,7,32,9],[32,10,32,12],[32,16,32,20],[33,7,33,9],[33,10,33,12],[29,1,29,6],[29,7,29,8],[29,9,29,10],[30,0,30,1],[30,7,30,9],[30,10,30,12],[23,9,23,10],[24,9,24,10],[25,9,25,10],[26,9,26,10],[27,9,27,10],[28,1,28,6],[28,7,28,8],[28,9,28,10],[17,16,17,20],[18,9,18,10],[19,9,19,10],[20,9,20,10],[21,9,21,10],[22,9,22,10],[14,9,14,10],[15,9,15,10],[16,9,16,10],[17,9,17,10],[10,1,10,2],[9,7,9,12],[11,1,11,2],[11,4,11,6],[11,7,11,8],[11,9,11,10],[11,25,12,25],[33,22,33,23],[34,22,34,23],[0,1,0,12],[1,2,1,3],[1,4,1,6],[1,7,1,9],[1,10,1,12],[2,2,2,3],[2,4,2,6],[2,7,2,9],[2,10,2,12],[5,7,5,10],[5,11,5,12],[3,2,3,3],[3,4,3,6],[3,7,3,10],[3,11,3,12],[4,2,4,3],[4,4,4,6],[4,7,4,9],[4,10,4,12],[12,9,12,10],[13,9,13,10]]}
[null,"Ackerland"]
[null,2,"Name:",null,{"$f":"IF(B2=\"\",\"\",VLOOKUP(B2,Anbauplan,2,0))","v":0},null,null,"Jahr:",null,null,{"$f":"IF(Einführung!I8=\"\",\"\",Einführung!I8)","v":""},null,null,{"$f":"IF(OR(B4=\"\",H12=\"\"),\"\",H12*B4)","v":0},"DB kg * Fläche"]
[null,"Hektar ","Hauptfrucht ",null,{"$f":"IF(B2=\"\",\"\",VLOOKUP(B2,Ackerbauplan,4,0))","v":0},null,null,"Nitratkulisse",null,null,{"$f":"IF(B2=\"\",\"\",VLOOKUP(B2,Ackerbauplan,20,0))","v":0},null,null,{"$f":"L4","v":""},"kg/ha org. Dünger für Kontrollgrenze"]
[null,{"$f":"IF(B2=\"\",\"\",VLOOKUP(B2,Ackerbauplan,3,0))","v":0},"Vorfrucht",null,{"$f":"IF(B2=\"\",\"\",VLOOKUP(B2,Ackerbauplan,9,0))","v":0},null,null,"Wirtschaftsdünger zur Berechung\ndes 130 kg N/ha Anteils in kg/ha",null,null,null,{"$f":"IF(K3=\"ja\",W29,\"\")","v":""},null,{"$f":"IF(N3=\"\",\"\",N3*B4)","v":""},"kg Gesamtschlag org Dünger für 170 Kontrollgrenze",null,null,"Gesamt N","NH4-N","P2O5 mineral.","P2O5 organisch"]
[null,"Sorte","VorVorfrucht",null,null,null,null,"Phosphatkulisse",null,null,{"$f":"IF(B2=\"\",\"\",VLOOKUP(B2,Ackerbauplan,21,0))","v":0},null,null,{"$f":"IF(H12=\"\",\"\",IF(K3=\"ja\",N2*0.8,\"\"))","v":""},"Nitrat belastetes Gebiet Düngebedarf Gesamtschlag kg N/ha",null,"N Gesamt minerl.",{"$f":"SUMIF($N$14:$N$28,\"mineralisch\",$H$14:$H$28)*B4","v":0}]
[null,{"$f":"IF(B2=\"\",\"\",VLOOKUP(B2,Ackerbauplan,8,0))","v":0},null,null,null,null,null,"sonstige Auflagen",null,null,null,null,null,{"$f":"IF(K3=\"ja\",X30+Y30,\"\")","v":""},"org +min .anrechenbare N Menge Gesamtschlag  kg N/ha",null,"NH4-N minerlisch",null,{"$f":"SUMIF($N$14:$N$28,\"mineralisch\",$I$14:$I$28)*B4","v":0}]
[null,"Aussaatdatum","Kö./m² ",{"$f":"IF(B2=\"\",\"\",VLOOKUP(B2,Ackerbauplan,52,0))","v":0},null,"Eigen","Zukauf","Versorgungsstufen",null,null,null,null,null,{"$f":"IF(K3=\"ja\",J12*B4,\"\")","v":""},null,null,"N Gesamt organsich",{"$f":"SUMIF($N$14:$N$28,\"organisch\",$H$14:$H$28)*B4","v":0}]
[null,{"$f":"IF(B2=\"0\",\"\",VLOOKUP(B2,Ackerbauplan,51,0))","v":"00:00:00"},"x TKG ",{"$f":"IF(B2=\"\",\"\",VLOOKUP(B2,Ackerbauplan,53,0))","v":0},"dt/ha ",null,null,"Nmin",null,"P2O5",null,"K2O","MgO",null,null,null,"NH4-N organsich",null,{"$f":"SUMIF($N$14:$N$28,\"organisch\",I14:I28)*B4","v":0}]
[null,"Beize","/Kei.fäh.",{"$f":"IF(B2=\"\",\"\",VLOOKUP(B2,Ackerbauplan,54,0))","v":0},"€/dt",null,null,{"$f":"IF(B2=\"\",\"\",VLOOKUP(B2,Ackerbauplan,17,0))","v":0},null,{"$f":"IF(B2=\"\",\"\",VLOOKUP(B2,Ackerbauplan,30,0))","v":"C"},null,{"$f":"IF(B2=\"\",\"\",VLOOKUP(B2,Ackerbauplan,31,0))","v":"C"},{"$f":"IF(B2=\"\",\"\",VLOOKUP(B2,Ackerbauplan,32,0))","v":"C"},null,null,null,"P2O5 mineralisch",null,null,{"$f":"SUMIF($N$14:$N$28,\"mineralisch\",$J$14:$J$28)*B4","v":0}]
[null,null,"= kg/ha",{"$f":"IF(B2=\"\",\"\",VLOOKUP(B2,Ackerbauplan,55,0))","v":""},"€/ha ",{"$f":"F8*F9","v":0},{"$f":"G8*G9","v":0},"Düngebedarf kg/ha (Blatt Ackerfläche)",null,null,null,null,null,null,"Düngebedarf um 20% reduziert",null,"P2O5 organisch",null,null,null,{"$f":"SUMIF($N$14:$N$28,\"organisch\",$J$14:$J$28)*B4","v":0},null,null,null,null,null,null,{"$f":"IF(K3=\"ja\",\"Noch nicht ausgeschöpfter Stickstoff Düngebedarf aller Flächen\",\"\")","v":""}]
[null,"Saatgutkennnummer",null,null,null,"Summe",{"$f":"F10+G10","v":0},{"$f":"IF(H12=\"\",\"\",IF(K3=\"ja\",H12*0.8,\"\"))","v":""},{"$f":"IF(K3=\"ja\",O10,\"\")","v":""},null,null,null,null,null,null,null,"Sonstige organische Düngemittel",{"$f":"SUMIF($N$14:$N$28,Q11,$H$14:$H$28)*B4","v":0},{"$f":"SUMIF($N$14:$N$28,Q11,$I$14:$I$28)*B4","v":0},{"$f":"SUMIF($N$14:$N$28,Q11,$J$14:$J$28)*B4","v":0},null,null,null,null,null,null,null,{"$f":"IF(K3=\"ja\",'Zus. Anlage 5 DüV'!D43,\"\")","v":""},{"$f":"IF(K3=\"ja\",\"kg N Gesamtfläche\",\"\")","v":""}]
[null,null,null,null,"N Bedarf DÜV kg/ha",null,null,{"$f":"IF(B2=\"\",\"\",VLOOKUP(B2,Ackerbauplan,18,0))","v":"0"},null,{"$f":"IF(B2=\"\",\"\",VLOOKUP(B2,Ackerbauplan,37,0))","v":"0"},null,{"$f":"IF(B2=\"\",\"\",VLOOKUP(B2,Ackerbauplan,38,0))","v":"0"},null,null,null,null,"Bodenhilfsstoffe",{"$f":"SUMIF($N$14:$N$28,Q12,$H$14:$H$28)*B4","v":0},null,{"$f":"SUMIF($N$14:$N$28,Q12,$J$14:$J$28)*B4","v":0},null,"Anrechnung","Anrechnung ","Prüfung NH4","mineral","Kontroll\nSumme"]
[null,"Dünger","Datum","EC","m³o.dt/ha","€/dt","€/ha","Ges.-N","NH4-N","P2O5",null,"K2O","S",null,null,null,"Kultursubstrate",{"$f":"SUMIF($N$14:$N$28,Q13,$H$14:$H$28)*B4","v":0},null,{"$f":"SUMIF($N$14:$N$28,Q13,$J$14:$J$28)*B4","v":0},null,"aktuelles Jahr","170 kg GW"," oder Anlage3","Stickstoff"]
[null,null,null,null,null,{"$f":"IF(B14=\"\",\"\",VLOOKUP(B14,Düngemiteldaten,2,0))","v":""},{"$f":"IF(B14=\"\",\"\",E14*F14)","v":""},{"$f":"IF(B14=\"\",\"\",VLOOKUP(B14,Düngemiteldaten,4,0)*E14)","v":""},{"$f":"IF(B14=\"\",\"\",VLOOKUP(B14,Düngemiteldaten,5,0)*E14)","v":""},{"$f":"IF(B14=\"\",\"\",VLOOKUP(B14,Düngemiteldaten,7,0)*E14)","v":""},null,{"$f":"IF(B14=\"\",\"\",VLOOKUP(B14,Düngemiteldaten,8,0)*E14)","v":""},{"$f":"IF(B14=\"\",\"\",VLOOKUP(B14,Düngemiteldaten,10,0)*E14)","v":""},{"$f":"IF(B14=\"\",\"\",VLOOKUP(B14,Düngemiteldaten,20,0))","v":""},null,null,"Pflanzenhilfsmittel",{"$f":"SUMIF($N$14:$N$28,Q14,$H$14:$H$28)*B4","v":0},null,{"$f":"SUMIF($N$14:$N$28,Q14,$J$14:$J$28)*B4","v":0},null,{"$f":"IF(OR(B14=\"\",N14=\"\"),\"\",IF(N14=\"mineralisch\",\"\",VLOOKUP(B14,Düngemiteldaten,17,0)*VLOOKUP(B14,Düngemiteldaten,4,0)*E14))","v":""},{"$f":"IF(N14=\"organisch\",VLOOKUP(B14,Düngemiteldaten,4,0)*E14*VLOOKUP(B14,Düngemiteldaten,19,0),\"\")","v":""},{"$f":"IF(B14=\"\",\"\",IF(V14<I14,I14,V14))","v":""},{"$f":"IF(B14=\"\",\"\",IF(N14=\"organisch\",0,H14))","v":""},{"$f":"IF(SUM(V14:Y14)=0,\"\",SUM(X14:Y14))","v":""},null,{"$f":"IF(K3=\"ja\",\"Summe Gesamtstickstoff\",\"\")","v":""},null,{"$f":"IF(K3=\"ja\",\"Anteil § 13a Prüfung \n160 kg N/ha Gesamt\n80 kg N/ha mineralisch\",\"\")","v":""}]
[null,null,null,null,null,"",{"$f":"IF(B15=\"\",\"\",E15*F15)","v":""},"","","",null,"","","",null,null,"Abfälle zur Beseitigung (§ 28 Absatz 2 odeS 3 KSWG)",{"$f":"SUMIF($N$14:$N$28,Q15,$H$14:$H$28)*B4","v":0},null,{"$f":"SUMIF($N$14:$N$28,Q15,$J$14:$J$28)*B4","v":0},null,"","",{"$f":"IF(B15=\"\",\"\",IF(V15<I15,I15,V15))","v":""},{"$f":"IF(B15=\"\",\"\",IF(N15=\"organisch\",0,H15))","v":""},{"$f":"IF(SUM(V15:Y15)=0,\"\",SUM(X15:Y15))","v":""},null,{"$f":"IF(L4=\"\",\"\",SUMIF($N$14:$N$28,\"mineralisch\",$H$14:$H$28))","v":""},{"$f":"IF(K3=\"ja\",\"mineralisch N kg/ha\",\"\")","v":""}]
[null,null,null,null,null,"","","","","",null,"","","",null,null,null,null,null,null,null,"","","","","",null,{"$f":"IF(L4=\"\",\"\",SUMIF($N$14:$N$28,\"organisch\",$H$14:$H$28)+SUMIF($N$14:$N$28,Q11,$H$14:$H$28))","v":""},{"$f":"IF(K3=\"ja\",\"organisch N kg/ha\",\"\")","v":""}]
[null,null,null,null,null,"","","","","",null,"","","",null,null,null,null,null,null,null,{"$f":"IF(OR(B17=\"\",N17=\"\"),\"\",IF(N17=\"mineralisch\",\"\",VLOOKUP(B17,Düngemiteldaten,17,0)*VLOOKUP(B17,Düngemiteldaten,4,0)*E17))","v":""},"","","","",null,{"$f":"IF(K3=\"ja\",(AB16+AB15),\"\")","v":""},{"$f":"IF(K3=\"ja\",\"Gesamt kg N/ha\",\"\")","v":""}]
[null,null,null,null,null,"","","","","",null,"","","",null,null,"Nährstoffherkunft auf gefährdeten Flächen §13",null,null,null,null,"","","","",""]
[null,null,null,null,null,"","","","","",null,"","","",null,null,null,"Gesamt N","NH4-N","P2O5 mineral.","P2O5 organisch","","","","",""]
[null,null,null,null,null,"","","","","",null,"","","",null,null,"N Gesamt minerl.",{"$f":"IF(K3=\"ja\",SUMIF($N$14:$N$28,\"mineralisch\",$H$14:$H$28),0)*B4","v":0},null,null,null,"","","","",""]
[null,null,null,null,null,"","","","","",null,"","","",null,null,"NH4-N minerlisch",null,{"$f":"IF(K3=\"ja\",SUMIF($N$14:$N$28,\"mineralisch\",$I$14:$I$28),0)*B4","v":0},null,null,"","","","",""]
[null,null,null,null,null,"","","","","",null,"","","",null,null,"N Gesamt organsich",{"$f":"IF(K3=\"ja\",SUMIF($N$14:$N$28,\"organisch\",$H$14:$H$28),0)*B4","v":0},null,null,null,"","","","",""]
[null,null,null,null,null,"","","","","",null,"","","",null,null,"NH4-N organsich",null,{"$f":"IF(K3=\"ja\",SUMIF($N$14:$N$28,\"organisch\",$I$14:$I$28),0)*B4","v":0},null,null,"","","","",""]
[null,null,null,null,null,"","","","","",null,"","","",null,null,"P2O5 mineralisch",null,null,{"$f":"IF(K3=\"ja\",SUMIF($N$14:$N$28,\"mineralisch\",$J$14:$J$28),0)*B4","v":0},null,"","","","",""]
[null,null,null,null,null,"","","","","",null,"","","",null,null,"P2O5 organisch",null,null,null,{"$f":"IF(K3=\"ja\",SUMIF($N$14:$N$28,\"organisch\",$J$14:$J$28),0)*B4","v":0},"","","","",""]
[null,null,null,null,null,"","","","","",null,"","","",null,null,"Sonstige organische Düngemittel",{"$f":"IF(K3=\"ja\",SUMIF($N$14:$N$28,Q26,$H$14:$H$28),0)*B4","v":0},{"$f":"IF(K3=\"ja\",SUMIF($N$14:$N$28,Q26,$I$14:$I$28),0)*B4","v":0},{"$f":"IF(K3=\"ja\",SUMIF($N$14:$N$28,Q26,$J$14:$J$28),0)*B4","v":0},null,"","","","",""]
[null,null,null,null,null,"","","","","",null,"","","",null,null,"Bodenhilfsstoffe",{"$f":"IF(K3=\"ja\",SUMIF($N$14:$N$28,Q27,$H$14:$H$28),0)*B4","v":0},null,{"$f":"IF(K3=\"ja\",SUMIF($N$14:$N$28,Q27,$J$14:$J$28),0)*B4","v":0},null,"","","","",""]
[null,null,null,null,null,"","","","","",null,"","","",null,null,"Kultursubstrate",{"$f":"IF(K3=\"ja\",SUMIF($N$14:$N$28,Q28,$H$14:$H$28),0)*B4","v":0},null,{"$f":"IF(K3=\"ja\",SUMIF($N$14:$N$28,Q28,$J$14:$J$28),0)*B4","v":0},null,"","","","",""]
[null,"anrechenbarer N aus org.Dgg. + min. Dgg. kg N/ha",null,null,null,null,null,{"$f":"X29+Y29","v":0},null,{"$f":"SUM(J14:J28)","v":0},null,{"$f":"SUM(L14:L28)","v":0},{"$f":"SUM(M14:M28)","v":0},null,null,null,"Pflanzenhilfsmittel",{"$f":"IF(K3=\"ja\",SUMIF($N$14:$N$28,Q29,$H$14:$H$28),0)*B4","v":0},null,{"$f":"IF(K3=\"ja\",SUMIF($N$14:$N$28,Q29,$J$14:$J$28),0)*B4","v":0},null,{"$f":"SUM(V14:V28)","v":0},{"$f":"SUM(W14:W28)","v":0},{"$f":"SUM(X14:X28)","v":0},{"$f":"SUM(Y14:Y28)","v":0},"kg/ha"]
[null,{"$f":"IF(K3=\"0\",O31,O30)","v":"Bilanz (anrechenbarer Dgg.- reduzierter Düngebedarf) kg N/ha"},null,null,null,null,null,{"$f":"IF(H12=\"\",0,IF(OR(K3=0,K3=\"nein\"),H29-H12,H29-H11))","v":0},null,{"$f":"IF(J12=\"\",\"\",J29-J12)","v":0},null,{"$f":"IF(L12=\"\",\"\",L29-L12)","v":0},{"$f":"IF(M12=\"\",\"\",M29-M12)","v":""},null,"Bilanz (anrechenbarer Dgg.- reduzierter Düngebedarf) kg N/ha",null,"Abfälle zur Beseitigung (§ 28 Absatz 2 odeS 3 KSWG)",{"$f":"IF(K3=\"ja\",SUMIF($N$14:$N$28,Q30,$H$14:$H$28),0)*B4","v":0},null,{"$f":"IF(K3=\"ja\",SUMIF($N$14:$N$28,Q30,$J$14:$J$28),0)*B4","v":0},null,{"$f":"V29*B4","v":0},{"$f":"W29*B4","v":0},{"$f":"X29*B4","v":0},{"$f":"Y29*B4","v":0},"kg/Schlag",null,{"$f":"IF(H30>0,\"Stickstoffmenge überschreitet den Düngebedarf\",\"\")","v":""}]
["Pflanzenschutzmittel",null,"Datum","EC","E./ha","€/E.","€/ha","Anwender",null,null,"Bemerkungen",null,null,null,"Bilanz (anrechenbarer Dgg.- Düngebedarf) kg N/ha"]
[null,null,null,null,null,{"$f":"IF($B32=\"\",\"\",VLOOKUP($B32,PSMMittel,2,0))","v":""},{"$f":"IF(B32=\"\",\"\",E32*F32)","v":""}]
[null,null,null,null,null,"",{"$f":"IF(B33=\"\",\"\",E33*F33)","v":""},null,null,null,null,null,null,null,null,null,"Stickstoffherkunft nicht gefährdetes Gebiet Gesamtfläche"]
[null,null,null,null,null,"","",null,null,null,null,null,null,null,null,null,null,"Gesamt N","NH4-N","P2O5 mineral.","P2O5 organisch",null,"N Fixierung kg N/ha"]
[null,null,null,null,null,"","",null,null,null,null,null,null,null,null,null,"N Gesamt minerl.",{"$f":"R5-R20","v":0},null,null,null,null,{"$f":"IF(E3=0,\"\",VLOOKUP(E3,AckerbauKulturen,26,0)*G56*B4)","v":""}]
[null,null,null,null,null,"","",null,null,null,null,null,null,null,null,null,"NH4-N minerlisch",null,{"$f":"S6-S21","v":0}]
[null,null,null,null,null,"","",null,null,null,null,null,null,null,null,null,"N Gesamt organsich",{"$f":"R7-R22","v":0}]
[null,null,null,null,null,"","",null,null,null,null,null,null,null,null,null,"NH4-N organsich",null,{"$f":"S8-S23","v":0}]
[null,null,null,null,null,"","",null,null,null,null,null,null,null,null,null,"P2O5 mineralisch",null,null,{"$f":"T9-T24","v":0}]
[null,null,null,null,null,"","",null,null,null,null,null,null,null,null,null,"P2O5 organisch",null,null,null,{"$f":"U10-U25","v":0}]
[null,null,null,null,null,"","",null,null,null,null,null,null,null,null,null,"Sonstige organische Düngemittel",{"$f":"R11-R26","v":0},{"$f":"S11-S26","v":0},{"$f":"T11-T26","v":0}]
[null,null,null,null,null,"","",null,null,null,null,null,null,null,null,null,"Bodenhilfsstoffe",{"$f":"R12-R27","v":0},null,{"$f":"T12-T27","v":0}]
[null,null,null,null,null,"","",null,null,null,null,null,null,null,null,null,"Kultursubstrate",{"$f":"R13-R28","v":0},null,{"$f":"T13-T28","v":0}]
[null,null,null,null,null,"","",null,null,null,null,null,null,null,null,null,"Pflanzenhilfsmittel",{"$f":"R14-R29","v":0},null,{"$f":"T14-T29","v":0}]
[null,null,null,null,null,"","",null,null,null,null,null,null,null,null,null,"Abfälle zur Beseitigung (§ 28 Absatz 2 odeS 3 KSWG)",{"$f":"R15-R30","v":0},null,{"$f":"T15-T30","v":0}]
[null,null,null,null,null,"",""]
[null,null,null,null,null,"",""]
[null,null,null,null,null,"",""]
[null,null,null,null,null,"",""]
[null,null,null,null,null,"",""]
[null,null,null,null,null,"",""]
[null,null,null,null,null,"",""]
[null,null,null,null,null,"",""]
[null,"Summe",null,null,null,null,{"$f":"SUM(G32:G53)","v":0}]
[]
[null,"Erntedatum:",null,{"$f":"IF(VLOOKUP($B$2,Ackerbauplan,58,0)=\"\",\"\",VLOOKUP($B$2,Ackerbauplan,58,0))","v":""},null,"dt/ha",{"$f":"VLOOKUP($B$2,Ackerbauplan,60,0)","v":0},null,null,"€/dt",null,{"$f":"VLOOKUP($B$2,Ackerbauplan,59,0)","v":0}]
[null,"   Hauptleistung ",null,{"$f":"IF(VLOOKUP($B$2,Ackerbauplan,61,0)=\"\",\"\",VLOOKUP($B$2,Ackerbauplan,61,0))","v":""},null,"Saatgut ",null,{"$f":"G11","v":0},"€/ha","Marktleistung -"]
[null,null,"+ Nebenleistung ",{"$f":"IF($B$2=\"\",\"\",VLOOKUP($B$2,Anbauplan,62,0))","v":0},null,"Dünger ",null,{"$f":"SUM(G14:G28)","v":0},"€/ha","Saatgut, Dünger, PSM"]
[null,null,"= Marktleistung ",{"$f":"IF(D57=\"\",\"\",D58+D57)","v":""},null,"Pflanzenschutz ",null,{"$f":"G54","v":0},"€/ha",{"$f":"IF(D59=\"\",\"\",D59-H57-H58-H59)","v":""},null,null,"€/ha"]
[null,{"$f":"IF($B$2=\"\",\"\",VLOOKUP($B$2,Anbauplan,2,0))","v":0}]
[null,"Bearbeitung","Maschine 1",null,"Maschine 2",null,"Maschine 3",null,"Datum",null,"Bemerkung"]

{"sheet":"A3","index":12,"n_rows":61,"n_cols":30,"rows_kept":61,"cut":false,"hidden":false,"merged":[[13,27,13,28],[13,29,16,30],[6,7,6,12],[7,7,7,8],[8,7,8,8],[7,9,7,10],[8,9,8,10],[10,8,10,12],[73,2,73,3],[73,4,73,5],[73,6,73,7],[73,8,73,9],[73,10,73,12],[69,2,69,3],[69,4,69,5],[69,6,69,7],[69,8,69,9],[69,10,69,12],[70,2,70,3],[70,4,70,5],[70,6,70,7],[70,8,70,9],[70,10,70,12],[67,2,67,3],[67,4,67,5],[67,6,67,7],[74,2,74,3],[74,4,74,5],[74,6,74,7],[74,8,74,9],[74,10,74,12],[71,2,71,3],[71,4,71,5],[71,6,71,7],[71,8,71,9],[71,10,71,12],[72,2,72,3],[72,4,72,5],[72,6,72,7],[72,8,72,9],[72,10,72,12],[67,8,67,9],[67,10,67,12],[68,2,68,3],[68,4,68,5],[68,6,68,7],[68,8,68,9],[68,10,68,12],[65,2,65,3],[65,4,65,5],[65,6,65,7],[65,8,65,9],[65,10,65,12],[66,2,66,3],[66,4,66,5],[66,6,66,7],[66,8,66,9],[66,10,66,12],[63,2,63,3],[63,4,63,5],[63,6,63,7],[63,8,63,9],[63,10,63,12],[64,2,64,3],[64,4,64,5],[64,6,64,7],[64,8,64,9],[64,10,64,12],[61,2,61,3],[61,4,61,5],[61,6,61,7],[61,8,61,9],[61,10,61,12],[62,2,62,3],[62,4,62,5],[62,6,62,7],[62,8,62,9],[62,10,62,12],[58,3,58,4],[58,5,58,6],[58,9,58,11],[59,1,59,12],[60,2,60,3],[60,4,60,5],[60,6,60,7],[60,8,60,9],[60,10,60,12],[56,1,56,2],[56,3,56,4],[56,5,56,6],[56,9,56,12],[57,3,57,4],[57,5,57,6],[57,9,57,12],[52,7,52,9],[52,10,52,12],[53,1,53,5],[53,7,53,12],[54,1,54,6],[55,1,55,2],[55,3,55,4],[55,6,55,8],[55,9,55,10],[55,11,55,12],[49,7,49,9],[49,10,49,12],[50,7,50,9],[50,10,50,12],[51,7,51,9],[51,10,51,12],[46,7,46,9],[46,10,46,12],[47,7,47,9],[47,10,47,12],[48,7,48,9],[48,10,48,12],[43,7,43,9],[43,10,43,12],[44,7,44,9],[44,10,44,12],[45,7,45,9],[45,10,45,12],[40,7,40,9],[40,10,40,12],[41,7,41,9],[41,10,41,12],[42,7,42,9],[42,10,42,12],[37,7,37,9],[37,10,37,12],[38,7,38,9],[38,10,38,12],[39,7,39,9],[39,10,39,12],[34,7,34,9],[34,10,34,12],[35,7,35,9],[35,10,35,12],[36,7,36,9],[36,10,36,12],[31,7,31,9],[31,10,31,12],[32,7,32,9],[32,10,32,12],[32,16,32,20],[33,7,33,9],[33,10,33,12],[29,1,29,6],[29,7,29,8],[29,9,29,10],[30,0,30,1],[30,7,30,9],[30,10,30,12],[23,9,23,10],[24,9,24,10],[25,9,25,10],[26,9,26,10],[27,9,27,10],[28,1,28,6],[28,7,28,8],[28,9,28,10],[17,16,17,20],[18,9,18,10],[19,9,19,10],[20,9,20,10],[21,9,21,10],[22,9,22,10],[14,9,14,10],[15,9,15,10],[16,9,16,10],[17,9,17,10],[10,1,10,2],[9,7,9,12],[11,1,11,2],[11,4,11,6],[11,7,11,8],[11,9,11,10],[11,25,12,25],[33,22,33,23],[34,22,34,23],[0,1,0,12],[1,2,1,3],[1,4,1,6],[1,7,1,9],[1,10,1,12],[2,2,2,3],[2,4,2,6],[2,7,2,9],[2,10,2,12],[5,7,5,10],[5,11,5,12],[3,2,3,3],[3,4,3,6],[3,7,3,10],[3,11,3,12],[4,2,4,3],[4,4,4,6],[4,7,4,9],[4,10,4,12],[12,9,12,10],[13,9,13,10]]}
[null,"Ackerland"]
[null,3,"Name:",null,{"$f":"IF(B2=\"\",\"\",VLOOKUP(B2,Anbauplan,2,0))","v":0},null,null,"Jahr:",null,null,{"$f":"IF(Einführung!I8=\"\",\"\",Einführung!I8)","v":""},null,null,{"$f":"IF(OR(B4=\"\",H12=\"\"),\"\",H12*B4)","v":0},"DB kg * Fläche"]
[null,"Hektar ","Hauptfrucht ",null,{"$f":"IF(B2=\"\",\"\",VLOOKUP(B2,Ackerbauplan,4,0))","v":0},null,null,"Nitratkulisse",null,null,{"$f":"IF(B2=\"\",\"\",VLOOKUP(B2,Ackerbauplan,20,0))","v":0},null,null,{"$f":"L4","v":""},"kg/ha org. Dünger für Kontrollgrenze"]
[null,{"$f":"IF(B2=\"\",\"\",VLOOKUP(B2,Ackerbauplan,3,0))","v":0},"Vorfrucht",null,{"$f":"IF(B2=\"\",\"\",VLOOKUP(B2,Ackerbauplan,9,0))","v":0},null,null,"Wirtschaftsdünger zur Berechung\ndes 130 kg N/ha Anteils in kg/ha",null,null,null,{"$f":"IF(K3=\"ja\",W29,\"\")","v":""},null,{"$f":"IF(N3=\"\",\"\",N3*B4)","v":""},"kg Gesamtschlag org Dünger für 170 Kontrollgrenze",null,null,"Gesamt N","NH4-N","P2O5 mineral.","P2O5 organisch"]
[null,"Sorte","VorVorfrucht",null,null,null,null,"Phosphatkulisse",null,null,{"$f":"IF(B2=\"\",\"\",VLOOKUP(B2,Ackerbauplan,21,0))","v":0},null,null,{"$f":"IF(H12=\"\",\"\",IF(K3=\"ja\",N2*0.8,\"\"))","v":""},"Nitrat belastetes Gebiet Düngebedarf Gesamtschlag kg N/ha",null,"N Gesamt minerl.",{"$f":"SUMIF($N$14:$N$28,\"mineralisch\",$H$14:$H$28)*B4","v":0}]
[null,{"$f":"IF(B2=\"\",\"\",VLOOKUP(B2,Ackerbauplan,8,0))","v":0},null,null,null,null,null,"sonstige Auflagen",null,null,null,null,null,{"$f":"IF(K3=\"ja\",X30+Y30,\"\")","v":""},"org +min .anrechenbare N Menge Gesamtschlag  kg N/ha",null,"NH4-N minerlisch",null,{"$f":"SUMIF($N$14:$N$28,\"mineralisch\",$I$14:$I$28)*B4","v":0}]
[null,"Aussaatdatum","Kö./m² ",{"$f":"IF(B2=\"\",\"\",VLOOKUP(B2,Ackerbauplan,52,0))","v":0},null,"Eigen","Zukauf","Versorgungsstufen",null,null,null,null,null,{"$f":"IF(K3=\"ja\",J12*B4,\"\")","v":""},null,null,"N Gesamt organsich",{"$f":"SUMIF($N$14:$N$28,\"organisch\",$H$14:$H$28)*B4","v":0}]
[null,{"$f":"IF(B2=\"0\",\"\",VLOOKUP(B2,Ackerbauplan,51,0))","v":"00:00:00"},"x TKG ",{"$f":"IF(B2=\"\",\"\",VLOOKUP(B2,Ackerbauplan,53,0))","v":0},"dt/ha ",null,null,"Nmin",null,"P2O5",null,"K2O","MgO",null,null,null,"NH4-N organsich",null,{"$f":"SUMIF($N$14:$N$28,\"organisch\",I14:I28)*B4","v":0}]
[null,"Beize","/Kei.fäh.",{"$f":"IF(B2=\"\",\"\",VLOOKUP(B2,Ackerbauplan,54,0))","v":0},"€/dt",null,null,{"$f":"IF(B2=\"\",\"\",VLOOKUP(B2,Ackerbauplan,17,0))","v":0},null,{"$f":"IF(B2=\"\",\"\",VLOOKUP(B2,Ackerbauplan,30,0))","v":"C"},null,{"$f":"IF(B2=\"\",\"\",VLOOKUP(B2,Ackerbauplan,31,0))","v":"C"},{"$f":"IF(B2=\"\",\"\",VLOOKUP(B2,Ackerbauplan,32,0))","v":"C"},null,null,null,"P2O5 mineralisch",null,null,{"$f":"SUMIF($N$14:$N$28,\"mineralisch\",$J$14:$J$28)*B4","v":0}]
[null,null,"= kg/ha",{"$f":"IF(B2=\"\",\"\",VLOOKUP(B2,Ackerbauplan,55,0))","v":""},"€/ha ",{"$f":"F8*F9","v":0},{"$f":"G8*G9","v":0},"Düngebedarf kg/ha (Blatt Ackerfläche)",null,null,null,null,null,null,"Düngebedarf um 20% reduziert",null,"P2O5 organisch",null,null,null,{"$f":"SUMIF($N$14:$N$28,\"organisch\",$J$14:$J$28)*B4","v":0},null,null,null,null,null,null,{"$f":"IF(K3=\"ja\",\"Noch nicht ausgeschöpfter Stickstoff Düngebedarf aller Flächen\",\"\")","v":""}]
[null,"Saatgutkennnummer",null,null,null,"Summe",{"$f":"F10+G10","v":0},{"$f":"IF(H12=\"\",\"\",IF(K3=\"ja\",H12*0.8,\"\"))","v":""},{"$f":"IF(K3=\"ja\",O10,\"\")","v":""},null,null,null,null,null,null,null,"Sonstige organische Düngemittel",{"$f":"SUMIF($N$14:$N$28,Q11,$H$14:$H$28)*B4","v":0},{"$f":"SUMIF($N$14:$N$28,Q11,$I$14:$I$28)*B4","v":0},{"$f":"SUMIF($N$14:$N$28,Q11,$J$14:$J$28)*B4","v":0},null,null,null,null,null,null,null,{"$f":"IF(K3=\"ja\",'Zus. Anlage 5 DüV'!D43,\"\")","v":""},{"$f":"IF(K3=\"ja\",\"kg N Gesamtfläche\",\"\")","v":""}]
[null,null,null,null,"N Bedarf DÜV kg/ha",null,null,{"$f":"IF(B2=\"\",\"\",VLOOKUP(B2,Ackerbauplan,18,0))","v":"0"},null,{"$f":"IF(B2=\"\",\"\",VLOOKUP(B2,Ackerbauplan,37,0))","v":"0"},null,{"$f":"IF(B2=\"\",\"\",VLOOKUP(B2,Ackerbauplan,38,0))","v":"0"},null,null,null,null,"Bodenhilfsstoffe",{"$f":"SUMIF($N$14:$N$28,Q12,$H$14:$H$28)*B4","v":0},null,{"$f":"SUMIF($N$14:$N$28,Q12,$J$14:$J$28)*B4","v":0},null,"Anrechnung","Anrechnung ","Prüfung NH4","mineral","Kontroll\nSumme"]
[null,"Dünger","Datum","EC","m³o.dt/ha","€/dt","€/ha","Ges.-N","NH4-N","P2O5",null,"K2O","S",null,null,null,"Kultursubstrate",{"$f":"SUMIF($N$14:$N$28,Q13,$H$14:$H$28)*B4","v":0},null,{"$f":"SUMIF($N$14:$N$28,Q13,$J$14:$J$28)*B4","v":0},null,"aktuelles Jahr","170 kg GW"," oder Anlage3","Stickstoff"]
[null,null,null,null,null,{"$f":"IF(B14=\"\",\"\",VLOOKUP(B14,Düngemiteldaten,2,0))","v":""},{"$f":"IF(B14=\"\",\"\",E14*F14)","v":""},{"$f":"IF(B14=\"\",\"\",VLOOKUP(B14,Düngemiteldaten,4,0)*E14)","v":""},{"$f":"IF(B14=\"\",\"\",VLOOKUP(B14,Düngemiteldaten,5,0)*E14)","v":""},{"$f":"IF(B14=\"\",\"\",VLOOKUP(B14,Düngemiteldaten,7,0)*E14)","v":""},null,{"$f":"IF(B14=\"\",\"\",VLOOKUP(B14,Düngemiteldaten,8,0)*E14)","v":""},{"$f":"IF(B14=\"\",\"\",VLOOKUP(B14,Düngemiteldaten,10,0)*E14)","v":""},{"$f":"IF(B14=\"\",\"\",VLOOKUP(B14,Düngemiteldaten,20,0))","v":""},null,null,"Pflanzenhilfsmittel",{"$f":"SUMIF($N$14:$N$28,Q14,$H$14:$H$28)*B4","v":0},null,{"$f":"SUMIF($N$14:$N$28,Q14,$J$14:$J$28)*B4","v":0},null,{"$f":"IF(OR(B14=\"\",N14=\"\"),\"\",IF(N14=\"mineralisch\",\"\",VLOOKUP(B14,Düngemiteldaten,17,0)*VLOOKUP(B14,Düngemiteldaten,4,0)*E14))","v":""},{"$f":"IF(N14=\"organisch\",VLOOKUP(B14,Düngemiteldaten,4,0)*E14*VLOOKUP(B14,Düngemiteldaten,19,0),\"\")","v":""},{"$f":"IF(B14=\"\",\"\",IF(V14<I14,I14,V14))","v":""},{"$f":"IF(B14=\"\",\"\",IF(N14=\"organisch\",0,H14))","v":""},{"$f":"IF(SUM(V14:Y14)=0,\"\",SUM(X14:Y14))","v":""},null,{"$f":"IF(K3=\"ja\",\"Summe Gesamtstickstoff\",\"\")","v":""},null,{"$f":"IF(K3=\"ja\",\"Anteil § 13a Prüfung \n160 kg N/ha Gesamt\n80 kg N/ha mineralisch\",\"\")","v":""}]
[null,null,null,null,null,"",{"$f":"IF(B15=\"\",\"\",E15*F15)","v":""},"","","",null,"","","",null,null,"Abfälle zur Beseitigung (§ 28 Absatz 2 odeS 3 KSWG)",{"$f":"SUMIF($N$14:$N$28,Q15,$H$14:$H$28)*B4","v":0},null,{"$f":"SUMIF($N$14:$N$28,Q15,$J$14:$J$28)*B4","v":0},null,"","",{"$f":"IF(B15=\"\",\"\",IF(V15<I15,I15,V15))","v":""},{"$f":"IF(B15=\"\",\"\",IF(N15=\"organisch\",0,H15))","v":""},{"$f":"IF(SUM(V15:Y15)=0,\"\",SUM(X15:Y15))","v":""},null,{"$f":"IF(L4=\"\",\"\",SUMIF($N$14:$N$28,\"mineralisch\",$H$14:$H$28))","v":""},{"$f":"IF(K3=\"ja\",\"mineralisch N kg/ha\",\"\")","v":""}]
[null,null,null,null,null,"","","","","",null,"","","",null,null,null,null,null,null,null,"","","","","",null,{"$f":"IF(L4=\"\",\"\",SUMIF($N$14:$N$28,\"organisch\",$H$14:$H$28)+SUMIF($N$14:$N$28,Q11,$H$14:$H$28))","v":""},{"$f":"IF(K3=\"ja\",\"organisch N kg/ha\",\"\")","v":""}]
[null,null,null,null,null,"","","","","",null,"","","",null,null,null,null,null,null,null,{"$f":"IF(OR(B17=\"\",N17=\"\"),\"\",IF(N17=\"mineralisch\",\"\",VLOOKUP(B17,Düngemiteldaten,17,0)*VLOOKUP(B17,Düngemiteldaten,4,0)*E17))","v":""},"","","","",null,{"$f":"IF(K3=\"ja\",(AB16+AB15),\"\")","v":""},{"$f":"IF(K3=\"ja\",\"Gesamt kg N/ha\",\"\")","v":""}]
[null,null,null,null,null,"","","","","",null,"","","",null,null,"Nährstoffherkunft auf gefährdeten Flächen §13",null,null,null,null,"","","","",""]
[null,null,null,null,null,"","","","","",null,"","","",null,null,null,"Gesamt N","NH4-N","P2O5 mineral.","P2O5 organisch","","","","",""]
[null,null,null,null,null,"","","","","",null,"","","",null,null,"N Gesamt minerl.",{"$f":"IF(K3=\"ja\",SUMIF($N$14:$N$28,\"mineralisch\",$H$14:$H$28),0)*B4","v":0},null,null,null,"","","","",""]
[null,null,null,null,null,"","","","","",null,"","","",null,null,"NH4-N minerlisch",null,{"$f":"IF(K3=\"ja\",SUMIF($N$14:$N$28,\"mineralisch\",$I$14:$I$28),0)*B4","v":0},null,null,"","","","",""]
[null,null,null,null,null,"","","","","",null,"","","",null,null,"N Gesamt organsich",{"$f":"IF(K3=\"ja\",SUMIF($N$14:$N$28,\"organisch\",$H$14:$H$28),0)*B4","v":0},null,null,null,"","","","",""]
[null,null,null,null,null,"","","","","",null,"","","",null,null,"NH4-N organsich",null,{"$f":"IF(K3=\"ja\",SUMIF($N$14:$N$28,\"organisch\",$I$14:$I$28),0)*B4","v":0},null,null,"","","","",""]
[null,null,null,null,null,"","","","","",null,"","","",null,null,"P2O5 mineralisch",null,null,{"$f":"IF(K3=\"ja\",SUMIF($N$14:$N$28,\"mineralisch\",$J$14:$J$28),0)*B4","v":0},null,"","","","",""]
[null,null,null,null,null,"","","","","",null,"","","",null,null,"P2O5 organisch",null,null,null,{"$f":"IF(K3=\"ja\",SUMIF($N$14:$N$28,\"organisch\",$J$14:$J$28),0)*B4","v":0},"","","","",""]
[null,null,null,null,null,"","","","","",null,"","","",null,null,"Sonstige organische Düngemittel",{"$f":"IF(K3=\"ja\",SUMIF($N$14:$N$28,Q26,$H$14:$H$28),0)*B4","v":0},{"$f":"IF(K3=\"ja\",SUMIF($N$14:$N$28,Q26,$I$14:$I$28),0)*B4","v":0},{"$f":"IF(K3=\"ja\",SUMIF($N$14:$N$28,Q26,$J$14:$J$28),0)*B4","v":0},null,"","","","",""]
[null,null,null,null,null,"","","","","",null,"","","",null,null,"Bodenhilfsstoffe",{"$f":"IF(K3=\"ja\",SUMIF($N$14:$N$28,Q27,$H$14:$H$28),0)*B4","v":0},null,{"$f":"IF(K3=\"ja\",SUMIF($N$14:$N$28,Q27,$J$14:$J$28),0)*B4","v":0},null,"","","","",""]
[null,null,null,null,null,"","","","","",null,"","","",null,null,"Kultursubstrate",{"$f":"IF(K3=\"ja\",SUMIF($N$14:$N$28,Q28,$H$14:$H$28),0)*B4","v":0},null,{"$f":"IF(K3=\"ja\",SUMIF($N$14:$N$28,Q28,$J$14:$J$28),0)*B4","v":0},null,"","","","",""]
[null,"anrechenbarer N aus org.Dgg. + min. Dgg. kg N/ha",null,null,null,null,null,{"$f":"X29+Y29","v":0},null,{"$f":"SUM(J14:J28)","v":0},null,{"$f":"SUM(L14:L28)","v":0},{"$f":"SUM(M14:M28)","v":0},null,null,null,"Pflanzenhilfsmittel",{"$f":"IF(K3=\"ja\",SUMIF($N$14:$N$28,Q29,$H$14:$H$28),0)*B4","v":0},null,{"$f":"IF(K3=\"ja\",SUMIF($N$14:$N$28,Q29,$J$14:$J$28),0)*B4","v":0},null,{"$f":"SUM(V14:V28)","v":0},{"$f":"SUM(W14:W28)","v":0},{"$f":"SUM(X14:X28)","v":0},{"$f":"SUM(Y14:Y28)","v":0},"kg/ha"]
[null,{"$f":"IF(K3=\"0\",O31,O30)","v":"Bilanz (anrechenbarer Dgg.- reduzierter Düngebedarf) kg N/ha"},null,null,null,null,null,{"$f":"IF(H12=\"\",0,IF(OR(K3=0,K3=\"nein\"),H29-H12,H29-H11))","v":0},null,{"$f":"IF(J12=\"\",\"\",J29-J12)","v":0},null,{"$f":"IF(L12=\"\",\"\",L29-L12)","v":0},{"$f":"IF(M12=\"\",\"\",M29-M12)","v":""},null,"Bilanz (anrechenbarer Dgg.- reduzierter Düngebedarf) kg N/ha",null,"Abfälle zur Beseitigung (§ 28 Absatz 2 odeS 3 KSWG)",{"$f":"IF(K3=\"ja\",SUMIF($N$14:$N$28,Q30,$H$14:$H$28),0)*B4","v":0},null,{"$f":"IF(K3=\"ja\",SUMIF($N$14:$N$28,Q30,$J$14:$J$28),0)*B4","v":0},null,{"$f":"V29*B4","v":0},{"$f":"W29*B4","v":0},{"$f":"X29*B4","v":0},{"$f":"Y29*B4","v":0},"kg/Schlag",null,{"$f":"IF(H30>0,\"Stickstoffmenge überschreitet den Düngebedarf\",\"\")","v":""}]
["Pflanzenschutzmittel",null,"Datum","EC","E./ha","€/E.","€/ha","Anwender",null,null,"Bemerkungen",null,null,null,"Bilanz (anrechenbarer Dgg.- Düngebedarf) kg N/ha"]
[null,null,null,null,null,{"$f":"IF($B32=\"\",\"\",VLOOKUP($B32,PSMMittel,2,0))","v":""},{"$f":"IF(B32=\"\",\"\",E32*F32)","v":""}]
[null,null,null,null,null,"",{"$f":"IF(B33=\"\",\"\",E33*F33)","v":""},null,null,null,null,null,null,null,null,null,"Stickstoffherkunft nicht gefährdetes Gebiet Gesamtfläche"]
[null,null,null,null,null,"","",null,null,null,null,null,null,null,null,null,null,"Gesamt N","NH4-N","P2O5 mineral.","P2O5 organisch",null,"N Fixierung kg N/ha"]
[null,null,null,null,null,"","",null,null,null,null,null,null,null,null,null,"N Gesamt minerl.",{"$f":"R5-R20","v":0},null,null,null,null,{"$f":"IF(E3=0,\"\",VLOOKUP(E3,AckerbauKulturen,26,0)*G56*B4)","v":""}]
[null,null,null,null,null,"","",null,null,null,null,null,null,null,null,null,"NH4-N minerlisch",null,{"$f":"S6-S21","v":0}]
[null,null,null,null,null,"","",null,null,null,null,null,null,null,null,null,"N Gesamt organsich",{"$f":"R7-R22","v":0}]
[null,null,null,null,null,"","",null,null,null,null,null,null,null,null,null,"NH4-N organsich",null,{"$f":"S8-S23","v":0}]
[null,null,null,null,null,"","",null,null,null,null,null,null,null,null,null,"P2O5 mineralisch",null,null,{"$f":"T9-T24","v":0}]
[null,null,null,null,null,"","",null,null,null,null,null,null,null,null,null,"P2O5 organisch",null,null,null,{"$f":"U10-U25","v":0}]
[null,null,null,null,null,"","",null,null,null,null,null,null,null,null,null,"Sonstige organische Düngemittel",{"$f":"R11-R26","v":0},{"$f":"S11-S26","v":0},{"$f":"T11-T26","v":0}]
[null,null,null,null,null,"","",null,null,null,null,null,null,null,null,null,"Bodenhilfsstoffe",{"$f":"R12-R27","v":0},null,{"$f":"T12-T27","v":0}]
[null,null,null,null,null,"","",null,null,null,null,null,null,null,null,null,"Kultursubstrate",{"$f":"R13-R28","v":0},null,{"$f":"T13-T28","v":0}]
[null,null,null,null,null,"","",null,null,null,null,null,null,null,null,null,"Pflanzenhilfsmittel",{"$f":"R14-R29","v":0},null,{"$f":"T14-T29","v":0}]
[null,null,null,null,null,"","",null,null,null,null,null,null,null,null,null,"Abfälle zur Beseitigung (§ 28 Absatz 2 odeS 3 KSWG)",{"$f":"R15-R30","v":0},null,{"$f":"T15-T30","v":0}]
[null,null,null,null,null,"",""]
[null,null,null,null,null,"",""]
[null,null,null,null,null,"",""]
[null,null,null,null,null,"",""]
[null,null,null,null,null,"",""]
[null,null,null,null,null,"",""]
[null,null,null,null,null,"",""]
[null,null,null,null,null,"",""]
[null,"Summe",null,null,null,null,{"$f":"SUM(G32:G53)","v":0}]
[]
[null,"Erntedatum:",null,{"$f":"IF(VLOOKUP($B$2,Ackerbauplan,58,0)=\"\",\"\",VLOOKUP($B$2,Ackerbauplan,58,0))","v":""},null,"dt/ha",{"$f":"VLOOKUP($B$2,Ackerbauplan,60,0)","v":0},null,null,"€/dt",null,{"$f":"VLOOKUP($B$2,Ackerbauplan,59,0)","v":0}]
[null,"   Hauptleistung ",null,{"$f":"IF(VLOOKUP($B$2,Ackerbauplan,61,0)=\"\",\"\",VLOOKUP($B$2,Ackerbauplan,61,0))","v":""},null,"Saatgut ",null,{"$f":"G11","v":0},"€/ha","Marktleistung -"]
[null,null,"+ Nebenleistung ",{"$f":"IF($B$2=\"\",\"\",VLOOKUP($B$2,Anbauplan,62,0))","v":0},null,"Dünger ",null,{"$f":"SUM(G14:G28)","v":0},"€/ha","Saatgut, Dünger, PSM"]
[null,null,"= Marktleistung ",{"$f":"IF(D57=\"\",\"\",D58+D57)","v":""},null,"Pflanzenschutz ",null,{"$f":"G54","v":0},"€/ha",{"$f":"IF(D59=\"\",\"\",D59-H57-H58-H59)","v":""},null,null,"€/ha"]
[null,{"$f":"IF($B$2=\"\",\"\",VLOOKUP($B$2,Anbauplan,2,0))","v":0}]
[null,"Bearbeitung","Maschine 1",null,"Maschine 2",null,"Maschine 3",null,"Datum",null,"Bemerkung"]

{"sheet":"A4","index":13,"n_rows":61,"n_cols":30,"rows_kept":61,"cut":false,"hidden":false,"merged":[[13,27,13,28],[13,29,16,30],[6,7,6,12],[7,7,7,8],[8,7,8,8],[7,9,7,10],[8,9,8,10],[10,8,10,12],[73,2,73,3],[73,4,73,5],[73,6,73,7],[73,8,73,9],[73,10,73,12],[69,2,69,3],[69,4,69,5],[69,6,69,7],[69,8,69,9],[69,10,69,12],[70,2,70,3],[70,4,70,5],[70,6,70,7],[70,8,70,9],[70,10,70,12],[67,2,67,3],[67,4,67,5],[67,6,67,7],[74,2,74,3],[74,4,74,5],[74,6,74,7],[74,8,74,9],[74,10,74,12],[71,2,71,3],[71,4,71,5],[71,6,71,7],[71,8,71,9],[71,10,71,12],[72,2,72,3],[72,4,72,5],[72,6,72,7],[72,8,72,9],[72,10,72,12],[67,8,67,9],[67,10,67,12],[68,2,68,3],[68,4,68,5],[68,6,68,7],[68,8,68,9],[68,10,68,12],[65,2,65,3],[65,4,65,5],[65,6,65,7],[65,8,65,9],[65,10,65,12],[66,2,66,3],[66,4,66,5],[66,6,66,7],[66,8,66,9],[66,10,66,12],[63,2,63,3],[63,4,63,5],[63,6,63,7],[63,8,63,9],[63,10,63,12],[64,2,64,3],[64,4,64,5],[64,6,64,7],[64,8,64,9],[64,10,64,12],[61,2,61,3],[61,4,61,5],[61,6,61,7],[61,8,61,9],[61,10,61,12],[62,2,62,3],[62,4,62,5],[62,6,62,7],[62,8,62,9],[62,10,62,12],[58,3,58,4],[58,5,58,6],[58,9,58,11],[59,1,59,12],[60,2,60,3],[60,4,60,5],[60,6,60,7],[60,8,60,9],[60,10,60,12],[56,1,56,2],[56,3,56,4],[56,5,56,6],[56,9,56,12],[57,3,57,4],[57,5,57,6],[57,9,57,12],[52,7,52,9],[52,10,52,12],[53,1,53,5],[53,7,53,12],[54,1,54,6],[55,1,55,2],[55,3,55,4],[55,6,55,8],[55,9,55,10],[55,11,55,12],[49,7,49,9],[49,10,49,12],[50,7,50,9],[50,10,50,12],[51,7,51,9],[51,10,51,12],[46,7,46,9],[46,10,46,12],[47,7,47,9],[47,10,47,12],[48,7,48,9],[48,10,48,12],[43,7,43,9],[43,10,43,12],[44,7,44,9],[44,10,44,12],[45,7,45,9],[45,10,45,12],[40,7,40,9],[40,10,40,12],[41,7,41,9],[41,10,41,12],[42,7,42,9],[42,10,42,12],[37,7,37,9],[37,10,37,12],[38,7,38,9],[38,10,38,12],[39,7,39,9],[39,10,39,12],[34,7,34,9],[34,10,34,12],[35,7,35,9],[35,10,35,12],[36,7,36,9],[36,10,36,12],[31,7,31,9],[31,10,31,12],[32,7,32,9],[32,10,32,12],[32,16,32,20],[33,7,33,9],[33,10,33,12],[29,1,29,6],[29,7,29,8],[29,9,29,10],[30,0,30,1],[30,7,30,9],[30,10,30,12],[23,9,23,10],[24,9,24,10],[25,9,25,10],[26,9,26,10],[27,9,27,10],[28,1,28,6],[28,7,28,8],[28,9,28,10],[17,16,17,20],[18,9,18,10],[19,9,19,10],[20,9,20,10],[21,9,21,10],[22,9,22,10],[14,9,14,10],[15,9,15,10],[16,9,16,10],[17,9,17,10],[10,1,10,2],[9,7,9,12],[11,1,11,2],[11,4,11,6],[11,7,11,8],[11,9,11,10],[11,25,12,25],[33,22,33,23],[34,22,34,23],[0,1,0,12],[1,2,1,3],[1,4,1,6],[1,7,1,9],[1,10,1,12],[2,2,2,3],[2,4,2,6],[2,7,2,9],[2,10,2,12],[5,7,5,10],[5,11,5,12],[3,2,3,3],[3,4,3,6],[3,7,3,10],[3,11,3,12],[4,2,4,3],[4,4,4,6],[4,7,4,9],[4,10,4,12],[12,9,12,10],[13,9,13,10]]}
[null,"Ackerland"]
[null,4,"Name:",null,{"$f":"IF(B2=\"\",\"\",VLOOKUP(B2,Anbauplan,2,0))","v":0},null,null,"Jahr:",null,null,{"$f":"IF(Einführung!I8=\"\",\"\",Einführung!I8)","v":""},null,null,{"$f":"IF(OR(B4=\"\",H12=\"\"),\"\",H12*B4)","v":0},"DB kg * Fläche"]
[null,"Hektar ","Hauptfrucht ",null,{"$f":"IF(B2=\"\",\"\",VLOOKUP(B2,Ackerbauplan,4,0))","v":0},null,null,"Nitratkulisse",null,null,{"$f":"IF(B2=\"\",\"\",VLOOKUP(B2,Ackerbauplan,20,0))","v":0},null,null,{"$f":"L4","v":""},"kg/ha org. Dünger für Kontrollgrenze"]
[null,{"$f":"IF(B2=\"\",\"\",VLOOKUP(B2,Ackerbauplan,3,0))","v":0},"Vorfrucht",null,{"$f":"IF(B2=\"\",\"\",VLOOKUP(B2,Ackerbauplan,9,0))","v":0},null,null,"Wirtschaftsdünger zur Berechung\ndes 130 kg N/ha Anteils in kg/ha",null,null,null,{"$f":"IF(K3=\"ja\",W29,\"\")","v":""},null,{"$f":"IF(N3=\"\",\"\",N3*B4)","v":""},"kg Gesamtschlag org Dünger für 170 Kontrollgrenze",null,null,"Gesamt N","NH4-N","P2O5 mineral.","P2O5 organisch"]
[null,"Sorte","VorVorfrucht",null,null,null,null,"Phosphatkulisse",null,null,{"$f":"IF(B2=\"\",\"\",VLOOKUP(B2,Ackerbauplan,21,0))","v":0},null,null,{"$f":"IF(H12=\"\",\"\",IF(K3=\"ja\",N2*0.8,\"\"))","v":""},"Nitrat belastetes Gebiet Düngebedarf Gesamtschlag kg N/ha",null,"N Gesamt minerl.",{"$f":"SUMIF($N$14:$N$28,\"mineralisch\",$H$14:$H$28)*B4","v":0}]
[null,{"$f":"IF(B2=\"\",\"\",VLOOKUP(B2,Ackerbauplan,8,0))","v":0},null,null,null,null,null,"sonstige Auflagen",null,null,null,null,null,{"$f":"IF(K3=\"ja\",X30+Y30,\"\")","v":""},"org +min .anrechenbare N Menge Gesamtschlag  kg N/ha",null,"NH4-N minerlisch",null,{"$f":"SUMIF($N$14:$N$28,\"mineralisch\",$I$14:$I$28)*B4","v":0}]
[null,"Aussaatdatum","Kö./m² ",{"$f":"IF(B2=\"\",\"\",VLOOKUP(B2,Ackerbauplan,52,0))","v":0},null,"Eigen","Zukauf","Versorgungsstufen",null,null,null,null,null,{"$f":"IF(K3=\"ja\",J12*B4,\"\")","v":""},null,null,"N Gesamt organsich",{"$f":"SUMIF($N$14:$N$28,\"organisch\",$H$14:$H$28)*B4","v":0}]
[null,{"$f":"IF(B2=\"0\",\"\",VLOOKUP(B2,Ackerbauplan,51,0))","v":"00:00:00"},"x TKG ",{"$f":"IF(B2=\"\",\"\",VLOOKUP(B2,Ackerbauplan,53,0))","v":0},"dt/ha ",null,null,"Nmin",null,"P2O5",null,"K2O","MgO",null,null,null,"NH4-N organsich",null,{"$f":"SUMIF($N$14:$N$28,\"organisch\",I14:I28)*B4","v":0}]
[null,"Beize","/Kei.fäh.",{"$f":"IF(B2=\"\",\"\",VLOOKUP(B2,Ackerbauplan,54,0))","v":0},"€/dt",null,null,{"$f":"IF(B2=\"\",\"\",VLOOKUP(B2,Ackerbauplan,17,0))","v":0},null,{"$f":"IF(B2=\"\",\"\",VLOOKUP(B2,Ackerbauplan,30,0))","v":"C"},null,{"$f":"IF(B2=\"\",\"\",VLOOKUP(B2,Ackerbauplan,31,0))","v":"C"},{"$f":"IF(B2=\"\",\"\",VLOOKUP(B2,Ackerbauplan,32,0))","v":"C"},null,null,null,"P2O5 mineralisch",null,null,{"$f":"SUMIF($N$14:$N$28,\"mineralisch\",$J$14:$J$28)*B4","v":0}]
[null,null,"= kg/ha",{"$f":"IF(B2=\"\",\"\",VLOOKUP(B2,Ackerbauplan,55,0))","v":""},"€/ha ",{"$f":"F8*F9","v":0},{"$f":"G8*G9","v":0},"Düngebedarf kg/ha (Blatt Ackerfläche)",null,null,null,null,null,null,"Düngebedarf um 20% reduziert",null,"P2O5 organisch",null,null,null,{"$f":"SUMIF($N$14:$N$28,\"organisch\",$J$14:$J$28)*B4","v":0},null,null,null,null,null,null,{"$f":"IF(K3=\"ja\",\"Noch nicht ausgeschöpfter Stickstoff Düngebedarf aller Flächen\",\"\")","v":""}]
[null,"Saatgutkennnummer",null,null,null,"Summe",{"$f":"F10+G10","v":0},{"$f":"IF(H12=\"\",\"\",IF(K3=\"ja\",H12*0.8,\"\"))","v":""},{"$f":"IF(K3=\"ja\",O10,\"\")","v":""},null,null,null,null,null,null,null,"Sonstige organische Düngemittel",{"$f":"SUMIF($N$14:$N$28,Q11,$H$14:$H$28)*B4","v":0},{"$f":"SUMIF($N$14:$N$28,Q11,$I$14:$I$28)*B4","v":0},{"$f":"SUMIF($N$14:$N$28,Q11,$J$14:$J$28)*B4","v":0},null,null,null,null,null,null,null,{"$f":"IF(K3=\"ja\",'Zus. Anlage 5 DüV'!D43,\"\")","v":""},{"$f":"IF(K3=\"ja\",\"kg N Gesamtfläche\",\"\")","v":""}]
[null,null,null,null,"N Bedarf DÜV kg/ha",null,null,{"$f":"IF(B2=\"\",\"\",VLOOKUP(B2,Ackerbauplan,18,0))","v":"0"},null,{"$f":"IF(B2=\"\",\"\",VLOOKUP(B2,Ackerbauplan,37,0))","v":"0"},null,{"$f":"IF(B2=\"\",\"\",VLOOKUP(B2,Ackerbauplan,38,0))","v":"0"},null,null,null,null,"Bodenhilfsstoffe",{"$f":"SUMIF($N$14:$N$28,Q12,$H$14:$H$28)*B4","v":0},null,{"$f":"SUMIF($N$14:$N$28,Q12,$J$14:$J$28)*B4","v":0},null,"Anrechnung","Anrechnung ","Prüfung NH4","mineral","Kontroll\nSumme"]
[null,"Dünger","Datum","EC","m³o.dt/ha","€/dt","€/ha","Ges.-N","NH4-N","P2O5",null,"K2O","S",null,null,null,"Kultursubstrate",{"$f":"SUMIF($N$14:$N$28,Q13,$H$14:$H$28)*B4","v":0},null,{"$f":"SUMIF($N$14:$N$28,Q13,$J$14:$J$28)*B4","v":0},null,"aktuelles Jahr","170 kg GW"," oder Anlage3","Stickstoff"]
[null,null,null,null,null,{"$f":"IF(B14=\"\",\"\",VLOOKUP(B14,Düngemiteldaten,2,0))","v":""},{"$f":"IF(B14=\"\",\"\",E14*F14)","v":""},{"$f":"IF(B14=\"\",\"\",VLOOKUP(B14,Düngemiteldaten,4,0)*E14)","v":""},{"$f":"IF(B14=\"\",\"\",VLOOKUP(B14,Düngemiteldaten,5,0)*E14)","v":""},{"$f":"IF(B14=\"\",\"\",VLOOKUP(B14,Düngemiteldaten,7,0)*E14)","v":""},null,{"$f":"IF(B14=\"\",\"\",VLOOKUP(B14,Düngemiteldaten,8,0)*E14)","v":""},{"$f":"IF(B14=\"\",\"\",VLOOKUP(B14,Düngemiteldaten,10,0)*E14)","v":""},{"$f":"IF(B14=\"\",\"\",VLOOKUP(B14,Düngemiteldaten,20,0))","v":""},null,null,"Pflanzenhilfsmittel",{"$f":"SUMIF($N$14:$N$28,Q14,$H$14:$H$28)*B4","v":0},null,{"$f":"SUMIF($N$14:$N$28,Q14,$J$14:$J$28)*B4","v":0},null,{"$f":"IF(OR(B14=\"\",N14=\"\"),\"\",IF(N14=\"mineralisch\",\"\",VLOOKUP(B14,Düngemiteldaten,17,0)*VLOOKUP(B14,Düngemiteldaten,4,0)*E14))","v":""},{"$f":"IF(N14=\"organisch\",VLOOKUP(B14,Düngemiteldaten,4,0)*E14*VLOOKUP(B14,Düngemiteldaten,19,0),\"\")","v":""},{"$f":"IF(B14=\"\",\"\",IF(V14<I14,I14,V14))","v":""},{"$f":"IF(B14=\"\",\"\",IF(N14=\"organisch\",0,H14))","v":""},{"$f":"IF(SUM(V14:Y14)=0,\"\",SUM(X14:Y14))","v":""},null,{"$f":"IF(K3=\"ja\",\"Summe Gesamtstickstoff\",\"\")","v":""},null,{"$f":"IF(K3=\"ja\",\"Anteil § 13a Prüfung \n160 kg N/ha Gesamt\n80 kg N/ha mineralisch\",\"\")","v":""}]
[null,null,null,null,null,"",{"$f":"IF(B15=\"\",\"\",E15*F15)","v":""},"","","",null,"","","",null,null,"Abfälle zur Beseitigung (§ 28 Absatz 2 odeS 3 KSWG)",{"$f":"SUMIF($N$14:$N$28,Q15,$H$14:$H$28)*B4","v":0},null,{"$f":"SUMIF($N$14:$N$28,Q15,$J$14:$J$28)*B4","v":0},null,"","",{"$f":"IF(B15=\"\",\"\",IF(V15<I15,I15,V15))","v":""},{"$f":"IF(B15=\"\",\"\",IF(N15=\"organisch\",0,H15))","v":""},{"$f":"IF(SUM(V15:Y15)=0,\"\",SUM(X15:Y15))","v":""},null,{"$f":"IF(L4=\"\",\"\",SUMIF($N$14:$N$28,\"mineralisch\",$H$14:$H$28))","v":""},{"$f":"IF(K3=\"ja\",\"mineralisch N kg/ha\",\"\")","v":""}]
[null,null,null,null,null,"","","","","",null,"","","",null,null,null,null,null,null,null,"","","","","",null,{"$f":"IF(L4=\"\",\"\",SUMIF($N$14:$N$28,\"organisch\",$H$14:$H$28)+SUMIF($N$14:$N$28,Q11,$H$14:$H$28))","v":""},{"$f":"IF(K3=\"ja\",\"organisch N kg/ha\",\"\")","v":""}]
[null,null,null,null,null,"","","","","",null,"","","",null,null,null,null,null,null,null,{"$f":"IF(OR(B17=\"\",N17=\"\"),\"\",IF(N17=\"mineralisch\",\"\",VLOOKUP(B17,Düngemiteldaten,17,0)*VLOOKUP(B17,Düngemiteldaten,4,0)*E17))","v":""},"","","","",null,{"$f":"IF(K3=\"ja\",(AB16+AB15),\"\")","v":""},{"$f":"IF(K3=\"ja\",\"Gesamt kg N/ha\",\"\")","v":""}]
[null,null,null,null,null,"","","","","",null,"","","",null,null,"Nährstoffherkunft auf gefährdeten Flächen §13",null,null,null,null,"","","","",""]
[null,null,null,null,null,"","","","","",null,"","","",null,null,null,"Gesamt N","NH4-N","P2O5 mineral.","P2O5 organisch","","","","",""]
[null,null,null,null,null,"","","","","",null,"","","",null,null,"N Gesamt minerl.",{"$f":"IF(K3=\"ja\",SUMIF($N$14:$N$28,\"mineralisch\",$H$14:$H$28),0)*B4","v":0},null,null,null,"","","","",""]
[null,null,null,null,null,"","","","","",null,"","","",null,null,"NH4-N minerlisch",null,{"$f":"IF(K3=\"ja\",SUMIF($N$14:$N$28,\"mineralisch\",$I$14:$I$28),0)*B4","v":0},null,null,"","","","",""]
[null,null,null,null,null,"","","","","",null,"","","",null,null,"N Gesamt organsich",{"$f":"IF(K3=\"ja\",SUMIF($N$14:$N$28,\"organisch\",$H$14:$H$28),0)*B4","v":0},null,null,null,"","","","",""]
[null,null,null,null,null,"","","","","",null,"","","",null,null,"NH4-N organsich",null,{"$f":"IF(K3=\"ja\",SUMIF($N$14:$N$28,\"organisch\",$I$14:$I$28),0)*B4","v":0},null,null,"","","","",""]
[null,null,null,null,null,"","","","","",null,"","","",null,null,"P2O5 mineralisch",null,null,{"$f":"IF(K3=\"ja\",SUMIF($N$14:$N$28,\"mineralisch\",$J$14:$J$28),0)*B4","v":0},null,"","","","",""]
[null,null,null,null,null,"","","","","",null,"","","",null,null,"P2O5 organisch",null,null,null,{"$f":"IF(K3=\"ja\",SUMIF($N$14:$N$28,\"organisch\",$J$14:$J$28),0)*B4","v":0},"","","","",""]
[null,null,null,null,null,"","","","","",null,"","","",null,null,"Sonstige organische Düngemittel",{"$f":"IF(K3=\"ja\",SUMIF($N$14:$N$28,Q26,$H$14:$H$28),0)*B4","v":0},{"$f":"IF(K3=\"ja\",SUMIF($N$14:$N$28,Q26,$I$14:$I$28),0)*B4","v":0},{"$f":"IF(K3=\"ja\",SUMIF($N$14:$N$28,Q26,$J$14:$J$28),0)*B4","v":0},null,"","","","",""]
[null,null,null,null,null,"","","","","",null,"","","",null,null,"Bodenhilfsstoffe",{"$f":"IF(K3=\"ja\",SUMIF($N$14:$N$28,Q27,$H$14:$H$28),0)*B4","v":0},null,{"$f":"IF(K3=\"ja\",SUMIF($N$14:$N$28,Q27,$J$14:$J$28),0)*B4","v":0},null,"","","","",""]
[null,null,null,null,null,"","","","","",null,"","","",null,null,"Kultursubstrate",{"$f":"IF(K3=\"ja\",SUMIF($N$14:$N$28,Q28,$H$14:$H$28),0)*B4","v":0},null,{"$f":"IF(K3=\"ja\",SUMIF($N$14:$N$28,Q28,$J$14:$J$28),0)*B4","v":0},null,"","","","",""]
[null,"anrechenbarer N aus org.Dgg. + min. Dgg. kg N/ha",null,null,null,null,null,{"$f":"X29+Y29","v":0},null,{"$f":"SUM(J14:J28)","v":0},null,{"$f":"SUM(L14:L28)","v":0},{"$f":"SUM(M14:M28)","v":0},null,null,null,"Pflanzenhilfsmittel",{"$f":"IF(K3=\"ja\",SUMIF($N$14:$N$28,Q29,$H$14:$H$28),0)*B4","v":0},null,{"$f":"IF(K3=\"ja\",SUMIF($N$14:$N$28,Q29,$J$14:$J$28),0)*B4","v":0},null,{"$f":"SUM(V14:V28)","v":0},{"$f":"SUM(W14:W28)","v":0},{"$f":"SUM(X14:X28)","v":0},{"$f":"SUM(Y14:Y28)","v":0},"kg/ha"]
[null,{"$f":"IF(K3=\"0\",O31,O30)","v":"Bilanz (anrechenbarer Dgg.- reduzierter Düngebedarf) kg N/ha"},null,null,null,null,null,{"$f":"IF(H12=\"\",0,IF(OR(K3=0,K3=\"nein\"),H29-H12,H29-H11))","v":0},null,{"$f":"IF(J12=\"\",\"\",J29-J12)","v":0},null,{"$f":"IF(L12=\"\",\"\",L29-L12)","v":0},{"$f":"IF(M12=\"\",\"\",M29-M12)","v":""},null,"Bilanz (anrechenbarer Dgg.- reduzierter Düngebedarf) kg N/ha",null,"Abfälle zur Beseitigung (§ 28 Absatz 2 odeS 3 KSWG)",{"$f":"IF(K3=\"ja\",SUMIF($N$14:$N$28,Q30,$H$14:$H$28),0)*B4","v":0},null,{"$f":"IF(K3=\"ja\",SUMIF($N$14:$N$28,Q30,$J$14:$J$28),0)*B4","v":0},null,{"$f":"V29*B4","v":0},{"$f":"W29*B4","v":0},{"$f":"X29*B4","v":0},{"$f":"Y29*B4","v":0},"kg/Schlag",null,{"$f":"IF(H30>0,\"Stickstoffmenge überschreitet den Düngebedarf\",\"\")","v":""}]
["Pflanzenschutzmittel",null,"Datum","EC","E./ha","€/E.","€/ha","Anwender",null,null,"Bemerkungen",null,null,null,"Bilanz (anrechenbarer Dgg.- Düngebedarf) kg N/ha"]
[null,null,null,null,null,{"$f":"IF($B32=\"\",\"\",VLOOKUP($B32,PSMMittel,2,0))","v":""},{"$f":"IF(B32=\"\",\"\",E32*F32)","v":""}]
[null,null,null,null,null,"",{"$f":"IF(B33=\"\",\"\",E33*F33)","v":""},null,null,null,null,null,null,null,null,null,"Stickstoffherkunft nicht gefährdetes Gebiet Gesamtfläche"]
[null,null,null,null,null,"","",null,null,null,null,null,null,null,null,null,null,"Gesamt N","NH4-N","P2O5 mineral.","P2O5 organisch",null,"N Fixierung kg N/ha"]
[null,null,null,null,null,"","",null,null,null,null,null,null,null,null,null,"N Gesamt minerl.",{"$f":"R5-R20","v":0},null,null,null,null,{"$f":"IF(E3=0,\"\",VLOOKUP(E3,AckerbauKulturen,26,0)*G56*B4)","v":""}]
[null,null,null,null,null,"","",null,null,null,null,null,null,null,null,null,"NH4-N minerlisch",null,{"$f":"S6-S21","v":0}]
[null,null,null,null,null,"","",null,null,null,null,null,null,null,null,null,"N Gesamt organsich",{"$f":"R7-R22","v":0}]
[null,null,null,null,null,"","",null,null,null,null,null,null,null,null,null,"NH4-N organsich",null,{"$f":"S8-S23","v":0}]
[null,null,null,null,null,"","",null,null,null,null,null,null,null,null,null,"P2O5 mineralisch",null,null,{"$f":"T9-T24","v":0}]
[null,null,null,null,null,"","",null,null,null,null,null,null,null,null,null,"P2O5 organisch",null,null,null,{"$f":"U10-U25","v":0}]
[null,null,null,null,null,"","",null,null,null,null,null,null,null,null,null,"Sonstige organische Düngemittel",{"$f":"R11-R26","v":0},{"$f":"S11-S26","v":0},{"$f":"T11-T26","v":0}]
[null,null,null,null,null,"","",null,null,null,null,null,null,null,null,null,"Bodenhilfsstoffe",{"$f":"R12-R27","v":0},null,{"$f":"T12-T27","v":0}]
[null,null,null,null,null,"","",null,null,null,null,null,null,null,null,null,"Kultursubstrate",{"$f":"R13-R28","v":0},null,{"$f":"T13-T28","v":0}]
[null,null,null,null,null,"","",null,null,null,null,null,null,null,null,null,"Pflanzenhilfsmittel",{"$f":"R14-R29","v":0},null,{"$f":"T14-T29","v":0}]
[null,null,null,null,null,"","",null,null,null,null,null,null,null,null,null,"Abfälle zur Beseitigung (§ 28 Absatz 2 odeS 3 KSWG)",{"$f":"R15-R30","v":0},null,{"$f":"T15-T30","v":0}]
[null,null,null,null,null,"",""]
[null,null,null,null,null,"",""]
[null,null,null,null,null,"",""]
[null,null,null,null,null,"",""]
[null,null,null,null,null,"",""]
[null,null,null,null,null,"",""]
[null,null,null,null,null,"",""]
[null,null,null,null,null,"",""]
[null,"Summe",null,null,null,null,{"$f":"SUM(G32:G53)","v":0}]
[]
[null,"Erntedatum:",null,{"$f":"IF(VLOOKUP($B$2,Ackerbauplan,58,0)=\"\",\"\",VLOOKUP($B$2,Ackerbauplan,58,0))","v":""},null,"dt/ha",{"$f":"VLOOKUP($B$2,Ackerbauplan,60,0)","v":0},null,null,"€/dt",null,{"$f":"VLOOKUP($B$2,Ackerbauplan,59,0)","v":0}]
[null,"   Hauptleistung ",null,{"$f":"IF(VLOOKUP($B$2,Ackerbauplan,61,0)=\"\",\"\",VLOOKUP($B$2,Ackerbauplan,61,0))","v":""},null,"Saatgut ",null,{"$f":"G11","v":0},"€/ha","Marktleistung -"]
[null,null,"+ Nebenleistung ",{"$f":"IF($B$2=\"\",\"\",VLOOKUP($B$2,Anbauplan,62,0))","v":0},null,"Dünger ",null,{"$f":"SUM(G14:G28)","v":0},"€/ha","Saatgut, Dünger, PSM"]
[null,null,"= Marktleistung ",{"$f":"IF(D57=\"\",\"\",D58+D57)","v":""},null,"Pflanzenschutz ",null,{"$f":"G54","v":0},"€/ha",{"$f":"IF(D59=\"\",\"\",D59-H57-H58-H59)","v":""},null,null,"€/ha"]
[null,{"$f":"IF($B$2=\"\",\"\",VLOOKUP($B$2,Anbauplan,2,0))","v":0}]
[null,"Bearbeitung","Maschine 1",null,"Maschine 2",null,"Maschine 3",null,"Datum",null,"Bemerkung"]

{"sheet":"A5","index":14,"n_rows":61,"n_cols":30,"rows_kept":61,"cut":false,"hidden":false,"merged":[[13,27,13,28],[13,29,16,30],[6,7,6,12],[7,7,7,8],[8,7,8,8],[7,9,7,10],[8,9,8,10],[10,8,10,12],[73,2,73,3],[73,4,73,5],[73,6,73,7],[73,8,73,9],[73,10,73,12],[69,2,69,3],[69,4,69,5],[69,6,69,7],[69,8,69,9],[69,10,69,12],[70,2,70,3],[70,4,70,5],[70,6,70,7],[70,8,70,9],[70,10,70,12],[67,2,67,3],[67,4,67,5],[67,6,67,7],[74,2,74,3],[74,4,74,5],[74,6,74,7],[74,8,74,9],[74,10,74,12],[71,2,71,3],[71,4,71,5],[71,6,71,7],[71,8,71,9],[71,10,71,12],[72,2,72,3],[72,4,72,5],[72,6,72,7],[72,8,72,9],[72,10,72,12],[67,8,67,9],[67,10,67,12],[68,2,68,3],[68,4,68,5],[68,6,68,7],[68,8,68,9],[68,10,68,12],[65,2,65,3],[65,4,65,5],[65,6,65,7],[65,8,65,9],[65,10,65,12],[66,2,66,3],[66,4,66,5],[66,6,66,7],[66,8,66,9],[66,10,66,12],[63,2,63,3],[63,4,63,5],[63,6,63,7],[63,8,63,9],[63,10,63,12],[64,2,64,3],[64,4,64,5],[64,6,64,7],[64,8,64,9],[64,10,64,12],[61,2,61,3],[61,4,61,5],[61,6,61,7],[61,8,61,9],[61,10,61,12],[62,2,62,3],[62,4,62,5],[62,6,62,7],[62,8,62,9],[62,10,62,12],[58,3,58,4],[58,5,58,6],[58,9,58,11],[59,1,59,12],[60,2,60,3],[60,4,60,5],[60,6,60,7],[60,8,60,9],[60,10,60,12],[56,1,56,2],[56,3,56,4],[56,5,56,6],[56,9,56,12],[57,3,57,4],[57,5,57,6],[57,9,57,12],[52,7,52,9],[52,10,52,12],[53,1,53,5],[53,7,53,12],[54,1,54,6],[55,1,55,2],[55,3,55,4],[55,6,55,8],[55,9,55,10],[55,11,55,12],[49,7,49,9],[49,10,49,12],[50,7,50,9],[50,10,50,12],[51,7,51,9],[51,10,51,12],[46,7,46,9],[46,10,46,12],[47,7,47,9],[47,10,47,12],[48,7,48,9],[48,10,48,12],[43,7,43,9],[43,10,43,12],[44,7,44,9],[44,10,44,12],[45,7,45,9],[45,10,45,12],[40,7,40,9],[40,10,40,12],[41,7,41,9],[41,10,41,12],[42,7,42,9],[42,10,42,12],[37,7,37,9],[37,10,37,12],[38,7,38,9],[38,10,38,12],[39,7,39,9],[39,10,39,12],[34,7,34,9],[34,10,34,12],[35,7,35,9],[35,10,35,12],[36,7,36,9],[36,10,36,12],[31,7,31,9],[31,10,31,12],[32,7,32,9],[32,10,32,12],[32,16,32,20],[33,7,33,9],[33,10,33,12],[29,1,29,6],[29,7,29,8],[29,9,29,10],[30,0,30,1],[30,7,30,9],[30,10,30,12],[23,9,23,10],[24,9,24,10],[25,9,25,10],[26,9,26,10],[27,9,27,10],[28,1,28,6],[28,7,28,8],[28,9,28,10],[17,16,17,20],[18,9,18,10],[19,9,19,10],[20,9,20,10],[21,9,21,10],[22,9,22,10],[14,9,14,10],[15,9,15,10],[16,9,16,10],[17,9,17,10],[10,1,10,2],[9,7,9,12],[11,1,11,2],[11,4,11,6],[11,7,11,8],[11,9,11,10],[11,25,12,25],[33,22,33,23],[34,22,34,23],[0,1,0,12],[1,2,1,3],[1,4,1,6],[1,7,1,9],[1,10,1,12],[2,2,2,3],[2,4,2,6],[2,7,2,9],[2,10,2,12],[5,7,5,10],[5,11,5,12],[3,2,3,3],[3,4,3,6],[3,7,3,10],[3,11,3,12],[4,2,4,3],[4,4,4,6],[4,7,4,9],[4,10,4,12],[12,9,12,10],[13,9,13,10]]}
[null,"Ackerland"]
[null,5,"Name:",null,{"$f":"IF(B2=\"\",\"\",VLOOKUP(B2,Anbauplan,2,0))","v":0},null,null,"Jahr:",null,null,{"$f":"IF(Einführung!I8=\"\",\"\",Einführung!I8)","v":""},null,null,{"$f":"IF(OR(B4=\"\",H12=\"\"),\"\",H12*B4)","v":0},"DB kg * Fläche"]
[null,"Hektar ","Hauptfrucht ",null,{"$f":"IF(B2=\"\",\"\",VLOOKUP(B2,Ackerbauplan,4,0))","v":0},null,null,"Nitratkulisse",null,null,{"$f":"IF(B2=\"\",\"\",VLOOKUP(B2,Ackerbauplan,20,0))","v":0},null,null,{"$f":"L4","v":""},"kg/ha org. Dünger für Kontrollgrenze"]
[null,{"$f":"IF(B2=\"\",\"\",VLOOKUP(B2,Ackerbauplan,3,0))","v":0},"Vorfrucht",null,{"$f":"IF(B2=\"\",\"\",VLOOKUP(B2,Ackerbauplan,9,0))","v":0},null,null,"Wirtschaftsdünger zur Berechung\ndes 130 kg N/ha Anteils in kg/ha",null,null,null,{"$f":"IF(K3=\"ja\",W29,\"\")","v":""},null,{"$f":"IF(N3=\"\",\"\",N3*B4)","v":""},"kg Gesamtschlag org Dünger für 170 Kontrollgrenze",null,null,"Gesamt N","NH4-N","P2O5 mineral.","P2O5 organisch"]
[null,"Sorte","VorVorfrucht",null,null,null,null,"Phosphatkulisse",null,null,{"$f":"IF(B2=\"\",\"\",VLOOKUP(B2,Ackerbauplan,21,0))","v":0},null,null,{"$f":"IF(H12=\"\",\"\",IF(K3=\"ja\",N2*0.8,\"\"))","v":""},"Nitrat belastetes Gebiet Düngebedarf Gesamtschlag kg N/ha",null,"N Gesamt minerl.",{"$f":"SUMIF($N$14:$N$28,\"mineralisch\",$H$14:$H$28)*B4","v":0}]
[null,{"$f":"IF(B2=\"\",\"\",VLOOKUP(B2,Ackerbauplan,8,0))","v":0},null,null,null,null,null,"sonstige Auflagen",null,null,null,null,null,{"$f":"IF(K3=\"ja\",X30+Y30,\"\")","v":""},"org +min .anrechenbare N Menge Gesamtschlag  kg N/ha",null,"NH4-N minerlisch",null,{"$f":"SUMIF($N$14:$N$28,\"mineralisch\",$I$14:$I$28)*B4","v":0}]
[null,"Aussaatdatum","Kö./m² ",{"$f":"IF(B2=\"\",\"\",VLOOKUP(B2,Ackerbauplan,52,0))","v":0},null,"Eigen","Zukauf","Versorgungsstufen",null,null,null,null,null,{"$f":"IF(K3=\"ja\",J12*B4,\"\")","v":""},null,null,"N Gesamt organsich",{"$f":"SUMIF($N$14:$N$28,\"organisch\",$H$14:$H$28)*B4","v":0}]
[null,{"$f":"IF(B2=\"0\",\"\",VLOOKUP(B2,Ackerbauplan,51,0))","v":"00:00:00"},"x TKG ",{"$f":"IF(B2=\"\",\"\",VLOOKUP(B2,Ackerbauplan,53,0))","v":0},"dt/ha ",null,null,"Nmin",null,"P2O5",null,"K2O","MgO",null,null,null,"NH4-N organsich",null,{"$f":"SUMIF($N$14:$N$28,\"organisch\",I14:I28)*B4","v":0}]
[null,"Beize","/Kei.fäh.",{"$f":"IF(B2=\"\",\"\",VLOOKUP(B2,Ackerbauplan,54,0))","v":0},"€/dt",null,null,{"$f":"IF(B2=\"\",\"\",VLOOKUP(B2,Ackerbauplan,17,0))","v":0},null,{"$f":"IF(B2=\"\",\"\",VLOOKUP(B2,Ackerbauplan,30,0))","v":"C"},null,{"$f":"IF(B2=\"\",\"\",VLOOKUP(B2,Ackerbauplan,31,0))","v":"C"},{"$f":"IF(B2=\"\",\"\",VLOOKUP(B2,Ackerbauplan,32,0))","v":"C"},null,null,null,"P2O5 mineralisch",null,null,{"$f":"SUMIF($N$14:$N$28,\"mineralisch\",$J$14:$J$28)*B4","v":0}]
[null,null,"= kg/ha",{"$f":"IF(B2=\"\",\"\",VLOOKUP(B2,Ackerbauplan,55,0))","v":""},"€/ha ",{"$f":"F8*F9","v":0},{"$f":"G8*G9","v":0},"Düngebedarf kg/ha (Blatt Ackerfläche)",null,null,null,null,null,null,"Düngebedarf um 20% reduziert",null,"P2O5 organisch",null,null,null,{"$f":"SUMIF($N$14:$N$28,\"organisch\",$J$14:$J$28)*B4","v":0},null,null,null,null,null,null,{"$f":"IF(K3=\"ja\",\"Noch nicht ausgeschöpfter Stickstoff Düngebedarf aller Flächen\",\"\")","v":""}]
[null,"Saatgutkennnummer",null,null,null,"Summe",{"$f":"F10+G10","v":0},{"$f":"IF(H12=\"\",\"\",IF(K3=\"ja\",H12*0.8,\"\"))","v":""},{"$f":"IF(K3=\"ja\",O10,\"\")","v":""},null,null,null,null,null,null,null,"Sonstige organische Düngemittel",{"$f":"SUMIF($N$14:$N$28,Q11,$H$14:$H$28)*B4","v":0},{"$f":"SUMIF($N$14:$N$28,Q11,$I$14:$I$28)*B4","v":0},{"$f":"SUMIF($N$14:$N$28,Q11,$J$14:$J$28)*B4","v":0},null,null,null,null,null,null,null,{"$f":"IF(K3=\"ja\",'Zus. Anlage 5 DüV'!D43,\"\")","v":""},{"$f":"IF(K3=\"ja\",\"kg N Gesamtfläche\",\"\")","v":""}]
[null,null,null,null,"N Bedarf DÜV kg/ha",null,null,{"$f":"IF(B2=\"\",\"\",VLOOKUP(B2,Ackerbauplan,18,0))","v":"0"},null,{"$f":"IF(B2=\"\",\"\",VLOOKUP(B2,Ackerbauplan,37,0))","v":"0"},null,{"$f":"IF(B2=\"\",\"\",VLOOKUP(B2,Ackerbauplan,38,0))","v":"0"},null,null,null,null,"Bodenhilfsstoffe",{"$f":"SUMIF($N$14:$N$28,Q12,$H$14:$H$28)*B4","v":0},null,{"$f":"SUMIF($N$14:$N$28,Q12,$J$14:$J$28)*B4","v":0},null,"Anrechnung","Anrechnung ","Prüfung NH4","mineral","Kontroll\nSumme"]
[null,"Dünger","Datum","EC","m³o.dt/ha","€/dt","€/ha","Ges.-N","NH4-N","P2O5",null,"K2O","S",null,null,null,"Kultursubstrate",{"$f":"SUMIF($N$14:$N$28,Q13,$H$14:$H$28)*B4","v":0},null,{"$f":"SUMIF($N$14:$N$28,Q13,$J$14:$J$28)*B4","v":0},null,"aktuelles Jahr","170 kg GW"," oder Anlage3","Stickstoff"]
[null,null,null,null,null,{"$f":"IF(B14=\"\",\"\",VLOOKUP(B14,Düngemiteldaten,2,0))","v":""},{"$f":"IF(B14=\"\",\"\",E14*F14)","v":""},{"$f":"IF(B14=\"\",\"\",VLOOKUP(B14,Düngemiteldaten,4,0)*E14)","v":""},{"$f":"IF(B14=\"\",\"\",VLOOKUP(B14,Düngemiteldaten,5,0)*E14)","v":""},{"$f":"IF(B14=\"\",\"\",VLOOKUP(B14,Düngemiteldaten,7,0)*E14)","v":""},null,{"$f":"IF(B14=\"\",\"\",VLOOKUP(B14,Düngemiteldaten,8,0)*E14)","v":""},{"$f":"IF(B14=\"\",\"\",VLOOKUP(B14,Düngemiteldaten,10,0)*E14)","v":""},{"$f":"IF(B14=\"\",\"\",VLOOKUP(B14,Düngemiteldaten,20,0))","v":""},null,null,"Pflanzenhilfsmittel",{"$f":"SUMIF($N$14:$N$28,Q14,$H$14:$H$28)*B4","v":0},null,{"$f":"SUMIF($N$14:$N$28,Q14,$J$14:$J$28)*B4","v":0},null,{"$f":"IF(OR(B14=\"\",N14=\"\"),\"\",IF(N14=\"mineralisch\",\"\",VLOOKUP(B14,Düngemiteldaten,17,0)*VLOOKUP(B14,Düngemiteldaten,4,0)*E14))","v":""},{"$f":"IF(N14=\"organisch\",VLOOKUP(B14,Düngemiteldaten,4,0)*E14*VLOOKUP(B14,Düngemiteldaten,19,0),\"\")","v":""},{"$f":"IF(B14=\"\",\"\",IF(V14<I14,I14,V14))","v":""},{"$f":"IF(B14=\"\",\"\",IF(N14=\"organisch\",0,H14))","v":""},{"$f":"IF(SUM(V14:Y14)=0,\"\",SUM(X14:Y14))","v":""},null,{"$f":"IF(K3=\"ja\",\"Summe Gesamtstickstoff\",\"\")","v":""},null,{"$f":"IF(K3=\"ja\",\"Anteil § 13a Prüfung \n160 kg N/ha Gesamt\n80 kg N/ha mineralisch\",\"\")","v":""}]
[null,null,null,null,null,"",{"$f":"IF(B15=\"\",\"\",E15*F15)","v":""},"","","",null,"","","",null,null,"Abfälle zur Beseitigung (§ 28 Absatz 2 odeS 3 KSWG)",{"$f":"SUMIF($N$14:$N$28,Q15,$H$14:$H$28)*B4","v":0},null,{"$f":"SUMIF($N$14:$N$28,Q15,$J$14:$J$28)*B4","v":0},null,"","",{"$f":"IF(B15=\"\",\"\",IF(V15<I15,I15,V15))","v":""},{"$f":"IF(B15=\"\",\"\",IF(N15=\"organisch\",0,H15))","v":""},{"$f":"IF(SUM(V15:Y15)=0,\"\",SUM(X15:Y15))","v":""},null,{"$f":"IF(L4=\"\",\"\",SUMIF($N$14:$N$28,\"mineralisch\",$H$14:$H$28))","v":""},{"$f":"IF(K3=\"ja\",\"mineralisch N kg/ha\",\"\")","v":""}]
[null,null,null,null,null,"","","","","",null,"","","",null,null,null,null,null,null,null,"","","","","",null,{"$f":"IF(L4=\"\",\"\",SUMIF($N$14:$N$28,\"organisch\",$H$14:$H$28)+SUMIF($N$14:$N$28,Q11,$H$14:$H$28))","v":""},{"$f":"IF(K3=\"ja\",\"organisch N kg/ha\",\"\")","v":""}]
[null,null,null,null,null,"","","","","",null,"","","",null,null,null,null,null,null,null,{"$f":"IF(OR(B17=\"\",N17=\"\"),\"\",IF(N17=\"mineralisch\",\"\",VLOOKUP(B17,Düngemiteldaten,17,0)*VLOOKUP(B17,Düngemiteldaten,4,0)*E17))","v":""},"","","","",null,{"$f":"IF(K3=\"ja\",(AB16+AB15),\"\")","v":""},{"$f":"IF(K3=\"ja\",\"Gesamt kg N/ha\",\"\")","v":""}]
[null,null,null,null,null,"","","","","",null,"","","",null,null,"Nährstoffherkunft auf gefährdeten Flächen §13",null,null,null,null,"","","","",""]
[null,null,null,null,null,"","","","","",null,"","","",null,null,null,"Gesamt N","NH4-N","P2O5 mineral.","P2O5 organisch","","","","",""]
[null,null,null,null,null,"","","","","",null,"","","",null,null,"N Gesamt minerl.",{"$f":"IF(K3=\"ja\",SUMIF($N$14:$N$28,\"mineralisch\",$H$14:$H$28),0)*B4","v":0},null,null,null,"","","","",""]
[null,null,null,null,null,"","","","","",null,"","","",null,null,"NH4-N minerlisch",null,{"$f":"IF(K3=\"ja\",SUMIF($N$14:$N$28,\"mineralisch\",$I$14:$I$28),0)*B4","v":0},null,null,"","","","",""]
[null,null,null,null,null,"","","","","",null,"","","",null,null,"N Gesamt organsich",{"$f":"IF(K3=\"ja\",SUMIF($N$14:$N$28,\"organisch\",$H$14:$H$28),0)*B4","v":0},null,null,null,"","","","",""]
[null,null,null,null,null,"","","","","",null,"","","",null,null,"NH4-N organsich",null,{"$f":"IF(K3=\"ja\",SUMIF($N$14:$N$28,\"organisch\",$I$14:$I$28),0)*B4","v":0},null,null,"","","","",""]
[null,null,null,null,null,"","","","","",null,"","","",null,null,"P2O5 mineralisch",null,null,{"$f":"IF(K3=\"ja\",SUMIF($N$14:$N$28,\"mineralisch\",$J$14:$J$28),0)*B4","v":0},null,"","","","",""]
[null,null,null,null,null,"","","","","",null,"","","",null,null,"P2O5 organisch",null,null,null,{"$f":"IF(K3=\"ja\",SUMIF($N$14:$N$28,\"organisch\",$J$14:$J$28),0)*B4","v":0},"","","","",""]
[null,null,null,null,null,"","","","","",null,"","","",null,null,"Sonstige organische Düngemittel",{"$f":"IF(K3=\"ja\",SUMIF($N$14:$N$28,Q26,$H$14:$H$28),0)*B4","v":0},{"$f":"IF(K3=\"ja\",SUMIF($N$14:$N$28,Q26,$I$14:$I$28),0)*B4","v":0},{"$f":"IF(K3=\"ja\",SUMIF($N$14:$N$28,Q26,$J$14:$J$28),0)*B4","v":0},null,"","","","",""]
[null,null,null,null,null,"","","","","",null,"","","",null,null,"Bodenhilfsstoffe",{"$f":"IF(K3=\"ja\",SUMIF($N$14:$N$28,Q27,$H$14:$H$28),0)*B4","v":0},null,{"$f":"IF(K3=\"ja\",SUMIF($N$14:$N$28,Q27,$J$14:$J$28),0)*B4","v":0},null,"","","","",""]
[null,null,null,null,null,"","","","","",null,"","","",null,null,"Kultursubstrate",{"$f":"IF(K3=\"ja\",SUMIF($N$14:$N$28,Q28,$H$14:$H$28),0)*B4","v":0},null,{"$f":"IF(K3=\"ja\",SUMIF($N$14:$N$28,Q28,$J$14:$J$28),0)*B4","v":0},null,"","","","",""]
[null,"anrechenbarer N aus org.Dgg. + min. Dgg. kg N/ha",null,null,null,null,null,{"$f":"X29+Y29","v":0},null,{"$f":"SUM(J14:J28)","v":0},null,{"$f":"SUM(L14:L28)","v":0},{"$f":"SUM(M14:M28)","v":0},null,null,null,"Pflanzenhilfsmittel",{"$f":"IF(K3=\"ja\",SUMIF($N$14:$N$28,Q29,$H$14:$H$28),0)*B4","v":0},null,{"$f":"IF(K3=\"ja\",SUMIF($N$14:$N$28,Q29,$J$14:$J$28),0)*B4","v":0},null,{"$f":"SUM(V14:V28)","v":0},{"$f":"SUM(W14:W28)","v":0},{"$f":"SUM(X14:X28)","v":0},{"$f":"SUM(Y14:Y28)","v":0},"kg/ha"]
[null,{"$f":"IF(K3=\"0\",O31,O30)","v":"Bilanz (anrechenbarer Dgg.- reduzierter Düngebedarf) kg N/ha"},null,null,null,null,null,{"$f":"IF(H12=\"\",0,IF(OR(K3=0,K3=\"nein\"),H29-H12,H29-H11))","v":0},null,{"$f":"IF(J12=\"\",\"\",J29-J12)","v":0},null,{"$f":"IF(L12=\"\",\"\",L29-L12)","v":0},{"$f":"IF(M12=\"\",\"\",M29-M12)","v":""},null,"Bilanz (anrechenbarer Dgg.- reduzierter Düngebedarf) kg N/ha",null,"Abfälle zur Beseitigung (§ 28 Absatz 2 odeS 3 KSWG)",{"$f":"IF(K3=\"ja\",SUMIF($N$14:$N$28,Q30,$H$14:$H$28),0)*B4","v":0},null,{"$f":"IF(K3=\"ja\",SUMIF($N$14:$N$28,Q30,$J$14:$J$28),0)*B4","v":0},null,{"$f":"V29*B4","v":0},{"$f":"W29*B4","v":0},{"$f":"X29*B4","v":0},{"$f":"Y29*B4","v":0},"kg/Schlag",null,{"$f":"IF(H30>0,\"Stickstoffmenge überschreitet den Düngebedarf\",\"\")","v":""}]
["Pflanzenschutzmittel",null,"Datum","EC","E./ha","€/E.","€/ha","Anwender",null,null,"Bemerkungen",null,null,null,"Bilanz (anrechenbarer Dgg.- Düngebedarf) kg N/ha"]
[null,null,null,null,null,{"$f":"IF($B32=\"\",\"\",VLOOKUP($B32,PSMMittel,2,0))","v":""},{"$f":"IF(B32=\"\",\"\",E32*F32)","v":""}]
[null,null,null,null,null,"",{"$f":"IF(B33=\"\",\"\",E33*F33)","v":""},null,null,null,null,null,null,null,null,null,"Stickstoffherkunft nicht gefährdetes Gebiet Gesamtfläche"]
[null,null,null,null,null,"","",null,null,null,null,null,null,null,null,null,null,"Gesamt N","NH4-N","P2O5 mineral.","P2O5 organisch",null,"N Fixierung kg N/ha"]
[null,null,null,null,null,"","",null,null,null,null,null,null,null,null,null,"N Gesamt minerl.",{"$f":"R5-R20","v":0},null,null,null,null,{"$f":"IF(E3=0,\"\",VLOOKUP(E3,AckerbauKulturen,26,0)*G56*B4)","v":""}]
[null,null,null,null,null,"","",null,null,null,null,null,null,null,null,null,"NH4-N minerlisch",null,{"$f":"S6-S21","v":0}]
[null,null,null,null,null,"","",null,null,null,null,null,null,null,null,null,"N Gesamt organsich",{"$f":"R7-R22","v":0}]
[null,null,null,null,null,"","",null,null,null,null,null,null,null,null,null,"NH4-N organsich",null,{"$f":"S8-S23","v":0}]
[null,null,null,null,null,"","",null,null,null,null,null,null,null,null,null,"P2O5 mineralisch",null,null,{"$f":"T9-T24","v":0}]
[null,null,null,null,null,"","",null,null,null,null,null,null,null,null,null,"P2O5 organisch",null,null,null,{"$f":"U10-U25","v":0}]
[null,null,null,null,null,"","",null,null,null,null,null,null,null,null,null,"Sonstige organische Düngemittel",{"$f":"R11-R26","v":0},{"$f":"S11-S26","v":0},{"$f":"T11-T26","v":0}]
[null,null,null,null,null,"","",null,null,null,null,null,null,null,null,null,"Bodenhilfsstoffe",{"$f":"R12-R27","v":0},null,{"$f":"T12-T27","v":0}]
[null,null,null,null,null,"","",null,null,null,null,null,null,null,null,null,"Kultursubstrate",{"$f":"R13-R28","v":0},null,{"$f":"T13-T28","v":0}]
[null,null,null,null,null,"","",null,null,null,null,null,null,null,null,null,"Pflanzenhilfsmittel",{"$f":"R14-R29","v":0},null,{"$f":"T14-T29","v":0}]
[null,null,null,null,null,"","",null,null,null,null,null,null,null,null,null,"Abfälle zur Beseitigung (§ 28 Absatz 2 odeS 3 KSWG)",{"$f":"R15-R30","v":0},null,{"$f":"T15-T30","v":0}]
[null,null,null,null,null,"",""]
[null,null,null,null,null,"",""]
[null,null,null,null,null,"",""]
[null,null,null,null,null,"",""]
[null,null,null,null,null,"",""]
[null,null,null,null,null,"",""]
[null,null,null,null,null,"",""]
[null,null,null,null,null,"",""]
[null,"Summe",null,null,null,null,{"$f":"SUM(G32:G53)","v":0}]
[]
[null,"Erntedatum:",null,{"$f":"IF(VLOOKUP($B$2,Ackerbauplan,58,0)=\"\",\"\",VLOOKUP($B$2,Ackerbauplan,58,0))","v":""},null,"dt/ha",{"$f":"VLOOKUP($B$2,Ackerbauplan,60,0)","v":0},null,null,"€/dt",null,{"$f":"VLOOKUP($B$2,Ackerbauplan,59,0)","v":0}]
[null,"   Hauptleistung ",null,{"$f":"IF(VLOOKUP($B$2,Ackerbauplan,61,0)=\"\",\"\",VLOOKUP($B$2,Ackerbauplan,61,0))","v":""},null,"Saatgut ",null,{"$f":"G11","v":0},"€/ha","Marktleistung -"]
[null,null,"+ Nebenleistung ",{"$f":"IF($B$2=\"\",\"\",VLOOKUP($B$2,Anbauplan,62,0))","v":0},null,"Dünger ",null,{"$f":"SUM(G14:G28)","v":0},"€/ha","Saatgut, Dünger, PSM"]
[null,null,"= Marktleistung ",{"$f":"IF(D57=\"\",\"\",D58+D57)","v":""},null,"Pflanzenschutz ",null,{"$f":"G54","v":0},"€/ha",{"$f":"IF(D59=\"\",\"\",D59-H57-H58-H59)","v":""},null,null,"€/ha"]
[null,{"$f":"IF($B$2=\"\",\"\",VLOOKUP($B$2,Anbauplan,2,0))","v":0}]
[null,"Bearbeitung","Maschine 1",null,"Maschine 2",null,"Maschine 3",null,"Datum",null,"Bemerkung"]

{"sheet":"A6","index":15,"n_rows":61,"n_cols":30,"rows_kept":61,"cut":false,"hidden":false,"merged":[[13,27,13,28],[13,29,16,30],[6,7,6,12],[7,7,7,8],[8,7,8,8],[7,9,7,10],[8,9,8,10],[10,8,10,12],[73,2,73,3],[73,4,73,5],[73,6,73,7],[73,8,73,9],[73,10,73,12],[69,2,69,3],[69,4,69,5],[69,6,69,7],[69,8,69,9],[69,10,69,12],[70,2,70,3],[70,4,70,5],[70,6,70,7],[70,8,70,9],[70,10,70,12],[67,2,67,3],[67,4,67,5],[67,6,67,7],[74,2,74,3],[74,4,74,5],[74,6,74,7],[74,8,74,9],[74,10,74,12],[71,2,71,3],[71,4,71,5],[71,6,71,7],[71,8,71,9],[71,10,71,12],[72,2,72,3],[72,4,72,5],[72,6,72,7],[72,8,72,9],[72,10,72,12],[67,8,67,9],[67,10,67,12],[68,2,68,3],[68,4,68,5],[68,6,68,7],[68,8,68,9],[68,10,68,12],[65,2,65,3],[65,4,65,5],[65,6,65,7],[65,8,65,9],[65,10,65,12],[66,2,66,3],[66,4,66,5],[66,6,66,7],[66,8,66,9],[66,10,66,12],[63,2,63,3],[63,4,63,5],[63,6,63,7],[63,8,63,9],[63,10,63,12],[64,2,64,3],[64,4,64,5],[64,6,64,7],[64,8,64,9],[64,10,64,12],[61,2,61,3],[61,4,61,5],[61,6,61,7],[61,8,61,9],[61,10,61,12],[62,2,62,3],[62,4,62,5],[62,6,62,7],[62,8,62,9],[62,10,62,12],[58,3,58,4],[58,5,58,6],[58,9,58,11],[59,1,59,12],[60,2,60,3],[60,4,60,5],[60,6,60,7],[60,8,60,9],[60,10,60,12],[56,1,56,2],[56,3,56,4],[56,5,56,6],[56,9,56,12],[57,3,57,4],[57,5,57,6],[57,9,57,12],[52,7,52,9],[52,10,52,12],[53,1,53,5],[53,7,53,12],[54,1,54,6],[55,1,55,2],[55,3,55,4],[55,6,55,8],[55,9,55,10],[55,11,55,12],[49,7,49,9],[49,10,49,12],[50,7,50,9],[50,10,50,12],[51,7,51,9],[51,10,51,12],[46,7,46,9],[46,10,46,12],[47,7,47,9],[47,10,47,12],[48,7,48,9],[48,10,48,12],[43,7,43,9],[43,10,43,12],[44,7,44,9],[44,10,44,12],[45,7,45,9],[45,10,45,12],[40,7,40,9],[40,10,40,12],[41,7,41,9],[41,10,41,12],[42,7,42,9],[42,10,42,12],[37,7,37,9],[37,10,37,12],[38,7,38,9],[38,10,38,12],[39,7,39,9],[39,10,39,12],[34,7,34,9],[34,10,34,12],[35,7,35,9],[35,10,35,12],[36,7,36,9],[36,10,36,12],[31,7,31,9],[31,10,31,12],[32,7,32,9],[32,10,32,12],[32,16,32,20],[33,7,33,9],[33,10,33,12],[29,1,29,6],[29,7,29,8],[29,9,29,10],[30,0,30,1],[30,7,30,9],[30,10,30,12],[23,9,23,10],[24,9,24,10],[25,9,25,10],[26,9,26,10],[27,9,27,10],[28,1,28,6],[28,7,28,8],[28,9,28,10],[17,16,17,20],[18,9,18,10],[19,9,19,10],[20,9,20,10],[21,9,21,10],[22,9,22,10],[14,9,14,10],[15,9,15,10],[16,9,16,10],[17,9,17,10],[10,1,10,2],[9,7,9,12],[11,1,11,2],[11,4,11,6],[11,7,11,8],[11,9,11,10],[11,25,12,25],[33,22,33,23],[34,22,34,23],[0,1,0,12],[1,2,1,3],[1,4,1,6],[1,7,1,9],[1,10,1,12],[2,2,2,3],[2,4,2,6],[2,7,2,9],[2,10,2,12],[5,7,5,10],[5,11,5,12],[3,2,3,3],[3,4,3,6],[3,7,3,10],[3,11,3,12],[4,2,4,3],[4,4,4,6],[4,7,4,9],[4,10,4,12],[12,9,12,10],[13,9,13,10]]}
[null,"Ackerland"]
[null,6,"Name:",null,{"$f":"IF(B2=\"\",\"\",VLOOKUP(B2,Anbauplan,2,0))","v":0},null,null,"Jahr:",null,null,{"$f":"IF(Einführung!I8=\"\",\"\",Einführung!I8)","v":""},null,null,{"$f":"IF(OR(B4=\"\",H12=\"\"),\"\",H12*B4)","v":0},"DB kg * Fläche"]
[null,"Hektar ","Hauptfrucht ",null,{"$f":"IF(B2=\"\",\"\",VLOOKUP(B2,Ackerbauplan,4,0))","v":0},null,null,"Nitratkulisse",null,null,{"$f":"IF(B2=\"\",\"\",VLOOKUP(B2,Ackerbauplan,20,0))","v":0},null,null,{"$f":"L4","v":""},"kg/ha org. Dünger für Kontrollgrenze"]
[null,{"$f":"IF(B2=\"\",\"\",VLOOKUP(B2,Ackerbauplan,3,0))","v":0},"Vorfrucht",null,{"$f":"IF(B2=\"\",\"\",VLOOKUP(B2,Ackerbauplan,9,0))","v":0},null,null,"Wirtschaftsdünger zur Berechung\ndes 130 kg N/ha Anteils in kg/ha",null,null,null,{"$f":"IF(K3=\"ja\",W29,\"\")","v":""},null,{"$f":"IF(N3=\"\",\"\",N3*B4)","v":""},"kg Gesamtschlag org Dünger für 170 Kontrollgrenze",null,null,"Gesamt N","NH4-N","P2O5 mineral.","P2O5 organisch"]
[null,"Sorte","VorVorfrucht",null,null,null,null,"Phosphatkulisse",null,null,{"$f":"IF(B2=\"\",\"\",VLOOKUP(B2,Ackerbauplan,21,0))","v":0},null,null,{"$f":"IF(H12=\"\",\"\",IF(K3=\"ja\",N2*0.8,\"\"))","v":""},"Nitrat belastetes Gebiet Düngebedarf Gesamtschlag kg N/ha",null,"N Gesamt minerl.",{"$f":"SUMIF($N$14:$N$28,\"mineralisch\",$H$14:$H$28)*B4","v":0}]
[null,{"$f":"IF(B2=\"\",\"\",VLOOKUP(B2,Ackerbauplan,8,0))","v":0},null,null,null,null,null,"sonstige Auflagen",null,null,null,null,null,{"$f":"IF(K3=\"ja\",X30+Y30,\"\")","v":""},"org +min .anrechenbare N Menge Gesamtschlag  kg N/ha",null,"NH4-N minerlisch",null,{"$f":"SUMIF($N$14:$N$28,\"mineralisch\",$I$14:$I$28)*B4","v":0}]
[null,"Aussaatdatum","Kö./m² ",{"$f":"IF(B2=\"\",\"\",VLOOKUP(B2,Ackerbauplan,52,0))","v":0},null,"Eigen","Zukauf","Versorgungsstufen",null,null,null,null,null,{"$f":"IF(K3=\"ja\",J12*B4,\"\")","v":""},null,null,"N Gesamt organsich",{"$f":"SUMIF($N$14:$N$28,\"organisch\",$H$14:$H$28)*B4","v":0}]
[null,{"$f":"IF(B2=\"0\",\"\",VLOOKUP(B2,Ackerbauplan,51,0))","v":"00:00:00"},"x TKG ",{"$f":"IF(B2=\"\",\"\",VLOOKUP(B2,Ackerbauplan,53,0))","v":0},"dt/ha ",null,null,"Nmin",null,"P2O5",null,"K2O","MgO",null,null,null,"NH4-N organsich",null,{"$f":"SUMIF($N$14:$N$28,\"organisch\",I14:I28)*B4","v":0}]
[null,"Beize","/Kei.fäh.",{"$f":"IF(B2=\"\",\"\",VLOOKUP(B2,Ackerbauplan,54,0))","v":0},"€/dt",null,null,{"$f":"IF(B2=\"\",\"\",VLOOKUP(B2,Ackerbauplan,17,0))","v":0},null,{"$f":"IF(B2=\"\",\"\",VLOOKUP(B2,Ackerbauplan,30,0))","v":"C"},null,{"$f":"IF(B2=\"\",\"\",VLOOKUP(B2,Ackerbauplan,31,0))","v":"C"},{"$f":"IF(B2=\"\",\"\",VLOOKUP(B2,Ackerbauplan,32,0))","v":"C"},null,null,null,"P2O5 mineralisch",null,null,{"$f":"SUMIF($N$14:$N$28,\"mineralisch\",$J$14:$J$28)*B4","v":0}]
[null,null,"= kg/ha",{"$f":"IF(B2=\"\",\"\",VLOOKUP(B2,Ackerbauplan,55,0))","v":""},"€/ha ",{"$f":"F8*F9","v":0},{"$f":"G8*G9","v":0},"Düngebedarf kg/ha (Blatt Ackerfläche)",null,null,null,null,null,null,"Düngebedarf um 20% reduziert",null,"P2O5 organisch",null,null,null,{"$f":"SUMIF($N$14:$N$28,\"organisch\",$J$14:$J$28)*B4","v":0},null,null,null,null,null,null,{"$f":"IF(K3=\"ja\",\"Noch nicht ausgeschöpfter Stickstoff Düngebedarf aller Flächen\",\"\")","v":""}]
[null,"Saatgutkennnummer",null,null,null,"Summe",{"$f":"F10+G10","v":0},{"$f":"IF(H12=\"\",\"\",IF(K3=\"ja\",H12*0.8,\"\"))","v":""},{"$f":"IF(K3=\"ja\",O10,\"\")","v":""},null,null,null,null,null,null,null,"Sonstige organische Düngemittel",{"$f":"SUMIF($N$14:$N$28,Q11,$H$14:$H$28)*B4","v":0},{"$f":"SUMIF($N$14:$N$28,Q11,$I$14:$I$28)*B4","v":0},{"$f":"SUMIF($N$14:$N$28,Q11,$J$14:$J$28)*B4","v":0},null,null,null,null,null,null,null,{"$f":"IF(K3=\"ja\",'Zus. Anlage 5 DüV'!D43,\"\")","v":""},{"$f":"IF(K3=\"ja\",\"kg N Gesamtfläche\",\"\")","v":""}]
[null,null,null,null,"N Bedarf DÜV kg/ha",null,null,{"$f":"IF(B2=\"\",\"\",VLOOKUP(B2,Ackerbauplan,18,0))","v":"0"},null,{"$f":"IF(B2=\"\",\"\",VLOOKUP(B2,Ackerbauplan,37,0))","v":"0"},null,{"$f":"IF(B2=\"\",\"\",VLOOKUP(B2,Ackerbauplan,38,0))","v":"0"},null,null,null,null,"Bodenhilfsstoffe",{"$f":"SUMIF($N$14:$N$28,Q12,$H$14:$H$28)*B4","v":0},null,{"$f":"SUMIF($N$14:$N$28,Q12,$J$14:$J$28)*B4","v":0},null,"Anrechnung","Anrechnung ","Prüfung NH4","mineral","Kontroll\nSumme"]
[null,"Dünger","Datum","EC","m³o.dt/ha","€/dt","€/ha","Ges.-N","NH4-N","P2O5",null,"K2O","S",null,null,null,"Kultursubstrate",{"$f":"SUMIF($N$14:$N$28,Q13,$H$14:$H$28)*B4","v":0},null,{"$f":"SUMIF($N$14:$N$28,Q13,$J$14:$J$28)*B4","v":0},null,"aktuelles Jahr","170 kg GW"," oder Anlage3","Stickstoff"]
[null,null,null,null,null,{"$f":"IF(B14=\"\",\"\",VLOOKUP(B14,Düngemiteldaten,2,0))","v":""},{"$f":"IF(B14=\"\",\"\",E14*F14)","v":""},{"$f":"IF(B14=\"\",\"\",VLOOKUP(B14,Düngemiteldaten,4,0)*E14)","v":""},{"$f":"IF(B14=\"\",\"\",VLOOKUP(B14,Düngemiteldaten,5,0)*E14)","v":""},{"$f":"IF(B14=\"\",\"\",VLOOKUP(B14,Düngemiteldaten,7,0)*E14)","v":""},null,{"$f":"IF(B14=\"\",\"\",VLOOKUP(B14,Düngemiteldaten,8,0)*E14)","v":""},{"$f":"IF(B14=\"\",\"\",VLOOKUP(B14,Düngemiteldaten,10,0)*E14)","v":""},{"$f":"IF(B14=\"\",\"\",VLOOKUP(B14,Düngemiteldaten,20,0))","v":""},null,null,"Pflanzenhilfsmittel",{"$f":"SUMIF($N$14:$N$28,Q14,$H$14:$H$28)*B4","v":0},null,{"$f":"SUMIF($N$14:$N$28,Q14,$J$14:$J$28)*B4","v":0},null,{"$f":"IF(OR(B14=\"\",N14=\"\"),\"\",IF(N14=\"mineralisch\",\"\",VLOOKUP(B14,Düngemiteldaten,17,0)*VLOOKUP(B14,Düngemiteldaten,4,0)*E14))","v":""},{"$f":"IF(N14=\"organisch\",VLOOKUP(B14,Düngemiteldaten,4,0)*E14*VLOOKUP(B14,Düngemiteldaten,19,0),\"\")","v":""},{"$f":"IF(B14=\"\",\"\",IF(V14<I14,I14,V14))","v":""},{"$f":"IF(B14=\"\",\"\",IF(N14=\"organisch\",0,H14))","v":""},{"$f":"IF(SUM(V14:Y14)=0,\"\",SUM(X14:Y14))","v":""},null,{"$f":"IF(K3=\"ja\",\"Summe Gesamtstickstoff\",\"\")","v":""},null,{"$f":"IF(K3=\"ja\",\"Anteil § 13a Prüfung \n160 kg N/ha Gesamt\n80 kg N/ha mineralisch\",\"\")","v":""}]
[null,null,null,null,null,"",{"$f":"IF(B15=\"\",\"\",E15*F15)","v":""},"","","",null,"","","",null,null,"Abfälle zur Beseitigung (§ 28 Absatz 2 odeS 3 KSWG)",{"$f":"SUMIF($N$14:$N$28,Q15,$H$14:$H$28)*B4","v":0},null,{"$f":"SUMIF($N$14:$N$28,Q15,$J$14:$J$28)*B4","v":0},null,"","",{"$f":"IF(B15=\"\",\"\",IF(V15<I15,I15,V15))","v":""},{"$f":"IF(B15=\"\",\"\",IF(N15=\"organisch\",0,H15))","v":""},{"$f":"IF(SUM(V15:Y15)=0,\"\",SUM(X15:Y15))","v":""},null,{"$f":"IF(L4=\"\",\"\",SUMIF($N$14:$N$28,\"mineralisch\",$H$14:$H$28))","v":""},{"$f":"IF(K3=\"ja\",\"mineralisch N kg/ha\",\"\")","v":""}]
[null,null,null,null,null,"","","","","",null,"","","",null,null,null,null,null,null,null,"","","","","",null,{"$f":"IF(L4=\"\",\"\",SUMIF($N$14:$N$28,\"organisch\",$H$14:$H$28)+SUMIF($N$14:$N$28,Q11,$H$14:$H$28))","v":""},{"$f":"IF(K3=\"ja\",\"organisch N kg/ha\",\"\")","v":""}]
[null,null,null,null,null,"","","","","",null,"","","",null,null,null,null,null,null,null,{"$f":"IF(OR(B17=\"\",N17=\"\"),\"\",IF(N17=\"mineralisch\",\"\",VLOOKUP(B17,Düngemiteldaten,17,0)*VLOOKUP(B17,Düngemiteldaten,4,0)*E17))","v":""},"","","","",null,{"$f":"IF(K3=\"ja\",(AB16+AB15),\"\")","v":""},{"$f":"IF(K3=\"ja\",\"Gesamt kg N/ha\",\"\")","v":""}]
[null,null,null,null,null,"","","","","",null,"","","",null,null,"Nährstoffherkunft auf gefährdeten Flächen §13",null,null,null,null,"","","","",""]
[null,null,null,null,null,"","","","","",null,"","","",null,null,null,"Gesamt N","NH4-N","P2O5 mineral.","P2O5 organisch","","","","",""]
[null,null,null,null,null,"","","","","",null,"","","",null,null,"N Gesamt minerl.",{"$f":"IF(K3=\"ja\",SUMIF($N$14:$N$28,\"mineralisch\",$H$14:$H$28),0)*B4","v":0},null,null,null,"","","","",""]
[null,null,null,null,null,"","","","","",null,"","","",null,null,"NH4-N minerlisch",null,{"$f":"IF(K3=\"ja\",SUMIF($N$14:$N$28,\"mineralisch\",$I$14:$I$28),0)*B4","v":0},null,null,"","","","",""]
[null,null,null,null,null,"","","","","",null,"","","",null,null,"N Gesamt organsich",{"$f":"IF(K3=\"ja\",SUMIF($N$14:$N$28,\"organisch\",$H$14:$H$28),0)*B4","v":0},null,null,null,"","","","",""]
[null,null,null,null,null,"","","","","",null,"","","",null,null,"NH4-N organsich",null,{"$f":"IF(K3=\"ja\",SUMIF($N$14:$N$28,\"organisch\",$I$14:$I$28),0)*B4","v":0},null,null,"","","","",""]
[null,null,null,null,null,"","","","","",null,"","","",null,null,"P2O5 mineralisch",null,null,{"$f":"IF(K3=\"ja\",SUMIF($N$14:$N$28,\"mineralisch\",$J$14:$J$28),0)*B4","v":0},null,"","","","",""]
[null,null,null,null,null,"","","","","",null,"","","",null,null,"P2O5 organisch",null,null,null,{"$f":"IF(K3=\"ja\",SUMIF($N$14:$N$28,\"organisch\",$J$14:$J$28),0)*B4","v":0},"","","","",""]
[null,null,null,null,null,"","","","","",null,"","","",null,null,"Sonstige organische Düngemittel",{"$f":"IF(K3=\"ja\",SUMIF($N$14:$N$28,Q26,$H$14:$H$28),0)*B4","v":0},{"$f":"IF(K3=\"ja\",SUMIF($N$14:$N$28,Q26,$I$14:$I$28),0)*B4","v":0},{"$f":"IF(K3=\"ja\",SUMIF($N$14:$N$28,Q26,$J$14:$J$28),0)*B4","v":0},null,"","","","",""]
[null,null,null,null,null,"","","","","",null,"","","",null,null,"Bodenhilfsstoffe",{"$f":"IF(K3=\"ja\",SUMIF($N$14:$N$28,Q27,$H$14:$H$28),0)*B4","v":0},null,{"$f":"IF(K3=\"ja\",SUMIF($N$14:$N$28,Q27,$J$14:$J$28),0)*B4","v":0},null,"","","","",""]
[null,null,null,null,null,"","","","","",null,"","","",null,null,"Kultursubstrate",{"$f":"IF(K3=\"ja\",SUMIF($N$14:$N$28,Q28,$H$14:$H$28),0)*B4","v":0},null,{"$f":"IF(K3=\"ja\",SUMIF($N$14:$N$28,Q28,$J$14:$J$28),0)*B4","v":0},null,"","","","",""]
[null,"anrechenbarer N aus org.Dgg. + min. Dgg. kg N/ha",null,null,null,null,null,{"$f":"X29+Y29","v":0},null,{"$f":"SUM(J14:J28)","v":0},null,{"$f":"SUM(L14:L28)","v":0},{"$f":"SUM(M14:M28)","v":0},null,null,null,"Pflanzenhilfsmittel",{"$f":"IF(K3=\"ja\",SUMIF($N$14:$N$28,Q29,$H$14:$H$28),0)*B4","v":0},null,{"$f":"IF(K3=\"ja\",SUMIF($N$14:$N$28,Q29,$J$14:$J$28),0)*B4","v":0},null,{"$f":"SUM(V14:V28)","v":0},{"$f":"SUM(W14:W28)","v":0},{"$f":"SUM(X14:X28)","v":0},{"$f":"SUM(Y14:Y28)","v":0},"kg/ha"]
[null,{"$f":"IF(K3=\"0\",O31,O30)","v":"Bilanz (anrechenbarer Dgg.- reduzierter Düngebedarf) kg N/ha"},null,null,null,null,null,{"$f":"IF(H12=\"\",0,IF(OR(K3=0,K3=\"nein\"),H29-H12,H29-H11))","v":0},null,{"$f":"IF(J12=\"\",\"\",J29-J12)","v":0},null,{"$f":"IF(L12=\"\",\"\",L29-L12)","v":0},{"$f":"IF(M12=\"\",\"\",M29-M12)","v":""},null,"Bilanz (anrechenbarer Dgg.- reduzierter Düngebedarf) kg N/ha",null,"Abfälle zur Beseitigung (§ 28 Absatz 2 odeS 3 KSWG)",{"$f":"IF(K3=\"ja\",SUMIF($N$14:$N$28,Q30,$H$14:$H$28),0)*B4","v":0},null,{"$f":"IF(K3=\"ja\",SUMIF($N$14:$N$28,Q30,$J$14:$J$28),0)*B4","v":0},null,{"$f":"V29*B4","v":0},{"$f":"W29*B4","v":0},{"$f":"X29*B4","v":0},{"$f":"Y29*B4","v":0},"kg/Schlag",null,{"$f":"IF(H30>0,\"Stickstoffmenge überschreitet den Düngebedarf\",\"\")","v":""}]
["Pflanzenschutzmittel",null,"Datum","EC","E./ha","€/E.","€/ha","Anwender",null,null,"Bemerkungen",null,null,null,"Bilanz (anrechenbarer Dgg.- Düngebedarf) kg N/ha"]
[null,null,null,null,null,{"$f":"IF($B32=\"\",\"\",VLOOKUP($B32,PSMMittel,2,0))","v":""},{"$f":"IF(B32=\"\",\"\",E32*F32)","v":""}]
[null,null,null,null,null,"",{"$f":"IF(B33=\"\",\"\",E33*F33)","v":""},null,null,null,null,null,null,null,null,null,"Stickstoffherkunft nicht gefährdetes Gebiet Gesamtfläche"]
[null,null,null,null,null,"","",null,null,null,null,null,null,null,null,null,null,"Gesamt N","NH4-N","P2O5 mineral.","P2O5 organisch",null,"N Fixierung kg N/ha"]
[null,null,null,null,null,"","",null,null,null,null,null,null,null,null,null,"N Gesamt minerl.",{"$f":"R5-R20","v":0},null,null,null,null,{"$f":"IF(E3=0,\"\",VLOOKUP(E3,AckerbauKulturen,26,0)*G56*B4)","v":""}]
[null,null,null,null,null,"","",null,null,null,null,null,null,null,null,null,"NH4-N minerlisch",null,{"$f":"S6-S21","v":0}]
[null,null,null,null,null,"","",null,null,null,null,null,null,null,null,null,"N Gesamt organsich",{"$f":"R7-R22","v":0}]
[null,null,null,null,null,"","",null,null,null,null,null,null,null,null,null,"NH4-N organsich",null,{"$f":"S8-S23","v":0}]
[null,null,null,null,null,"","",null,null,null,null,null,null,null,null,null,"P2O5 mineralisch",null,null,{"$f":"T9-T24","v":0}]
[null,null,null,null,null,"","",null,null,null,null,null,null,null,null,null,"P2O5 organisch",null,null,null,{"$f":"U10-U25","v":0}]
[null,null,null,null,null,"","",null,null,null,null,null,null,null,null,null,"Sonstige organische Düngemittel",{"$f":"R11-R26","v":0},{"$f":"S11-S26","v":0},{"$f":"T11-T26","v":0}]
[null,null,null,null,null,"","",null,null,null,null,null,null,null,null,null,"Bodenhilfsstoffe",{"$f":"R12-R27","v":0},null,{"$f":"T12-T27","v":0}]
[null,null,null,null,null,"","",null,null,null,null,null,null,null,null,null,"Kultursubstrate",{"$f":"R13-R28","v":0},null,{"$f":"T13-T28","v":0}]
[null,null,null,null,null,"","",null,null,null,null,null,null,null,null,null,"Pflanzenhilfsmittel",{"$f":"R14-R29","v":0},null,{"$f":"T14-T29","v":0}]
[null,null,null,null,null,"","",null,null,null,null,null,null,null,null,null,"Abfälle zur Beseitigung (§ 28 Absatz 2 odeS 3 KSWG)",{"$f":"R15-R30","v":0},null,{"$f":"T15-T30","v":0}]
[null,null,null,null,null,"",""]
[null,null,null,null,null,"",""]
[null,null,null,null,null,"",""]
[null,null,null,null,null,"",""]
[null,null,null,null,null,"",""]
[null,null,null,null,null,"",""]
[null,null,null,null,null,"",""]
[null,null,null,null,null,"",""]
[null,"Summe",null,null,null,null,{"$f":"SUM(G32:G53)","v":0}]
[]
[null,"Erntedatum:",null,{"$f":"IF(VLOOKUP($B$2,Ackerbauplan,58,0)=\"\",\"\",VLOOKUP($B$2,Ackerbauplan,58,0))","v":""},null,"dt/ha",{"$f":"VLOOKUP($B$2,Ackerbauplan,60,0)","v":0},null,null,"€/dt",null,{"$f":"VLOOKUP($B$2,Ackerbauplan,59,0)","v":0}]
[null,"   Hauptleistung ",null,{"$f":"IF(VLOOKUP($B$2,Ackerbauplan,61,0)=\"\",\"\",VLOOKUP($B$2,Ackerbauplan,61,0))","v":""},null,"Saatgut ",null,{"$f":"G11","v":0},"€/ha","Marktleistung -"]
[null,null,"+ Nebenleistung ",{"$f":"IF($B$2=\"\",\"\",VLOOKUP($B$2,Anbauplan,62,0))","v":0},null,"Dünger ",null,{"$f":"SUM(G14:G28)","v":0},"€/ha","Saatgut, Dünger, PSM"]
[null,null,"= Marktleistung ",{"$f":"IF(D57=\"\",\"\",D58+D57)","v":""},null,"Pflanzenschutz ",null,{"$f":"G54","v":0},"€/ha",{"$f":"IF(D59=\"\",\"\",D59-H57-H58-H59)","v":""},null,null,"€/ha"]
[null,{"$f":"IF($B$2=\"\",\"\",VLOOKUP($B$2,Anbauplan,2,0))","v":0}]
[null,"Bearbeitung","Maschine 1",null,"Maschine 2",null,"Maschine 3",null,"Datum",null,"Bemerkung"]

{"sheet":"A7","index":16,"n_rows":61,"n_cols":30,"rows_kept":61,"cut":false,"hidden":false,"merged":[[13,27,13,28],[13,29,16,30],[6,7,6,12],[7,7,7,8],[8,7,8,8],[7,9,7,10],[8,9,8,10],[10,8,10,12],[73,2,73,3],[73,4,73,5],[73,6,73,7],[73,8,73,9],[73,10,73,12],[69,2,69,3],[69,4,69,5],[69,6,69,7],[69,8,69,9],[69,10,69,12],[70,2,70,3],[70,4,70,5],[70,6,70,7],[70,8,70,9],[70,10,70,12],[67,2,67,3],[67,4,67,5],[67,6,67,7],[74,2,74,3],[74,4,74,5],[74,6,74,7],[74,8,74,9],[74,10,74,12],[71,2,71,3],[71,4,71,5],[71,6,71,7],[71,8,71,9],[71,10,71,12],[72,2,72,3],[72,4,72,5],[72,6,72,7],[72,8,72,9],[72,10,72,12],[67,8,67,9],[67,10,67,12],[68,2,68,3],[68,4,68,5],[68,6,68,7],[68,8,68,9],[68,10,68,12],[65,2,65,3],[65,4,65,5],[65,6,65,7],[65,8,65,9],[65,10,65,12],[66,2,66,3],[66,4,66,5],[66,6,66,7],[66,8,66,9],[66,10,66,12],[63,2,63,3],[63,4,63,5],[63,6,63,7],[63,8,63,9],[63,10,63,12],[64,2,64,3],[64,4,64,5],[64,6,64,7],[64,8,64,9],[64,10,64,12],[61,2,61,3],[61,4,61,5],[61,6,61,7],[61,8,61,9],[61,10,61,12],[62,2,62,3],[62,4,62,5],[62,6,62,7],[62,8,62,9],[62,10,62,12],[58,3,58,4],[58,5,58,6],[58,9,58,11],[59,1,59,12],[60,2,60,3],[60,4,60,5],[60,6,60,7],[60,8,60,9],[60,10,60,12],[56,1,56,2],[56,3,56,4],[56,5,56,6],[56,9,56,12],[57,3,57,4],[57,5,57,6],[57,9,57,12],[52,7,52,9],[52,10,52,12],[53,1,53,5],[53,7,53,12],[54,1,54,6],[55,1,55,2],[55,3,55,4],[55,6,55,8],[55,9,55,10],[55,11,55,12],[49,7,49,9],[49,10,49,12],[50,7,50,9],[50,10,50,12],[51,7,51,9],[51,10,51,12],[46,7,46,9],[46,10,46,12],[47,7,47,9],[47,10,47,12],[48,7,48,9],[48,10,48,12],[43,7,43,9],[43,10,43,12],[44,7,44,9],[44,10,44,12],[45,7,45,9],[45,10,45,12],[40,7,40,9],[40,10,40,12],[41,7,41,9],[41,10,41,12],[42,7,42,9],[42,10,42,12],[37,7,37,9],[37,10,37,12],[38,7,38,9],[38,10,38,12],[39,7,39,9],[39,10,39,12],[34,7,34,9],[34,10,34,12],[35,7,35,9],[35,10,35,12],[36,7,36,9],[36,10,36,12],[31,7,31,9],[31,10,31,12],[32,7,32,9],[32,10,32,12],[32,16,32,20],[33,7,33,9],[33,10,33,12],[29,1,29,6],[29,7,29,8],[29,9,29,10],[30,0,30,1],[30,7,30,9],[30,10,30,12],[23,9,23,10],[24,9,24,10],[25,9,25,10],[26,9,26,10],[27,9,27,10],[28,1,28,6],[28,7,28,8],[28,9,28,10],[17,16,17,20],[18,9,18,10],[19,9,19,10],[20,9,20,10],[21,9,21,10],[22,9,22,10],[14,9,14,10],[15,9,15,10],[16,9,16,10],[17,9,17,10],[10,1,10,2],[9,7,9,12],[11,1,11,2],[11,4,11,6],[11,7,11,8],[11,9,11,10],[11,25,12,25],[33,22,33,23],[34,22,34,23],[0,1,0,12],[1,2,1,3],[1,4,1,6],[1,7,1,9],[1,10,1,12],[2,2,2,3],[2,4,2,6],[2,7,2,9],[2,10,2,12],[5,7,5,10],[5,11,5,12],[3,2,3,3],[3,4,3,6],[3,7,3,10],[3,11,3,12],[4,2,4,3],[4,4,4,6],[4,7,4,9],[4,10,4,12],[12,9,12,10],[13,9,13,10]]}
[null,"Ackerland"]
[null,7,"Name:",null,{"$f":"IF(B2=\"\",\"\",VLOOKUP(B2,Anbauplan,2,0))","v":0},null,null,"Jahr:",null,null,{"$f":"IF(Einführung!I8=\"\",\"\",Einführung!I8)","v":""},null,null,{"$f":"IF(OR(B4=\"\",H12=\"\"),\"\",H12*B4)","v":0},"DB kg * Fläche"]
[null,"Hektar ","Hauptfrucht ",null,{"$f":"IF(B2=\"\",\"\",VLOOKUP(B2,Ackerbauplan,4,0))","v":0},null,null,"Nitratkulisse",null,null,{"$f":"IF(B2=\"\",\"\",VLOOKUP(B2,Ackerbauplan,20,0))","v":0},null,null,{"$f":"L4","v":""},"kg/ha org. Dünger für Kontrollgrenze"]
[null,{"$f":"IF(B2=\"\",\"\",VLOOKUP(B2,Ackerbauplan,3,0))","v":0},"Vorfrucht",null,{"$f":"IF(B2=\"\",\"\",VLOOKUP(B2,Ackerbauplan,9,0))","v":0},null,null,"Wirtschaftsdünger zur Berechung\ndes 130 kg N/ha Anteils in kg/ha",null,null,null,{"$f":"IF(K3=\"ja\",W29,\"\")","v":""},null,{"$f":"IF(N3=\"\",\"\",N3*B4)","v":""},"kg Gesamtschlag org Dünger für 170 Kontrollgrenze",null,null,"Gesamt N","NH4-N","P2O5 mineral.","P2O5 organisch"]
[null,"Sorte","VorVorfrucht",null,null,null,null,"Phosphatkulisse",null,null,{"$f":"IF(B2=\"\",\"\",VLOOKUP(B2,Ackerbauplan,21,0))","v":0},null,null,{"$f":"IF(H12=\"\",\"\",IF(K3=\"ja\",N2*0.8,\"\"))","v":""},"Nitrat belastetes Gebiet Düngebedarf Gesamtschlag kg N/ha",null,"N Gesamt minerl.",{"$f":"SUMIF($N$14:$N$28,\"mineralisch\",$H$14:$H$28)*B4","v":0}]
[null,{"$f":"IF(B2=\"\",\"\",VLOOKUP(B2,Ackerbauplan,8,0))","v":0},null,null,null,null,null,"sonstige Auflagen",null,null,null,null,null,{"$f":"IF(K3=\"ja\",X30+Y30,\"\")","v":""},"org +min .anrechenbare N Menge Gesamtschlag  kg N/ha",null,"NH4-N minerlisch",null,{"$f":"SUMIF($N$14:$N$28,\"mineralisch\",$I$14:$I$28)*B4","v":0}]
[null,"Aussaatdatum","Kö./m² ",{"$f":"IF(B2=\"\",\"\",VLOOKUP(B2,Ackerbauplan,52,0))","v":0},null,"Eigen","Zukauf","Versorgungsstufen",null,null,null,null,null,{"$f":"IF(K3=\"ja\",J12*B4,\"\")","v":""},null,null,"N Gesamt organsich",{"$f":"SUMIF($N$14:$N$28,\"organisch\",$H$14:$H$28)*B4","v":0}]
[null,{"$f":"IF(B2=\"0\",\"\",VLOOKUP(B2,Ackerbauplan,51,0))","v":"00:00:00"},"x TKG ",{"$f":"IF(B2=\"\",\"\",VLOOKUP(B2,Ackerbauplan,53,0))","v":0},"dt/ha ",null,null,"Nmin",null,"P2O5",null,"K2O","MgO",null,null,null,"NH4-N organsich",null,{"$f":"SUMIF($N$14:$N$28,\"organisch\",I14:I28)*B4","v":0}]
[null,"Beize","/Kei.fäh.",{"$f":"IF(B2=\"\",\"\",VLOOKUP(B2,Ackerbauplan,54,0))","v":0},"€/dt",null,null,{"$f":"IF(B2=\"\",\"\",VLOOKUP(B2,Ackerbauplan,17,0))","v":0},null,{"$f":"IF(B2=\"\",\"\",VLOOKUP(B2,Ackerbauplan,30,0))","v":"C"},null,{"$f":"IF(B2=\"\",\"\",VLOOKUP(B2,Ackerbauplan,31,0))","v":"C"},{"$f":"IF(B2=\"\",\"\",VLOOKUP(B2,Ackerbauplan,32,0))","v":"C"},null,null,null,"P2O5 mineralisch",null,null,{"$f":"SUMIF($N$14:$N$28,\"mineralisch\",$J$14:$J$28)*B4","v":0}]
[null,null,"= kg/ha",{"$f":"IF(B2=\"\",\"\",VLOOKUP(B2,Ackerbauplan,55,0))","v":""},"€/ha ",{"$f":"F8*F9","v":0},{"$f":"G8*G9","v":0},"Düngebedarf kg/ha (Blatt Ackerfläche)",null,null,null,null,null,null,"Düngebedarf um 20% reduziert",null,"P2O5 organisch",null,null,null,{"$f":"SUMIF($N$14:$N$28,\"organisch\",$J$14:$J$28)*B4","v":0},null,null,null,null,null,null,{"$f":"IF(K3=\"ja\",\"Noch nicht ausgeschöpfter Stickstoff Düngebedarf aller Flächen\",\"\")","v":""}]
[null,"Saatgutkennnummer",null,null,null,"Summe",{"$f":"F10+G10","v":0},{"$f":"IF(H12=\"\",\"\",IF(K3=\"ja\",H12*0.8,\"\"))","v":""},{"$f":"IF(K3=\"ja\",O10,\"\")","v":""},null,null,null,null,null,null,null,"Sonstige organische Düngemittel",{"$f":"SUMIF($N$14:$N$28,Q11,$H$14:$H$28)*B4","v":0},{"$f":"SUMIF($N$14:$N$28,Q11,$I$14:$I$28)*B4","v":0},{"$f":"SUMIF($N$14:$N$28,Q11,$J$14:$J$28)*B4","v":0},null,null,null,null,null,null,null,{"$f":"IF(K3=\"ja\",'Zus. Anlage 5 DüV'!D43,\"\")","v":""},{"$f":"IF(K3=\"ja\",\"kg N Gesamtfläche\",\"\")","v":""}]
[null,null,null,null,"N Bedarf DÜV kg/ha",null,null,{"$f":"IF(B2=\"\",\"\",VLOOKUP(B2,Ackerbauplan,18,0))","v":"0"},null,{"$f":"IF(B2=\"\",\"\",VLOOKUP(B2,Ackerbauplan,37,0))","v":"0"},null,{"$f":"IF(B2=\"\",\"\",VLOOKUP(B2,Ackerbauplan,38,0))","v":"0"},null,null,null,null,"Bodenhilfsstoffe",{"$f":"SUMIF($N$14:$N$28,Q12,$H$14:$H$28)*B4","v":0},null,{"$f":"SUMIF($N$14:$N$28,Q12,$J$14:$J$28)*B4","v":0},null,"Anrechnung","Anrechnung ","Prüfung NH4","mineral","Kontroll\nSumme"]
[null,"Dünger","Datum","EC","m³o.dt/ha","€/dt","€/ha","Ges.-N","NH4-N","P2O5",null,"K2O","S",null,null,null,"Kultursubstrate",{"$f":"SUMIF($N$14:$N$28,Q13,$H$14:$H$28)*B4","v":0},null,{"$f":"SUMIF($N$14:$N$28,Q13,$J$14:$J$28)*B4","v":0},null,"aktuelles Jahr","170 kg GW"," oder Anlage3","Stickstoff"]
[null,null,null,null,null,{"$f":"IF(B14=\"\",\"\",VLOOKUP(B14,Düngemiteldaten,2,0))","v":""},{"$f":"IF(B14=\"\",\"\",E14*F14)","v":""},{"$f":"IF(B14=\"\",\"\",VLOOKUP(B14,Düngemiteldaten,4,0)*E14)","v":""},{"$f":"IF(B14=\"\",\"\",VLOOKUP(B14,Düngemiteldaten,5,0)*E14)","v":""},{"$f":"IF(B14=\"\",\"\",VLOOKUP(B14,Düngemiteldaten,7,0)*E14)","v":""},null,{"$f":"IF(B14=\"\",\"\",VLOOKUP(B14,Düngemiteldaten,8,0)*E14)","v":""},{"$f":"IF(B14=\"\",\"\",VLOOKUP(B14,Düngemiteldaten,10,0)*E14)","v":""},{"$f":"IF(B14=\"\",\"\",VLOOKUP(B14,Düngemiteldaten,20,0))","v":""},null,null,"Pflanzenhilfsmittel",{"$f":"SUMIF($N$14:$N$28,Q14,$H$14:$H$28)*B4","v":0},null,{"$f":"SUMIF($N$14:$N$28,Q14,$J$14:$J$28)*B4","v":0},null,{"$f":"IF(OR(B14=\"\",N14=\"\"),\"\",IF(N14=\"mineralisch\",\"\",VLOOKUP(B14,Düngemiteldaten,17,0)*VLOOKUP(B14,Düngemiteldaten,4,0)*E14))","v":""},{"$f":"IF(N14=\"organisch\",VLOOKUP(B14,Düngemiteldaten,4,0)*E14*VLOOKUP(B14,Düngemiteldaten,19,0),\"\")","v":""},{"$f":"IF(B14=\"\",\"\",IF(V14<I14,I14,V14))","v":""},{"$f":"IF(B14=\"\",\"\",IF(N14=\"organisch\",0,H14))","v":""},{"$f":"IF(SUM(V14:Y14)=0,\"\",SUM(X14:Y14))","v":""},null,{"$f":"IF(K3=\"ja\",\"Summe Gesamtstickstoff\",\"\")","v":""},null,{"$f":"IF(K3=\"ja\",\"Anteil § 13a Prüfung \n160 kg N/ha Gesamt\n80 kg N/ha mineralisch\",\"\")","v":""}]
[null,null,null,null,null,"",{"$f":"IF(B15=\"\",\"\",E15*F15)","v":""},"","","",null,"","","",null,null,"Abfälle zur Beseitigung (§ 28 Absatz 2 odeS 3 KSWG)",{"$f":"SUMIF($N$14:$N$28,Q15,$H$14:$H$28)*B4","v":0},null,{"$f":"SUMIF($N$14:$N$28,Q15,$J$14:$J$28)*B4","v":0},null,"","",{"$f":"IF(B15=\"\",\"\",IF(V15<I15,I15,V15))","v":""},{"$f":"IF(B15=\"\",\"\",IF(N15=\"organisch\",0,H15))","v":""},{"$f":"IF(SUM(V15:Y15)=0,\"\",SUM(X15:Y15))","v":""},null,{"$f":"IF(L4=\"\",\"\",SUMIF($N$14:$N$28,\"mineralisch\",$H$14:$H$28))","v":""},{"$f":"IF(K3=\"ja\",\"mineralisch N kg/ha\",\"\")","v":""}]
[null,null,null,null,null,"","","","","",null,"","","",null,null,null,null,null,null,null,"","","","","",null,{"$f":"IF(L4=\"\",\"\",SUMIF($N$14:$N$28,\"organisch\",$H$14:$H$28)+SUMIF($N$14:$N$28,Q11,$H$14:$H$28))","v":""},{"$f":"IF(K3=\"ja\",\"organisch N kg/ha\",\"\")","v":""}]
[null,null,null,null,null,"","","","","",null,"","","",null,null,null,null,null,null,null,{"$f":"IF(OR(B17=\"\",N17=\"\"),\"\",IF(N17=\"mineralisch\",\"\",VLOOKUP(B17,Düngemiteldaten,17,0)*VLOOKUP(B17,Düngemiteldaten,4,0)*E17))","v":""},"","","","",null,{"$f":"IF(K3=\"ja\",(AB16+AB15),\"\")","v":""},{"$f":"IF(K3=\"ja\",\"Gesamt kg N/ha\",\"\")","v":""}]
[null,null,null,null,null,"","","","","",null,"","","",null,null,"Nährstoffherkunft auf gefährdeten Flächen §13",null,null,null,null,"","","","",""]
[null,null,null,null,null,"","","","","",null,"","","",null,null,null,"Gesamt N","NH4-N","P2O5 mineral.","P2O5 organisch","","","","",""]
[null,null,null,null,null,"","","","","",null,"","","",null,null,"N Gesamt minerl.",{"$f":"IF(K3=\"ja\",SUMIF($N$14:$N$28,\"mineralisch\",$H$14:$H$28),0)*B4","v":0},null,null,null,"","","","",""]
[null,null,null,null,null,"","","","","",null,"","","",null,null,"NH4-N minerlisch",null,{"$f":"IF(K3=\"ja\",SUMIF($N$14:$N$28,\"mineralisch\",$I$14:$I$28),0)*B4","v":0},null,null,"","","","",""]
[null,null,null,null,null,"","","","","",null,"","","",null,null,"N Gesamt organsich",{"$f":"IF(K3=\"ja\",SUMIF($N$14:$N$28,\"organisch\",$H$14:$H$28),0)*B4","v":0},null,null,null,"","","","",""]
[null,null,null,null,null,"","","","","",null,"","","",null,null,"NH4-N organsich",null,{"$f":"IF(K3=\"ja\",SUMIF($N$14:$N$28,\"organisch\",$I$14:$I$28),0)*B4","v":0},null,null,"","","","",""]
[null,null,null,null,null,"","","","","",null,"","","",null,null,"P2O5 mineralisch",null,null,{"$f":"IF(K3=\"ja\",SUMIF($N$14:$N$28,\"mineralisch\",$J$14:$J$28),0)*B4","v":0},null,"","","","",""]
[null,null,null,null,null,"","","","","",null,"","","",null,null,"P2O5 organisch",null,null,null,{"$f":"IF(K3=\"ja\",SUMIF($N$14:$N$28,\"organisch\",$J$14:$J$28),0)*B4","v":0},"","","","",""]
[null,null,null,null,null,"","","","","",null,"","","",null,null,"Sonstige organische Düngemittel",{"$f":"IF(K3=\"ja\",SUMIF($N$14:$N$28,Q26,$H$14:$H$28),0)*B4","v":0},{"$f":"IF(K3=\"ja\",SUMIF($N$14:$N$28,Q26,$I$14:$I$28),0)*B4","v":0},{"$f":"IF(K3=\"ja\",SUMIF($N$14:$N$28,Q26,$J$14:$J$28),0)*B4","v":0},null,"","","","",""]
[null,null,null,null,null,"","","","","",null,"","","",null,null,"Bodenhilfsstoffe",{"$f":"IF(K3=\"ja\",SUMIF($N$14:$N$28,Q27,$H$14:$H$28),0)*B4","v":0},null,{"$f":"IF(K3=\"ja\",SUMIF($N$14:$N$28,Q27,$J$14:$J$28),0)*B4","v":0},null,"","","","",""]
[null,null,null,null,null,"","","","","",null,"","","",null,null,"Kultursubstrate",{"$f":"IF(K3=\"ja\",SUMIF($N$14:$N$28,Q28,$H$14:$H$28),0)*B4","v":0},null,{"$f":"IF(K3=\"ja\",SUMIF($N$14:$N$28,Q28,$J$14:$J$28),0)*B4","v":0},null,"","","","",""]
[null,"anrechenbarer N aus org.Dgg. + min. Dgg. kg N/ha",null,null,null,null,null,{"$f":"X29+Y29","v":0},null,{"$f":"SUM(J14:J28)","v":0},null,{"$f":"SUM(L14:L28)","v":0},{"$f":"SUM(M14:M28)","v":0},null,null,null,"Pflanzenhilfsmittel",{"$f":"IF(K3=\"ja\",SUMIF($N$14:$N$28,Q29,$H$14:$H$28),0)*B4","v":0},null,{"$f":"IF(K3=\"ja\",SUMIF($N$14:$N$28,Q29,$J$14:$J$28),0)*B4","v":0},null,{"$f":"SUM(V14:V28)","v":0},{"$f":"SUM(W14:W28)","v":0},{"$f":"SUM(X14:X28)","v":0},{"$f":"SUM(Y14:Y28)","v":0},"kg/ha"]
[null,{"$f":"IF(K3=\"0\",O31,O30)","v":"Bilanz (anrechenbarer Dgg.- reduzierter Düngebedarf) kg N/ha"},null,null,null,null,null,{"$f":"IF(H12=\"\",0,IF(OR(K3=0,K3=\"nein\"),H29-H12,H29-H11))","v":0},null,{"$f":"IF(J12=\"\",\"\",J29-J12)","v":0},null,{"$f":"IF(L12=\"\",\"\",L29-L12)","v":0},{"$f":"IF(M12=\"\",\"\",M29-M12)","v":""},null,"Bilanz (anrechenbarer Dgg.- reduzierter Düngebedarf) kg N/ha",null,"Abfälle zur Beseitigung (§ 28 Absatz 2 odeS 3 KSWG)",{"$f":"IF(K3=\"ja\",SUMIF($N$14:$N$28,Q30,$H$14:$H$28),0)*B4","v":0},null,{"$f":"IF(K3=\"ja\",SUMIF($N$14:$N$28,Q30,$J$14:$J$28),0)*B4","v":0},null,{"$f":"V29*B4","v":0},{"$f":"W29*B4","v":0},{"$f":"X29*B4","v":0},{"$f":"Y29*B4","v":0},"kg/Schlag",null,{"$f":"IF(H30>0,\"Stickstoffmenge überschreitet den Düngebedarf\",\"\")","v":""}]
["Pflanzenschutzmittel",null,"Datum","EC","E./ha","€/E.","€/ha","Anwender",null,null,"Bemerkungen",null,null,null,"Bilanz (anrechenbarer Dgg.- Düngebedarf) kg N/ha"]
[null,null,null,null,null,{"$f":"IF($B32=\"\",\"\",VLOOKUP($B32,PSMMittel,2,0))","v":""},{"$f":"IF(B32=\"\",\"\",E32*F32)","v":""}]
[null,null,null,null,null,"",{"$f":"IF(B33=\"\",\"\",E33*F33)","v":""},null,null,null,null,null,null,null,null,null,"Stickstoffherkunft nicht gefährdetes Gebiet Gesamtfläche"]
[null,null,null,null,null,"","",null,null,null,null,null,null,null,null,null,null,"Gesamt N","NH4-N","P2O5 mineral.","P2O5 organisch",null,"N Fixierung kg N/ha"]
[null,null,null,null,null,"","",null,null,null,null,null,null,null,null,null,"N Gesamt minerl.",{"$f":"R5-R20","v":0},null,null,null,null,{"$f":"IF(E3=0,\"\",VLOOKUP(E3,AckerbauKulturen,26,0)*G56*B4)","v":""}]
[null,null,null,null,null,"","",null,null,null,null,null,null,null,null,null,"NH4-N minerlisch",null,{"$f":"S6-S21","v":0}]
[null,null,null,null,null,"","",null,null,null,null,null,null,null,null,null,"N Gesamt organsich",{"$f":"R7-R22","v":0}]
[null,null,null,null,null,"","",null,null,null,null,null,null,null,null,null,"NH4-N organsich",null,{"$f":"S8-S23","v":0}]
[null,null,null,null,null,"","",null,null,null,null,null,null,null,null,null,"P2O5 mineralisch",null,null,{"$f":"T9-T24","v":0}]
[null,null,null,null,null,"","",null,null,null,null,null,null,null,null,null,"P2O5 organisch",null,null,null,{"$f":"U10-U25","v":0}]
[null,null,null,null,null,"","",null,null,null,null,null,null,null,null,null,"Sonstige organische Düngemittel",{"$f":"R11-R26","v":0},{"$f":"S11-S26","v":0},{"$f":"T11-T26","v":0}]
[null,null,null,null,null,"","",null,null,null,null,null,null,null,null,null,"Bodenhilfsstoffe",{"$f":"R12-R27","v":0},null,{"$f":"T12-T27","v":0}]
[null,null,null,null,null,"","",null,null,null,null,null,null,null,null,null,"Kultursubstrate",{"$f":"R13-R28","v":0},null,{"$f":"T13-T28","v":0}]
[null,null,null,null,null,"","",null,null,null,null,null,null,null,null,null,"Pflanzenhilfsmittel",{"$f":"R14-R29","v":0},null,{"$f":"T14-T29","v":0}]
[null,null,null,null,null,"","",null,null,null,null,null,null,null,null,null,"Abfälle zur Beseitigung (§ 28 Absatz 2 odeS 3 KSWG)",{"$f":"R15-R30","v":0},null,{"$f":"T15-T30","v":0}]
[null,null,null,null,null,"",""]
[null,null,null,null,null,"",""]
[null,null,null,null,null,"",""]
[null,null,null,null,null,"",""]
[null,null,null,null,null,"",""]
[null,null,null,null,null,"",""]
[null,null,null,null,null,"",""]
[null,null,null,null,null,"",""]
[null,"Summe",null,null,null,null,{"$f":"SUM(G32:G53)","v":0}]
[]
[null,"Erntedatum:",null,{"$f":"IF(VLOOKUP($B$2,Ackerbauplan,58,0)=\"\",\"\",VLOOKUP($B$2,Ackerbauplan,58,0))","v":""},null,"dt/ha",{"$f":"VLOOKUP($B$2,Ackerbauplan,60,0)","v":0},null,null,"€/dt",null,{"$f":"VLOOKUP($B$2,Ackerbauplan,59,0)","v":0}]
[null,"   Hauptleistung ",null,{"$f":"IF(VLOOKUP($B$2,Ackerbauplan,61,0)=\"\",\"\",VLOOKUP($B$2,Ackerbauplan,61,0))","v":""},null,"Saatgut ",null,{"$f":"G11","v":0},"€/ha","Marktleistung -"]
[null,null,"+ Nebenleistung ",{"$f":"IF($B$2=\"\",\"\",VLOOKUP($B$2,Anbauplan,62,0))","v":0},null,"Dünger ",null,{"$f":"SUM(G14:G28)","v":0},"€/ha","Saatgut, Dünger, PSM"]
[null,null,"= Marktleistung ",{"$f":"IF(D57=\"\",\"\",D58+D57)","v":""},null,"Pflanzenschutz ",null,{"$f":"G54","v":0},"€/ha",{"$f":"IF(D59=\"\",\"\",D59-H57-H58-H59)","v":""},null,null,"€/ha"]
[null,{"$f":"IF($B$2=\"\",\"\",VLOOKUP($B$2,Anbauplan,2,0))","v":0}]
[null,"Bearbeitung","Maschine 1",null,"Maschine 2",null,"Maschine 3",null,"Datum",null,"Bemerkung"]

{"sheet":"A8","index":17,"n_rows":61,"n_cols":30,"rows_kept":61,"cut":false,"hidden":false,"merged":[[13,27,13,28],[13,29,16,30],[6,7,6,12],[7,7,7,8],[8,7,8,8],[7,9,7,10],[8,9,8,10],[10,8,10,12],[73,2,73,3],[73,4,73,5],[73,6,73,7],[73,8,73,9],[73,10,73,12],[69,2,69,3],[69,4,69,5],[69,6,69,7],[69,8,69,9],[69,10,69,12],[70,2,70,3],[70,4,70,5],[70,6,70,7],[70,8,70,9],[70,10,70,12],[67,2,67,3],[67,4,67,5],[67,6,67,7],[74,2,74,3],[74,4,74,5],[74,6,74,7],[74,8,74,9],[74,10,74,12],[71,2,71,3],[71,4,71,5],[71,6,71,7],[71,8,71,9],[71,10,71,12],[72,2,72,3],[72,4,72,5],[72,6,72,7],[72,8,72,9],[72,10,72,12],[67,8,67,9],[67,10,67,12],[68,2,68,3],[68,4,68,5],[68,6,68,7],[68,8,68,9],[68,10,68,12],[65,2,65,3],[65,4,65,5],[65,6,65,7],[65,8,65,9],[65,10,65,12],[66,2,66,3],[66,4,66,5],[66,6,66,7],[66,8,66,9],[66,10,66,12],[63,2,63,3],[63,4,63,5],[63,6,63,7],[63,8,63,9],[63,10,63,12],[64,2,64,3],[64,4,64,5],[64,6,64,7],[64,8,64,9],[64,10,64,12],[61,2,61,3],[61,4,61,5],[61,6,61,7],[61,8,61,9],[61,10,61,12],[62,2,62,3],[62,4,62,5],[62,6,62,7],[62,8,62,9],[62,10,62,12],[58,3,58,4],[58,5,58,6],[58,9,58,11],[59,1,59,12],[60,2,60,3],[60,4,60,5],[60,6,60,7],[60,8,60,9],[60,10,60,12],[56,1,56,2],[56,3,56,4],[56,5,56,6],[56,9,56,12],[57,3,57,4],[57,5,57,6],[57,9,57,12],[52,7,52,9],[52,10,52,12],[53,1,53,5],[53,7,53,12],[54,1,54,6],[55,1,55,2],[55,3,55,4],[55,6,55,8],[55,9,55,10],[55,11,55,12],[49,7,49,9],[49,10,49,12],[50,7,50,9],[50,10,50,12],[51,7,51,9],[51,10,51,12],[46,7,46,9],[46,10,46,12],[47,7,47,9],[47,10,47,12],[48,7,48,9],[48,10,48,12],[43,7,43,9],[43,10,43,12],[44,7,44,9],[44,10,44,12],[45,7,45,9],[45,10,45,12],[40,7,40,9],[40,10,40,12],[41,7,41,9],[41,10,41,12],[42,7,42,9],[42,10,42,12],[37,7,37,9],[37,10,37,12],[38,7,38,9],[38,10,38,12],[39,7,39,9],[39,10,39,12],[34,7,34,9],[34,10,34,12],[35,7,35,9],[35,10,35,12],[36,7,36,9],[36,10,36,12],[31,7,31,9],[31,10,31,12],[32,7,32,9],[32,10,32,12],[32,16,32,20],[33,7,33,9],[33,10,33,12],[29,1,29,6],[29,7,29,8],[29,9,29,10],[30,0,30,1],[30,7,30,9],[30,10,30,12],[23,9,23,10],[24,9,24,10],[25,9,25,10],[26,9,26,10],[27,9,27,10],[28,1,28,6],[28,7,28,8],[28,9,28,10],[17,16,17,20],[18,9,18,10],[19,9,19,10],[20,9,20,10],[21,9,21,10],[22,9,22,10],[14,9,14,10],[15,9,15,10],[16,9,16,10],[17,9,17,10],[10,1,10,2],[9,7,9,12],[11,1,11,2],[11,4,11,6],[11,7,11,8],[11,9,11,10],[11,25,12,25],[33,22,33,23],[34,22,34,23],[0,1,0,12],[1,2,1,3],[1,4,1,6],[1,7,1,9],[1,10,1,12],[2,2,2,3],[2,4,2,6],[2,7,2,9],[2,10,2,12],[5,7,5,10],[5,11,5,12],[3,2,3,3],[3,4,3,6],[3,7,3,10],[3,11,3,12],[4,2,4,3],[4,4,4,6],[4,7,4,9],[4,10,4,12],[12,9,12,10],[13,9,13,10]]}
[null,"Ackerland"]
[null,8,"Name:",null,{"$f":"IF(B2=\"\",\"\",VLOOKUP(B2,Anbauplan,2,0))","v":0},null,null,"Jahr:",null,null,{"$f":"IF(Einführung!I8=\"\",\"\",Einführung!I8)","v":""},null,null,{"$f":"IF(OR(B4=\"\",H12=\"\"),\"\",H12*B4)","v":0},"DB kg * Fläche"]
[null,"Hektar ","Hauptfrucht ",null,{"$f":"IF(B2=\"\",\"\",VLOOKUP(B2,Ackerbauplan,4,0))","v":0},null,null,"Nitratkulisse",null,null,{"$f":"IF(B2=\"\",\"\",VLOOKUP(B2,Ackerbauplan,20,0))","v":0},null,null,{"$f":"L4","v":""},"kg/ha org. Dünger für Kontrollgrenze"]
[null,{"$f":"IF(B2=\"\",\"\",VLOOKUP(B2,Ackerbauplan,3,0))","v":0},"Vorfrucht",null,{"$f":"IF(B2=\"\",\"\",VLOOKUP(B2,Ackerbauplan,9,0))","v":0},null,null,"Wirtschaftsdünger zur Berechung\ndes 130 kg N/ha Anteils in kg/ha",null,null,null,{"$f":"IF(K3=\"ja\",W29,\"\")","v":""},null,{"$f":"IF(N3=\"\",\"\",N3*B4)","v":""},"kg Gesamtschlag org Dünger für 170 Kontrollgrenze",null,null,"Gesamt N","NH4-N","P2O5 mineral.","P2O5 organisch"]
[null,"Sorte","VorVorfrucht",null,null,null,null,"Phosphatkulisse",null,null,{"$f":"IF(B2=\"\",\"\",VLOOKUP(B2,Ackerbauplan,21,0))","v":0},null,null,{"$f":"IF(H12=\"\",\"\",IF(K3=\"ja\",N2*0.8,\"\"))","v":""},"Nitrat belastetes Gebiet Düngebedarf Gesamtschlag kg N/ha",null,"N Gesamt minerl.",{"$f":"SUMIF($N$14:$N$28,\"mineralisch\",$H$14:$H$28)*B4","v":0}]
[null,{"$f":"IF(B2=\"\",\"\",VLOOKUP(B2,Ackerbauplan,8,0))","v":0},null,null,null,null,null,"sonstige Auflagen",null,null,null,null,null,{"$f":"IF(K3=\"ja\",X30+Y30,\"\")","v":""},"org +min .anrechenbare N Menge Gesamtschlag  kg N/ha",null,"NH4-N minerlisch",null,{"$f":"SUMIF($N$14:$N$28,\"mineralisch\",$I$14:$I$28)*B4","v":0}]
[null,"Aussaatdatum","Kö./m² ",{"$f":"IF(B2=\"\",\"\",VLOOKUP(B2,Ackerbauplan,52,0))","v":0},null,"Eigen","Zukauf","Versorgungsstufen",null,null,null,null,null,{"$f":"IF(K3=\"ja\",J12*B4,\"\")","v":""},null,null,"N Gesamt organsich",{"$f":"SUMIF($N$14:$N$28,\"organisch\",$H$14:$H$28)*B4","v":0}]
[null,{"$f":"IF(B2=\"0\",\"\",VLOOKUP(B2,Ackerbauplan,51,0))","v":"00:00:00"},"x TKG ",{"$f":"IF(B2=\"\",\"\",VLOOKUP(B2,Ackerbauplan,53,0))","v":0},"dt/ha ",null,null,"Nmin",null,"P2O5",null,"K2O","MgO",null,null,null,"NH4-N organsich",null,{"$f":"SUMIF($N$14:$N$28,\"organisch\",I14:I28)*B4","v":0}]
[null,"Beize","/Kei.fäh.",{"$f":"IF(B2=\"\",\"\",VLOOKUP(B2,Ackerbauplan,54,0))","v":0},"€/dt",null,null,{"$f":"IF(B2=\"\",\"\",VLOOKUP(B2,Ackerbauplan,17,0))","v":0},null,{"$f":"IF(B2=\"\",\"\",VLOOKUP(B2,Ackerbauplan,30,0))","v":"C"},null,{"$f":"IF(B2=\"\",\"\",VLOOKUP(B2,Ackerbauplan,31,0))","v":"C"},{"$f":"IF(B2=\"\",\"\",VLOOKUP(B2,Ackerbauplan,32,0))","v":"C"},null,null,null,"P2O5 mineralisch",null,null,{"$f":"SUMIF($N$14:$N$28,\"mineralisch\",$J$14:$J$28)*B4","v":0}]
[null,null,"= kg/ha",{"$f":"IF(B2=\"\",\"\",VLOOKUP(B2,Ackerbauplan,55,0))","v":""},"€/ha ",{"$f":"F8*F9","v":0},{"$f":"G8*G9","v":0},"Düngebedarf kg/ha (Blatt Ackerfläche)",null,null,null,null,null,null,"Düngebedarf um 20% reduziert",null,"P2O5 organisch",null,null,null,{"$f":"SUMIF($N$14:$N$28,\"organisch\",$J$14:$J$28)*B4","v":0},null,null,null,null,null,null,{"$f":"IF(K3=\"ja\",\"Noch nicht ausgeschöpfter Stickstoff Düngebedarf aller Flächen\",\"\")","v":""}]
[null,"Saatgutkennnummer",null,null,null,"Summe",{"$f":"F10+G10","v":0},{"$f":"IF(H12=\"\",\"\",IF(K3=\"ja\",H12*0.8,\"\"))","v":""},{"$f":"IF(K3=\"ja\",O10,\"\")","v":""},null,null,null,null,null,null,null,"Sonstige organische Düngemittel",{"$f":"SUMIF($N$14:$N$28,Q11,$H$14:$H$28)*B4","v":0},{"$f":"SUMIF($N$14:$N$28,Q11,$I$14:$I$28)*B4","v":0},{"$f":"SUMIF($N$14:$N$28,Q11,$J$14:$J$28)*B4","v":0},null,null,null,null,null,null,null,{"$f":"IF(K3=\"ja\",'Zus. Anlage 5 DüV'!D43,\"\")","v":""},{"$f":"IF(K3=\"ja\",\"kg N Gesamtfläche\",\"\")","v":""}]
[null,null,null,null,"N Bedarf DÜV kg/ha",null,null,{"$f":"IF(B2=\"\",\"\",VLOOKUP(B2,Ackerbauplan,18,0))","v":"0"},null,{"$f":"IF(B2=\"\",\"\",VLOOKUP(B2,Ackerbauplan,37,0))","v":"0"},null,{"$f":"IF(B2=\"\",\"\",VLOOKUP(B2,Ackerbauplan,38,0))","v":"0"},null,null,null,null,"Bodenhilfsstoffe",{"$f":"SUMIF($N$14:$N$28,Q12,$H$14:$H$28)*B4","v":0},null,{"$f":"SUMIF($N$14:$N$28,Q12,$J$14:$J$28)*B4","v":0},null,"Anrechnung","Anrechnung ","Prüfung NH4","mineral","Kontroll\nSumme"]
[null,"Dünger","Datum","EC","m³o.dt/ha","€/dt","€/ha","Ges.-N","NH4-N","P2O5",null,"K2O","S",null,null,null,"Kultursubstrate",{"$f":"SUMIF($N$14:$N$28,Q13,$H$14:$H$28)*B4","v":0},null,{"$f":"SUMIF($N$14:$N$28,Q13,$J$14:$J$28)*B4","v":0},null,"aktuelles Jahr","170 kg GW"," oder Anlage3","Stickstoff"]
[null,null,null,null,null,{"$f":"IF(B14=\"\",\"\",VLOOKUP(B14,Düngemiteldaten,2,0))","v":""},{"$f":"IF(B14=\"\",\"\",E14*F14)","v":""},{"$f":"IF(B14=\"\",\"\",VLOOKUP(B14,Düngemiteldaten,4,0)*E14)","v":""},{"$f":"IF(B14=\"\",\"\",VLOOKUP(B14,Düngemiteldaten,5,0)*E14)","v":""},{"$f":"IF(B14=\"\",\"\",VLOOKUP(B14,Düngemiteldaten,7,0)*E14)","v":""},null,{"$f":"IF(B14=\"\",\"\",VLOOKUP(B14,Düngemiteldaten,8,0)*E14)","v":""},{"$f":"IF(B14=\"\",\"\",VLOOKUP(B14,Düngemiteldaten,10,0)*E14)","v":""},{"$f":"IF(B14=\"\",\"\",VLOOKUP(B14,Düngemiteldaten,20,0))","v":""},null,null,"Pflanzenhilfsmittel",{"$f":"SUMIF($N$14:$N$28,Q14,$H$14:$H$28)*B4","v":0},null,{"$f":"SUMIF($N$14:$N$28,Q14,$J$14:$J$28)*B4","v":0},null,{"$f":"IF(OR(B14=\"\",N14=\"\"),\"\",IF(N14=\"mineralisch\",\"\",VLOOKUP(B14,Düngemiteldaten,17,0)*VLOOKUP(B14,Düngemiteldaten,4,0)*E14))","v":""},{"$f":"IF(N14=\"organisch\",VLOOKUP(B14,Düngemiteldaten,4,0)*E14*VLOOKUP(B14,Düngemiteldaten,19,0),\"\")","v":""},{"$f":"IF(B14=\"\",\"\",IF(V14<I14,I14,V14))","v":""},{"$f":"IF(B14=\"\",\"\",IF(N14=\"organisch\",0,H14))","v":""},{"$f":"IF(SUM(V14:Y14)=0,\"\",SUM(X14:Y14))","v":""},null,{"$f":"IF(K3=\"ja\",\"Summe Gesamtstickstoff\",\"\")","v":""},null,{"$f":"IF(K3=\"ja\",\"Anteil § 13a Prüfung \n160 kg N/ha Gesamt\n80 kg N/ha mineralisch\",\"\")","v":""}]
[null,null,null,null,null,"",{"$f":"IF(B15=\"\",\"\",E15*F15)","v":""},"","","",null,"","","",null,null,"Abfälle zur Beseitigung (§ 28 Absatz 2 odeS 3 KSWG)",{"$f":"SUMIF($N$14:$N$28,Q15,$H$14:$H$28)*B4","v":0},null,{"$f":"SUMIF($N$14:$N$28,Q15,$J$14:$J$28)*B4","v":0},null,"","",{"$f":"IF(B15=\"\",\"\",IF(V15<I15,I15,V15))","v":""},{"$f":"IF(B15=\"\",\"\",IF(N15=\"organisch\",0,H15))","v":""},{"$f":"IF(SUM(V15:Y15)=0,\"\",SUM(X15:Y15))","v":""},null,{"$f":"IF(L4=\"\",\"\",SUMIF($N$14:$N$28,\"mineralisch\",$H$14:$H$28))","v":""},{"$f":"IF(K3=\"ja\",\"mineralisch N kg/ha\",\"\")","v":""}]
[null,null,null,null,null,"","","","","",null,"","","",null,null,null,null,null,null,null,"","","","","",null,{"$f":"IF(L4=\"\",\"\",SUMIF($N$14:$N$28,\"organisch\",$H$14:$H$28)+SUMIF($N$14:$N$28,Q11,$H$14:$H$28))","v":""},{"$f":"IF(K3=\"ja\",\"organisch N kg/ha\",\"\")","v":""}]
[null,null,null,null,null,"","","","","",null,"","","",null,null,null,null,null,null,null,{"$f":"IF(OR(B17=\"\",N17=\"\"),\"\",IF(N17=\"mineralisch\",\"\",VLOOKUP(B17,Düngemiteldaten,17,0)*VLOOKUP(B17,Düngemiteldaten,4,0)*E17))","v":""},"","","","",null,{"$f":"IF(K3=\"ja\",(AB16+AB15),\"\")","v":""},{"$f":"IF(K3=\"ja\",\"Gesamt kg N/ha\",\"\")","v":""}]
[null,null,null,null,null,"","","","","",null,"","","",null,null,"Nährstoffherkunft auf gefährdeten Flächen §13",null,null,null,null,"","","","",""]
[null,null,null,null,null,"","","","","",null,"","","",null,null,null,"Gesamt N","NH4-N","P2O5 mineral.","P2O5 organisch","","","","",""]
[null,null,null,null,null,"","","","","",null,"","","",null,null,"N Gesamt minerl.",{"$f":"IF(K3=\"ja\",SUMIF($N$14:$N$28,\"mineralisch\",$H$14:$H$28),0)*B4","v":0},null,null,null,"","","","",""]
[null,null,null,null,null,"","","","","",null,"","","",null,null,"NH4-N minerlisch",null,{"$f":"IF(K3=\"ja\",SUMIF($N$14:$N$28,\"mineralisch\",$I$14:$I$28),0)*B4","v":0},null,null,"","","","",""]
[null,null,null,null,null,"","","","","",null,"","","",null,null,"N Gesamt organsich",{"$f":"IF(K3=\"ja\",SUMIF($N$14:$N$28,\"organisch\",$H$14:$H$28),0)*B4","v":0},null,null,null,"","","","",""]
[null,null,null,null,null,"","","","","",null,"","","",null,null,"NH4-N organsich",null,{"$f":"IF(K3=\"ja\",SUMIF($N$14:$N$28,\"organisch\",$I$14:$I$28),0)*B4","v":0},null,null,"","","","",""]
[null,null,null,null,null,"","","","","",null,"","","",null,null,"P2O5 mineralisch",null,null,{"$f":"IF(K3=\"ja\",SUMIF($N$14:$N$28,\"mineralisch\",$J$14:$J$28),0)*B4","v":0},null,"","","","",""]
[null,null,null,null,null,"","","","","",null,"","","",null,null,"P2O5 organisch",null,null,null,{"$f":"IF(K3=\"ja\",SUMIF($N$14:$N$28,\"organisch\",$J$14:$J$28),0)*B4","v":0},"","","","",""]
[null,null,null,null,null,"","","","","",null,"","","",null,null,"Sonstige organische Düngemittel",{"$f":"IF(K3=\"ja\",SUMIF($N$14:$N$28,Q26,$H$14:$H$28),0)*B4","v":0},{"$f":"IF(K3=\"ja\",SUMIF($N$14:$N$28,Q26,$I$14:$I$28),0)*B4","v":0},{"$f":"IF(K3=\"ja\",SUMIF($N$14:$N$28,Q26,$J$14:$J$28),0)*B4","v":0},null,"","","","",""]
[null,null,null,null,null,"","","","","",null,"","","",null,null,"Bodenhilfsstoffe",{"$f":"IF(K3=\"ja\",SUMIF($N$14:$N$28,Q27,$H$14:$H$28),0)*B4","v":0},null,{"$f":"IF(K3=\"ja\",SUMIF($N$14:$N$28,Q27,$J$14:$J$28),0)*B4","v":0},null,"","","","",""]
[null,null,null,null,null,"","","","","",null,"","","",null,null,"Kultursubstrate",{"$f":"IF(K3=\"ja\",SUMIF($N$14:$N$28,Q28,$H$14:$H$28),0)*B4","v":0},null,{"$f":"IF(K3=\"ja\",SUMIF($N$14:$N$28,Q28,$J$14:$J$28),0)*B4","v":0},null,"","","","",""]
[null,"anrechenbarer N aus org.Dgg. + min. Dgg. kg N/ha",null,null,null,null,null,{"$f":"X29+Y29","v":0},null,{"$f":"SUM(J14:J28)","v":0},null,{"$f":"SUM(L14:L28)","v":0},{"$f":"SUM(M14:M28)","v":0},null,null,null,"Pflanzenhilfsmittel",{"$f":"IF(K3=\"ja\",SUMIF($N$14:$N$28,Q29,$H$14:$H$28),0)*B4","v":0},null,{"$f":"IF(K3=\"ja\",SUMIF($N$14:$N$28,Q29,$J$14:$J$28),0)*B4","v":0},null,{"$f":"SUM(V14:V28)","v":0},{"$f":"SUM(W14:W28)","v":0},{"$f":"SUM(X14:X28)","v":0},{"$f":"SUM(Y14:Y28)","v":0},"kg/ha"]
[null,{"$f":"IF(K3=\"0\",O31,O30)","v":"Bilanz (anrechenbarer Dgg.- reduzierter Düngebedarf) kg N/ha"},null,null,null,null,null,{"$f":"IF(H12=\"\",0,IF(OR(K3=0,K3=\"nein\"),H29-H12,H29-H11))","v":0},null,{"$f":"IF(J12=\"\",\"\",J29-J12)","v":0},null,{"$f":"IF(L12=\"\",\"\",L29-L12)","v":0},{"$f":"IF(M12=\"\",\"\",M29-M12)","v":""},null,"Bilanz (anrechenbarer Dgg.- reduzierter Düngebedarf) kg N/ha",null,"Abfälle zur Beseitigung (§ 28 Absatz 2 odeS 3 KSWG)",{"$f":"IF(K3=\"ja\",SUMIF($N$14:$N$28,Q30,$H$14:$H$28),0)*B4","v":0},null,{"$f":"IF(K3=\"ja\",SUMIF($N$14:$N$28,Q30,$J$14:$J$28),0)*B4","v":0},null,{"$f":"V29*B4","v":0},{"$f":"W29*B4","v":0},{"$f":"X29*B4","v":0},{"$f":"Y29*B4","v":0},"kg/Schlag",null,{"$f":"IF(H30>0,\"Stickstoffmenge überschreitet den Düngebedarf\",\"\")","v":""}]
["Pflanzenschutzmittel",null,"Datum","EC","E./ha","€/E.","€/ha","Anwender",null,null,"Bemerkungen",null,null,null,"Bilanz (anrechenbarer Dgg.- Düngebedarf) kg N/ha"]
[null,null,null,null,null,{"$f":"IF($B32=\"\",\"\",VLOOKUP($B32,PSMMittel,2,0))","v":""},{"$f":"IF(B32=\"\",\"\",E32*F32)","v":""}]
[null,null,null,null,null,"",{"$f":"IF(B33=\"\",\"\",E33*F33)","v":""},null,null,null,null,null,null,null,null,null,"Stickstoffherkunft nicht gefährdetes Gebiet Gesamtfläche"]
[null,null,null,null,null,"","",null,null,null,null,null,null,null,null,null,null,"Gesamt N","NH4-N","P2O5 mineral.","P2O5 organisch",null,"N Fixierung kg N/ha"]
[null,null,null,null,null,"","",null,null,null,null,null,null,null,null,null,"N Gesamt minerl.",{"$f":"R5-R20","v":0},null,null,null,null,{"$f":"IF(E3=0,\"\",VLOOKUP(E3,AckerbauKulturen,26,0)*G56*B4)","v":""}]
[null,null,null,null,null,"","",null,null,null,null,null,null,null,null,null,"NH4-N minerlisch",null,{"$f":"S6-S21","v":0}]
[null,null,null,null,null,"","",null,null,null,null,null,null,null,null,null,"N Gesamt organsich",{"$f":"R7-R22","v":0}]
[null,null,null,null,null,"","",null,null,null,null,null,null,null,null,null,"NH4-N organsich",null,{"$f":"S8-S23","v":0}]
[null,null,null,null,null,"","",null,null,null,null,null,null,null,null,null,"P2O5 mineralisch",null,null,{"$f":"T9-T24","v":0}]
[null,null,null,null,null,"","",null,null,null,null,null,null,null,null,null,"P2O5 organisch",null,null,null,{"$f":"U10-U25","v":0}]
[null,null,null,null,null,"","",null,null,null,null,null,null,null,null,null,"Sonstige organische Düngemittel",{"$f":"R11-R26","v":0},{"$f":"S11-S26","v":0},{"$f":"T11-T26","v":0}]
[null,null,null,null,null,"","",null,null,null,null,null,null,null,null,null,"Bodenhilfsstoffe",{"$f":"R12-R27","v":0},null,{"$f":"T12-T27","v":0}]
[null,null,null,null,null,"","",null,null,null,null,null,null,null,null,null,"Kultursubstrate",{"$f":"R13-R28","v":0},null,{"$f":"T13-T28","v":0}]
[null,null,null,null,null,"","",null,null,null,null,null,null,null,null,null,"Pflanzenhilfsmittel",{"$f":"R14-R29","v":0},null,{"$f":"T14-T29","v":0}]
[null,null,null,null,null,"","",null,null,null,null,null,null,null,null,null,"Abfälle zur Beseitigung (§ 28 Absatz 2 odeS 3 KSWG)",{"$f":"R15-R30","v":0},null,{"$f":"T15-T30","v":0}]
[null,null,null,null,null,"",""]
[null,null,null,null,null,"",""]
[null,null,null,null,null,"",""]
[null,null,null,null,null,"",""]
[null,null,null,null,null,"",""]
[null,null,null,null,null,"",""]
[null,null,null,null,null,"",""]
[null,null,null,null,null,"",""]
[null,"Summe",null,null,null,null,{"$f":"SUM(G32:G53)","v":0}]
[]
[null,"Erntedatum:",null,{"$f":"IF(VLOOKUP($B$2,Ackerbauplan,58,0)=\"\",\"\",VLOOKUP($B$2,Ackerbauplan,58,0))","v":""},null,"dt/ha",{"$f":"VLOOKUP($B$2,Ackerbauplan,60,0)","v":0},null,null,"€/dt",null,{"$f":"VLOOKUP($B$2,Ackerbauplan,59,0)","v":0}]
[null,"   Hauptleistung ",null,{"$f":"IF(VLOOKUP($B$2,Ackerbauplan,61,0)=\"\",\"\",VLOOKUP($B$2,Ackerbauplan,61,0))","v":""},null,"Saatgut ",null,{"$f":"G11","v":0},"€/ha","Marktleistung -"]
[null,null,"+ Nebenleistung ",{"$f":"IF($B$2=\"\",\"\",VLOOKUP($B$2,Anbauplan,62,0))","v":0},null,"Dünger ",null,{"$f":"SUM(G14:G28)","v":0},"€/ha","Saatgut, Dünger, PSM"]
[null,null,"= Marktleistung ",{"$f":"IF(D57=\"\",\"\",D58+D57)","v":""},null,"Pflanzenschutz ",null,{"$f":"G54","v":0},"€/ha",{"$f":"IF(D59=\"\",\"\",D59-H57-H58-H59)","v":""},null,null,"€/ha"]
[null,{"$f":"IF($B$2=\"\",\"\",VLOOKUP($B$2,Anbauplan,2,0))","v":0}]
[null,"Bearbeitung","Maschine 1",null,"Maschine 2",null,"Maschine 3",null,"Datum",null,"Bemerkung"]

{"sheet":"A9","index":18,"n_rows":61,"n_cols":30,"rows_kept":61,"cut":false,"hidden":false,"merged":[[13,27,13,28],[13,29,16,30],[6,7,6,12],[7,7,7,8],[8,7,8,8],[7,9,7,10],[8,9,8,10],[10,8,10,12],[73,2,73,3],[73,4,73,5],[73,6,73,7],[73,8,73,9],[73,10,73,12],[69,2,69,3],[69,4,69,5],[69,6,69,7],[69,8,69,9],[69,10,69,12],[70,2,70,3],[70,4,70,5],[70,6,70,7],[70,8,70,9],[70,10,70,12],[67,2,67,3],[67,4,67,5],[67,6,67,7],[74,2,74,3],[74,4,74,5],[74,6,74,7],[74,8,74,9],[74,10,74,12],[71,2,71,3],[71,4,71,5],[71,6,71,7],[71,8,71,9],[71,10,71,12],[72,2,72,3],[72,4,72,5],[72,6,72,7],[72,8,72,9],[72,10,72,12],[67,8,67,9],[67,10,67,12],[68,2,68,3],[68,4,68,5],[68,6,68,7],[68,8,68,9],[68,10,68,12],[65,2,65,3],[65,4,65,5],[65,6,65,7],[65,8,65,9],[65,10,65,12],[66,2,66,3],[66,4,66,5],[66,6,66,7],[66,8,66,9],[66,10,66,12],[63,2,63,3],[63,4,63,5],[63,6,63,7],[63,8,63,9],[63,10,63,12],[64,2,64,3],[64,4,64,5],[64,6,64,7],[64,8,64,9],[64,10,64,12],[61,2,61,3],[61,4,61,5],[61,6,61,7],[61,8,61,9],[61,10,61,12],[62,2,62,3],[62,4,62,5],[62,6,62,7],[62,8,62,9],[62,10,62,12],[58,3,58,4],[58,5,58,6],[58,9,58,11],[59,1,59,12],[60,2,60,3],[60,4,60,5],[60,6,60,7],[60,8,60,9],[60,10,60,12],[56,1,56,2],[56,3,56,4],[56,5,56,6],[56,9,56,12],[57,3,57,4],[57,5,57,6],[57,9,57,12],[52,7,52,9],[52,10,52,12],[53,1,53,5],[53,7,53,12],[54,1,54,6],[55,1,55,2],[55,3,55,4],[55,6,55,8],[55,9,55,10],[55,11,55,12],[49,7,49,9],[49,10,49,12],[50,7,50,9],[50,10,50,12],[51,7,51,9],[51,10,51,12],[46,7,46,9],[46,10,46,12],[47,7,47,9],[47,10,47,12],[48,7,48,9],[48,10,48,12],[43,7,43,9],[43,10,43,12],[44,7,44,9],[44,10,44,12],[45,7,45,9],[45,10,45,12],[40,7,40,9],[40,10,40,12],[41,7,41,9],[41,10,41,12],[42,7,42,9],[42,10,42,12],[37,7,37,9],[37,10,37,12],[38,7,38,9],[38,10,38,12],[39,7,39,9],[39,10,39,12],[34,7,34,9],[34,10,34,12],[35,7,35,9],[35,10,35,12],[36,7,36,9],[36,10,36,12],[31,7,31,9],[31,10,31,12],[32,7,32,9],[32,10,32,12],[32,16,32,20],[33,7,33,9],[33,10,33,12],[29,1,29,6],[29,7,29,8],[29,9,29,10],[30,0,30,1],[30,7,30,9],[30,10,30,12],[23,9,23,10],[24,9,24,10],[25,9,25,10],[26,9,26,10],[27,9,27,10],[28,1,28,6],[28,7,28,8],[28,9,28,10],[17,16,17,20],[18,9,18,10],[19,9,19,10],[20,9,20,10],[21,9,21,10],[22,9,22,10],[14,9,14,10],[15,9,15,10],[16,9,16,10],[17,9,17,10],[10,1,10,2],[9,7,9,12],[11,1,11,2],[11,4,11,6],[11,7,11,8],[11,9,11,10],[11,25,12,25],[33,22,33,23],[34,22,34,23],[0,1,0,12],[1,2,1,3],[1,4,1,6],[1,7,1,9],[1,10,1,12],[2,2,2,3],[2,4,2,6],[2,7,2,9],[2,10,2,12],[5,7,5,10],[5,11,5,12],[3,2,3,3],[3,4,3,6],[3,7,3,10],[3,11,3,12],[4,2,4,3],[4,4,4,6],[4,7,4,9],[4,10,4,12],[12,9,12,10],[13,9,13,10]]}
[null,"Ackerland"]
[null,9,"Name:",null,{"$f":"IF(B2=\"\",\"\",VLOOKUP(B2,Anbauplan,2,0))","v":0},null,null,"Jahr:",null,null,{"$f":"IF(Einführung!I8=\"\",\"\",Einführung!I8)","v":""},null,null,{"$f":"IF(OR(B4=\"\",H12=\"\"),\"\",H12*B4)","v":0},"DB kg * Fläche"]
[null,"Hektar ","Hauptfrucht ",null,{"$f":"IF(B2=\"\",\"\",VLOOKUP(B2,Ackerbauplan,4,0))","v":0},null,null,"Nitratkulisse",null,null,{"$f":"IF(B2=\"\",\"\",VLOOKUP(B2,Ackerbauplan,20,0))","v":0},null,null,{"$f":"L4","v":""},"kg/ha org. Dünger für Kontrollgrenze"]
[null,{"$f":"IF(B2=\"\",\"\",VLOOKUP(B2,Ackerbauplan,3,0))","v":0},"Vorfrucht",null,{"$f":"IF(B2=\"\",\"\",VLOOKUP(B2,Ackerbauplan,9,0))","v":0},null,null,"Wirtschaftsdünger zur Berechung\ndes 130 kg N/ha Anteils in kg/ha",null,null,null,{"$f":"IF(K3=\"ja\",W29,\"\")","v":""},null,{"$f":"IF(N3=\"\",\"\",N3*B4)","v":""},"kg Gesamtschlag org Dünger für 170 Kontrollgrenze",null,null,"Gesamt N","NH4-N","P2O5 mineral.","P2O5 organisch"]
[null,"Sorte","VorVorfrucht",null,null,null,null,"Phosphatkulisse",null,null,{"$f":"IF(B2=\"\",\"\",VLOOKUP(B2,Ackerbauplan,21,0))","v":0},null,null,{"$f":"IF(H12=\"\",\"\",IF(K3=\"ja\",N2*0.8,\"\"))","v":""},"Nitrat belastetes Gebiet Düngebedarf Gesamtschlag kg N/ha",null,"N Gesamt minerl.",{"$f":"SUMIF($N$14:$N$28,\"mineralisch\",$H$14:$H$28)*B4","v":0}]
[null,{"$f":"IF(B2=\"\",\"\",VLOOKUP(B2,Ackerbauplan,8,0))","v":0},null,null,null,null,null,"sonstige Auflagen",null,null,null,null,null,{"$f":"IF(K3=\"ja\",X30+Y30,\"\")","v":""},"org +min .anrechenbare N Menge Gesamtschlag  kg N/ha",null,"NH4-N minerlisch",null,{"$f":"SUMIF($N$14:$N$28,\"mineralisch\",$I$14:$I$28)*B4","v":0}]
[null,"Aussaatdatum","Kö./m² ",{"$f":"IF(B2=\"\",\"\",VLOOKUP(B2,Ackerbauplan,52,0))","v":0},null,"Eigen","Zukauf","Versorgungsstufen",null,null,null,null,null,{"$f":"IF(K3=\"ja\",J12*B4,\"\")","v":""},null,null,"N Gesamt organsich",{"$f":"SUMIF($N$14:$N$28,\"organisch\",$H$14:$H$28)*B4","v":0}]
[null,{"$f":"IF(B2=\"0\",\"\",VLOOKUP(B2,Ackerbauplan,51,0))","v":"00:00:00"},"x TKG ",{"$f":"IF(B2=\"\",\"\",VLOOKUP(B2,Ackerbauplan,53,0))","v":0},"dt/ha ",null,null,"Nmin",null,"P2O5",null,"K2O","MgO",null,null,null,"NH4-N organsich",null,{"$f":"SUMIF($N$14:$N$28,\"organisch\",I14:I28)*B4","v":0}]
[null,"Beize","/Kei.fäh.",{"$f":"IF(B2=\"\",\"\",VLOOKUP(B2,Ackerbauplan,54,0))","v":0},"€/dt",null,null,{"$f":"IF(B2=\"\",\"\",VLOOKUP(B2,Ackerbauplan,17,0))","v":0},null,{"$f":"IF(B2=\"\",\"\",VLOOKUP(B2,Ackerbauplan,30,0))","v":"C"},null,{"$f":"IF(B2=\"\",\"\",VLOOKUP(B2,Ackerbauplan,31,0))","v":"C"},{"$f":"IF(B2=\"\",\"\",VLOOKUP(B2,Ackerbauplan,32,0))","v":"C"},null,null,null,"P2O5 mineralisch",null,null,{"$f":"SUMIF($N$14:$N$28,\"mineralisch\",$J$14:$J$28)*B4","v":0}]
[null,null,"= kg/ha",{"$f":"IF(B2=\"\",\"\",VLOOKUP(B2,Ackerbauplan,55,0))","v":""},"€/ha ",{"$f":"F8*F9","v":0},{"$f":"G8*G9","v":0},"Düngebedarf kg/ha (Blatt Ackerfläche)",null,null,null,null,null,null,"Düngebedarf um 20% reduziert",null,"P2O5 organisch",null,null,null,{"$f":"SUMIF($N$14:$N$28,\"organisch\",$J$14:$J$28)*B4","v":0},null,null,null,null,null,null,{"$f":"IF(K3=\"ja\",\"Noch nicht ausgeschöpfter Stickstoff Düngebedarf aller Flächen\",\"\")","v":""}]
[null,"Saatgutkennnummer",null,null,null,"Summe",{"$f":"F10+G10","v":0},{"$f":"IF(H12=\"\",\"\",IF(K3=\"ja\",H12*0.8,\"\"))","v":""},{"$f":"IF(K3=\"ja\",O10,\"\")","v":""},null,null,null,null,null,null,null,"Sonstige organische Düngemittel",{"$f":"SUMIF($N$14:$N$28,Q11,$H$14:$H$28)*B4","v":0},{"$f":"SUMIF($N$14:$N$28,Q11,$I$14:$I$28)*B4","v":0},{"$f":"SUMIF($N$14:$N$28,Q11,$J$14:$J$28)*B4","v":0},null,null,null,null,null,null,null,{"$f":"IF(K3=\"ja\",'Zus. Anlage 5 DüV'!D43,\"\")","v":""},{"$f":"IF(K3=\"ja\",\"kg N Gesamtfläche\",\"\")","v":""}]
[null,null,null,null,"N Bedarf DÜV kg/ha",null,null,{"$f":"IF(B2=\"\",\"\",VLOOKUP(B2,Ackerbauplan,18,0))","v":"0"},null,{"$f":"IF(B2=\"\",\"\",VLOOKUP(B2,Ackerbauplan,37,0))","v":"0"},null,{"$f":"IF(B2=\"\",\"\",VLOOKUP(B2,Ackerbauplan,38,0))","v":"0"},null,null,null,null,"Bodenhilfsstoffe",{"$f":"SUMIF($N$14:$N$28,Q12,$H$14:$H$28)*B4","v":0},null,{"$f":"SUMIF($N$14:$N$28,Q12,$J$14:$J$28)*B4","v":0},null,"Anrechnung","Anrechnung ","Prüfung NH4","mineral","Kontroll\nSumme"]
[null,"Dünger","Datum","EC","m³o.dt/ha","€/dt","€/ha","Ges.-N","NH4-N","P2O5",null,"K2O","S",null,null,null,"Kultursubstrate",{"$f":"SUMIF($N$14:$N$28,Q13,$H$14:$H$28)*B4","v":0},null,{"$f":"SUMIF($N$14:$N$28,Q13,$J$14:$J$28)*B4","v":0},null,"aktuelles Jahr","170 kg GW"," oder Anlage3","Stickstoff"]
[null,null,null,null,null,{"$f":"IF(B14=\"\",\"\",VLOOKUP(B14,Düngemiteldaten,2,0))","v":""},{"$f":"IF(B14=\"\",\"\",E14*F14)","v":""},{"$f":"IF(B14=\"\",\"\",VLOOKUP(B14,Düngemiteldaten,4,0)*E14)","v":""},{"$f":"IF(B14=\"\",\"\",VLOOKUP(B14,Düngemiteldaten,5,0)*E14)","v":""},{"$f":"IF(B14=\"\",\"\",VLOOKUP(B14,Düngemiteldaten,7,0)*E14)","v":""},null,{"$f":"IF(B14=\"\",\"\",VLOOKUP(B14,Düngemiteldaten,8,0)*E14)","v":""},{"$f":"IF(B14=\"\",\"\",VLOOKUP(B14,Düngemiteldaten,10,0)*E14)","v":""},{"$f":"IF(B14=\"\",\"\",VLOOKUP(B14,Düngemiteldaten,20,0))","v":""},null,null,"Pflanzenhilfsmittel",{"$f":"SUMIF($N$14:$N$28,Q14,$H$14:$H$28)*B4","v":0},null,{"$f":"SUMIF($N$14:$N$28,Q14,$J$14:$J$28)*B4","v":0},null,{"$f":"IF(OR(B14=\"\",N14=\"\"),\"\",IF(N14=\"mineralisch\",\"\",VLOOKUP(B14,Düngemiteldaten,17,0)*VLOOKUP(B14,Düngemiteldaten,4,0)*E14))","v":""},{"$f":"IF(N14=\"organisch\",VLOOKUP(B14,Düngemiteldaten,4,0)*E14*VLOOKUP(B14,Düngemiteldaten,19,0),\"\")","v":""},{"$f":"IF(B14=\"\",\"\",IF(V14<I14,I14,V14))","v":""},{"$f":"IF(B14=\"\",\"\",IF(N14=\"organisch\",0,H14))","v":""},{"$f":"IF(SUM(V14:Y14)=0,\"\",SUM(X14:Y14))","v":""},null,{"$f":"IF(K3=\"ja\",\"Summe Gesamtstickstoff\",\"\")","v":""},null,{"$f":"IF(K3=\"ja\",\"Anteil § 13a Prüfung \n160 kg N/ha Gesamt\n80 kg N/ha mineralisch\",\"\")","v":""}]
[null,null,null,null,null,"",{"$f":"IF(B15=\"\",\"\",E15*F15)","v":""},"","","",null,"","","",null,null,"Abfälle zur Beseitigung (§ 28 Absatz 2 odeS 3 KSWG)",{"$f":"SUMIF($N$14:$N$28,Q15,$H$14:$H$28)*B4","v":0},null,{"$f":"SUMIF($N$14:$N$28,Q15,$J$14:$J$28)*B4","v":0},null,"","",{"$f":"IF(B15=\"\",\"\",IF(V15<I15,I15,V15))","v":""},{"$f":"IF(B15=\"\",\"\",IF(N15=\"organisch\",0,H15))","v":""},{"$f":"IF(SUM(V15:Y15)=0,\"\",SUM(X15:Y15))","v":""},null,{"$f":"IF(L4=\"\",\"\",SUMIF($N$14:$N$28,\"mineralisch\",$H$14:$H$28))","v":""},{"$f":"IF(K3=\"ja\",\"mineralisch N kg/ha\",\"\")","v":""}]
[null,null,null,null,null,"","","","","",null,"","","",null,null,null,null,null,null,null,"","","","","",null,{"$f":"IF(L4=\"\",\"\",SUMIF($N$14:$N$28,\"organisch\",$H$14:$H$28)+SUMIF($N$14:$N$28,Q11,$H$14:$H$28))","v":""},{"$f":"IF(K3=\"ja\",\"organisch N kg/ha\",\"\")","v":""}]
[null,null,null,null,null,"","","","","",null,"","","",null,null,null,null,null,null,null,{"$f":"IF(OR(B17=\"\",N17=\"\"),\"\",IF(N17=\"mineralisch\",\"\",VLOOKUP(B17,Düngemiteldaten,17,0)*VLOOKUP(B17,Düngemiteldaten,4,0)*E17))","v":""},"","","","",null,{"$f":"IF(K3=\"ja\",(AB16+AB15),\"\")","v":""},{"$f":"IF(K3=\"ja\",\"Gesamt kg N/ha\",\"\")","v":""}]
[null,null,null,null,null,"","","","","",null,"","","",null,null,"Nährstoffherkunft auf gefährdeten Flächen §13",null,null,null,null,"","","","",""]
[null,null,null,null,null,"","","","","",null,"","","",null,null,null,"Gesamt N","NH4-N","P2O5 mineral.","P2O5 organisch","","","","",""]
[null,null,null,null,null,"","","","","",null,"","","",null,null,"N Gesamt minerl.",{"$f":"IF(K3=\"ja\",SUMIF($N$14:$N$28,\"mineralisch\",$H$14:$H$28),0)*B4","v":0},null,null,null,"","","","",""]
[null,null,null,null,null,"","","","","",null,"","","",null,null,"NH4-N minerlisch",null,{"$f":"IF(K3=\"ja\",SUMIF($N$14:$N$28,\"mineralisch\",$I$14:$I$28),0)*B4","v":0},null,null,"","","","",""]
[null,null,null,null,null,"","","","","",null,"","","",null,null,"N Gesamt organsich",{"$f":"IF(K3=\"ja\",SUMIF($N$14:$N$28,\"organisch\",$H$14:$H$28),0)*B4","v":0},null,null,null,"","","","",""]
[null,null,null,null,null,"","","","","",null,"","","",null,null,"NH4-N organsich",null,{"$f":"IF(K3=\"ja\",SUMIF($N$14:$N$28,\"organisch\",$I$14:$I$28),0)*B4","v":0},null,null,"","","","",""]
[null,null,null,null,null,"","","","","",null,"","","",null,null,"P2O5 mineralisch",null,null,{"$f":"IF(K3=\"ja\",SUMIF($N$14:$N$28,\"mineralisch\",$J$14:$J$28),0)*B4","v":0},null,"","","","",""]
[null,null,null,null,null,"","","","","",null,"","","",null,null,"P2O5 organisch",null,null,null,{"$f":"IF(K3=\"ja\",SUMIF($N$14:$N$28,\"organisch\",$J$14:$J$28),0)*B4","v":0},"","","","",""]
[null,null,null,null,null,"","","","","",null,"","","",null,null,"Sonstige organische Düngemittel",{"$f":"IF(K3=\"ja\",SUMIF($N$14:$N$28,Q26,$H$14:$H$28),0)*B4","v":0},{"$f":"IF(K3=\"ja\",SUMIF($N$14:$N$28,Q26,$I$14:$I$28),0)*B4","v":0},{"$f":"IF(K3=\"ja\",SUMIF($N$14:$N$28,Q26,$J$14:$J$28),0)*B4","v":0},null,"","","","",""]
[null,null,null,null,null,"","","","","",null,"","","",null,null,"Bodenhilfsstoffe",{"$f":"IF(K3=\"ja\",SUMIF($N$14:$N$28,Q27,$H$14:$H$28),0)*B4","v":0},null,{"$f":"IF(K3=\"ja\",SUMIF($N$14:$N$28,Q27,$J$14:$J$28),0)*B4","v":0},null,"","","","",""]
[null,null,null,null,null,"","","","","",null,"","","",null,null,"Kultursubstrate",{"$f":"IF(K3=\"ja\",SUMIF($N$14:$N$28,Q28,$H$14:$H$28),0)*B4","v":0},null,{"$f":"IF(K3=\"ja\",SUMIF($N$14:$N$28,Q28,$J$14:$J$28),0)*B4","v":0},null,"","","","",""]
[null,"anrechenbarer N aus org.Dgg. + min. Dgg. kg N/ha",null,null,null,null,null,{"$f":"X29+Y29","v":0},null,{"$f":"SUM(J14:J28)","v":0},null,{"$f":"SUM(L14:L28)","v":0},{"$f":"SUM(M14:M28)","v":0},null,null,null,"Pflanzenhilfsmittel",{"$f":"IF(K3=\"ja\",SUMIF($N$14:$N$28,Q29,$H$14:$H$28),0)*B4","v":0},null,{"$f":"IF(K3=\"ja\",SUMIF($N$14:$N$28,Q29,$J$14:$J$28),0)*B4","v":0},null,{"$f":"SUM(V14:V28)","v":0},{"$f":"SUM(W14:W28)","v":0},{"$f":"SUM(X14:X28)","v":0},{"$f":"SUM(Y14:Y28)","v":0},"kg/ha"]
[null,{"$f":"IF(K3=\"0\",O31,O30)","v":"Bilanz (anrechenbarer Dgg.- reduzierter Düngebedarf) kg N/ha"},null,null,null,null,null,{"$f":"IF(H12=\"\",0,IF(OR(K3=0,K3=\"nein\"),H29-H12,H29-H11))","v":0},null,{"$f":"IF(J12=\"\",\"\",J29-J12)","v":0},null,{"$f":"IF(L12=\"\",\"\",L29-L12)","v":0},{"$f":"IF(M12=\"\",\"\",M29-M12)","v":""},null,"Bilanz (anrechenbarer Dgg.- reduzierter Düngebedarf) kg N/ha",null,"Abfälle zur Beseitigung (§ 28 Absatz 2 odeS 3 KSWG)",{"$f":"IF(K3=\"ja\",SUMIF($N$14:$N$28,Q30,$H$14:$H$28),0)*B4","v":0},null,{"$f":"IF(K3=\"ja\",SUMIF($N$14:$N$28,Q30,$J$14:$J$28),0)*B4","v":0},null,{"$f":"V29*B4","v":0},{"$f":"W29*B4","v":0},{"$f":"X29*B4","v":0},{"$f":"Y29*B4","v":0},"kg/Schlag",null,{"$f":"IF(H30>0,\"Stickstoffmenge überschreitet den Düngebedarf\",\"\")","v":""}]
["Pflanzenschutzmittel",null,"Datum","EC","E./ha","€/E.","€/ha","Anwender",null,null,"Bemerkungen",null,null,null,"Bilanz (anrechenbarer Dgg.- Düngebedarf) kg N/ha"]
[null,null,null,null,null,{"$f":"IF($B32=\"\",\"\",VLOOKUP($B32,PSMMittel,2,0))","v":""},{"$f":"IF(B32=\"\",\"\",E32*F32)","v":""}]
[null,null,null,null,null,"",{"$f":"IF(B33=\"\",\"\",E33*F33)","v":""},null,null,null,null,null,null,null,null,null,"Stickstoffherkunft nicht gefährdetes Gebiet Gesamtfläche"]
[null,null,null,null,null,"","",null,null,null,null,null,null,null,null,null,null,"Gesamt N","NH4-N","P2O5 mineral.","P2O5 organisch",null,"N Fixierung kg N/ha"]
[null,null,null,null,null,"","",null,null,null,null,null,null,null,null,null,"N Gesamt minerl.",{"$f":"R5-R20","v":0},null,null,null,null,{"$f":"IF(E3=0,\"\",VLOOKUP(E3,AckerbauKulturen,26,0)*G56*B4)","v":""}]
[null,null,null,null,null,"","",null,null,null,null,null,null,null,null,null,"NH4-N minerlisch",null,{"$f":"S6-S21","v":0}]
[null,null,null,null,null,"","",null,null,null,null,null,null,null,null,null,"N Gesamt organsich",{"$f":"R7-R22","v":0}]
[null,null,null,null,null,"","",null,null,null,null,null,null,null,null,null,"NH4-N organsich",null,{"$f":"S8-S23","v":0}]
[null,null,null,null,null,"","",null,null,null,null,null,null,null,null,null,"P2O5 mineralisch",null,null,{"$f":"T9-T24","v":0}]
[null,null,null,null,null,"","",null,null,null,null,null,null,null,null,null,"P2O5 organisch",null,null,null,{"$f":"U10-U25","v":0}]
[null,null,null,null,null,"","",null,null,null,null,null,null,null,null,null,"Sonstige organische Düngemittel",{"$f":"R11-R26","v":0},{"$f":"S11-S26","v":0},{"$f":"T11-T26","v":0}]
[null,null,null,null,null,"","",null,null,null,null,null,null,null,null,null,"Bodenhilfsstoffe",{"$f":"R12-R27","v":0},null,{"$f":"T12-T27","v":0}]
[null,null,null,null,null,"","",null,null,null,null,null,null,null,null,null,"Kultursubstrate",{"$f":"R13-R28","v":0},null,{"$f":"T13-T28","v":0}]
[null,null,null,null,null,"","",null,null,null,null,null,null,null,null,null,"Pflanzenhilfsmittel",{"$f":"R14-R29","v":0},null,{"$f":"T14-T29","v":0}]
[null,null,null,null,null,"","",null,null,null,null,null,null,null,null,null,"Abfälle zur Beseitigung (§ 28 Absatz 2 odeS 3 KSWG)",{"$f":"R15-R30","v":0},null,{"$f":"T15-T30","v":0}]
[null,null,null,null,null,"",""]
[null,null,null,null,null,"",""]
[null,null,null,null,null,"",""]
[null,null,null,null,null,"",""]
[null,null,null,null,null,"",""]
[null,null,null,null,null,"",""]
[null,null,null,null,null,"",""]
[null,null,null,null,null,"",""]
[null,"Summe",null,null,null,null,{"$f":"SUM(G32:G53)","v":0}]
[]
[null,"Erntedatum:",null,{"$f":"IF(VLOOKUP($B$2,Ackerbauplan,58,0)=\"\",\"\",VLOOKUP($B$2,Ackerbauplan,58,0))","v":""},null,"dt/ha",{"$f":"VLOOKUP($B$2,Ackerbauplan,60,0)","v":0},null,null,"€/dt",null,{"$f":"VLOOKUP($B$2,Ackerbauplan,59,0)","v":0}]
[null,"   Hauptleistung ",null,{"$f":"IF(VLOOKUP($B$2,Ackerbauplan,61,0)=\"\",\"\",VLOOKUP($B$2,Ackerbauplan,61,0))","v":""},null,"Saatgut ",null,{"$f":"G11","v":0},"€/ha","Marktleistung -"]
[null,null,"+ Nebenleistung ",{"$f":"IF($B$2=\"\",\"\",VLOOKUP($B$2,Anbauplan,62,0))","v":0},null,"Dünger ",null,{"$f":"SUM(G14:G28)","v":0},"€/ha","Saatgut, Dünger, PSM"]
[null,null,"= Marktleistung ",{"$f":"IF(D57=\"\",\"\",D58+D57)","v":""},null,"Pflanzenschutz ",null,{"$f":"G54","v":0},"€/ha",{"$f":"IF(D59=\"\",\"\",D59-H57-H58-H59)","v":""},null,null,"€/ha"]
[null,{"$f":"IF($B$2=\"\",\"\",VLOOKUP($B$2,Anbauplan,2,0))","v":0}]
[null,"Bearbeitung","Maschine 1",null,"Maschine 2",null,"Maschine 3",null,"Datum",null,"Bemerkung"]

{"sheet":"A10","index":19,"n_rows":61,"n_cols":30,"rows_kept":61,"cut":false,"hidden":false,"merged":[[13,27,13,28],[13,29,16,30],[6,7,6,12],[7,7,7,8],[8,7,8,8],[7,9,7,10],[8,9,8,10],[10,8,10,12],[73,2,73,3],[73,4,73,5],[73,6,73,7],[73,8,73,9],[73,10,73,12],[69,2,69,3],[69,4,69,5],[69,6,69,7],[69,8,69,9],[69,10,69,12],[70,2,70,3],[70,4,70,5],[70,6,70,7],[70,8,70,9],[70,10,70,12],[67,2,67,3],[67,4,67,5],[67,6,67,7],[74,2,74,3],[74,4,74,5],[74,6,74,7],[74,8,74,9],[74,10,74,12],[71,2,71,3],[71,4,71,5],[71,6,71,7],[71,8,71,9],[71,10,71,12],[72,2,72,3],[72,4,72,5],[72,6,72,7],[72,8,72,9],[72,10,72,12],[67,8,67,9],[67,10,67,12],[68,2,68,3],[68,4,68,5],[68,6,68,7],[68,8,68,9],[68,10,68,12],[65,2,65,3],[65,4,65,5],[65,6,65,7],[65,8,65,9],[65,10,65,12],[66,2,66,3],[66,4,66,5],[66,6,66,7],[66,8,66,9],[66,10,66,12],[63,2,63,3],[63,4,63,5],[63,6,63,7],[63,8,63,9],[63,10,63,12],[64,2,64,3],[64,4,64,5],[64,6,64,7],[64,8,64,9],[64,10,64,12],[61,2,61,3],[61,4,61,5],[61,6,61,7],[61,8,61,9],[61,10,61,12],[62,2,62,3],[62,4,62,5],[62,6,62,7],[62,8,62,9],[62,10,62,12],[58,3,58,4],[58,5,58,6],[58,9,58,11],[59,1,59,12],[60,2,60,3],[60,4,60,5],[60,6,60,7],[60,8,60,9],[60,10,60,12],[56,1,56,2],[56,3,56,4],[56,5,56,6],[56,9,56,12],[57,3,57,4],[57,5,57,6],[57,9,57,12],[52,7,52,9],[52,10,52,12],[53,1,53,5],[53,7,53,12],[54,1,54,6],[55,1,55,2],[55,3,55,4],[55,6,55,8],[55,9,55,10],[55,11,55,12],[49,7,49,9],[49,10,49,12],[50,7,50,9],[50,10,50,12],[51,7,51,9],[51,10,51,12],[46,7,46,9],[46,10,46,12],[47,7,47,9],[47,10,47,12],[48,7,48,9],[48,10,48,12],[43,7,43,9],[43,10,43,12],[44,7,44,9],[44,10,44,12],[45,7,45,9],[45,10,45,12],[40,7,40,9],[40,10,40,12],[41,7,41,9],[41,10,41,12],[42,7,42,9],[42,10,42,12],[37,7,37,9],[37,10,37,12],[38,7,38,9],[38,10,38,12],[39,7,39,9],[39,10,39,12],[34,7,34,9],[34,10,34,12],[35,7,35,9],[35,10,35,12],[36,7,36,9],[36,10,36,12],[31,7,31,9],[31,10,31,12],[32,7,32,9],[32,10,32,12],[32,16,32,20],[33,7,33,9],[33,10,33,12],[29,1,29,6],[29,7,29,8],[29,9,29,10],[30,0,30,1],[30,7,30,9],[30,10,30,12],[23,9,23,10],[24,9,24,10],[25,9,25,10],[26,9,26,10],[27,9,27,10],[28,1,28,6],[28,7,28,8],[28,9,28,10],[17,16,17,20],[18,9,18,10],[19,9,19,10],[20,9,20,10],[21,9,21,10],[22,9,22,10],[14,9,14,10],[15,9,15,10],[16,9,16,10],[17,9,17,10],[10,1,10,2],[9,7,9,12],[11,1,11,2],[11,4,11,6],[11,7,11,8],[11,9,11,10],[11,25,12,25],[33,22,33,23],[34,22,34,23],[0,1,0,12],[1,2,1,3],[1,4,1,6],[1,7,1,9],[1,10,1,12],[2,2,2,3],[2,4,2,6],[2,7,2,9],[2,10,2,12],[5,7,5,10],[5,11,5,12],[3,2,3,3],[3,4,3,6],[3,7,3,10],[3,11,3,12],[4,2,4,3],[4,4,4,6],[4,7,4,9],[4,10,4,12],[12,9,12,10],[13,9,13,10]]}
[null,"Ackerland"]
[null,10,"Name:",null,{"$f":"IF(B2=\"\",\"\",VLOOKUP(B2,Anbauplan,2,0))","v":0},null,null,"Jahr:",null,null,{"$f":"IF(Einführung!I8=\"\",\"\",Einführung!I8)","v":""},null,null,{"$f":"IF(OR(B4=\"\",H12=\"\"),\"\",H12*B4)","v":0},"DB kg * Fläche"]
[null,"Hektar ","Hauptfrucht ",null,{"$f":"IF(B2=\"\",\"\",VLOOKUP(B2,Ackerbauplan,4,0))","v":0},null,null,"Nitratkulisse",null,null,{"$f":"IF(B2=\"\",\"\",VLOOKUP(B2,Ackerbauplan,20,0))","v":0},null,null,{"$f":"L4","v":""},"kg/ha org. Dünger für Kontrollgrenze"]
[null,{"$f":"IF(B2=\"\",\"\",VLOOKUP(B2,Ackerbauplan,3,0))","v":0},"Vorfrucht",null,{"$f":"IF(B2=\"\",\"\",VLOOKUP(B2,Ackerbauplan,9,0))","v":0},null,null,"Wirtschaftsdünger zur Berechung\ndes 130 kg N/ha Anteils in kg/ha",null,null,null,{"$f":"IF(K3=\"ja\",W29,\"\")","v":""},null,{"$f":"IF(N3=\"\",\"\",N3*B4)","v":""},"kg Gesamtschlag org Dünger für 170 Kontrollgrenze",null,null,"Gesamt N","NH4-N","P2O5 mineral.","P2O5 organisch"]
[null,"Sorte","VorVorfrucht",null,null,null,null,"Phosphatkulisse",null,null,{"$f":"IF(B2=\"\",\"\",VLOOKUP(B2,Ackerbauplan,21,0))","v":0},null,null,{"$f":"IF(H12=\"\",\"\",IF(K3=\"ja\",N2*0.8,\"\"))","v":""},"Nitrat belastetes Gebiet Düngebedarf Gesamtschlag kg N/ha",null,"N Gesamt minerl.",{"$f":"SUMIF($N$14:$N$28,\"mineralisch\",$H$14:$H$28)*B4","v":0}]
[null,{"$f":"IF(B2=\"\",\"\",VLOOKUP(B2,Ackerbauplan,8,0))","v":0},null,null,null,null,null,"sonstige Auflagen",null,null,null,null,null,{"$f":"IF(K3=\"ja\",X30+Y30,\"\")","v":""},"org +min .anrechenbare N Menge Gesamtschlag  kg N/ha",null,"NH4-N minerlisch",null,{"$f":"SUMIF($N$14:$N$28,\"mineralisch\",$I$14:$I$28)*B4","v":0}]
[null,"Aussaatdatum","Kö./m² ",{"$f":"IF(B2=\"\",\"\",VLOOKUP(B2,Ackerbauplan,52,0))","v":0},null,"Eigen","Zukauf","Versorgungsstufen",null,null,null,null,null,{"$f":"IF(K3=\"ja\",J12*B4,\"\")","v":""},null,null,"N Gesamt organsich",{"$f":"SUMIF($N$14:$N$28,\"organisch\",$H$14:$H$28)*B4","v":0}]
[null,{"$f":"IF(B2=\"0\",\"\",VLOOKUP(B2,Ackerbauplan,51,0))","v":"00:00:00"},"x TKG ",{"$f":"IF(B2=\"\",\"\",VLOOKUP(B2,Ackerbauplan,53,0))","v":0},"dt/ha ",null,null,"Nmin",null,"P2O5",null,"K2O","MgO",null,null,null,"NH4-N organsich",null,{"$f":"SUMIF($N$14:$N$28,\"organisch\",I14:I28)*B4","v":0}]
[null,"Beize","/Kei.fäh.",{"$f":"IF(B2=\"\",\"\",VLOOKUP(B2,Ackerbauplan,54,0))","v":0},"€/dt",null,null,{"$f":"IF(B2=\"\",\"\",VLOOKUP(B2,Ackerbauplan,17,0))","v":0},null,{"$f":"IF(B2=\"\",\"\",VLOOKUP(B2,Ackerbauplan,30,0))","v":"C"},null,{"$f":"IF(B2=\"\",\"\",VLOOKUP(B2,Ackerbauplan,31,0))","v":"C"},{"$f":"IF(B2=\"\",\"\",VLOOKUP(B2,Ackerbauplan,32,0))","v":"C"},null,null,null,"P2O5 mineralisch",null,null,{"$f":"SUMIF($N$14:$N$28,\"mineralisch\",$J$14:$J$28)*B4","v":0}]
[null,null,"= kg/ha",{"$f":"IF(B2=\"\",\"\",VLOOKUP(B2,Ackerbauplan,55,0))","v":""},"€/ha ",{"$f":"F8*F9","v":0},{"$f":"G8*G9","v":0},"Düngebedarf kg/ha (Blatt Ackerfläche)",null,null,null,null,null,null,"Düngebedarf um 20% reduziert",null,"P2O5 organisch",null,null,null,{"$f":"SUMIF($N$14:$N$28,\"organisch\",$J$14:$J$28)*B4","v":0},null,null,null,null,null,null,{"$f":"IF(K3=\"ja\",\"Noch nicht ausgeschöpfter Stickstoff Düngebedarf aller Flächen\",\"\")","v":""}]
[null,"Saatgutkennnummer",null,null,null,"Summe",{"$f":"F10+G10","v":0},{"$f":"IF(H12=\"\",\"\",IF(K3=\"ja\",H12*0.8,\"\"))","v":""},{"$f":"IF(K3=\"ja\",O10,\"\")","v":""},null,null,null,null,null,null,null,"Sonstige organische Düngemittel",{"$f":"SUMIF($N$14:$N$28,Q11,$H$14:$H$28)*B4","v":0},{"$f":"SUMIF($N$14:$N$28,Q11,$I$14:$I$28)*B4","v":0},{"$f":"SUMIF($N$14:$N$28,Q11,$J$14:$J$28)*B4","v":0},null,null,null,null,null,null,null,{"$f":"IF(K3=\"ja\",'Zus. Anlage 5 DüV'!D43,\"\")","v":""},{"$f":"IF(K3=\"ja\",\"kg N Gesamtfläche\",\"\")","v":""}]
[null,null,null,null,"N Bedarf DÜV kg/ha",null,null,{"$f":"IF(B2=\"\",\"\",VLOOKUP(B2,Ackerbauplan,18,0))","v":"0"},null,{"$f":"IF(B2=\"\",\"\",VLOOKUP(B2,Ackerbauplan,37,0))","v":"0"},null,{"$f":"IF(B2=\"\",\"\",VLOOKUP(B2,Ackerbauplan,38,0))","v":"0"},null,null,null,null,"Bodenhilfsstoffe",{"$f":"SUMIF($N$14:$N$28,Q12,$H$14:$H$28)*B4","v":0},null,{"$f":"SUMIF($N$14:$N$28,Q12,$J$14:$J$28)*B4","v":0},null,"Anrechnung","Anrechnung ","Prüfung NH4","mineral","Kontroll\nSumme"]
[null,"Dünger","Datum","EC","m³o.dt/ha","€/dt","€/ha","Ges.-N","NH4-N","P2O5",null,"K2O","S",null,null,null,"Kultursubstrate",{"$f":"SUMIF($N$14:$N$28,Q13,$H$14:$H$28)*B4","v":0},null,{"$f":"SUMIF($N$14:$N$28,Q13,$J$14:$J$28)*B4","v":0},null,"aktuelles Jahr","170 kg GW"," oder Anlage3","Stickstoff"]
[null,null,null,null,null,{"$f":"IF(B14=\"\",\"\",VLOOKUP(B14,Düngemiteldaten,2,0))","v":""},{"$f":"IF(B14=\"\",\"\",E14*F14)","v":""},{"$f":"IF(B14=\"\",\"\",VLOOKUP(B14,Düngemiteldaten,4,0)*E14)","v":""},{"$f":"IF(B14=\"\",\"\",VLOOKUP(B14,Düngemiteldaten,5,0)*E14)","v":""},{"$f":"IF(B14=\"\",\"\",VLOOKUP(B14,Düngemiteldaten,7,0)*E14)","v":""},null,{"$f":"IF(B14=\"\",\"\",VLOOKUP(B14,Düngemiteldaten,8,0)*E14)","v":""},{"$f":"IF(B14=\"\",\"\",VLOOKUP(B14,Düngemiteldaten,10,0)*E14)","v":""},{"$f":"IF(B14=\"\",\"\",VLOOKUP(B14,Düngemiteldaten,20,0))","v":""},null,null,"Pflanzenhilfsmittel",{"$f":"SUMIF($N$14:$N$28,Q14,$H$14:$H$28)*B4","v":0},null,{"$f":"SUMIF($N$14:$N$28,Q14,$J$14:$J$28)*B4","v":0},null,{"$f":"IF(OR(B14=\"\",N14=\"\"),\"\",IF(N14=\"mineralisch\",\"\",VLOOKUP(B14,Düngemiteldaten,17,0)*VLOOKUP(B14,Düngemiteldaten,4,0)*E14))","v":""},{"$f":"IF(N14=\"organisch\",VLOOKUP(B14,Düngemiteldaten,4,0)*E14*VLOOKUP(B14,Düngemiteldaten,19,0),\"\")","v":""},{"$f":"IF(B14=\"\",\"\",IF(V14<I14,I14,V14))","v":""},{"$f":"IF(B14=\"\",\"\",IF(N14=\"organisch\",0,H14))","v":""},{"$f":"IF(SUM(V14:Y14)=0,\"\",SUM(X14:Y14))","v":""},null,{"$f":"IF(K3=\"ja\",\"Summe Gesamtstickstoff\",\"\")","v":""},null,{"$f":"IF(K3=\"ja\",\"Anteil § 13a Prüfung \n160 kg N/ha Gesamt\n80 kg N/ha mineralisch\",\"\")","v":""}]
[null,null,null,null,null,"",{"$f":"IF(B15=\"\",\"\",E15*F15)","v":""},"","","",null,"","","",null,null,"Abfälle zur Beseitigung (§ 28 Absatz 2 odeS 3 KSWG)",{"$f":"SUMIF($N$14:$N$28,Q15,$H$14:$H$28)*B4","v":0},null,{"$f":"SUMIF($N$14:$N$28,Q15,$J$14:$J$28)*B4","v":0},null,"","",{"$f":"IF(B15=\"\",\"\",IF(V15<I15,I15,V15))","v":""},{"$f":"IF(B15=\"\",\"\",IF(N15=\"organisch\",0,H15))","v":""},{"$f":"IF(SUM(V15:Y15)=0,\"\",SUM(X15:Y15))","v":""},null,{"$f":"IF(L4=\"\",\"\",SUMIF($N$14:$N$28,\"mineralisch\",$H$14:$H$28))","v":""},{"$f":"IF(K3=\"ja\",\"mineralisch N kg/ha\",\"\")","v":""}]
[null,null,null,null,null,"","","","","",null,"","","",null,null,null,null,null,null,null,"","","","","",null,{"$f":"IF(L4=\"\",\"\",SUMIF($N$14:$N$28,\"organisch\",$H$14:$H$28)+SUMIF($N$14:$N$28,Q11,$H$14:$H$28))","v":""},{"$f":"IF(K3=\"ja\",\"organisch N kg/ha\",\"\")","v":""}]
[null,null,null,null,null,"","","","","",null,"","","",null,null,null,null,null,null,null,{"$f":"IF(OR(B17=\"\",N17=\"\"),\"\",IF(N17=\"mineralisch\",\"\",VLOOKUP(B17,Düngemiteldaten,17,0)*VLOOKUP(B17,Düngemiteldaten,4,0)*E17))","v":""},"","","","",null,{"$f":"IF(K3=\"ja\",(AB16+AB15),\"\")","v":""},{"$f":"IF(K3=\"ja\",\"Gesamt kg N/ha\",\"\")","v":""}]
[null,null,null,null,null,"","","","","",null,"","","",null,null,"Nährstoffherkunft auf gefährdeten Flächen §13",null,null,null,null,"","","","",""]
[null,null,null,null,null,"","","","","",null,"","","",null,null,null,"Gesamt N","NH4-N","P2O5 mineral.","P2O5 organisch","","","","",""]
[null,null,null,null,null,"","","","","",null,"","","",null,null,"N Gesamt minerl.",{"$f":"IF(K3=\"ja\",SUMIF($N$14:$N$28,\"mineralisch\",$H$14:$H$28),0)*B4","v":0},null,null,null,"","","","",""]
[null,null,null,null,null,"","","","","",null,"","","",null,null,"NH4-N minerlisch",null,{"$f":"IF(K3=\"ja\",SUMIF($N$14:$N$28,\"mineralisch\",$I$14:$I$28),0)*B4","v":0},null,null,"","","","",""]
[null,null,null,null,null,"","","","","",null,"","","",null,null,"N Gesamt organsich",{"$f":"IF(K3=\"ja\",SUMIF($N$14:$N$28,\"organisch\",$H$14:$H$28),0)*B4","v":0},null,null,null,"","","","",""]
[null,null,null,null,null,"","","","","",null,"","","",null,null,"NH4-N organsich",null,{"$f":"IF(K3=\"ja\",SUMIF($N$14:$N$28,\"organisch\",$I$14:$I$28),0)*B4","v":0},null,null,"","","","",""]
[null,null,null,null,null,"","","","","",null,"","","",null,null,"P2O5 mineralisch",null,null,{"$f":"IF(K3=\"ja\",SUMIF($N$14:$N$28,\"mineralisch\",$J$14:$J$28),0)*B4","v":0},null,"","","","",""]
[null,null,null,null,null,"","","","","",null,"","","",null,null,"P2O5 organisch",null,null,null,{"$f":"IF(K3=\"ja\",SUMIF($N$14:$N$28,\"organisch\",$J$14:$J$28),0)*B4","v":0},"","","","",""]
[null,null,null,null,null,"","","","","",null,"","","",null,null,"Sonstige organische Düngemittel",{"$f":"IF(K3=\"ja\",SUMIF($N$14:$N$28,Q26,$H$14:$H$28),0)*B4","v":0},{"$f":"IF(K3=\"ja\",SUMIF($N$14:$N$28,Q26,$I$14:$I$28),0)*B4","v":0},{"$f":"IF(K3=\"ja\",SUMIF($N$14:$N$28,Q26,$J$14:$J$28),0)*B4","v":0},null,"","","","",""]
[null,null,null,null,null,"","","","","",null,"","","",null,null,"Bodenhilfsstoffe",{"$f":"IF(K3=\"ja\",SUMIF($N$14:$N$28,Q27,$H$14:$H$28),0)*B4","v":0},null,{"$f":"IF(K3=\"ja\",SUMIF($N$14:$N$28,Q27,$J$14:$J$28),0)*B4","v":0},null,"","","","",""]
[null,null,null,null,null,"","","","","",null,"","","",null,null,"Kultursubstrate",{"$f":"IF(K3=\"ja\",SUMIF($N$14:$N$28,Q28,$H$14:$H$28),0)*B4","v":0},null,{"$f":"IF(K3=\"ja\",SUMIF($N$14:$N$28,Q28,$J$14:$J$28),0)*B4","v":0},null,"","","","",""]
[null,"anrechenbarer N aus org.Dgg. + min. Dgg. kg N/ha",null,null,null,null,null,{"$f":"X29+Y29","v":0},null,{"$f":"SUM(J14:J28)","v":0},null,{"$f":"SUM(L14:L28)","v":0},{"$f":"SUM(M14:M28)","v":0},null,null,null,"Pflanzenhilfsmittel",{"$f":"IF(K3=\"ja\",SUMIF($N$14:$N$28,Q29,$H$14:$H$28),0)*B4","v":0},null,{"$f":"IF(K3=\"ja\",SUMIF($N$14:$N$28,Q29,$J$14:$J$28),0)*B4","v":0},null,{"$f":"SUM(V14:V28)","v":0},{"$f":"SUM(W14:W28)","v":0},{"$f":"SUM(X14:X28)","v":0},{"$f":"SUM(Y14:Y28)","v":0},"kg/ha"]
[null,{"$f":"IF(K3=\"0\",O31,O30)","v":"Bilanz (anrechenbarer Dgg.- reduzierter Düngebedarf) kg N/ha"},null,null,null,null,null,{"$f":"IF(H12=\"\",0,IF(OR(K3=0,K3=\"nein\"),H29-H12,H29-H11))","v":0},null,{"$f":"IF(J12=\"\",\"\",J29-J12)","v":0},null,{"$f":"IF(L12=\"\",\"\",L29-L12)","v":0},{"$f":"IF(M12=\"\",\"\",M29-M12)","v":""},null,"Bilanz (anrechenbarer Dgg.- reduzierter Düngebedarf) kg N/ha",null,"Abfälle zur Beseitigung (§ 28 Absatz 2 odeS 3 KSWG)",{"$f":"IF(K3=\"ja\",SUMIF($N$14:$N$28,Q30,$H$14:$H$28),0)*B4","v":0},null,{"$f":"IF(K3=\"ja\",SUMIF($N$14:$N$28,Q30,$J$14:$J$28),0)*B4","v":0},null,{"$f":"V29*B4","v":0},{"$f":"W29*B4","v":0},{"$f":"X29*B4","v":0},{"$f":"Y29*B4","v":0},"kg/Schlag",null,{"$f":"IF(H30>0,\"Stickstoffmenge überschreitet den Düngebedarf\",\"\")","v":""}]
["Pflanzenschutzmittel",null,"Datum","EC","E./ha","€/E.","€/ha","Anwender",null,null,"Bemerkungen",null,null,null,"Bilanz (anrechenbarer Dgg.- Düngebedarf) kg N/ha"]
[null,null,null,null,null,{"$f":"IF($B32=\"\",\"\",VLOOKUP($B32,PSMMittel,2,0))","v":""},{"$f":"IF(B32=\"\",\"\",E32*F32)","v":""}]
[null,null,null,null,null,"",{"$f":"IF(B33=\"\",\"\",E33*F33)","v":""},null,null,null,null,null,null,null,null,null,"Stickstoffherkunft nicht gefährdetes Gebiet Gesamtfläche"]
[null,null,null,null,null,"","",null,null,null,null,null,null,null,null,null,null,"Gesamt N","NH4-N","P2O5 mineral.","P2O5 organisch",null,"N Fixierung kg N/ha"]
[null,null,null,null,null,"","",null,null,null,null,null,null,null,null,null,"N Gesamt minerl.",{"$f":"R5-R20","v":0},null,null,null,null,{"$f":"IF(E3=0,\"\",VLOOKUP(E3,AckerbauKulturen,26,0)*G56*B4)","v":""}]
[null,null,null,null,null,"","",null,null,null,null,null,null,null,null,null,"NH4-N minerlisch",null,{"$f":"S6-S21","v":0}]
[null,null,null,null,null,"","",null,null,null,null,null,null,null,null,null,"N Gesamt organsich",{"$f":"R7-R22","v":0}]
[null,null,null,null,null,"","",null,null,null,null,null,null,null,null,null,"NH4-N organsich",null,{"$f":"S8-S23","v":0}]
[null,null,null,null,null,"","",null,null,null,null,null,null,null,null,null,"P2O5 mineralisch",null,null,{"$f":"T9-T24","v":0}]
[null,null,null,null,null,"","",null,null,null,null,null,null,null,null,null,"P2O5 organisch",null,null,null,{"$f":"U10-U25","v":0}]
[null,null,null,null,null,"","",null,null,null,null,null,null,null,null,null,"Sonstige organische Düngemittel",{"$f":"R11-R26","v":0},{"$f":"S11-S26","v":0},{"$f":"T11-T26","v":0}]
[null,null,null,null,null,"","",null,null,null,null,null,null,null,null,null,"Bodenhilfsstoffe",{"$f":"R12-R27","v":0},null,{"$f":"T12-T27","v":0}]
[null,null,null,null,null,"","",null,null,null,null,null,null,null,null,null,"Kultursubstrate",{"$f":"R13-R28","v":0},null,{"$f":"T13-T28","v":0}]
[null,null,null,null,null,"","",null,null,null,null,null,null,null,null,null,"Pflanzenhilfsmittel",{"$f":"R14-R29","v":0},null,{"$f":"T14-T29","v":0}]
[null,null,null,null,null,"","",null,null,null,null,null,null,null,null,null,"Abfälle zur Beseitigung (§ 28 Absatz 2 odeS 3 KSWG)",{"$f":"R15-R30","v":0},null,{"$f":"T15-T30","v":0}]
[null,null,null,null,null,"",""]
[null,null,null,null,null,"",""]
[null,null,null,null,null,"",""]
[null,null,null,null,null,"",""]
[null,null,null,null,null,"",""]
[null,null,null,null,null,"",""]
[null,null,null,null,null,"",""]
[null,null,null,null,null,"",""]
[null,"Summe",null,null,null,null,{"$f":"SUM(G32:G53)","v":0}]
[]
[null,"Erntedatum:",null,{"$f":"IF(VLOOKUP($B$2,Ackerbauplan,58,0)=\"\",\"\",VLOOKUP($B$2,Ackerbauplan,58,0))","v":""},null,"dt/ha",{"$f":"VLOOKUP($B$2,Ackerbauplan,60,0)","v":0},null,null,"€/dt",null,{"$f":"VLOOKUP($B$2,Ackerbauplan,59,0)","v":0}]
[null,"   Hauptleistung ",null,{"$f":"IF(VLOOKUP($B$2,Ackerbauplan,61,0)=\"\",\"\",VLOOKUP($B$2,Ackerbauplan,61,0))","v":""},null,"Saatgut ",null,{"$f":"G11","v":0},"€/ha","Marktleistung -"]
[null,null,"+ Nebenleistung ",{"$f":"IF($B$2=\"\",\"\",VLOOKUP($B$2,Anbauplan,62,0))","v":0},null,"Dünger ",null,{"$f":"SUM(G14:G28)","v":0},"€/ha","Saatgut, Dünger, PSM"]
[null,null,"= Marktleistung ",{"$f":"IF(D57=\"\",\"\",D58+D57)","v":""},null,"Pflanzenschutz ",null,{"$f":"G54","v":0},"€/ha",{"$f":"IF(D59=\"\",\"\",D59-H57-H58-H59)","v":""},null,null,"€/ha"]
[null,{"$f":"IF($B$2=\"\",\"\",VLOOKUP($B$2,Anbauplan,2,0))","v":0}]
[null,"Bearbeitung","Maschine 1",null,"Maschine 2",null,"Maschine 3",null,"Datum",null,"Bemerkung"]

{"sheet":"A11","index":20,"n_rows":61,"n_cols":30,"rows_kept":61,"cut":false,"hidden":false,"merged":[[13,27,13,28],[13,29,16,30],[6,7,6,12],[7,7,7,8],[8,7,8,8],[7,9,7,10],[8,9,8,10],[10,8,10,12],[73,2,73,3],[73,4,73,5],[73,6,73,7],[73,8,73,9],[73,10,73,12],[69,2,69,3],[69,4,69,5],[69,6,69,7],[69,8,69,9],[69,10,69,12],[70,2,70,3],[70,4,70,5],[70,6,70,7],[70,8,70,9],[70,10,70,12],[67,2,67,3],[67,4,67,5],[67,6,67,7],[74,2,74,3],[74,4,74,5],[74,6,74,7],[74,8,74,9],[74,10,74,12],[71,2,71,3],[71,4,71,5],[71,6,71,7],[71,8,71,9],[71,10,71,12],[72,2,72,3],[72,4,72,5],[72,6,72,7],[72,8,72,9],[72,10,72,12],[67,8,67,9],[67,10,67,12],[68,2,68,3],[68,4,68,5],[68,6,68,7],[68,8,68,9],[68,10,68,12],[65,2,65,3],[65,4,65,5],[65,6,65,7],[65,8,65,9],[65,10,65,12],[66,2,66,3],[66,4,66,5],[66,6,66,7],[66,8,66,9],[66,10,66,12],[63,2,63,3],[63,4,63,5],[63,6,63,7],[63,8,63,9],[63,10,63,12],[64,2,64,3],[64,4,64,5],[64,6,64,7],[64,8,64,9],[64,10,64,12],[61,2,61,3],[61,4,61,5],[61,6,61,7],[61,8,61,9],[61,10,61,12],[62,2,62,3],[62,4,62,5],[62,6,62,7],[62,8,62,9],[62,10,62,12],[58,3,58,4],[58,5,58,6],[58,9,58,11],[59,1,59,12],[60,2,60,3],[60,4,60,5],[60,6,60,7],[60,8,60,9],[60,10,60,12],[56,1,56,2],[56,3,56,4],[56,5,56,6],[56,9,56,12],[57,3,57,4],[57,5,57,6],[57,9,57,12],[52,7,52,9],[52,10,52,12],[53,1,53,5],[53,7,53,12],[54,1,54,6],[55,1,55,2],[55,3,55,4],[55,6,55,8],[55,9,55,10],[55,11,55,12],[49,7,49,9],[49,10,49,12],[50,7,50,9],[50,10,50,12],[51,7,51,9],[51,10,51,12],[46,7,46,9],[46,10,46,12],[47,7,47,9],[47,10,47,12],[48,7,48,9],[48,10,48,12],[43,7,43,9],[43,10,43,12],[44,7,44,9],[44,10,44,12],[45,7,45,9],[45,10,45,12],[40,7,40,9],[40,10,40,12],[41,7,41,9],[41,10,41,12],[42,7,42,9],[42,10,42,12],[37,7,37,9],[37,10,37,12],[38,7,38,9],[38,10,38,12],[39,7,39,9],[39,10,39,12],[34,7,34,9],[34,10,34,12],[35,7,35,9],[35,10,35,12],[36,7,36,9],[36,10,36,12],[31,7,31,9],[31,10,31,12],[32,7,32,9],[32,10,32,12],[32,16,32,20],[33,7,33,9],[33,10,33,12],[29,1,29,6],[29,7,29,8],[29,9,29,10],[30,0,30,1],[30,7,30,9],[30,10,30,12],[23,9,23,10],[24,9,24,10],[25,9,25,10],[26,9,26,10],[27,9,27,10],[28,1,28,6],[28,7,28,8],[28,9,28,10],[17,16,17,20],[18,9,18,10],[19,9,19,10],[20,9,20,10],[21,9,21,10],[22,9,22,10],[14,9,14,10],[15,9,15,10],[16,9,16,10],[17,9,17,10],[10,1,10,2],[9,7,9,12],[11,1,11,2],[11,4,11,6],[11,7,11,8],[11,9,11,10],[11,25,12,25],[33,22,33,23],[34,22,34,23],[0,1,0,12],[1,2,1,3],[1,4,1,6],[1,7,1,9],[1,10,1,12],[2,2,2,3],[2,4,2,6],[2,7,2,9],[2,10,2,12],[5,7,5,10],[5,11,5,12],[3,2,3,3],[3,4,3,6],[3,7,3,10],[3,11,3,12],[4,2,4,3],[4,4,4,6],[4,7,4,9],[4,10,4,12],[12,9,12,10],[13,9,13,10]]}
[null,"Ackerland"]
[null,11,"Name:",null,{"$f":"IF(B2=\"\",\"\",VLOOKUP(B2,Anbauplan,2,0))","v":0},null,null,"Jahr:",null,null,{"$f":"IF(Einführung!I8=\"\",\"\",Einführung!I8)","v":""},null,null,{"$f":"IF(OR(B4=\"\",H12=\"\"),\"\",H12*B4)","v":0},"DB kg * Fläche"]
[null,"Hektar ","Hauptfrucht ",null,{"$f":"IF(B2=\"\",\"\",VLOOKUP(B2,Ackerbauplan,4,0))","v":0},null,null,"Nitratkulisse",null,null,{"$f":"IF(B2=\"\",\"\",VLOOKUP(B2,Ackerbauplan,20,0))","v":0},null,null,{"$f":"L4","v":""},"kg/ha org. Dünger für Kontrollgrenze"]
[null,{"$f":"IF(B2=\"\",\"\",VLOOKUP(B2,Ackerbauplan,3,0))","v":0},"Vorfrucht",null,{"$f":"IF(B2=\"\",\"\",VLOOKUP(B2,Ackerbauplan,9,0))","v":0},null,null,"Wirtschaftsdünger zur Berechung\ndes 130 kg N/ha Anteils in kg/ha",null,null,null,{"$f":"IF(K3=\"ja\",W29,\"\")","v":""},null,{"$f":"IF(N3=\"\",\"\",N3*B4)","v":""},"kg Gesamtschlag org Dünger für 170 Kontrollgrenze",null,null,"Gesamt N","NH4-N","P2O5 mineral.","P2O5 organisch"]
[null,"Sorte","VorVorfrucht",null,null,null,null,"Phosphatkulisse",null,null,{"$f":"IF(B2=\"\",\"\",VLOOKUP(B2,Ackerbauplan,21,0))","v":0},null,null,{"$f":"IF(H12=\"\",\"\",IF(K3=\"ja\",N2*0.8,\"\"))","v":""},"Nitrat belastetes Gebiet Düngebedarf Gesamtschlag kg N/ha",null,"N Gesamt minerl.",{"$f":"SUMIF($N$14:$N$28,\"mineralisch\",$H$14:$H$28)*B4","v":0}]
[null,{"$f":"IF(B2=\"\",\"\",VLOOKUP(B2,Ackerbauplan,8,0))","v":0},null,null,null,null,null,"sonstige Auflagen",null,null,null,null,null,{"$f":"IF(K3=\"ja\",X30+Y30,\"\")","v":""},"org +min .anrechenbare N Menge Gesamtschlag  kg N/ha",null,"NH4-N minerlisch",null,{"$f":"SUMIF($N$14:$N$28,\"mineralisch\",$I$14:$I$28)*B4","v":0}]
[null,"Aussaatdatum","Kö./m² ",{"$f":"IF(B2=\"\",\"\",VLOOKUP(B2,Ackerbauplan,52,0))","v":0},null,"Eigen","Zukauf","Versorgungsstufen",null,null,null,null,null,{"$f":"IF(K3=\"ja\",J12*B4,\"\")","v":""},null,null,"N Gesamt organsich",{"$f":"SUMIF($N$14:$N$28,\"organisch\",$H$14:$H$28)*B4","v":0}]
[null,{"$f":"IF(B2=\"0\",\"\",VLOOKUP(B2,Ackerbauplan,51,0))","v":"00:00:00"},"x TKG ",{"$f":"IF(B2=\"\",\"\",VLOOKUP(B2,Ackerbauplan,53,0))","v":0},"dt/ha ",null,null,"Nmin",null,"P2O5",null,"K2O","MgO",null,null,null,"NH4-N organsich",null,{"$f":"SUMIF($N$14:$N$28,\"organisch\",I14:I28)*B4","v":0}]
[null,"Beize","/Kei.fäh.",{"$f":"IF(B2=\"\",\"\",VLOOKUP(B2,Ackerbauplan,54,0))","v":0},"€/dt",null,null,{"$f":"IF(B2=\"\",\"\",VLOOKUP(B2,Ackerbauplan,17,0))","v":0},null,{"$f":"IF(B2=\"\",\"\",VLOOKUP(B2,Ackerbauplan,30,0))","v":"C"},null,{"$f":"IF(B2=\"\",\"\",VLOOKUP(B2,Ackerbauplan,31,0))","v":"C"},{"$f":"IF(B2=\"\",\"\",VLOOKUP(B2,Ackerbauplan,32,0))","v":"C"},null,null,null,"P2O5 mineralisch",null,null,{"$f":"SUMIF($N$14:$N$28,\"mineralisch\",$J$14:$J$28)*B4","v":0}]
[null,null,"= kg/ha",{"$f":"IF(B2=\"\",\"\",VLOOKUP(B2,Ackerbauplan,55,0))","v":""},"€/ha ",{"$f":"F8*F9","v":0},{"$f":"G8*G9","v":0},"Düngebedarf kg/ha (Blatt Ackerfläche)",null,null,null,null,null,null,"Düngebedarf um 20% reduziert",null,"P2O5 organisch",null,null,null,{"$f":"SUMIF($N$14:$N$28,\"organisch\",$J$14:$J$28)*B4","v":0},null,null,null,null,null,null,{"$f":"IF(K3=\"ja\",\"Noch nicht ausgeschöpfter Stickstoff Düngebedarf aller Flächen\",\"\")","v":""}]
[null,"Saatgutkennnummer",null,null,null,"Summe",{"$f":"F10+G10","v":0},{"$f":"IF(H12=\"\",\"\",IF(K3=\"ja\",H12*0.8,\"\"))","v":""},{"$f":"IF(K3=\"ja\",O10,\"\")","v":""},null,null,null,null,null,null,null,"Sonstige organische Düngemittel",{"$f":"SUMIF($N$14:$N$28,Q11,$H$14:$H$28)*B4","v":0},{"$f":"SUMIF($N$14:$N$28,Q11,$I$14:$I$28)*B4","v":0},{"$f":"SUMIF($N$14:$N$28,Q11,$J$14:$J$28)*B4","v":0},null,null,null,null,null,null,null,{"$f":"IF(K3=\"ja\",'Zus. Anlage 5 DüV'!D43,\"\")","v":""},{"$f":"IF(K3=\"ja\",\"kg N Gesamtfläche\",\"\")","v":""}]
[null,null,null,null,"N Bedarf DÜV kg/ha",null,null,{"$f":"IF(B2=\"\",\"\",VLOOKUP(B2,Ackerbauplan,18,0))","v":"0"},null,{"$f":"IF(B2=\"\",\"\",VLOOKUP(B2,Ackerbauplan,37,0))","v":"0"},null,{"$f":"IF(B2=\"\",\"\",VLOOKUP(B2,Ackerbauplan,38,0))","v":"0"},null,null,null,null,"Bodenhilfsstoffe",{"$f":"SUMIF($N$14:$N$28,Q12,$H$14:$H$28)*B4","v":0},null,{"$f":"SUMIF($N$14:$N$28,Q12,$J$14:$J$28)*B4","v":0},null,"Anrechnung","Anrechnung ","Prüfung NH4","mineral","Kontroll\nSumme"]
[null,"Dünger","Datum","EC","m³o.dt/ha","€/dt","€/ha","Ges.-N","NH4-N","P2O5",null,"K2O","S",null,null,null,"Kultursubstrate",{"$f":"SUMIF($N$14:$N$28,Q13,$H$14:$H$28)*B4","v":0},null,{"$f":"SUMIF($N$14:$N$28,Q13,$J$14:$J$28)*B4","v":0},null,"aktuelles Jahr","170 kg GW"," oder Anlage3","Stickstoff"]
[null,null,null,null,null,{"$f":"IF(B14=\"\",\"\",VLOOKUP(B14,Düngemiteldaten,2,0))","v":""},{"$f":"IF(B14=\"\",\"\",E14*F14)","v":""},{"$f":"IF(B14=\"\",\"\",VLOOKUP(B14,Düngemiteldaten,4,0)*E14)","v":""},{"$f":"IF(B14=\"\",\"\",VLOOKUP(B14,Düngemiteldaten,5,0)*E14)","v":""},{"$f":"IF(B14=\"\",\"\",VLOOKUP(B14,Düngemiteldaten,7,0)*E14)","v":""},null,{"$f":"IF(B14=\"\",\"\",VLOOKUP(B14,Düngemiteldaten,8,0)*E14)","v":""},{"$f":"IF(B14=\"\",\"\",VLOOKUP(B14,Düngemiteldaten,10,0)*E14)","v":""},{"$f":"IF(B14=\"\",\"\",VLOOKUP(B14,Düngemiteldaten,20,0))","v":""},null,null,"Pflanzenhilfsmittel",{"$f":"SUMIF($N$14:$N$28,Q14,$H$14:$H$28)*B4","v":0},null,{"$f":"SUMIF($N$14:$N$28,Q14,$J$14:$J$28)*B4","v":0},null,{"$f":"IF(OR(B14=\"\",N14=\"\"),\"\",IF(N14=\"mineralisch\",\"\",VLOOKUP(B14,Düngemiteldaten,17,0)*VLOOKUP(B14,Düngemiteldaten,4,0)*E14))","v":""},{"$f":"IF(N14=\"organisch\",VLOOKUP(B14,Düngemiteldaten,4,0)*E14*VLOOKUP(B14,Düngemiteldaten,19,0),\"\")","v":""},{"$f":"IF(B14=\"\",\"\",IF(V14<I14,I14,V14))","v":""},{"$f":"IF(B14=\"\",\"\",IF(N14=\"organisch\",0,H14))","v":""},{"$f":"IF(SUM(V14:Y14)=0,\"\",SUM(X14:Y14))","v":""},null,{"$f":"IF(K3=\"ja\",\"Summe Gesamtstickstoff\",\"\")","v":""},null,{"$f":"IF(K3=\"ja\",\"Anteil § 13a Prüfung \n160 kg N/ha Gesamt\n80 kg N/ha mineralisch\",\"\")","v":""}]
[null,null,null,null,null,"",{"$f":"IF(B15=\"\",\"\",E15*F15)","v":""},"","","",null,"","","",null,null,"Abfälle zur Beseitigung (§ 28 Absatz 2 odeS 3 KSWG)",{"$f":"SUMIF($N$14:$N$28,Q15,$H$14:$H$28)*B4","v":0},null,{"$f":"SUMIF($N$14:$N$28,Q15,$J$14:$J$28)*B4","v":0},null,"","",{"$f":"IF(B15=\"\",\"\",IF(V15<I15,I15,V15))","v":""},{"$f":"IF(B15=\"\",\"\",IF(N15=\"organisch\",0,H15))","v":""},{"$f":"IF(SUM(V15:Y15)=0,\"\",SUM(X15:Y15))","v":""},null,{"$f":"IF(L4=\"\",\"\",SUMIF($N$14:$N$28,\"mineralisch\",$H$14:$H$28))","v":""},{"$f":"IF(K3=\"ja\",\"mineralisch N kg/ha\",\"\")","v":""}]
[null,null,null,null,null,"","","","","",null,"","","",null,null,null,null,null,null,null,"","","","","",null,{"$f":"IF(L4=\"\",\"\",SUMIF($N$14:$N$28,\"organisch\",$H$14:$H$28)+SUMIF($N$14:$N$28,Q11,$H$14:$H$28))","v":""},{"$f":"IF(K3=\"ja\",\"organisch N kg/ha\",\"\")","v":""}]
[null,null,null,null,null,"","","","","",null,"","","",null,null,null,null,null,null,null,{"$f":"IF(OR(B17=\"\",N17=\"\"),\"\",IF(N17=\"mineralisch\",\"\",VLOOKUP(B17,Düngemiteldaten,17,0)*VLOOKUP(B17,Düngemiteldaten,4,0)*E17))","v":""},"","","","",null,{"$f":"IF(K3=\"ja\",(AB16+AB15),\"\")","v":""},{"$f":"IF(K3=\"ja\",\"Gesamt kg N/ha\",\"\")","v":""}]
[null,null,null,null,null,"","","","","",null,"","","",null,null,"Nährstoffherkunft auf gefährdeten Flächen §13",null,null,null,null,"","","","",""]
[null,null,null,null,null,"","","","","",null,"","","",null,null,null,"Gesamt N","NH4-N","P2O5 mineral.","P2O5 organisch","","","","",""]
[null,null,null,null,null,"","","","","",null,"","","",null,null,"N Gesamt minerl.",{"$f":"IF(K3=\"ja\",SUMIF($N$14:$N$28,\"mineralisch\",$H$14:$H$28),0)*B4","v":0},null,null,null,"","","","",""]
[null,null,null,null,null,"","","","","",null,"","","",null,null,"NH4-N minerlisch",null,{"$f":"IF(K3=\"ja\",SUMIF($N$14:$N$28,\"mineralisch\",$I$14:$I$28),0)*B4","v":0},null,null,"","","","",""]
[null,null,null,null,null,"","","","","",null,"","","",null,null,"N Gesamt organsich",{"$f":"IF(K3=\"ja\",SUMIF($N$14:$N$28,\"organisch\",$H$14:$H$28),0)*B4","v":0},null,null,null,"","","","",""]
[null,null,null,null,null,"","","","","",null,"","","",null,null,"NH4-N organsich",null,{"$f":"IF(K3=\"ja\",SUMIF($N$14:$N$28,\"organisch\",$I$14:$I$28),0)*B4","v":0},null,null,"","","","",""]
[null,null,null,null,null,"","","","","",null,"","","",null,null,"P2O5 mineralisch",null,null,{"$f":"IF(K3=\"ja\",SUMIF($N$14:$N$28,\"mineralisch\",$J$14:$J$28),0)*B4","v":0},null,"","","","",""]
[null,null,null,null,null,"","","","","",null,"","","",null,null,"P2O5 organisch",null,null,null,{"$f":"IF(K3=\"ja\",SUMIF($N$14:$N$28,\"organisch\",$J$14:$J$28),0)*B4","v":0},"","","","",""]
[null,null,null,null,null,"","","","","",null,"","","",null,null,"Sonstige organische Düngemittel",{"$f":"IF(K3=\"ja\",SUMIF($N$14:$N$28,Q26,$H$14:$H$28),0)*B4","v":0},{"$f":"IF(K3=\"ja\",SUMIF($N$14:$N$28,Q26,$I$14:$I$28),0)*B4","v":0},{"$f":"IF(K3=\"ja\",SUMIF($N$14:$N$28,Q26,$J$14:$J$28),0)*B4","v":0},null,"","","","",""]
[null,null,null,null,null,"","","","","",null,"","","",null,null,"Bodenhilfsstoffe",{"$f":"IF(K3=\"ja\",SUMIF($N$14:$N$28,Q27,$H$14:$H$28),0)*B4","v":0},null,{"$f":"IF(K3=\"ja\",SUMIF($N$14:$N$28,Q27,$J$14:$J$28),0)*B4","v":0},null,"","","","",""]
[null,null,null,null,null,"","","","","",null,"","","",null,null,"Kultursubstrate",{"$f":"IF(K3=\"ja\",SUMIF($N$14:$N$28,Q28,$H$14:$H$28),0)*B4","v":0},null,{"$f":"IF(K3=\"ja\",SUMIF($N$14:$N$28,Q28,$J$14:$J$28),0)*B4","v":0},null,"","","","",""]
[null,"anrechenbarer N aus org.Dgg. + min. Dgg. kg N/ha",null,null,null,null,null,{"$f":"X29+Y29","v":0},null,{"$f":"SUM(J14:J28)","v":0},null,{"$f":"SUM(L14:L28)","v":0},{"$f":"SUM(M14:M28)","v":0},null,null,null,"Pflanzenhilfsmittel",{"$f":"IF(K3=\"ja\",SUMIF($N$14:$N$28,Q29,$H$14:$H$28),0)*B4","v":0},null,{"$f":"IF(K3=\"ja\",SUMIF($N$14:$N$28,Q29,$J$14:$J$28),0)*B4","v":0},null,{"$f":"SUM(V14:V28)","v":0},{"$f":"SUM(W14:W28)","v":0},{"$f":"SUM(X14:X28)","v":0},{"$f":"SUM(Y14:Y28)","v":0},"kg/ha"]
[null,{"$f":"IF(K3=\"0\",O31,O30)","v":"Bilanz (anrechenbarer Dgg.- reduzierter Düngebedarf) kg N/ha"},null,null,null,null,null,{"$f":"IF(H12=\"\",0,IF(OR(K3=0,K3=\"nein\"),H29-H12,H29-H11))","v":0},null,{"$f":"IF(J12=\"\",\"\",J29-J12)","v":0},null,{"$f":"IF(L12=\"\",\"\",L29-L12)","v":0},{"$f":"IF(M12=\"\",\"\",M29-M12)","v":""},null,"Bilanz (anrechenbarer Dgg.- reduzierter Düngebedarf) kg N/ha",null,"Abfälle zur Beseitigung (§ 28 Absatz 2 odeS 3 KSWG)",{"$f":"IF(K3=\"ja\",SUMIF($N$14:$N$28,Q30,$H$14:$H$28),0)*B4","v":0},null,{"$f":"IF(K3=\"ja\",SUMIF($N$14:$N$28,Q30,$J$14:$J$28),0)*B4","v":0},null,{"$f":"V29*B4","v":0},{"$f":"W29*B4","v":0},{"$f":"X29*B4","v":0},{"$f":"Y29*B4","v":0},"kg/Schlag",null,{"$f":"IF(H30>0,\"Stickstoffmenge überschreitet den Düngebedarf\",\"\")","v":""}]
["Pflanzenschutzmittel",null,"Datum","EC","E./ha","€/E.","€/ha","Anwender",null,null,"Bemerkungen",null,null,null,"Bilanz (anrechenbarer Dgg.- Düngebedarf) kg N/ha"]
[null,null,null,null,null,{"$f":"IF($B32=\"\",\"\",VLOOKUP($B32,PSMMittel,2,0))","v":""},{"$f":"IF(B32=\"\",\"\",E32*F32)","v":""}]
[null,null,null,null,null,"",{"$f":"IF(B33=\"\",\"\",E33*F33)","v":""},null,null,null,null,null,null,null,null,null,"Stickstoffherkunft nicht gefährdetes Gebiet Gesamtfläche"]
[null,null,null,null,null,"","",null,null,null,null,null,null,null,null,null,null,"Gesamt N","NH4-N","P2O5 mineral.","P2O5 organisch",null,"N Fixierung kg N/ha"]
[null,null,null,null,null,"","",null,null,null,null,null,null,null,null,null,"N Gesamt minerl.",{"$f":"R5-R20","v":0},null,null,null,null,{"$f":"IF(E3=0,\"\",VLOOKUP(E3,AckerbauKulturen,26,0)*G56*B4)","v":""}]
[null,null,null,null,null,"","",null,null,null,null,null,null,null,null,null,"NH4-N minerlisch",null,{"$f":"S6-S21","v":0}]
[null,null,null,null,null,"","",null,null,null,null,null,null,null,null,null,"N Gesamt organsich",{"$f":"R7-R22","v":0}]
[null,null,null,null,null,"","",null,null,null,null,null,null,null,null,null,"NH4-N organsich",null,{"$f":"S8-S23","v":0}]
[null,null,null,null,null,"","",null,null,null,null,null,null,null,null,null,"P2O5 mineralisch",null,null,{"$f":"T9-T24","v":0}]
[null,null,null,null,null,"","",null,null,null,null,null,null,null,null,null,"P2O5 organisch",null,null,null,{"$f":"U10-U25","v":0}]
[null,null,null,null,null,"","",null,null,null,null,null,null,null,null,null,"Sonstige organische Düngemittel",{"$f":"R11-R26","v":0},{"$f":"S11-S26","v":0},{"$f":"T11-T26","v":0}]
[null,null,null,null,null,"","",null,null,null,null,null,null,null,null,null,"Bodenhilfsstoffe",{"$f":"R12-R27","v":0},null,{"$f":"T12-T27","v":0}]
[null,null,null,null,null,"","",null,null,null,null,null,null,null,null,null,"Kultursubstrate",{"$f":"R13-R28","v":0},null,{"$f":"T13-T28","v":0}]
[null,null,null,null,null,"","",null,null,null,null,null,null,null,null,null,"Pflanzenhilfsmittel",{"$f":"R14-R29","v":0},null,{"$f":"T14-T29","v":0}]
[null,null,null,null,null,"","",null,null,null,null,null,null,null,null,null,"Abfälle zur Beseitigung (§ 28 Absatz 2 odeS 3 KSWG)",{"$f":"R15-R30","v":0},null,{"$f":"T15-T30","v":0}]
[null,null,null,null,null,"",""]
[null,null,null,null,null,"",""]
[null,null,null,null,null,"",""]
[null,null,null,null,null,"",""]
[null,null,null,null,null,"",""]
[null,null,null,null,null,"",""]
[null,null,null,null,null,"",""]
[null,null,null,null,null,"",""]
[null,"Summe",null,null,null,null,{"$f":"SUM(G32:G53)","v":0}]
[]
[null,"Erntedatum:",null,{"$f":"IF(VLOOKUP($B$2,Ackerbauplan,58,0)=\"\",\"\",VLOOKUP($B$2,Ackerbauplan,58,0))","v":""},null,"dt/ha",{"$f":"VLOOKUP($B$2,Ackerbauplan,60,0)","v":0},null,null,"€/dt",null,{"$f":"VLOOKUP($B$2,Ackerbauplan,59,0)","v":0}]
[null,"   Hauptleistung ",null,{"$f":"IF(VLOOKUP($B$2,Ackerbauplan,61,0)=\"\",\"\",VLOOKUP($B$2,Ackerbauplan,61,0))","v":""},null,"Saatgut ",null,{"$f":"G11","v":0},"€/ha","Marktleistung -"]
[null,null,"+ Nebenleistung ",{"$f":"IF($B$2=\"\",\"\",VLOOKUP($B$2,Anbauplan,62,0))","v":0},null,"Dünger ",null,{"$f":"SUM(G14:G28)","v":0},"€/ha","Saatgut, Dünger, PSM"]
[null,null,"= Marktleistung ",{"$f":"IF(D57=\"\",\"\",D58+D57)","v":""},null,"Pflanzenschutz ",null,{"$f":"G54","v":0},"€/ha",{"$f":"IF(D59=\"\",\"\",D59-H57-H58-H59)","v":""},null,null,"€/ha"]
[null,{"$f":"IF($B$2=\"\",\"\",VLOOKUP($B$2,Anbauplan,2,0))","v":0}]
[null,"Bearbeitung","Maschine 1",null,"Maschine 2",null,"Maschine 3",null,"Datum",null,"Bemerkung"]

{"sheet":"A12","index":21,"n_rows":61,"n_cols":30,"rows_kept":61,"cut":false,"hidden":false,"merged":[[13,27,13,28],[13,29,16,30],[6,7,6,12],[7,7,7,8],[8,7,8,8],[7,9,7,10],[8,9,8,10],[10,8,10,12],[73,2,73,3],[73,4,73,5],[73,6,73,7],[73,8,73,9],[73,10,73,12],[69,2,69,3],[69,4,69,5],[69,6,69,7],[69,8,69,9],[69,10,69,12],[70,2,70,3],[70,4,70,5],[70,6,70,7],[70,8,70,9],[70,10,70,12],[67,2,67,3],[67,4,67,5],[67,6,67,7],[74,2,74,3],[74,4,74,5],[74,6,74,7],[74,8,74,9],[74,10,74,12],[71,2,71,3],[71,4,71,5],[71,6,71,7],[71,8,71,9],[71,10,71,12],[72,2,72,3],[72,4,72,5],[72,6,72,7],[72,8,72,9],[72,10,72,12],[67,8,67,9],[67,10,67,12],[68,2,68,3],[68,4,68,5],[68,6,68,7],[68,8,68,9],[68,10,68,12],[65,2,65,3],[65,4,65,5],[65,6,65,7],[65,8,65,9],[65,10,65,12],[66,2,66,3],[66,4,66,5],[66,6,66,7],[66,8,66,9],[66,10,66,12],[63,2,63,3],[63,4,63,5],[63,6,63,7],[63,8,63,9],[63,10,63,12],[64,2,64,3],[64,4,64,5],[64,6,64,7],[64,8,64,9],[64,10,64,12],[61,2,61,3],[61,4,61,5],[61,6,61,7],[61,8,61,9],[61,10,61,12],[62,2,62,3],[62,4,62,5],[62,6,62,7],[62,8,62,9],[62,10,62,12],[58,3,58,4],[58,5,58,6],[58,9,58,11],[59,1,59,12],[60,2,60,3],[60,4,60,5],[60,6,60,7],[60,8,60,9],[60,10,60,12],[56,1,56,2],[56,3,56,4],[56,5,56,6],[56,9,56,12],[57,3,57,4],[57,5,57,6],[57,9,57,12],[52,7,52,9],[52,10,52,12],[53,1,53,5],[53,7,53,12],[54,1,54,6],[55,1,55,2],[55,3,55,4],[55,6,55,8],[55,9,55,10],[55,11,55,12],[49,7,49,9],[49,10,49,12],[50,7,50,9],[50,10,50,12],[51,7,51,9],[51,10,51,12],[46,7,46,9],[46,10,46,12],[47,7,47,9],[47,10,47,12],[48,7,48,9],[48,10,48,12],[43,7,43,9],[43,10,43,12],[44,7,44,9],[44,10,44,12],[45,7,45,9],[45,10,45,12],[40,7,40,9],[40,10,40,12],[41,7,41,9],[41,10,41,12],[42,7,42,9],[42,10,42,12],[37,7,37,9],[37,10,37,12],[38,7,38,9],[38,10,38,12],[39,7,39,9],[39,10,39,12],[34,7,34,9],[34,10,34,12],[35,7,35,9],[35,10,35,12],[36,7,36,9],[36,10,36,12],[31,7,31,9],[31,10,31,12],[32,7,32,9],[32,10,32,12],[32,16,32,20],[33,7,33,9],[33,10,33,12],[29,1,29,6],[29,7,29,8],[29,9,29,10],[30,0,30,1],[30,7,30,9],[30,10,30,12],[23,9,23,10],[24,9,24,10],[25,9,25,10],[26,9,26,10],[27,9,27,10],[28,1,28,6],[28,7,28,8],[28,9,28,10],[17,16,17,20],[18,9,18,10],[19,9,19,10],[20,9,20,10],[21,9,21,10],[22,9,22,10],[14,9,14,10],[15,9,15,10],[16,9,16,10],[17,9,17,10],[10,1,10,2],[9,7,9,12],[11,1,11,2],[11,4,11,6],[11,7,11,8],[11,9,11,10],[11,25,12,25],[33,22,33,23],[34,22,34,23],[0,1,0,12],[1,2,1,3],[1,4,1,6],[1,7,1,9],[1,10,1,12],[2,2,2,3],[2,4,2,6],[2,7,2,9],[2,10,2,12],[5,7,5,10],[5,11,5,12],[3,2,3,3],[3,4,3,6],[3,7,3,10],[3,11,3,12],[4,2,4,3],[4,4,4,6],[4,7,4,9],[4,10,4,12],[12,9,12,10],[13,9,13,10]]}
[null,"Ackerland"]
[null,12,"Name:",null,{"$f":"IF(B2=\"\",\"\",VLOOKUP(B2,Anbauplan,2,0))","v":0},null,null,"Jahr:",null,null,{"$f":"IF(Einführung!I8=\"\",\"\",Einführung!I8)","v":""},null,null,{"$f":"IF(OR(B4=\"\",H12=\"\"),\"\",H12*B4)","v":0},"DB kg * Fläche"]
[null,"Hektar ","Hauptfrucht ",null,{"$f":"IF(B2=\"\",\"\",VLOOKUP(B2,Ackerbauplan,4,0))","v":0},null,null,"Nitratkulisse",null,null,{"$f":"IF(B2=\"\",\"\",VLOOKUP(B2,Ackerbauplan,20,0))","v":0},null,null,{"$f":"L4","v":""},"kg/ha org. Dünger für Kontrollgrenze"]
[null,{"$f":"IF(B2=\"\",\"\",VLOOKUP(B2,Ackerbauplan,3,0))","v":0},"Vorfrucht",null,{"$f":"IF(B2=\"\",\"\",VLOOKUP(B2,Ackerbauplan,9,0))","v":0},null,null,"Wirtschaftsdünger zur Berechung\ndes 130 kg N/ha Anteils in kg/ha",null,null,null,{"$f":"IF(K3=\"ja\",W29,\"\")","v":""},null,{"$f":"IF(N3=\"\",\"\",N3*B4)","v":""},"kg Gesamtschlag org Dünger für 170 Kontrollgrenze",null,null,"Gesamt N","NH4-N","P2O5 mineral.","P2O5 organisch"]
[null,"Sorte","VorVorfrucht",null,null,null,null,"Phosphatkulisse",null,null,{"$f":"IF(B2=\"\",\"\",VLOOKUP(B2,Ackerbauplan,21,0))","v":0},null,null,{"$f":"IF(H12=\"\",\"\",IF(K3=\"ja\",N2*0.8,\"\"))","v":""},"Nitrat belastetes Gebiet Düngebedarf Gesamtschlag kg N/ha",null,"N Gesamt minerl.",{"$f":"SUMIF($N$14:$N$28,\"mineralisch\",$H$14:$H$28)*B4","v":0}]
[null,{"$f":"IF(B2=\"\",\"\",VLOOKUP(B2,Ackerbauplan,8,0))","v":0},null,null,null,null,null,"sonstige Auflagen",null,null,null,null,null,{"$f":"IF(K3=\"ja\",X30+Y30,\"\")","v":""},"org +min .anrechenbare N Menge Gesamtschlag  kg N/ha",null,"NH4-N minerlisch",null,{"$f":"SUMIF($N$14:$N$28,\"mineralisch\",$I$14:$I$28)*B4","v":0}]
[null,"Aussaatdatum","Kö./m² ",{"$f":"IF(B2=\"\",\"\",VLOOKUP(B2,Ackerbauplan,52,0))","v":0},null,"Eigen","Zukauf","Versorgungsstufen",null,null,null,null,null,{"$f":"IF(K3=\"ja\",J12*B4,\"\")","v":""},null,null,"N Gesamt organsich",{"$f":"SUMIF($N$14:$N$28,\"organisch\",$H$14:$H$28)*B4","v":0}]
[null,{"$f":"IF(B2=\"0\",\"\",VLOOKUP(B2,Ackerbauplan,51,0))","v":"00:00:00"},"x TKG ",{"$f":"IF(B2=\"\",\"\",VLOOKUP(B2,Ackerbauplan,53,0))","v":0},"dt/ha ",null,null,"Nmin",null,"P2O5",null,"K2O","MgO",null,null,null,"NH4-N organsich",null,{"$f":"SUMIF($N$14:$N$28,\"organisch\",I14:I28)*B4","v":0}]
[null,"Beize","/Kei.fäh.",{"$f":"IF(B2=\"\",\"\",VLOOKUP(B2,Ackerbauplan,54,0))","v":0},"€/dt",null,null,{"$f":"IF(B2=\"\",\"\",VLOOKUP(B2,Ackerbauplan,17,0))","v":0},null,{"$f":"IF(B2=\"\",\"\",VLOOKUP(B2,Ackerbauplan,30,0))","v":"C"},null,{"$f":"IF(B2=\"\",\"\",VLOOKUP(B2,Ackerbauplan,31,0))","v":"C"},{"$f":"IF(B2=\"\",\"\",VLOOKUP(B2,Ackerbauplan,32,0))","v":"C"},null,null,null,"P2O5 mineralisch",null,null,{"$f":"SUMIF($N$14:$N$28,\"mineralisch\",$J$14:$J$28)*B4","v":0}]
[null,null,"= kg/ha",{"$f":"IF(B2=\"\",\"\",VLOOKUP(B2,Ackerbauplan,55,0))","v":""},"€/ha ",{"$f":"F8*F9","v":0},{"$f":"G8*G9","v":0},"Düngebedarf kg/ha (Blatt Ackerfläche)",null,null,null,null,null,null,"Düngebedarf um 20% reduziert",null,"P2O5 organisch",null,null,null,{"$f":"SUMIF($N$14:$N$28,\"organisch\",$J$14:$J$28)*B4","v":0},null,null,null,null,null,null,{"$f":"IF(K3=\"ja\",\"Noch nicht ausgeschöpfter Stickstoff Düngebedarf aller Flächen\",\"\")","v":""}]
[null,"Saatgutkennnummer",null,null,null,"Summe",{"$f":"F10+G10","v":0},{"$f":"IF(H12=\"\",\"\",IF(K3=\"ja\",H12*0.8,\"\"))","v":""},{"$f":"IF(K3=\"ja\",O10,\"\")","v":""},null,null,null,null,null,null,null,"Sonstige organische Düngemittel",{"$f":"SUMIF($N$14:$N$28,Q11,$H$14:$H$28)*B4","v":0},{"$f":"SUMIF($N$14:$N$28,Q11,$I$14:$I$28)*B4","v":0},{"$f":"SUMIF($N$14:$N$28,Q11,$J$14:$J$28)*B4","v":0},null,null,null,null,null,null,null,{"$f":"IF(K3=\"ja\",'Zus. Anlage 5 DüV'!D43,\"\")","v":""},{"$f":"IF(K3=\"ja\",\"kg N Gesamtfläche\",\"\")","v":""}]
[null,null,null,null,"N Bedarf DÜV kg/ha",null,null,{"$f":"IF(B2=\"\",\"\",VLOOKUP(B2,Ackerbauplan,18,0))","v":"0"},null,{"$f":"IF(B2=\"\",\"\",VLOOKUP(B2,Ackerbauplan,37,0))","v":"0"},null,{"$f":"IF(B2=\"\",\"\",VLOOKUP(B2,Ackerbauplan,38,0))","v":"0"},null,null,null,null,"Bodenhilfsstoffe",{"$f":"SUMIF($N$14:$N$28,Q12,$H$14:$H$28)*B4","v":0},null,{"$f":"SUMIF($N$14:$N$28,Q12,$J$14:$J$28)*B4","v":0},null,"Anrechnung","Anrechnung ","Prüfung NH4","mineral","Kontroll\nSumme"]
[null,"Dünger","Datum","EC","m³o.dt/ha","€/dt","€/ha","Ges.-N","NH4-N","P2O5",null,"K2O","S",null,null,null,"Kultursubstrate",{"$f":"SUMIF($N$14:$N$28,Q13,$H$14:$H$28)*B4","v":0},null,{"$f":"SUMIF($N$14:$N$28,Q13,$J$14:$J$28)*B4","v":0},null,"aktuelles Jahr","170 kg GW"," oder Anlage3","Stickstoff"]
[null,null,null,null,null,{"$f":"IF(B14=\"\",\"\",VLOOKUP(B14,Düngemiteldaten,2,0))","v":""},{"$f":"IF(B14=\"\",\"\",E14*F14)","v":""},{"$f":"IF(B14=\"\",\"\",VLOOKUP(B14,Düngemiteldaten,4,0)*E14)","v":""},{"$f":"IF(B14=\"\",\"\",VLOOKUP(B14,Düngemiteldaten,5,0)*E14)","v":""},{"$f":"IF(B14=\"\",\"\",VLOOKUP(B14,Düngemiteldaten,7,0)*E14)","v":""},null,{"$f":"IF(B14=\"\",\"\",VLOOKUP(B14,Düngemiteldaten,8,0)*E14)","v":""},{"$f":"IF(B14=\"\",\"\",VLOOKUP(B14,Düngemiteldaten,10,0)*E14)","v":""},{"$f":"IF(B14=\"\",\"\",VLOOKUP(B14,Düngemiteldaten,20,0))","v":""},null,null,"Pflanzenhilfsmittel",{"$f":"SUMIF($N$14:$N$28,Q14,$H$14:$H$28)*B4","v":0},null,{"$f":"SUMIF($N$14:$N$28,Q14,$J$14:$J$28)*B4","v":0},null,{"$f":"IF(OR(B14=\"\",N14=\"\"),\"\",IF(N14=\"mineralisch\",\"\",VLOOKUP(B14,Düngemiteldaten,17,0)*VLOOKUP(B14,Düngemiteldaten,4,0)*E14))","v":""},{"$f":"IF(N14=\"organisch\",VLOOKUP(B14,Düngemiteldaten,4,0)*E14*VLOOKUP(B14,Düngemiteldaten,19,0),\"\")","v":""},{"$f":"IF(B14=\"\",\"\",IF(V14<I14,I14,V14))","v":""},{"$f":"IF(B14=\"\",\"\",IF(N14=\"organisch\",0,H14))","v":""},{"$f":"IF(SUM(V14:Y14)=0,\"\",SUM(X14:Y14))","v":""},null,{"$f":"IF(K3=\"ja\",\"Summe Gesamtstickstoff\",\"\")","v":""},null,{"$f":"IF(K3=\"ja\",\"Anteil § 13a Prüfung \n160 kg N/ha Gesamt\n80 kg N/ha mineralisch\",\"\")","v":""}]
[null,null,null,null,null,"",{"$f":"IF(B15=\"\",\"\",E15*F15)","v":""},"","","",null,"","","",null,null,"Abfälle zur Beseitigung (§ 28 Absatz 2 odeS 3 KSWG)",{"$f":"SUMIF($N$14:$N$28,Q15,$H$14:$H$28)*B4","v":0},null,{"$f":"SUMIF($N$14:$N$28,Q15,$J$14:$J$28)*B4","v":0},null,"","",{"$f":"IF(B15=\"\",\"\",IF(V15<I15,I15,V15))","v":""},{"$f":"IF(B15=\"\",\"\",IF(N15=\"organisch\",0,H15))","v":""},{"$f":"IF(SUM(V15:Y15)=0,\"\",SUM(X15:Y15))","v":""},null,{"$f":"IF(L4=\"\",\"\",SUMIF($N$14:$N$28,\"mineralisch\",$H$14:$H$28))","v":""},{"$f":"IF(K3=\"ja\",\"mineralisch N kg/ha\",\"\")","v":""}]
[null,null,null,null,null,"","","","","",null,"","","",null,null,null,null,null,null,null,"","","","","",null,{"$f":"IF(L4=\"\",\"\",SUMIF($N$14:$N$28,\"organisch\",$H$14:$H$28)+SUMIF($N$14:$N$28,Q11,$H$14:$H$28))","v":""},{"$f":"IF(K3=\"ja\",\"organisch N kg/ha\",\"\")","v":""}]
[null,null,null,null,null,"","","","","",null,"","","",null,null,null,null,null,null,null,{"$f":"IF(OR(B17=\"\",N17=\"\"),\"\",IF(N17=\"mineralisch\",\"\",VLOOKUP(B17,Düngemiteldaten,17,0)*VLOOKUP(B17,Düngemiteldaten,4,0)*E17))","v":""},"","","","",null,{"$f":"IF(K3=\"ja\",(AB16+AB15),\"\")","v":""},{"$f":"IF(K3=\"ja\",\"Gesamt kg N/ha\",\"\")","v":""}]
[null,null,null,null,null,"","","","","",null,"","","",null,null,"Nährstoffherkunft auf gefährdeten Flächen §13",null,null,null,null,"","","","",""]
[null,null,null,null,null,"","","","","",null,"","","",null,null,null,"Gesamt N","NH4-N","P2O5 mineral.","P2O5 organisch","","","","",""]
[null,null,null,null,null,"","","","","",null,"","","",null,null,"N Gesamt minerl.",{"$f":"IF(K3=\"ja\",SUMIF($N$14:$N$28,\"mineralisch\",$H$14:$H$28),0)*B4","v":0},null,null,null,"","","","",""]
[null,null,null,null,null,"","","","","",null,"","","",null,null,"NH4-N minerlisch",null,{"$f":"IF(K3=\"ja\",SUMIF($N$14:$N$28,\"mineralisch\",$I$14:$I$28),0)*B4","v":0},null,null,"","","","",""]
[null,null,null,null,null,"","","","","",null,"","","",null,null,"N Gesamt organsich",{"$f":"IF(K3=\"ja\",SUMIF($N$14:$N$28,\"organisch\",$H$14:$H$28),0)*B4","v":0},null,null,null,"","","","",""]
[null,null,null,null,null,"","","","","",null,"","","",null,null,"NH4-N organsich",null,{"$f":"IF(K3=\"ja\",SUMIF($N$14:$N$28,\"organisch\",$I$14:$I$28),0)*B4","v":0},null,null,"","","","",""]
[null,null,null,null,null,"","","","","",null,"","","",null,null,"P2O5 mineralisch",null,null,{"$f":"IF(K3=\"ja\",SUMIF($N$14:$N$28,\"mineralisch\",$J$14:$J$28),0)*B4","v":0},null,"","","","",""]
[null,null,null,null,null,"","","","","",null,"","","",null,null,"P2O5 organisch",null,null,null,{"$f":"IF(K3=\"ja\",SUMIF($N$14:$N$28,\"organisch\",$J$14:$J$28),0)*B4","v":0},"","","","",""]
[null,null,null,null,null,"","","","","",null,"","","",null,null,"Sonstige organische Düngemittel",{"$f":"IF(K3=\"ja\",SUMIF($N$14:$N$28,Q26,$H$14:$H$28),0)*B4","v":0},{"$f":"IF(K3=\"ja\",SUMIF($N$14:$N$28,Q26,$I$14:$I$28),0)*B4","v":0},{"$f":"IF(K3=\"ja\",SUMIF($N$14:$N$28,Q26,$J$14:$J$28),0)*B4","v":0},null,"","","","",""]
[null,null,null,null,null,"","","","","",null,"","","",null,null,"Bodenhilfsstoffe",{"$f":"IF(K3=\"ja\",SUMIF($N$14:$N$28,Q27,$H$14:$H$28),0)*B4","v":0},null,{"$f":"IF(K3=\"ja\",SUMIF($N$14:$N$28,Q27,$J$14:$J$28),0)*B4","v":0},null,"","","","",""]
[null,null,null,null,null,"","","","","",null,"","","",null,null,"Kultursubstrate",{"$f":"IF(K3=\"ja\",SUMIF($N$14:$N$28,Q28,$H$14:$H$28),0)*B4","v":0},null,{"$f":"IF(K3=\"ja\",SUMIF($N$14:$N$28,Q28,$J$14:$J$28),0)*B4","v":0},null,"","","","",""]
[null,"anrechenbarer N aus org.Dgg. + min. Dgg. kg N/ha",null,null,null,null,null,{"$f":"X29+Y29","v":0},null,{"$f":"SUM(J14:J28)","v":0},null,{"$f":"SUM(L14:L28)","v":0},{"$f":"SUM(M14:M28)","v":0},null,null,null,"Pflanzenhilfsmittel",{"$f":"IF(K3=\"ja\",SUMIF($N$14:$N$28,Q29,$H$14:$H$28),0)*B4","v":0},null,{"$f":"IF(K3=\"ja\",SUMIF($N$14:$N$28,Q29,$J$14:$J$28),0)*B4","v":0},null,{"$f":"SUM(V14:V28)","v":0},{"$f":"SUM(W14:W28)","v":0},{"$f":"SUM(X14:X28)","v":0},{"$f":"SUM(Y14:Y28)","v":0},"kg/ha"]
[null,{"$f":"IF(K3=\"0\",O31,O30)","v":"Bilanz (anrechenbarer Dgg.- reduzierter Düngebedarf) kg N/ha"},null,null,null,null,null,{"$f":"IF(H12=\"\",0,IF(OR(K3=0,K3=\"nein\"),H29-H12,H29-H11))","v":0},null,{"$f":"IF(J12=\"\",\"\",J29-J12)","v":0},null,{"$f":"IF(L12=\"\",\"\",L29-L12)","v":0},{"$f":"IF(M12=\"\",\"\",M29-M12)","v":""},null,"Bilanz (anrechenbarer Dgg.- reduzierter Düngebedarf) kg N/ha",null,"Abfälle zur Beseitigung (§ 28 Absatz 2 odeS 3 KSWG)",{"$f":"IF(K3=\"ja\",SUMIF($N$14:$N$28,Q30,$H$14:$H$28),0)*B4","v":0},null,{"$f":"IF(K3=\"ja\",SUMIF($N$14:$N$28,Q30,$J$14:$J$28),0)*B4","v":0},null,{"$f":"V29*B4","v":0},{"$f":"W29*B4","v":0},{"$f":"X29*B4","v":0},{"$f":"Y29*B4","v":0},"kg/Schlag",null,{"$f":"IF(H30>0,\"Stickstoffmenge überschreitet den Düngebedarf\",\"\")","v":""}]
["Pflanzenschutzmittel",null,"Datum","EC","E./ha","€/E.","€/ha","Anwender",null,null,"Bemerkungen",null,null,null,"Bilanz (anrechenbarer Dgg.- Düngebedarf) kg N/ha"]
[null,null,null,null,null,{"$f":"IF($B32=\"\",\"\",VLOOKUP($B32,PSMMittel,2,0))","v":""},{"$f":"IF(B32=\"\",\"\",E32*F32)","v":""}]
[null,null,null,null,null,"",{"$f":"IF(B33=\"\",\"\",E33*F33)","v":""},null,null,null,null,null,null,null,null,null,"Stickstoffherkunft nicht gefährdetes Gebiet Gesamtfläche"]
[null,null,null,null,null,"","",null,null,null,null,null,null,null,null,null,null,"Gesamt N","NH4-N","P2O5 mineral.","P2O5 organisch",null,"N Fixierung kg N/ha"]
[null,null,null,null,null,"","",null,null,null,null,null,null,null,null,null,"N Gesamt minerl.",{"$f":"R5-R20","v":0},null,null,null,null,{"$f":"IF(E3=0,\"\",VLOOKUP(E3,AckerbauKulturen,26,0)*G56*B4)","v":""}]
[null,null,null,null,null,"","",null,null,null,null,null,null,null,null,null,"NH4-N minerlisch",null,{"$f":"S6-S21","v":0}]
[null,null,null,null,null,"","",null,null,null,null,null,null,null,null,null,"N Gesamt organsich",{"$f":"R7-R22","v":0}]
[null,null,null,null,null,"","",null,null,null,null,null,null,null,null,null,"NH4-N organsich",null,{"$f":"S8-S23","v":0}]
[null,null,null,null,null,"","",null,null,null,null,null,null,null,null,null,"P2O5 mineralisch",null,null,{"$f":"T9-T24","v":0}]
[null,null,null,null,null,"","",null,null,null,null,null,null,null,null,null,"P2O5 organisch",null,null,null,{"$f":"U10-U25","v":0}]
[null,null,null,null,null,"","",null,null,null,null,null,null,null,null,null,"Sonstige organische Düngemittel",{"$f":"R11-R26","v":0},{"$f":"S11-S26","v":0},{"$f":"T11-T26","v":0}]
[null,null,null,null,null,"","",null,null,null,null,null,null,null,null,null,"Bodenhilfsstoffe",{"$f":"R12-R27","v":0},null,{"$f":"T12-T27","v":0}]
[null,null,null,null,null,"","",null,null,null,null,null,null,null,null,null,"Kultursubstrate",{"$f":"R13-R28","v":0},null,{"$f":"T13-T28","v":0}]
[null,null,null,null,null,"","",null,null,null,null,null,null,null,null,null,"Pflanzenhilfsmittel",{"$f":"R14-R29","v":0},null,{"$f":"T14-T29","v":0}]
[null,null,null,null,null,"","",null,null,null,null,null,null,null,null,null,"Abfälle zur Beseitigung (§ 28 Absatz 2 odeS 3 KSWG)",{"$f":"R15-R30","v":0},null,{"$f":"T15-T30","v":0}]
[null,null,null,null,null,"",""]
[null,null,null,null,null,"",""]
[null,null,null,null,null,"",""]
[null,null,null,null,null,"",""]
[null,null,null,null,null,"",""]
[null,null,null,null,null,"",""]
[null,null,null,null,null,"",""]
[null,null,null,null,null,"",""]
[null,"Summe",null,null,null,null,{"$f":"SUM(G32:G53)","v":0}]
[]
[null,"Erntedatum:",null,{"$f":"IF(VLOOKUP($B$2,Ackerbauplan,58,0)=\"\",\"\",VLOOKUP($B$2,Ackerbauplan,58,0))","v":""},null,"dt/ha",{"$f":"VLOOKUP($B$2,Ackerbauplan,60,0)","v":0},null,null,"€/dt",null,{"$f":"VLOOKUP($B$2,Ackerbauplan,59,0)","v":0}]
[null,"   Hauptleistung ",null,{"$f":"IF(VLOOKUP($B$2,Ackerbauplan,61,0)=\"\",\"\",VLOOKUP($B$2,Ackerbauplan,61,0))","v":""},null,"Saatgut ",null,{"$f":"G11","v":0},"€/ha","Marktleistung -"]
[null,null,"+ Nebenleistung ",{"$f":"IF($B$2=\"\",\"\",VLOOKUP($B$2,Anbauplan,62,0))","v":0},null,"Dünger ",null,{"$f":"SUM(G14:G28)","v":0},"€/ha","Saatgut, Dünger, PSM"]
[null,null,"= Marktleistung ",{"$f":"IF(D57=\"\",\"\",D58+D57)","v":""},null,"Pflanzenschutz ",null,{"$f":"G54","v":0},"€/ha",{"$f":"IF(D59=\"\",\"\",D59-H57-H58-H59)","v":""},null,null,"€/ha"]
[null,{"$f":"IF($B$2=\"\",\"\",VLOOKUP($B$2,Anbauplan,2,0))","v":0}]
[null,"Bearbeitung","Maschine 1",null,"Maschine 2",null,"Maschine 3",null,"Datum",null,"Bemerkung"]

{"sheet":"A13","index":22,"n_rows":61,"n_cols":30,"rows_kept":61,"cut":false,"hidden":false,"merged":[[13,27,13,28],[13,29,16,30],[6,7,6,12],[7,7,7,8],[8,7,8,8],[7,9,7,10],[8,9,8,10],[10,8,10,12],[73,2,73,3],[73,4,73,5],[73,6,73,7],[73,8,73,9],[73,10,73,12],[69,2,69,3],[69,4,69,5],[69,6,69,7],[69,8,69,9],[69,10,69,12],[70,2,70,3],[70,4,70,5],[70,6,70,7],[70,8,70,9],[70,10,70,12],[67,2,67,3],[67,4,67,5],[67,6,67,7],[74,2,74,3],[74,4,74,5],[74,6,74,7],[74,8,74,9],[74,10,74,12],[71,2,71,3],[71,4,71,5],[71,6,71,7],[71,8,71,9],[71,10,71,12],[72,2,72,3],[72,4,72,5],[72,6,72,7],[72,8,72,9],[72,10,72,12],[67,8,67,9],[67,10,67,12],[68,2,68,3],[68,4,68,5],[68,6,68,7],[68,8,68,9],[68,10,68,12],[65,2,65,3],[65,4,65,5],[65,6,65,7],[65,8,65,9],[65,10,65,12],[66,2,66,3],[66,4,66,5],[66,6,66,7],[66,8,66,9],[66,10,66,12],[63,2,63,3],[63,4,63,5],[63,6,63,7],[63,8,63,9],[63,10,63,12],[64,2,64,3],[64,4,64,5],[64,6,64,7],[64,8,64,9],[64,10,64,12],[61,2,61,3],[61,4,61,5],[61,6,61,7],[61,8,61,9],[61,10,61,12],[62,2,62,3],[62,4,62,5],[62,6,62,7],[62,8,62,9],[62,10,62,12],[58,3,58,4],[58,5,58,6],[58,9,58,11],[59,1,59,12],[60,2,60,3],[60,4,60,5],[60,6,60,7],[60,8,60,9],[60,10,60,12],[56,1,56,2],[56,3,56,4],[56,5,56,6],[56,9,56,12],[57,3,57,4],[57,5,57,6],[57,9,57,12],[52,7,52,9],[52,10,52,12],[53,1,53,5],[53,7,53,12],[54,1,54,6],[55,1,55,2],[55,3,55,4],[55,6,55,8],[55,9,55,10],[55,11,55,12],[49,7,49,9],[49,10,49,12],[50,7,50,9],[50,10,50,12],[51,7,51,9],[51,10,51,12],[46,7,46,9],[46,10,46,12],[47,7,47,9],[47,10,47,12],[48,7,48,9],[48,10,48,12],[43,7,43,9],[43,10,43,12],[44,7,44,9],[44,10,44,12],[45,7,45,9],[45,10,45,12],[40,7,40,9],[40,10,40,12],[41,7,41,9],[41,10,41,12],[42,7,42,9],[42,10,42,12],[37,7,37,9],[37,10,37,12],[38,7,38,9],[38,10,38,12],[39,7,39,9],[39,10,39,12],[34,7,34,9],[34,10,34,12],[35,7,35,9],[35,10,35,12],[36,7,36,9],[36,10,36,12],[31,7,31,9],[31,10,31,12],[32,7,32,9],[32,10,32,12],[32,16,32,20],[33,7,33,9],[33,10,33,12],[29,1,29,6],[29,7,29,8],[29,9,29,10],[30,0,30,1],[30,7,30,9],[30,10,30,12],[23,9,23,10],[24,9,24,10],[25,9,25,10],[26,9,26,10],[27,9,27,10],[28,1,28,6],[28,7,28,8],[28,9,28,10],[17,16,17,20],[18,9,18,10],[19,9,19,10],[20,9,20,10],[21,9,21,10],[22,9,22,10],[14,9,14,10],[15,9,15,10],[16,9,16,10],[17,9,17,10],[10,1,10,2],[9,7,9,12],[11,1,11,2],[11,4,11,6],[11,7,11,8],[11,9,11,10],[11,25,12,25],[33,22,33,23],[34,22,34,23],[0,1,0,12],[1,2,1,3],[1,4,1,6],[1,7,1,9],[1,10,1,12],[2,2,2,3],[2,4,2,6],[2,7,2,9],[2,10,2,12],[5,7,5,10],[5,11,5,12],[3,2,3,3],[3,4,3,6],[3,7,3,10],[3,11,3,12],[4,2,4,3],[4,4,4,6],[4,7,4,9],[4,10,4,12],[12,9,12,10],[13,9,13,10]]}
[null,"Ackerland"]
[null,13,"Name:",null,{"$f":"IF(B2=\"\",\"\",VLOOKUP(B2,Anbauplan,2,0))","v":0},null,null,"Jahr:",null,null,{"$f":"IF(Einführung!I8=\"\",\"\",Einführung!I8)","v":""},null,null,{"$f":"IF(OR(B4=\"\",H12=\"\"),\"\",H12*B4)","v":0},"DB kg * Fläche"]
[null,"Hektar ","Hauptfrucht ",null,{"$f":"IF(B2=\"\",\"\",VLOOKUP(B2,Ackerbauplan,4,0))","v":0},null,null,"Nitratkulisse",null,null,{"$f":"IF(B2=\"\",\"\",VLOOKUP(B2,Ackerbauplan,20,0))","v":0},null,null,{"$f":"L4","v":""},"kg/ha org. Dünger für Kontrollgrenze"]
[null,{"$f":"IF(B2=\"\",\"\",VLOOKUP(B2,Ackerbauplan,3,0))","v":0},"Vorfrucht",null,{"$f":"IF(B2=\"\",\"\",VLOOKUP(B2,Ackerbauplan,9,0))","v":0},null,null,"Wirtschaftsdünger zur Berechung\ndes 130 kg N/ha Anteils in kg/ha",null,null,null,{"$f":"IF(K3=\"ja\",W29,\"\")","v":""},null,{"$f":"IF(N3=\"\",\"\",N3*B4)","v":""},"kg Gesamtschlag org Dünger für 170 Kontrollgrenze",null,null,"Gesamt N","NH4-N","P2O5 mineral.","P2O5 organisch"]
[null,"Sorte","VorVorfrucht",null,null,null,null,"Phosphatkulisse",null,null,{"$f":"IF(B2=\"\",\"\",VLOOKUP(B2,Ackerbauplan,21,0))","v":0},null,null,{"$f":"IF(H12=\"\",\"\",IF(K3=\"ja\",N2*0.8,\"\"))","v":""},"Nitrat belastetes Gebiet Düngebedarf Gesamtschlag kg N/ha",null,"N Gesamt minerl.",{"$f":"SUMIF($N$14:$N$28,\"mineralisch\",$H$14:$H$28)*B4","v":0}]
[null,{"$f":"IF(B2=\"\",\"\",VLOOKUP(B2,Ackerbauplan,8,0))","v":0},null,null,null,null,null,"sonstige Auflagen",null,null,null,null,null,{"$f":"IF(K3=\"ja\",X30+Y30,\"\")","v":""},"org +min .anrechenbare N Menge Gesamtschlag  kg N/ha",null,"NH4-N minerlisch",null,{"$f":"SUMIF($N$14:$N$28,\"mineralisch\",$I$14:$I$28)*B4","v":0}]
[null,"Aussaatdatum","Kö./m² ",{"$f":"IF(B2=\"\",\"\",VLOOKUP(B2,Ackerbauplan,52,0))","v":0},null,"Eigen","Zukauf","Versorgungsstufen",null,null,null,null,null,{"$f":"IF(K3=\"ja\",J12*B4,\"\")","v":""},null,null,"N Gesamt organsich",{"$f":"SUMIF($N$14:$N$28,\"organisch\",$H$14:$H$28)*B4","v":0}]
[null,{"$f":"IF(B2=\"0\",\"\",VLOOKUP(B2,Ackerbauplan,51,0))","v":"00:00:00"},"x TKG ",{"$f":"IF(B2=\"\",\"\",VLOOKUP(B2,Ackerbauplan,53,0))","v":0},"dt/ha ",null,null,"Nmin",null,"P2O5",null,"K2O","MgO",null,null,null,"NH4-N organsich",null,{"$f":"SUMIF($N$14:$N$28,\"organisch\",I14:I28)*B4","v":0}]
[null,"Beize","/Kei.fäh.",{"$f":"IF(B2=\"\",\"\",VLOOKUP(B2,Ackerbauplan,54,0))","v":0},"€/dt",null,null,{"$f":"IF(B2=\"\",\"\",VLOOKUP(B2,Ackerbauplan,17,0))","v":0},null,{"$f":"IF(B2=\"\",\"\",VLOOKUP(B2,Ackerbauplan,30,0))","v":"C"},null,{"$f":"IF(B2=\"\",\"\",VLOOKUP(B2,Ackerbauplan,31,0))","v":"C"},{"$f":"IF(B2=\"\",\"\",VLOOKUP(B2,Ackerbauplan,32,0))","v":"C"},null,null,null,"P2O5 mineralisch",null,null,{"$f":"SUMIF($N$14:$N$28,\"mineralisch\",$J$14:$J$28)*B4","v":0}]
[null,null,"= kg/ha",{"$f":"IF(B2=\"\",\"\",VLOOKUP(B2,Ackerbauplan,55,0))","v":""},"€/ha ",{"$f":"F8*F9","v":0},{"$f":"G8*G9","v":0},"Düngebedarf kg/ha (Blatt Ackerfläche)",null,null,null,null,null,null,"Düngebedarf um 20% reduziert",null,"P2O5 organisch",null,null,null,{"$f":"SUMIF($N$14:$N$28,\"organisch\",$J$14:$J$28)*B4","v":0},null,null,null,null,null,null,{"$f":"IF(K3=\"ja\",\"Noch nicht ausgeschöpfter Stickstoff Düngebedarf aller Flächen\",\"\")","v":""}]
[null,"Saatgutkennnummer",null,null,null,"Summe",{"$f":"F10+G10","v":0},{"$f":"IF(H12=\"\",\"\",IF(K3=\"ja\",H12*0.8,\"\"))","v":""},{"$f":"IF(K3=\"ja\",O10,\"\")","v":""},null,null,null,null,null,null,null,"Sonstige organische Düngemittel",{"$f":"SUMIF($N$14:$N$28,Q11,$H$14:$H$28)*B4","v":0},{"$f":"SUMIF($N$14:$N$28,Q11,$I$14:$I$28)*B4","v":0},{"$f":"SUMIF($N$14:$N$28,Q11,$J$14:$J$28)*B4","v":0},null,null,null,null,null,null,null,{"$f":"IF(K3=\"ja\",'Zus. Anlage 5 DüV'!D43,\"\")","v":""},{"$f":"IF(K3=\"ja\",\"kg N Gesamtfläche\",\"\")","v":""}]
[null,null,null,null,"N Bedarf DÜV kg/ha",null,null,{"$f":"IF(B2=\"\",\"\",VLOOKUP(B2,Ackerbauplan,18,0))","v":"0"},null,{"$f":"IF(B2=\"\",\"\",VLOOKUP(B2,Ackerbauplan,37,0))","v":"0"},null,{"$f":"IF(B2=\"\",\"\",VLOOKUP(B2,Ackerbauplan,38,0))","v":"0"},null,null,null,null,"Bodenhilfsstoffe",{"$f":"SUMIF($N$14:$N$28,Q12,$H$14:$H$28)*B4","v":0},null,{"$f":"SUMIF($N$14:$N$28,Q12,$J$14:$J$28)*B4","v":0},null,"Anrechnung","Anrechnung ","Prüfung NH4","mineral","Kontroll\nSumme"]
[null,"Dünger","Datum","EC","m³o.dt/ha","€/dt","€/ha","Ges.-N","NH4-N","P2O5",null,"K2O","S",null,null,null,"Kultursubstrate",{"$f":"SUMIF($N$14:$N$28,Q13,$H$14:$H$28)*B4","v":0},null,{"$f":"SUMIF($N$14:$N$28,Q13,$J$14:$J$28)*B4","v":0},null,"aktuelles Jahr","170 kg GW"," oder Anlage3","Stickstoff"]
[null,null,null,null,null,{"$f":"IF(B14=\"\",\"\",VLOOKUP(B14,Düngemiteldaten,2,0))","v":""},{"$f":"IF(B14=\"\",\"\",E14*F14)","v":""},{"$f":"IF(B14=\"\",\"\",VLOOKUP(B14,Düngemiteldaten,4,0)*E14)","v":""},{"$f":"IF(B14=\"\",\"\",VLOOKUP(B14,Düngemiteldaten,5,0)*E14)","v":""},{"$f":"IF(B14=\"\",\"\",VLOOKUP(B14,Düngemiteldaten,7,0)*E14)","v":""},null,{"$f":"IF(B14=\"\",\"\",VLOOKUP(B14,Düngemiteldaten,8,0)*E14)","v":""},{"$f":"IF(B14=\"\",\"\",VLOOKUP(B14,Düngemiteldaten,10,0)*E14)","v":""},{"$f":"IF(B14=\"\",\"\",VLOOKUP(B14,Düngemiteldaten,20,0))","v":""},null,null,"Pflanzenhilfsmittel",{"$f":"SUMIF($N$14:$N$28,Q14,$H$14:$H$28)*B4","v":0},null,{"$f":"SUMIF($N$14:$N$28,Q14,$J$14:$J$28)*B4","v":0},null,{"$f":"IF(OR(B14=\"\",N14=\"\"),\"\",IF(N14=\"mineralisch\",\"\",VLOOKUP(B14,Düngemiteldaten,17,0)*VLOOKUP(B14,Düngemiteldaten,4,0)*E14))","v":""},{"$f":"IF(N14=\"organisch\",VLOOKUP(B14,Düngemiteldaten,4,0)*E14*VLOOKUP(B14,Düngemiteldaten,19,0),\"\")","v":""},{"$f":"IF(B14=\"\",\"\",IF(V14<I14,I14,V14))","v":""},{"$f":"IF(B14=\"\",\"\",IF(N14=\"organisch\",0,H14))","v":""},{"$f":"IF(SUM(V14:Y14)=0,\"\",SUM(X14:Y14))","v":""},null,{"$f":"IF(K3=\"ja\",\"Summe Gesamtstickstoff\",\"\")","v":""},null,{"$f":"IF(K3=\"ja\",\"Anteil § 13a Prüfung \n160 kg N/ha Gesamt\n80 kg N/ha mineralisch\",\"\")","v":""}]
[null,null,null,null,null,"",{"$f":"IF(B15=\"\",\"\",E15*F15)","v":""},"","","",null,"","","",null,null,"Abfälle zur Beseitigung (§ 28 Absatz 2 odeS 3 KSWG)",{"$f":"SUMIF($N$14:$N$28,Q15,$H$14:$H$28)*B4","v":0},null,{"$f":"SUMIF($N$14:$N$28,Q15,$J$14:$J$28)*B4","v":0},null,"","",{"$f":"IF(B15=\"\",\"\",IF(V15<I15,I15,V15))","v":""},{"$f":"IF(B15=\"\",\"\",IF(N15=\"organisch\",0,H15))","v":""},{"$f":"IF(SUM(V15:Y15)=0,\"\",SUM(X15:Y15))","v":""},null,{"$f":"IF(L4=\"\",\"\",SUMIF($N$14:$N$28,\"mineralisch\",$H$14:$H$28))","v":""},{"$f":"IF(K3=\"ja\",\"mineralisch N kg/ha\",\"\")","v":""}]
[null,null,null,null,null,"","","","","",null,"","","",null,null,null,null,null,null,null,"","","","","",null,{"$f":"IF(L4=\"\",\"\",SUMIF($N$14:$N$28,\"organisch\",$H$14:$H$28)+SUMIF($N$14:$N$28,Q11,$H$14:$H$28))","v":""},{"$f":"IF(K3=\"ja\",\"organisch N kg/ha\",\"\")","v":""}]
[null,null,null,null,null,"","","","","",null,"","","",null,null,null,null,null,null,null,{"$f":"IF(OR(B17=\"\",N17=\"\"),\"\",IF(N17=\"mineralisch\",\"\",VLOOKUP(B17,Düngemiteldaten,17,0)*VLOOKUP(B17,Düngemiteldaten,4,0)*E17))","v":""},"","","","",null,{"$f":"IF(K3=\"ja\",(AB16+AB15),\"\")","v":""},{"$f":"IF(K3=\"ja\",\"Gesamt kg N/ha\",\"\")","v":""}]
[null,null,null,null,null,"","","","","",null,"","","",null,null,"Nährstoffherkunft auf gefährdeten Flächen §13",null,null,null,null,"","","","",""]
[null,null,null,null,null,"","","","","",null,"","","",null,null,null,"Gesamt N","NH4-N","P2O5 mineral.","P2O5 organisch","","","","",""]
[null,null,null,null,null,"","","","","",null,"","","",null,null,"N Gesamt minerl.",{"$f":"IF(K3=\"ja\",SUMIF($N$14:$N$28,\"mineralisch\",$H$14:$H$28),0)*B4","v":0},null,null,null,"","","","",""]
[null,null,null,null,null,"","","","","",null,"","","",null,null,"NH4-N minerlisch",null,{"$f":"IF(K3=\"ja\",SUMIF($N$14:$N$28,\"mineralisch\",$I$14:$I$28),0)*B4","v":0},null,null,"","","","",""]
[null,null,null,null,null,"","","","","",null,"","","",null,null,"N Gesamt organsich",{"$f":"IF(K3=\"ja\",SUMIF($N$14:$N$28,\"organisch\",$H$14:$H$28),0)*B4","v":0},null,null,null,"","","","",""]
[null,null,null,null,null,"","","","","",null,"","","",null,null,"NH4-N organsich",null,{"$f":"IF(K3=\"ja\",SUMIF($N$14:$N$28,\"organisch\",$I$14:$I$28),0)*B4","v":0},null,null,"","","","",""]
[null,null,null,null,null,"","","","","",null,"","","",null,null,"P2O5 mineralisch",null,null,{"$f":"IF(K3=\"ja\",SUMIF($N$14:$N$28,\"mineralisch\",$J$14:$J$28),0)*B4","v":0},null,"","","","",""]
[null,null,null,null,null,"","","","","",null,"","","",null,null,"P2O5 organisch",null,null,null,{"$f":"IF(K3=\"ja\",SUMIF($N$14:$N$28,\"organisch\",$J$14:$J$28),0)*B4","v":0},"","","","",""]
[null,null,null,null,null,"","","","","",null,"","","",null,null,"Sonstige organische Düngemittel",{"$f":"IF(K3=\"ja\",SUMIF($N$14:$N$28,Q26,$H$14:$H$28),0)*B4","v":0},{"$f":"IF(K3=\"ja\",SUMIF($N$14:$N$28,Q26,$I$14:$I$28),0)*B4","v":0},{"$f":"IF(K3=\"ja\",SUMIF($N$14:$N$28,Q26,$J$14:$J$28),0)*B4","v":0},null,"","","","",""]
[null,null,null,null,null,"","","","","",null,"","","",null,null,"Bodenhilfsstoffe",{"$f":"IF(K3=\"ja\",SUMIF($N$14:$N$28,Q27,$H$14:$H$28),0)*B4","v":0},null,{"$f":"IF(K3=\"ja\",SUMIF($N$14:$N$28,Q27,$J$14:$J$28),0)*B4","v":0},null,"","","","",""]
[null,null,null,null,null,"","","","","",null,"","","",null,null,"Kultursubstrate",{"$f":"IF(K3=\"ja\",SUMIF($N$14:$N$28,Q28,$H$14:$H$28),0)*B4","v":0},null,{"$f":"IF(K3=\"ja\",SUMIF($N$14:$N$28,Q28,$J$14:$J$28),0)*B4","v":0},null,"","","","",""]
[null,"anrechenbarer N aus org.Dgg. + min. Dgg. kg N/ha",null,null,null,null,null,{"$f":"X29+Y29","v":0},null,{"$f":"SUM(J14:J28)","v":0},null,{"$f":"SUM(L14:L28)","v":0},{"$f":"SUM(M14:M28)","v":0},null,null,null,"Pflanzenhilfsmittel",{"$f":"IF(K3=\"ja\",SUMIF($N$14:$N$28,Q29,$H$14:$H$28),0)*B4","v":0},null,{"$f":"IF(K3=\"ja\",SUMIF($N$14:$N$28,Q29,$J$14:$J$28),0)*B4","v":0},null,{"$f":"SUM(V14:V28)","v":0},{"$f":"SUM(W14:W28)","v":0},{"$f":"SUM(X14:X28)","v":0},{"$f":"SUM(Y14:Y28)","v":0},"kg/ha"]
[null,{"$f":"IF(K3=\"0\",O31,O30)","v":"Bilanz (anrechenbarer Dgg.- reduzierter Düngebedarf) kg N/ha"},null,null,null,null,null,{"$f":"IF(H12=\"\",0,IF(OR(K3=0,K3=\"nein\"),H29-H12,H29-H11))","v":0},null,{"$f":"IF(J12=\"\",\"\",J29-J12)","v":0},null,{"$f":"IF(L12=\"\",\"\",L29-L12)","v":0},{"$f":"IF(M12=\"\",\"\",M29-M12)","v":""},null,"Bilanz (anrechenbarer Dgg.- reduzierter Düngebedarf) kg N/ha",null,"Abfälle zur Beseitigung (§ 28 Absatz 2 odeS 3 KSWG)",{"$f":"IF(K3=\"ja\",SUMIF($N$14:$N$28,Q30,$H$14:$H$28),0)*B4","v":0},null,{"$f":"IF(K3=\"ja\",SUMIF($N$14:$N$28,Q30,$J$14:$J$28),0)*B4","v":0},null,{"$f":"V29*B4","v":0},{"$f":"W29*B4","v":0},{"$f":"X29*B4","v":0},{"$f":"Y29*B4","v":0},"kg/Schlag",null,{"$f":"IF(H30>0,\"Stickstoffmenge überschreitet den Düngebedarf\",\"\")","v":""}]
["Pflanzenschutzmittel",null,"Datum","EC","E./ha","€/E.","€/ha","Anwender",null,null,"Bemerkungen",null,null,null,"Bilanz (anrechenbarer Dgg.- Düngebedarf) kg N/ha"]
[null,null,null,null,null,{"$f":"IF($B32=\"\",\"\",VLOOKUP($B32,PSMMittel,2,0))","v":""},{"$f":"IF(B32=\"\",\"\",E32*F32)","v":""}]
[null,null,null,null,null,"",{"$f":"IF(B33=\"\",\"\",E33*F33)","v":""},null,null,null,null,null,null,null,null,null,"Stickstoffherkunft nicht gefährdetes Gebiet Gesamtfläche"]
[null,null,null,null,null,"","",null,null,null,null,null,null,null,null,null,null,"Gesamt N","NH4-N","P2O5 mineral.","P2O5 organisch",null,"N Fixierung kg N/ha"]
[null,null,null,null,null,"","",null,null,null,null,null,null,null,null,null,"N Gesamt minerl.",{"$f":"R5-R20","v":0},null,null,null,null,{"$f":"IF(E3=0,\"\",VLOOKUP(E3,AckerbauKulturen,26,0)*G56*B4)","v":""}]
[null,null,null,null,null,"","",null,null,null,null,null,null,null,null,null,"NH4-N minerlisch",null,{"$f":"S6-S21","v":0}]
[null,null,null,null,null,"","",null,null,null,null,null,null,null,null,null,"N Gesamt organsich",{"$f":"R7-R22","v":0}]
[null,null,null,null,null,"","",null,null,null,null,null,null,null,null,null,"NH4-N organsich",null,{"$f":"S8-S23","v":0}]
[null,null,null,null,null,"","",null,null,null,null,null,null,null,null,null,"P2O5 mineralisch",null,null,{"$f":"T9-T24","v":0}]
[null,null,null,null,null,"","",null,null,null,null,null,null,null,null,null,"P2O5 organisch",null,null,null,{"$f":"U10-U25","v":0}]
[null,null,null,null,null,"","",null,null,null,null,null,null,null,null,null,"Sonstige organische Düngemittel",{"$f":"R11-R26","v":0},{"$f":"S11-S26","v":0},{"$f":"T11-T26","v":0}]
[null,null,null,null,null,"","",null,null,null,null,null,null,null,null,null,"Bodenhilfsstoffe",{"$f":"R12-R27","v":0},null,{"$f":"T12-T27","v":0}]
[null,null,null,null,null,"","",null,null,null,null,null,null,null,null,null,"Kultursubstrate",{"$f":"R13-R28","v":0},null,{"$f":"T13-T28","v":0}]
[null,null,null,null,null,"","",null,null,null,null,null,null,null,null,null,"Pflanzenhilfsmittel",{"$f":"R14-R29","v":0},null,{"$f":"T14-T29","v":0}]
[null,null,null,null,null,"","",null,null,null,null,null,null,null,null,null,"Abfälle zur Beseitigung (§ 28 Absatz 2 odeS 3 KSWG)",{"$f":"R15-R30","v":0},null,{"$f":"T15-T30","v":0}]
[null,null,null,null,null,"",""]
[null,null,null,null,null,"",""]
[null,null,null,null,null,"",""]
[null,null,null,null,null,"",""]
[null,null,null,null,null,"",""]
[null,null,null,null,null,"",""]
[null,null,null,null,null,"",""]
[null,null,null,null,null,"",""]
[null,"Summe",null,null,null,null,{"$f":"SUM(G32:G53)","v":0}]
[]
[null,"Erntedatum:",null,{"$f":"IF(VLOOKUP($B$2,Ackerbauplan,58,0)=\"\",\"\",VLOOKUP($B$2,Ackerbauplan,58,0))","v":""},null,"dt/ha",{"$f":"VLOOKUP($B$2,Ackerbauplan,60,0)","v":0},null,null,"€/dt",null,{"$f":"VLOOKUP($B$2,Ackerbauplan,59,0)","v":0}]
[null,"   Hauptleistung ",null,{"$f":"IF(VLOOKUP($B$2,Ackerbauplan,61,0)=\"\",\"\",VLOOKUP($B$2,Ackerbauplan,61,0))","v":""},null,"Saatgut ",null,{"$f":"G11","v":0},"€/ha","Marktleistung -"]
[null,null,"+ Nebenleistung ",{"$f":"IF($B$2=\"\",\"\",VLOOKUP($B$2,Anbauplan,62,0))","v":0},null,"Dünger ",null,{"$f":"SUM(G14:G28)","v":0},"€/ha","Saatgut, Dünger, PSM"]
[null,null,"= Marktleistung ",{"$f":"IF(D57=\"\",\"\",D58+D57)","v":""},null,"Pflanzenschutz ",null,{"$f":"G54","v":0},"€/ha",{"$f":"IF(D59=\"\",\"\",D59-H57-H58-H59)","v":""},null,null,"€/ha"]
[null,{"$f":"IF($B$2=\"\",\"\",VLOOKUP($B$2,Anbauplan,2,0))","v":0}]
[null,"Bearbeitung","Maschine 1",null,"Maschine 2",null,"Maschine 3",null,"Datum",null,"Bemerkung"]

{"sheet":"A14","index":23,"n_rows":61,"n_cols":30,"rows_kept":61,"cut":false,"hidden":false,"merged":[[13,27,13,28],[13,29,16,30],[6,7,6,12],[7,7,7,8],[8,7,8,8],[7,9,7,10],[8,9,8,10],[10,8,10,12],[73,2,73,3],[73,4,73,5],[73,6,73,7],[73,8,73,9],[73,10,73,12],[69,2,69,3],[69,4,69,5],[69,6,69,7],[69,8,69,9],[69,10,69,12],[70,2,70,3],[70,4,70,5],[70,6,70,7],[70,8,70,9],[70,10,70,12],[67,2,67,3],[67,4,67,5],[67,6,67,7],[74,2,74,3],[74,4,74,5],[74,6,74,7],[74,8,74,9],[74,10,74,12],[71,2,71,3],[71,4,71,5],[71,6,71,7],[71,8,71,9],[71,10,71,12],[72,2,72,3],[72,4,72,5],[72,6,72,7],[72,8,72,9],[72,10,72,12],[67,8,67,9],[67,10,67,12],[68,2,68,3],[68,4,68,5],[68,6,68,7],[68,8,68,9],[68,10,68,12],[65,2,65,3],[65,4,65,5],[65,6,65,7],[65,8,65,9],[65,10,65,12],[66,2,66,3],[66,4,66,5],[66,6,66,7],[66,8,66,9],[66,10,66,12],[63,2,63,3],[63,4,63,5],[63,6,63,7],[63,8,63,9],[63,10,63,12],[64,2,64,3],[64,4,64,5],[64,6,64,7],[64,8,64,9],[64,10,64,12],[61,2,61,3],[61,4,61,5],[61,6,61,7],[61,8,61,9],[61,10,61,12],[62,2,62,3],[62,4,62,5],[62,6,62,7],[62,8,62,9],[62,10,62,12],[58,3,58,4],[58,5,58,6],[58,9,58,11],[59,1,59,12],[60,2,60,3],[60,4,60,5],[60,6,60,7],[60,8,60,9],[60,10,60,12],[56,1,56,2],[56,3,56,4],[56,5,56,6],[56,9,56,12],[57,3,57,4],[57,5,57,6],[57,9,57,12],[52,7,52,9],[52,10,52,12],[53,1,53,5],[53,7,53,12],[54,1,54,6],[55,1,55,2],[55,3,55,4],[55,6,55,8],[55,9,55,10],[55,11,55,12],[49,7,49,9],[49,10,49,12],[50,7,50,9],[50,10,50,12],[51,7,51,9],[51,10,51,12],[46,7,46,9],[46,10,46,12],[47,7,47,9],[47,10,47,12],[48,7,48,9],[48,10,48,12],[43,7,43,9],[43,10,43,12],[44,7,44,9],[44,10,44,12],[45,7,45,9],[45,10,45,12],[40,7,40,9],[40,10,40,12],[41,7,41,9],[41,10,41,12],[42,7,42,9],[42,10,42,12],[37,7,37,9],[37,10,37,12],[38,7,38,9],[38,10,38,12],[39,7,39,9],[39,10,39,12],[34,7,34,9],[34,10,34,12],[35,7,35,9],[35,10,35,12],[36,7,36,9],[36,10,36,12],[31,7,31,9],[31,10,31,12],[32,7,32,9],[32,10,32,12],[32,16,32,20],[33,7,33,9],[33,10,33,12],[29,1,29,6],[29,7,29,8],[29,9,29,10],[30,0,30,1],[30,7,30,9],[30,10,30,12],[23,9,23,10],[24,9,24,10],[25,9,25,10],[26,9,26,10],[27,9,27,10],[28,1,28,6],[28,7,28,8],[28,9,28,10],[17,16,17,20],[18,9,18,10],[19,9,19,10],[20,9,20,10],[21,9,21,10],[22,9,22,10],[14,9,14,10],[15,9,15,10],[16,9,16,10],[17,9,17,10],[10,1,10,2],[9,7,9,12],[11,1,11,2],[11,4,11,6],[11,7,11,8],[11,9,11,10],[11,25,12,25],[33,22,33,23],[34,22,34,23],[0,1,0,12],[1,2,1,3],[1,4,1,6],[1,7,1,9],[1,10,1,12],[2,2,2,3],[2,4,2,6],[2,7,2,9],[2,10,2,12],[5,7,5,10],[5,11,5,12],[3,2,3,3],[3,4,3,6],[3,7,3,10],[3,11,3,12],[4,2,4,3],[4,4,4,6],[4,7,4,9],[4,10,4,12],[12,9,12,10],[13,9,13,10]]}
[null,"Ackerland"]
[null,14,"Name:",null,{"$f":"IF(B2=\"\",\"\",VLOOKUP(B2,Anbauplan,2,0))","v":0},null,null,"Jahr:",null,null,{"$f":"IF(Einführung!I8=\"\",\"\",Einführung!I8)","v":""},null,null,{"$f":"IF(OR(B4=\"\",H12=\"\"),\"\",H12*B4)","v":0},"DB kg * Fläche"]
[null,"Hektar ","Hauptfrucht ",null,{"$f":"IF(B2=\"\",\"\",VLOOKUP(B2,Ackerbauplan,4,0))","v":0},null,null,"Nitratkulisse",null,null,{"$f":"IF(B2=\"\",\"\",VLOOKUP(B2,Ackerbauplan,20,0))","v":0},null,null,{"$f":"L4","v":""},"kg/ha org. Dünger für Kontrollgrenze"]
[null,{"$f":"IF(B2=\"\",\"\",VLOOKUP(B2,Ackerbauplan,3,0))","v":0},"Vorfrucht",null,{"$f":"IF(B2=\"\",\"\",VLOOKUP(B2,Ackerbauplan,9,0))","v":0},null,null,"Wirtschaftsdünger zur Berechung\ndes 130 kg N/ha Anteils in kg/ha",null,null,null,{"$f":"IF(K3=\"ja\",W29,\"\")","v":""},null,{"$f":"IF(N3=\"\",\"\",N3*B4)","v":""},"kg Gesamtschlag org Dünger für 170 Kontrollgrenze",null,null,"Gesamt N","NH4-N","P2O5 mineral.","P2O5 organisch"]
[null,"Sorte","VorVorfrucht",null,null,null,null,"Phosphatkulisse",null,null,{"$f":"IF(B2=\"\",\"\",VLOOKUP(B2,Ackerbauplan,21,0))","v":0},null,null,{"$f":"IF(H12=\"\",\"\",IF(K3=\"ja\",N2*0.8,\"\"))","v":""},"Nitrat belastetes Gebiet Düngebedarf Gesamtschlag kg N/ha",null,"N Gesamt minerl.",{"$f":"SUMIF($N$14:$N$28,\"mineralisch\",$H$14:$H$28)*B4","v":0}]
[null,{"$f":"IF(B2=\"\",\"\",VLOOKUP(B2,Ackerbauplan,8,0))","v":0},null,null,null,null,null,"sonstige Auflagen",null,null,null,null,null,{"$f":"IF(K3=\"ja\",X30+Y30,\"\")","v":""},"org +min .anrechenbare N Menge Gesamtschlag  kg N/ha",null,"NH4-N minerlisch",null,{"$f":"SUMIF($N$14:$N$28,\"mineralisch\",$I$14:$I$28)*B4","v":0}]
[null,"Aussaatdatum","Kö./m² ",{"$f":"IF(B2=\"\",\"\",VLOOKUP(B2,Ackerbauplan,52,0))","v":0},null,"Eigen","Zukauf","Versorgungsstufen",null,null,null,null,null,{"$f":"IF(K3=\"ja\",J12*B4,\"\")","v":""},null,null,"N Gesamt organsich",{"$f":"SUMIF($N$14:$N$28,\"organisch\",$H$14:$H$28)*B4","v":0}]
[null,{"$f":"IF(B2=\"0\",\"\",VLOOKUP(B2,Ackerbauplan,51,0))","v":"00:00:00"},"x TKG ",{"$f":"IF(B2=\"\",\"\",VLOOKUP(B2,Ackerbauplan,53,0))","v":0},"dt/ha ",null,null,"Nmin",null,"P2O5",null,"K2O","MgO",null,null,null,"NH4-N organsich",null,{"$f":"SUMIF($N$14:$N$28,\"organisch\",I14:I28)*B4","v":0}]
[null,"Beize","/Kei.fäh.",{"$f":"IF(B2=\"\",\"\",VLOOKUP(B2,Ackerbauplan,54,0))","v":0},"€/dt",null,null,{"$f":"IF(B2=\"\",\"\",VLOOKUP(B2,Ackerbauplan,17,0))","v":0},null,{"$f":"IF(B2=\"\",\"\",VLOOKUP(B2,Ackerbauplan,30,0))","v":"C"},null,{"$f":"IF(B2=\"\",\"\",VLOOKUP(B2,Ackerbauplan,31,0))","v":"C"},{"$f":"IF(B2=\"\",\"\",VLOOKUP(B2,Ackerbauplan,32,0))","v":"C"},null,null,null,"P2O5 mineralisch",null,null,{"$f":"SUMIF($N$14:$N$28,\"mineralisch\",$J$14:$J$28)*B4","v":0}]
[null,null,"= kg/ha",{"$f":"IF(B2=\"\",\"\",VLOOKUP(B2,Ackerbauplan,55,0))","v":""},"€/ha ",{"$f":"F8*F9","v":0},{"$f":"G8*G9","v":0},"Düngebedarf kg/ha (Blatt Ackerfläche)",null,null,null,null,null,null,"Düngebedarf um 20% reduziert",null,"P2O5 organisch",null,null,null,{"$f":"SUMIF($N$14:$N$28,\"organisch\",$J$14:$J$28)*B4","v":0},null,null,null,null,null,null,{"$f":"IF(K3=\"ja\",\"Noch nicht ausgeschöpfter Stickstoff Düngebedarf aller Flächen\",\"\")","v":""}]
[null,"Saatgutkennnummer",null,null,null,"Summe",{"$f":"F10+G10","v":0},{"$f":"IF(H12=\"\",\"\",IF(K3=\"ja\",H12*0.8,\"\"))","v":""},{"$f":"IF(K3=\"ja\",O10,\"\")","v":""},null,null,null,null,null,null,null,"Sonstige organische Düngemittel",{"$f":"SUMIF($N$14:$N$28,Q11,$H$14:$H$28)*B4","v":0},{"$f":"SUMIF($N$14:$N$28,Q11,$I$14:$I$28)*B4","v":0},{"$f":"SUMIF($N$14:$N$28,Q11,$J$14:$J$28)*B4","v":0},null,null,null,null,null,null,null,{"$f":"IF(K3=\"ja\",'Zus. Anlage 5 DüV'!D43,\"\")","v":""},{"$f":"IF(K3=\"ja\",\"kg N Gesamtfläche\",\"\")","v":""}]
[null,null,null,null,"N Bedarf DÜV kg/ha",null,null,{"$f":"IF(B2=\"\",\"\",VLOOKUP(B2,Ackerbauplan,18,0))","v":"0"},null,{"$f":"IF(B2=\"\",\"\",VLOOKUP(B2,Ackerbauplan,37,0))","v":"0"},null,{"$f":"IF(B2=\"\",\"\",VLOOKUP(B2,Ackerbauplan,38,0))","v":"0"},null,null,null,null,"Bodenhilfsstoffe",{"$f":"SUMIF($N$14:$N$28,Q12,$H$14:$H$28)*B4","v":0},null,{"$f":"SUMIF($N$14:$N$28,Q12,$J$14:$J$28)*B4","v":0},null,"Anrechnung","Anrechnung ","Prüfung NH4","mineral","Kontroll\nSumme"]
[null,"Dünger","Datum","EC","m³o.dt/ha","€/dt","€/ha","Ges.-N","NH4-N","P2O5",null,"K2O","S",null,null,null,"Kultursubstrate",{"$f":"SUMIF($N$14:$N$28,Q13,$H$14:$H$28)*B4","v":0},null,{"$f":"SUMIF($N$14:$N$28,Q13,$J$14:$J$28)*B4","v":0},null,"aktuelles Jahr","170 kg GW"," oder Anlage3","Stickstoff"]
[null,null,null,null,null,{"$f":"IF(B14=\"\",\"\",VLOOKUP(B14,Düngemiteldaten,2,0))","v":""},{"$f":"IF(B14=\"\",\"\",E14*F14)","v":""},{"$f":"IF(B14=\"\",\"\",VLOOKUP(B14,Düngemiteldaten,4,0)*E14)","v":""},{"$f":"IF(B14=\"\",\"\",VLOOKUP(B14,Düngemiteldaten,5,0)*E14)","v":""},{"$f":"IF(B14=\"\",\"\",VLOOKUP(B14,Düngemiteldaten,7,0)*E14)","v":""},null,{"$f":"IF(B14=\"\",\"\",VLOOKUP(B14,Düngemiteldaten,8,0)*E14)","v":""},{"$f":"IF(B14=\"\",\"\",VLOOKUP(B14,Düngemiteldaten,10,0)*E14)","v":""},{"$f":"IF(B14=\"\",\"\",VLOOKUP(B14,Düngemiteldaten,20,0))","v":""},null,null,"Pflanzenhilfsmittel",{"$f":"SUMIF($N$14:$N$28,Q14,$H$14:$H$28)*B4","v":0},null,{"$f":"SUMIF($N$14:$N$28,Q14,$J$14:$J$28)*B4","v":0},null,{"$f":"IF(OR(B14=\"\",N14=\"\"),\"\",IF(N14=\"mineralisch\",\"\",VLOOKUP(B14,Düngemiteldaten,17,0)*VLOOKUP(B14,Düngemiteldaten,4,0)*E14))","v":""},{"$f":"IF(N14=\"organisch\",VLOOKUP(B14,Düngemiteldaten,4,0)*E14*VLOOKUP(B14,Düngemiteldaten,19,0),\"\")","v":""},{"$f":"IF(B14=\"\",\"\",IF(V14<I14,I14,V14))","v":""},{"$f":"IF(B14=\"\",\"\",IF(N14=\"organisch\",0,H14))","v":""},{"$f":"IF(SUM(V14:Y14)=0,\"\",SUM(X14:Y14))","v":""},null,{"$f":"IF(K3=\"ja\",\"Summe Gesamtstickstoff\",\"\")","v":""},null,{"$f":"IF(K3=\"ja\",\"Anteil § 13a Prüfung \n160 kg N/ha Gesamt\n80 kg N/ha mineralisch\",\"\")","v":""}]
[null,null,null,null,null,"",{"$f":"IF(B15=\"\",\"\",E15*F15)","v":""},"","","",null,"","","",null,null,"Abfälle zur Beseitigung (§ 28 Absatz 2 odeS 3 KSWG)",{"$f":"SUMIF($N$14:$N$28,Q15,$H$14:$H$28)*B4","v":0},null,{"$f":"SUMIF($N$14:$N$28,Q15,$J$14:$J$28)*B4","v":0},null,"","",{"$f":"IF(B15=\"\",\"\",IF(V15<I15,I15,V15))","v":""},{"$f":"IF(B15=\"\",\"\",IF(N15=\"organisch\",0,H15))","v":""},{"$f":"IF(SUM(V15:Y15)=0,\"\",SUM(X15:Y15))","v":""},null,{"$f":"IF(L4=\"\",\"\",SUMIF($N$14:$N$28,\"mineralisch\",$H$14:$H$28))","v":""},{"$f":"IF(K3=\"ja\",\"mineralisch N kg/ha\",\"\")","v":""}]
[null,null,null,null,null,"","","","","",null,"","","",null,null,null,null,null,null,null,"","","","","",null,{"$f":"IF(L4=\"\",\"\",SUMIF($N$14:$N$28,\"organisch\",$H$14:$H$28)+SUMIF($N$14:$N$28,Q11,$H$14:$H$28))","v":""},{"$f":"IF(K3=\"ja\",\"organisch N kg/ha\",\"\")","v":""}]
[null,null,null,null,null,"","","","","",null,"","","",null,null,null,null,null,null,null,{"$f":"IF(OR(B17=\"\",N17=\"\"),\"\",IF(N17=\"mineralisch\",\"\",VLOOKUP(B17,Düngemiteldaten,17,0)*VLOOKUP(B17,Düngemiteldaten,4,0)*E17))","v":""},"","","","",null,{"$f":"IF(K3=\"ja\",(AB16+AB15),\"\")","v":""},{"$f":"IF(K3=\"ja\",\"Gesamt kg N/ha\",\"\")","v":""}]
[null,null,null,null,null,"","","","","",null,"","","",null,null,"Nährstoffherkunft auf gefährdeten Flächen §13",null,null,null,null,"","","","",""]
[null,null,null,null,null,"","","","","",null,"","","",null,null,null,"Gesamt N","NH4-N","P2O5 mineral.","P2O5 organisch","","","","",""]
[null,null,null,null,null,"","","","","",null,"","","",null,null,"N Gesamt minerl.",{"$f":"IF(K3=\"ja\",SUMIF($N$14:$N$28,\"mineralisch\",$H$14:$H$28),0)*B4","v":0},null,null,null,"","","","",""]
[null,null,null,null,null,"","","","","",null,"","","",null,null,"NH4-N minerlisch",null,{"$f":"IF(K3=\"ja\",SUMIF($N$14:$N$28,\"mineralisch\",$I$14:$I$28),0)*B4","v":0},null,null,"","","","",""]
[null,null,null,null,null,"","","","","",null,"","","",null,null,"N Gesamt organsich",{"$f":"IF(K3=\"ja\",SUMIF($N$14:$N$28,\"organisch\",$H$14:$H$28),0)*B4","v":0},null,null,null,"","","","",""]
[null,null,null,null,null,"","","","","",null,"","","",null,null,"NH4-N organsich",null,{"$f":"IF(K3=\"ja\",SUMIF($N$14:$N$28,\"organisch\",$I$14:$I$28),0)*B4","v":0},null,null,"","","","",""]
[null,null,null,null,null,"","","","","",null,"","","",null,null,"P2O5 mineralisch",null,null,{"$f":"IF(K3=\"ja\",SUMIF($N$14:$N$28,\"mineralisch\",$J$14:$J$28),0)*B4","v":0},null,"","","","",""]
[null,null,null,null,null,"","","","","",null,"","","",null,null,"P2O5 organisch",null,null,null,{"$f":"IF(K3=\"ja\",SUMIF($N$14:$N$28,\"organisch\",$J$14:$J$28),0)*B4","v":0},"","","","",""]
[null,null,null,null,null,"","","","","",null,"","","",null,null,"Sonstige organische Düngemittel",{"$f":"IF(K3=\"ja\",SUMIF($N$14:$N$28,Q26,$H$14:$H$28),0)*B4","v":0},{"$f":"IF(K3=\"ja\",SUMIF($N$14:$N$28,Q26,$I$14:$I$28),0)*B4","v":0},{"$f":"IF(K3=\"ja\",SUMIF($N$14:$N$28,Q26,$J$14:$J$28),0)*B4","v":0},null,"","","","",""]
[null,null,null,null,null,"","","","","",null,"","","",null,null,"Bodenhilfsstoffe",{"$f":"IF(K3=\"ja\",SUMIF($N$14:$N$28,Q27,$H$14:$H$28),0)*B4","v":0},null,{"$f":"IF(K3=\"ja\",SUMIF($N$14:$N$28,Q27,$J$14:$J$28),0)*B4","v":0},null,"","","","",""]
[null,null,null,null,null,"","","","","",null,"","","",null,null,"Kultursubstrate",{"$f":"IF(K3=\"ja\",SUMIF($N$14:$N$28,Q28,$H$14:$H$28),0)*B4","v":0},null,{"$f":"IF(K3=\"ja\",SUMIF($N$14:$N$28,Q28,$J$14:$J$28),0)*B4","v":0},null,"","","","",""]
[null,"anrechenbarer N aus org.Dgg. + min. Dgg. kg N/ha",null,null,null,null,null,{"$f":"X29+Y29","v":0},null,{"$f":"SUM(J14:J28)","v":0},null,{"$f":"SUM(L14:L28)","v":0},{"$f":"SUM(M14:M28)","v":0},null,null,null,"Pflanzenhilfsmittel",{"$f":"IF(K3=\"ja\",SUMIF($N$14:$N$28,Q29,$H$14:$H$28),0)*B4","v":0},null,{"$f":"IF(K3=\"ja\",SUMIF($N$14:$N$28,Q29,$J$14:$J$28),0)*B4","v":0},null,{"$f":"SUM(V14:V28)","v":0},{"$f":"SUM(W14:W28)","v":0},{"$f":"SUM(X14:X28)","v":0},{"$f":"SUM(Y14:Y28)","v":0},"kg/ha"]
[null,{"$f":"IF(K3=\"0\",O31,O30)","v":"Bilanz (anrechenbarer Dgg.- reduzierter Düngebedarf) kg N/ha"},null,null,null,null,null,{"$f":"IF(H12=\"\",0,IF(OR(K3=0,K3=\"nein\"),H29-H12,H29-H11))","v":0},null,{"$f":"IF(J12=\"\",\"\",J29-J12)","v":0},null,{"$f":"IF(L12=\"\",\"\",L29-L12)","v":0},{"$f":"IF(M12=\"\",\"\",M29-M12)","v":""},null,"Bilanz (anrechenbarer Dgg.- reduzierter Düngebedarf) kg N/ha",null,"Abfälle zur Beseitigung (§ 28 Absatz 2 odeS 3 KSWG)",{"$f":"IF(K3=\"ja\",SUMIF($N$14:$N$28,Q30,$H$14:$H$28),0)*B4","v":0},null,{"$f":"IF(K3=\"ja\",SUMIF($N$14:$N$28,Q30,$J$14:$J$28),0)*B4","v":0},null,{"$f":"V29*B4","v":0},{"$f":"W29*B4","v":0},{"$f":"X29*B4","v":0},{"$f":"Y29*B4","v":0},"kg/Schlag",null,{"$f":"IF(H30>0,\"Stickstoffmenge überschreitet den Düngebedarf\",\"\")","v":""}]
["Pflanzenschutzmittel",null,"Datum","EC","E./ha","€/E.","€/ha","Anwender",null,null,"Bemerkungen",null,null,null,"Bilanz (anrechenbarer Dgg.- Düngebedarf) kg N/ha"]
[null,null,null,null,null,{"$f":"IF($B32=\"\",\"\",VLOOKUP($B32,PSMMittel,2,0))","v":""},{"$f":"IF(B32=\"\",\"\",E32*F32)","v":""}]
[null,null,null,null,null,"",{"$f":"IF(B33=\"\",\"\",E33*F33)","v":""},null,null,null,null,null,null,null,null,null,"Stickstoffherkunft nicht gefährdetes Gebiet Gesamtfläche"]
[null,null,null,null,null,"","",null,null,null,null,null,null,null,null,null,null,"Gesamt N","NH4-N","P2O5 mineral.","P2O5 organisch",null,"N Fixierung kg N/ha"]
[null,null,null,null,null,"","",null,null,null,null,null,null,null,null,null,"N Gesamt minerl.",{"$f":"R5-R20","v":0},null,null,null,null,{"$f":"IF(E3=0,\"\",VLOOKUP(E3,AckerbauKulturen,26,0)*G56*B4)","v":""}]
[null,null,null,null,null,"","",null,null,null,null,null,null,null,null,null,"NH4-N minerlisch",null,{"$f":"S6-S21","v":0}]
[null,null,null,null,null,"","",null,null,null,null,null,null,null,null,null,"N Gesamt organsich",{"$f":"R7-R22","v":0}]
[null,null,null,null,null,"","",null,null,null,null,null,null,null,null,null,"NH4-N organsich",null,{"$f":"S8-S23","v":0}]
[null,null,null,null,null,"","",null,null,null,null,null,null,null,null,null,"P2O5 mineralisch",null,null,{"$f":"T9-T24","v":0}]
[null,null,null,null,null,"","",null,null,null,null,null,null,null,null,null,"P2O5 organisch",null,null,null,{"$f":"U10-U25","v":0}]
[null,null,null,null,null,"","",null,null,null,null,null,null,null,null,null,"Sonstige organische Düngemittel",{"$f":"R11-R26","v":0},{"$f":"S11-S26","v":0},{"$f":"T11-T26","v":0}]
[null,null,null,null,null,"","",null,null,null,null,null,null,null,null,null,"Bodenhilfsstoffe",{"$f":"R12-R27","v":0},null,{"$f":"T12-T27","v":0}]
[null,null,null,null,null,"","",null,null,null,null,null,null,null,null,null,"Kultursubstrate",{"$f":"R13-R28","v":0},null,{"$f":"T13-T28","v":0}]
[null,null,null,null,null,"","",null,null,null,null,null,null,null,null,null,"Pflanzenhilfsmittel",{"$f":"R14-R29","v":0},null,{"$f":"T14-T29","v":0}]
[null,null,null,null,null,"","",null,null,null,null,null,null,null,null,null,"Abfälle zur Beseitigung (§ 28 Absatz 2 odeS 3 KSWG)",{"$f":"R15-R30","v":0},null,{"$f":"T15-T30","v":0}]
[null,null,null,null,null,"",""]
[null,null,null,null,null,"",""]
[null,null,null,null,null,"",""]
[null,null,null,null,null,"",""]
[null,null,null,null,null,"",""]
[null,null,null,null,null,"",""]
[null,null,null,null,null,"",""]
[null,null,null,null,null,"",""]
[null,"Summe",null,null,null,null,{"$f":"SUM(G32:G53)","v":0}]
[]
[null,"Erntedatum:",null,{"$f":"IF(VLOOKUP($B$2,Ackerbauplan,58,0)=\"\",\"\",VLOOKUP($B$2,Ackerbauplan,58,0))","v":""},null,"dt/ha",{"$f":"VLOOKUP($B$2,Ackerbauplan,60,0)","v":0},null,null,"€/dt",null,{"$f":"VLOOKUP($B$2,Ackerbauplan,59,0)","v":0}]
[null,"   Hauptleistung ",null,{"$f":"IF(VLOOKUP($B$2,Ackerbauplan,61,0)=\"\",\"\",VLOOKUP($B$2,Ackerbauplan,61,0))","v":""},null,"Saatgut ",null,{"$f":"G11","v":0},"€/ha","Marktleistung -"]
[null,null,"+ Nebenleistung ",{"$f":"IF($B$2=\"\",\"\",VLOOKUP($B$2,Anbauplan,62,0))","v":0},null,"Dünger ",null,{"$f":"SUM(G14:G28)","v":0},"€/ha","Saatgut, Dünger, PSM"]
[null,null,"= Marktleistung ",{"$f":"IF(D57=\"\",\"\",D58+D57)","v":""},null,"Pflanzenschutz ",null,{"$f":"G54","v":0},"€/ha",{"$f":"IF(D59=\"\",\"\",D59-H57-H58-H59)","v":""},null,null,"€/ha"]
[null,{"$f":"IF($B$2=\"\",\"\",VLOOKUP($B$2,Anbauplan,2,0))","v":0}]
[null,"Bearbeitung","Maschine 1",null,"Maschine 2",null,"Maschine 3",null,"Datum",null,"Bemerkung"]

{"sheet":"A15","index":24,"n_rows":61,"n_cols":30,"rows_kept":61,"cut":false,"hidden":false,"merged":[[13,27,13,28],[13,29,16,30],[6,7,6,12],[7,7,7,8],[8,7,8,8],[7,9,7,10],[8,9,8,10],[10,8,10,12],[73,2,73,3],[73,4,73,5],[73,6,73,7],[73,8,73,9],[73,10,73,12],[69,2,69,3],[69,4,69,5],[69,6,69,7],[69,8,69,9],[69,10,69,12],[70,2,70,3],[70,4,70,5],[70,6,70,7],[70,8,70,9],[70,10,70,12],[67,2,67,3],[67,4,67,5],[67,6,67,7],[74,2,74,3],[74,4,74,5],[74,6,74,7],[74,8,74,9],[74,10,74,12],[71,2,71,3],[71,4,71,5],[71,6,71,7],[71,8,71,9],[71,10,71,12],[72,2,72,3],[72,4,72,5],[72,6,72,7],[72,8,72,9],[72,10,72,12],[67,8,67,9],[67,10,67,12],[68,2,68,3],[68,4,68,5],[68,6,68,7],[68,8,68,9],[68,10,68,12],[65,2,65,3],[65,4,65,5],[65,6,65,7],[65,8,65,9],[65,10,65,12],[66,2,66,3],[66,4,66,5],[66,6,66,7],[66,8,66,9],[66,10,66,12],[63,2,63,3],[63,4,63,5],[63,6,63,7],[63,8,63,9],[63,10,63,12],[64,2,64,3],[64,4,64,5],[64,6,64,7],[64,8,64,9],[64,10,64,12],[61,2,61,3],[61,4,61,5],[61,6,61,7],[61,8,61,9],[61,10,61,12],[62,2,62,3],[62,4,62,5],[62,6,62,7],[62,8,62,9],[62,10,62,12],[58,3,58,4],[58,5,58,6],[58,9,58,11],[59,1,59,12],[60,2,60,3],[60,4,60,5],[60,6,60,7],[60,8,60,9],[60,10,60,12],[56,1,56,2],[56,3,56,4],[56,5,56,6],[56,9,56,12],[57,3,57,4],[57,5,57,6],[57,9,57,12],[52,7,52,9],[52,10,52,12],[53,1,53,5],[53,7,53,12],[54,1,54,6],[55,1,55,2],[55,3,55,4],[55,6,55,8],[55,9,55,10],[55,11,55,12],[49,7,49,9],[49,10,49,12],[50,7,50,9],[50,10,50,12],[51,7,51,9],[51,10,51,12],[46,7,46,9],[46,10,46,12],[47,7,47,9],[47,10,47,12],[48,7,48,9],[48,10,48,12],[43,7,43,9],[43,10,43,12],[44,7,44,9],[44,10,44,12],[45,7,45,9],[45,10,45,12],[40,7,40,9],[40,10,40,12],[41,7,41,9],[41,10,41,12],[42,7,42,9],[42,10,42,12],[37,7,37,9],[37,10,37,12],[38,7,38,9],[38,10,38,12],[39,7,39,9],[39,10,39,12],[34,7,34,9],[34,10,34,12],[35,7,35,9],[35,10,35,12],[36,7,36,9],[36,10,36,12],[31,7,31,9],[31,10,31,12],[32,7,32,9],[32,10,32,12],[32,16,32,20],[33,7,33,9],[33,10,33,12],[29,1,29,6],[29,7,29,8],[29,9,29,10],[30,0,30,1],[30,7,30,9],[30,10,30,12],[23,9,23,10],[24,9,24,10],[25,9,25,10],[26,9,26,10],[27,9,27,10],[28,1,28,6],[28,7,28,8],[28,9,28,10],[17,16,17,20],[18,9,18,10],[19,9,19,10],[20,9,20,10],[21,9,21,10],[22,9,22,10],[14,9,14,10],[15,9,15,10],[16,9,16,10],[17,9,17,10],[10,1,10,2],[9,7,9,12],[11,1,11,2],[11,4,11,6],[11,7,11,8],[11,9,11,10],[11,25,12,25],[33,22,33,23],[34,22,34,23],[0,1,0,12],[1,2,1,3],[1,4,1,6],[1,7,1,9],[1,10,1,12],[2,2,2,3],[2,4,2,6],[2,7,2,9],[2,10,2,12],[5,7,5,10],[5,11,5,12],[3,2,3,3],[3,4,3,6],[3,7,3,10],[3,11,3,12],[4,2,4,3],[4,4,4,6],[4,7,4,9],[4,10,4,12],[12,9,12,10],[13,9,13,10]]}
[null,"Ackerland"]
[null,15,"Name:",null,{"$f":"IF(B2=\"\",\"\",VLOOKUP(B2,Anbauplan,2,0))","v":0},null,null,"Jahr:",null,null,{"$f":"IF(Einführung!I8=\"\",\"\",Einführung!I8)","v":""},null,null,{"$f":"IF(OR(B4=\"\",H12=\"\"),\"\",H12*B4)","v":0},"DB kg * Fläche"]
[null,"Hektar ","Hauptfrucht ",null,{"$f":"IF(B2=\"\",\"\",VLOOKUP(B2,Ackerbauplan,4,0))","v":0},null,null,"Nitratkulisse",null,null,{"$f":"IF(B2=\"\",\"\",VLOOKUP(B2,Ackerbauplan,20,0))","v":0},null,null,{"$f":"L4","v":""},"kg/ha org. Dünger für Kontrollgrenze"]
[null,{"$f":"IF(B2=\"\",\"\",VLOOKUP(B2,Ackerbauplan,3,0))","v":0},"Vorfrucht",null,{"$f":"IF(B2=\"\",\"\",VLOOKUP(B2,Ackerbauplan,9,0))","v":0},null,null,"Wirtschaftsdünger zur Berechung\ndes 130 kg N/ha Anteils in kg/ha",null,null,null,{"$f":"IF(K3=\"ja\",W29,\"\")","v":""},null,{"$f":"IF(N3=\"\",\"\",N3*B4)","v":""},"kg Gesamtschlag org Dünger für 170 Kontrollgrenze",null,null,"Gesamt N","NH4-N","P2O5 mineral.","P2O5 organisch"]
[null,"Sorte","VorVorfrucht",null,null,null,null,"Phosphatkulisse",null,null,{"$f":"IF(B2=\"\",\"\",VLOOKUP(B2,Ackerbauplan,21,0))","v":0},null,null,{"$f":"IF(H12=\"\",\"\",IF(K3=\"ja\",N2*0.8,\"\"))","v":""},"Nitrat belastetes Gebiet Düngebedarf Gesamtschlag kg N/ha",null,"N Gesamt minerl.",{"$f":"SUMIF($N$14:$N$28,\"mineralisch\",$H$14:$H$28)*B4","v":0}]
[null,{"$f":"IF(B2=\"\",\"\",VLOOKUP(B2,Ackerbauplan,8,0))","v":0},null,null,null,null,null,"sonstige Auflagen",null,null,null,null,null,{"$f":"IF(K3=\"ja\",X30+Y30,\"\")","v":""},"org +min .anrechenbare N Menge Gesamtschlag  kg N/ha",null,"NH4-N minerlisch",null,{"$f":"SUMIF($N$14:$N$28,\"mineralisch\",$I$14:$I$28)*B4","v":0}]
[null,"Aussaatdatum","Kö./m² ",{"$f":"IF(B2=\"\",\"\",VLOOKUP(B2,Ackerbauplan,52,0))","v":0},null,"Eigen","Zukauf","Versorgungsstufen",null,null,null,null,null,{"$f":"IF(K3=\"ja\",J12*B4,\"\")","v":""},null,null,"N Gesamt organsich",{"$f":"SUMIF($N$14:$N$28,\"organisch\",$H$14:$H$28)*B4","v":0}]
[null,{"$f":"IF(B2=\"0\",\"\",VLOOKUP(B2,Ackerbauplan,51,0))","v":"00:00:00"},"x TKG ",{"$f":"IF(B2=\"\",\"\",VLOOKUP(B2,Ackerbauplan,53,0))","v":0},"dt/ha ",null,null,"Nmin",null,"P2O5",null,"K2O","MgO",null,null,null,"NH4-N organsich",null,{"$f":"SUMIF($N$14:$N$28,\"organisch\",I14:I28)*B4","v":0}]
[null,"Beize","/Kei.fäh.",{"$f":"IF(B2=\"\",\"\",VLOOKUP(B2,Ackerbauplan,54,0))","v":0},"€/dt",null,null,{"$f":"IF(B2=\"\",\"\",VLOOKUP(B2,Ackerbauplan,17,0))","v":0},null,{"$f":"IF(B2=\"\",\"\",VLOOKUP(B2,Ackerbauplan,30,0))","v":"C"},null,{"$f":"IF(B2=\"\",\"\",VLOOKUP(B2,Ackerbauplan,31,0))","v":"C"},{"$f":"IF(B2=\"\",\"\",VLOOKUP(B2,Ackerbauplan,32,0))","v":"C"},null,null,null,"P2O5 mineralisch",null,null,{"$f":"SUMIF($N$14:$N$28,\"mineralisch\",$J$14:$J$28)*B4","v":0}]
[null,null,"= kg/ha",{"$f":"IF(B2=\"\",\"\",VLOOKUP(B2,Ackerbauplan,55,0))","v":""},"€/ha ",{"$f":"F8*F9","v":0},{"$f":"G8*G9","v":0},"Düngebedarf kg/ha (Blatt Ackerfläche)",null,null,null,null,null,null,"Düngebedarf um 20% reduziert",null,"P2O5 organisch",null,null,null,{"$f":"SUMIF($N$14:$N$28,\"organisch\",$J$14:$J$28)*B4","v":0},null,null,null,null,null,null,{"$f":"IF(K3=\"ja\",\"Noch nicht ausgeschöpfter Stickstoff Düngebedarf aller Flächen\",\"\")","v":""}]
[null,"Saatgutkennnummer",null,null,null,"Summe",{"$f":"F10+G10","v":0},{"$f":"IF(H12=\"\",\"\",IF(K3=\"ja\",H12*0.8,\"\"))","v":""},{"$f":"IF(K3=\"ja\",O10,\"\")","v":""},null,null,null,null,null,null,null,"Sonstige organische Düngemittel",{"$f":"SUMIF($N$14:$N$28,Q11,$H$14:$H$28)*B4","v":0},{"$f":"SUMIF($N$14:$N$28,Q11,$I$14:$I$28)*B4","v":0},{"$f":"SUMIF($N$14:$N$28,Q11,$J$14:$J$28)*B4","v":0},null,null,null,null,null,null,null,{"$f":"IF(K3=\"ja\",'Zus. Anlage 5 DüV'!D43,\"\")","v":""},{"$f":"IF(K3=\"ja\",\"kg N Gesamtfläche\",\"\")","v":""}]
[null,null,null,null,"N Bedarf DÜV kg/ha",null,null,{"$f":"IF(B2=\"\",\"\",VLOOKUP(B2,Ackerbauplan,18,0))","v":"0"},null,{"$f":"IF(B2=\"\",\"\",VLOOKUP(B2,Ackerbauplan,37,0))","v":"0"},null,{"$f":"IF(B2=\"\",\"\",VLOOKUP(B2,Ackerbauplan,38,0))","v":"0"},null,null,null,null,"Bodenhilfsstoffe",{"$f":"SUMIF($N$14:$N$28,Q12,$H$14:$H$28)*B4","v":0},null,{"$f":"SUMIF($N$14:$N$28,Q12,$J$14:$J$28)*B4","v":0},null,"Anrechnung","Anrechnung ","Prüfung NH4","mineral","Kontroll\nSumme"]
[null,"Dünger","Datum","EC","m³o.dt/ha","€/dt","€/ha","Ges.-N","NH4-N","P2O5",null,"K2O","S",null,null,null,"Kultursubstrate",{"$f":"SUMIF($N$14:$N$28,Q13,$H$14:$H$28)*B4","v":0},null,{"$f":"SUMIF($N$14:$N$28,Q13,$J$14:$J$28)*B4","v":0},null,"aktuelles Jahr","170 kg GW"," oder Anlage3","Stickstoff"]
[null,null,null,null,null,{"$f":"IF(B14=\"\",\"\",VLOOKUP(B14,Düngemiteldaten,2,0))","v":""},{"$f":"IF(B14=\"\",\"\",E14*F14)","v":""},{"$f":"IF(B14=\"\",\"\",VLOOKUP(B14,Düngemiteldaten,4,0)*E14)","v":""},{"$f":"IF(B14=\"\",\"\",VLOOKUP(B14,Düngemiteldaten,5,0)*E14)","v":""},{"$f":"IF(B14=\"\",\"\",VLOOKUP(B14,Düngemiteldaten,7,0)*E14)","v":""},null,{"$f":"IF(B14=\"\",\"\",VLOOKUP(B14,Düngemiteldaten,8,0)*E14)","v":""},{"$f":"IF(B14=\"\",\"\",VLOOKUP(B14,Düngemiteldaten,10,0)*E14)","v":""},{"$f":"IF(B14=\"\",\"\",VLOOKUP(B14,Düngemiteldaten,20,0))","v":""},null,null,"Pflanzenhilfsmittel",{"$f":"SUMIF($N$14:$N$28,Q14,$H$14:$H$28)*B4","v":0},null,{"$f":"SUMIF($N$14:$N$28,Q14,$J$14:$J$28)*B4","v":0},null,{"$f":"IF(OR(B14=\"\",N14=\"\"),\"\",IF(N14=\"mineralisch\",\"\",VLOOKUP(B14,Düngemiteldaten,17,0)*VLOOKUP(B14,Düngemiteldaten,4,0)*E14))","v":""},{"$f":"IF(N14=\"organisch\",VLOOKUP(B14,Düngemiteldaten,4,0)*E14*VLOOKUP(B14,Düngemiteldaten,19,0),\"\")","v":""},{"$f":"IF(B14=\"\",\"\",IF(V14<I14,I14,V14))","v":""},{"$f":"IF(B14=\"\",\"\",IF(N14=\"organisch\",0,H14))","v":""},{"$f":"IF(SUM(V14:Y14)=0,\"\",SUM(X14:Y14))","v":""},null,{"$f":"IF(K3=\"ja\",\"Summe Gesamtstickstoff\",\"\")","v":""},null,{"$f":"IF(K3=\"ja\",\"Anteil § 13a Prüfung \n160 kg N/ha Gesamt\n80 kg N/ha mineralisch\",\"\")","v":""}]
[null,null,null,null,null,"",{"$f":"IF(B15=\"\",\"\",E15*F15)","v":""},"","","",null,"","","",null,null,"Abfälle zur Beseitigung (§ 28 Absatz 2 odeS 3 KSWG)",{"$f":"SUMIF($N$14:$N$28,Q15,$H$14:$H$28)*B4","v":0},null,{"$f":"SUMIF($N$14:$N$28,Q15,$J$14:$J$28)*B4","v":0},null,"","",{"$f":"IF(B15=\"\",\"\",IF(V15<I15,I15,V15))","v":""},{"$f":"IF(B15=\"\",\"\",IF(N15=\"organisch\",0,H15))","v":""},{"$f":"IF(SUM(V15:Y15)=0,\"\",SUM(X15:Y15))","v":""},null,{"$f":"IF(L4=\"\",\"\",SUMIF($N$14:$N$28,\"mineralisch\",$H$14:$H$28))","v":""},{"$f":"IF(K3=\"ja\",\"mineralisch N kg/ha\",\"\")","v":""}]
[null,null,null,null,null,"","","","","",null,"","","",null,null,null,null,null,null,null,"","","","","",null,{"$f":"IF(L4=\"\",\"\",SUMIF($N$14:$N$28,\"organisch\",$H$14:$H$28)+SUMIF($N$14:$N$28,Q11,$H$14:$H$28))","v":""},{"$f":"IF(K3=\"ja\",\"organisch N kg/ha\",\"\")","v":""}]
[null,null,null,null,null,"","","","","",null,"","","",null,null,null,null,null,null,null,{"$f":"IF(OR(B17=\"\",N17=\"\"),\"\",IF(N17=\"mineralisch\",\"\",VLOOKUP(B17,Düngemiteldaten,17,0)*VLOOKUP(B17,Düngemiteldaten,4,0)*E17))","v":""},"","","","",null,{"$f":"IF(K3=\"ja\",(AB16+AB15),\"\")","v":""},{"$f":"IF(K3=\"ja\",\"Gesamt kg N/ha\",\"\")","v":""}]
[null,null,null,null,null,"","","","","",null,"","","",null,null,"Nährstoffherkunft auf gefährdeten Flächen §13",null,null,null,null,"","","","",""]
[null,null,null,null,null,"","","","","",null,"","","",null,null,null,"Gesamt N","NH4-N","P2O5 mineral.","P2O5 organisch","","","","",""]
[null,null,null,null,null,"","","","","",null,"","","",null,null,"N Gesamt minerl.",{"$f":"IF(K3=\"ja\",SUMIF($N$14:$N$28,\"mineralisch\",$H$14:$H$28),0)*B4","v":0},null,null,null,"","","","",""]
[null,null,null,null,null,"","","","","",null,"","","",null,null,"NH4-N minerlisch",null,{"$f":"IF(K3=\"ja\",SUMIF($N$14:$N$28,\"mineralisch\",$I$14:$I$28),0)*B4","v":0},null,null,"","","","",""]
[null,null,null,null,null,"","","","","",null,"","","",null,null,"N Gesamt organsich",{"$f":"IF(K3=\"ja\",SUMIF($N$14:$N$28,\"organisch\",$H$14:$H$28),0)*B4","v":0},null,null,null,"","","","",""]
[null,null,null,null,null,"","","","","",null,"","","",null,null,"NH4-N organsich",null,{"$f":"IF(K3=\"ja\",SUMIF($N$14:$N$28,\"organisch\",$I$14:$I$28),0)*B4","v":0},null,null,"","","","",""]
[null,null,null,null,null,"","","","","",null,"","","",null,null,"P2O5 mineralisch",null,null,{"$f":"IF(K3=\"ja\",SUMIF($N$14:$N$28,\"mineralisch\",$J$14:$J$28),0)*B4","v":0},null,"","","","",""]
[null,null,null,null,null,"","","","","",null,"","","",null,null,"P2O5 organisch",null,null,null,{"$f":"IF(K3=\"ja\",SUMIF($N$14:$N$28,\"organisch\",$J$14:$J$28),0)*B4","v":0},"","","","",""]
[null,null,null,null,null,"","","","","",null,"","","",null,null,"Sonstige organische Düngemittel",{"$f":"IF(K3=\"ja\",SUMIF($N$14:$N$28,Q26,$H$14:$H$28),0)*B4","v":0},{"$f":"IF(K3=\"ja\",SUMIF($N$14:$N$28,Q26,$I$14:$I$28),0)*B4","v":0},{"$f":"IF(K3=\"ja\",SUMIF($N$14:$N$28,Q26,$J$14:$J$28),0)*B4","v":0},null,"","","","",""]
[null,null,null,null,null,"","","","","",null,"","","",null,null,"Bodenhilfsstoffe",{"$f":"IF(K3=\"ja\",SUMIF($N$14:$N$28,Q27,$H$14:$H$28),0)*B4","v":0},null,{"$f":"IF(K3=\"ja\",SUMIF($N$14:$N$28,Q27,$J$14:$J$28),0)*B4","v":0},null,"","","","",""]
[null,null,null,null,null,"","","","","",null,"","","",null,null,"Kultursubstrate",{"$f":"IF(K3=\"ja\",SUMIF($N$14:$N$28,Q28,$H$14:$H$28),0)*B4","v":0},null,{"$f":"IF(K3=\"ja\",SUMIF($N$14:$N$28,Q28,$J$14:$J$28),0)*B4","v":0},null,"","","","",""]
[null,"anrechenbarer N aus org.Dgg. + min. Dgg. kg N/ha",null,null,null,null,null,{"$f":"X29+Y29","v":0},null,{"$f":"SUM(J14:J28)","v":0},null,{"$f":"SUM(L14:L28)","v":0},{"$f":"SUM(M14:M28)","v":0},null,null,null,"Pflanzenhilfsmittel",{"$f":"IF(K3=\"ja\",SUMIF($N$14:$N$28,Q29,$H$14:$H$28),0)*B4","v":0},null,{"$f":"IF(K3=\"ja\",SUMIF($N$14:$N$28,Q29,$J$14:$J$28),0)*B4","v":0},null,{"$f":"SUM(V14:V28)","v":0},{"$f":"SUM(W14:W28)","v":0},{"$f":"SUM(X14:X28)","v":0},{"$f":"SUM(Y14:Y28)","v":0},"kg/ha"]
[null,{"$f":"IF(K3=\"0\",O31,O30)","v":"Bilanz (anrechenbarer Dgg.- reduzierter Düngebedarf) kg N/ha"},null,null,null,null,null,{"$f":"IF(H12=\"\",0,IF(OR(K3=0,K3=\"nein\"),H29-H12,H29-H11))","v":0},null,{"$f":"IF(J12=\"\",\"\",J29-J12)","v":0},null,{"$f":"IF(L12=\"\",\"\",L29-L12)","v":0},{"$f":"IF(M12=\"\",\"\",M29-M12)","v":""},null,"Bilanz (anrechenbarer Dgg.- reduzierter Düngebedarf) kg N/ha",null,"Abfälle zur Beseitigung (§ 28 Absatz 2 odeS 3 KSWG)",{"$f":"IF(K3=\"ja\",SUMIF($N$14:$N$28,Q30,$H$14:$H$28),0)*B4","v":0},null,{"$f":"IF(K3=\"ja\",SUMIF($N$14:$N$28,Q30,$J$14:$J$28),0)*B4","v":0},null,{"$f":"V29*B4","v":0},{"$f":"W29*B4","v":0},{"$f":"X29*B4","v":0},{"$f":"Y29*B4","v":0},"kg/Schlag",null,{"$f":"IF(H30>0,\"Stickstoffmenge überschreitet den Düngebedarf\",\"\")","v":""}]
["Pflanzenschutzmittel",null,"Datum","EC","E./ha","€/E.","€/ha","Anwender",null,null,"Bemerkungen",null,null,null,"Bilanz (anrechenbarer Dgg.- Düngebedarf) kg N/ha"]
[null,null,null,null,null,{"$f":"IF($B32=\"\",\"\",VLOOKUP($B32,PSMMittel,2,0))","v":""},{"$f":"IF(B32=\"\",\"\",E32*F32)","v":""}]
[null,null,null,null,null,"",{"$f":"IF(B33=\"\",\"\",E33*F33)","v":""},null,null,null,null,null,null,null,null,null,"Stickstoffherkunft nicht gefährdetes Gebiet Gesamtfläche"]
[null,null,null,null,null,"","",null,null,null,null,null,null,null,null,null,null,"Gesamt N","NH4-N","P2O5 mineral.","P2O5 organisch",null,"N Fixierung kg N/ha"]
[null,null,null,null,null,"","",null,null,null,null,null,null,null,null,null,"N Gesamt minerl.",{"$f":"R5-R20","v":0},null,null,null,null,{"$f":"IF(E3=0,\"\",VLOOKUP(E3,AckerbauKulturen,26,0)*G56*B4)","v":""}]
[null,null,null,null,null,"","",null,null,null,null,null,null,null,null,null,"NH4-N minerlisch",null,{"$f":"S6-S21","v":0}]
[null,null,null,null,null,"","",null,null,null,null,null,null,null,null,null,"N Gesamt organsich",{"$f":"R7-R22","v":0}]
[null,null,null,null,null,"","",null,null,null,null,null,null,null,null,null,"NH4-N organsich",null,{"$f":"S8-S23","v":0}]
[null,null,null,null,null,"","",null,null,null,null,null,null,null,null,null,"P2O5 mineralisch",null,null,{"$f":"T9-T24","v":0}]
[null,null,null,null,null,"","",null,null,null,null,null,null,null,null,null,"P2O5 organisch",null,null,null,{"$f":"U10-U25","v":0}]
[null,null,null,null,null,"","",null,null,null,null,null,null,null,null,null,"Sonstige organische Düngemittel",{"$f":"R11-R26","v":0},{"$f":"S11-S26","v":0},{"$f":"T11-T26","v":0}]
[null,null,null,null,null,"","",null,null,null,null,null,null,null,null,null,"Bodenhilfsstoffe",{"$f":"R12-R27","v":0},null,{"$f":"T12-T27","v":0}]
[null,null,null,null,null,"","",null,null,null,null,null,null,null,null,null,"Kultursubstrate",{"$f":"R13-R28","v":0},null,{"$f":"T13-T28","v":0}]
[null,null,null,null,null,"","",null,null,null,null,null,null,null,null,null,"Pflanzenhilfsmittel",{"$f":"R14-R29","v":0},null,{"$f":"T14-T29","v":0}]
[null,null,null,null,null,"","",null,null,null,null,null,null,null,null,null,"Abfälle zur Beseitigung (§ 28 Absatz 2 odeS 3 KSWG)",{"$f":"R15-R30","v":0},null,{"$f":"T15-T30","v":0}]
[null,null,null,null,null,"",""]
[null,null,null,null,null,"",""]
[null,null,null,null,null,"",""]
[null,null,null,null,null,"",""]
[null,null,null,null,null,"",""]
[null,null,null,null,null,"",""]
[null,null,null,null,null,"",""]
[null,null,null,null,null,"",""]
[null,"Summe",null,null,null,null,{"$f":"SUM(G32:G53)","v":0}]
[]
[null,"Erntedatum:",null,{"$f":"IF(VLOOKUP($B$2,Ackerbauplan,58,0)=\"\",\"\",VLOOKUP($B$2,Ackerbauplan,58,0))","v":""},null,"dt/ha",{"$f":"VLOOKUP($B$2,Ackerbauplan,60,0)","v":0},null,null,"€/dt",null,{"$f":"VLOOKUP($B$2,Ackerbauplan,59,0)","v":0}]
[null,"   Hauptleistung ",null,{"$f":"IF(VLOOKUP($B$2,Ackerbauplan,61,0)=\"\",\"\",VLOOKUP($B$2,Ackerbauplan,61,0))","v":""},null,"Saatgut ",null,{"$f":"G11","v":0},"€/ha","Marktleistung -"]
[null,null,"+ Nebenleistung ",{"$f":"IF($B$2=\"\",\"\",VLOOKUP($B$2,Anbauplan,62,0))","v":0},null,"Dünger ",null,{"$f":"SUM(G14:G28)","v":0},"€/ha","Saatgut, Dünger, PSM"]
[null,null,"= Marktleistung ",{"$f":"IF(D57=\"\",\"\",D58+D57)","v":""},null,"Pflanzenschutz ",null,{"$f":"G54","v":0},"€/ha",{"$f":"IF(D59=\"\",\"\",D59-H57-H58-H59)","v":""},null,null,"€/ha"]
[null,{"$f":"IF($B$2=\"\",\"\",VLOOKUP($B$2,Anbauplan,2,0))","v":0}]
[null,"Bearbeitung","Maschine 1",null,"Maschine 2",null,"Maschine 3",null,"Datum",null,"Bemerkung"]

{"sheet":"A16","index":25,"n_rows":61,"n_cols":30,"rows_kept":61,"cut":false,"hidden":false,"merged":[[13,27,13,28],[13,29,16,30],[6,7,6,12],[7,7,7,8],[8,7,8,8],[7,9,7,10],[8,9,8,10],[10,8,10,12],[73,2,73,3],[73,4,73,5],[73,6,73,7],[73,8,73,9],[73,10,73,12],[69,2,69,3],[69,4,69,5],[69,6,69,7],[69,8,69,9],[69,10,69,12],[70,2,70,3],[70,4,70,5],[70,6,70,7],[70,8,70,9],[70,10,70,12],[67,2,67,3],[67,4,67,5],[67,6,67,7],[74,2,74,3],[74,4,74,5],[74,6,74,7],[74,8,74,9],[74,10,74,12],[71,2,71,3],[71,4,71,5],[71,6,71,7],[71,8,71,9],[71,10,71,12],[72,2,72,3],[72,4,72,5],[72,6,72,7],[72,8,72,9],[72,10,72,12],[67,8,67,9],[67,10,67,12],[68,2,68,3],[68,4,68,5],[68,6,68,7],[68,8,68,9],[68,10,68,12],[65,2,65,3],[65,4,65,5],[65,6,65,7],[65,8,65,9],[65,10,65,12],[66,2,66,3],[66,4,66,5],[66,6,66,7],[66,8,66,9],[66,10,66,12],[63,2,63,3],[63,4,63,5],[63,6,63,7],[63,8,63,9],[63,10,63,12],[64,2,64,3],[64,4,64,5],[64,6,64,7],[64,8,64,9],[64,10,64,12],[61,2,61,3],[61,4,61,5],[61,6,61,7],[61,8,61,9],[61,10,61,12],[62,2,62,3],[62,4,62,5],[62,6,62,7],[62,8,62,9],[62,10,62,12],[58,3,58,4],[58,5,58,6],[58,9,58,11],[59,1,59,12],[60,2,60,3],[60,4,60,5],[60,6,60,7],[60,8,60,9],[60,10,60,12],[56,1,56,2],[56,3,56,4],[56,5,56,6],[56,9,56,12],[57,3,57,4],[57,5,57,6],[57,9,57,12],[52,7,52,9],[52,10,52,12],[53,1,53,5],[53,7,53,12],[54,1,54,6],[55,1,55,2],[55,3,55,4],[55,6,55,8],[55,9,55,10],[55,11,55,12],[49,7,49,9],[49,10,49,12],[50,7,50,9],[50,10,50,12],[51,7,51,9],[51,10,51,12],[46,7,46,9],[46,10,46,12],[47,7,47,9],[47,10,47,12],[48,7,48,9],[48,10,48,12],[43,7,43,9],[43,10,43,12],[44,7,44,9],[44,10,44,12],[45,7,45,9],[45,10,45,12],[40,7,40,9],[40,10,40,12],[41,7,41,9],[41,10,41,12],[42,7,42,9],[42,10,42,12],[37,7,37,9],[37,10,37,12],[38,7,38,9],[38,10,38,12],[39,7,39,9],[39,10,39,12],[34,7,34,9],[34,10,34,12],[35,7,35,9],[35,10,35,12],[36,7,36,9],[36,10,36,12],[31,7,31,9],[31,10,31,12],[32,7,32,9],[32,10,32,12],[32,16,32,20],[33,7,33,9],[33,10,33,12],[29,1,29,6],[29,7,29,8],[29,9,29,10],[30,0,30,1],[30,7,30,9],[30,10,30,12],[23,9,23,10],[24,9,24,10],[25,9,25,10],[26,9,26,10],[27,9,27,10],[28,1,28,6],[28,7,28,8],[28,9,28,10],[17,16,17,20],[18,9,18,10],[19,9,19,10],[20,9,20,10],[21,9,21,10],[22,9,22,10],[14,9,14,10],[15,9,15,10],[16,9,16,10],[17,9,17,10],[10,1,10,2],[9,7,9,12],[11,1,11,2],[11,4,11,6],[11,7,11,8],[11,9,11,10],[11,25,12,25],[33,22,33,23],[34,22,34,23],[0,1,0,12],[1,2,1,3],[1,4,1,6],[1,7,1,9],[1,10,1,12],[2,2,2,3],[2,4,2,6],[2,7,2,9],[2,10,2,12],[5,7,5,10],[5,11,5,12],[3,2,3,3],[3,4,3,6],[3,7,3,10],[3,11,3,12],[4,2,4,3],[4,4,4,6],[4,7,4,9],[4,10,4,12],[12,9,12,10],[13,9,13,10]]}
[null,"Ackerland"]
[null,16,"Name:",null,{"$f":"IF(B2=\"\",\"\",VLOOKUP(B2,Anbauplan,2,0))","v":0},null,null,"Jahr:",null,null,{"$f":"IF(Einführung!I8=\"\",\"\",Einführung!I8)","v":""},null,null,{"$f":"IF(OR(B4=\"\",H12=\"\"),\"\",H12*B4)","v":0},"DB kg * Fläche"]
[null,"Hektar ","Hauptfrucht ",null,{"$f":"IF(B2=\"\",\"\",VLOOKUP(B2,Ackerbauplan,4,0))","v":0},null,null,"Nitratkulisse",null,null,{"$f":"IF(B2=\"\",\"\",VLOOKUP(B2,Ackerbauplan,20,0))","v":0},null,null,{"$f":"L4","v":""},"kg/ha org. Dünger für Kontrollgrenze"]
[null,{"$f":"IF(B2=\"\",\"\",VLOOKUP(B2,Ackerbauplan,3,0))","v":0},"Vorfrucht",null,{"$f":"IF(B2=\"\",\"\",VLOOKUP(B2,Ackerbauplan,9,0))","v":0},null,null,"Wirtschaftsdünger zur Berechung\ndes 130 kg N/ha Anteils in kg/ha",null,null,null,{"$f":"IF(K3=\"ja\",W29,\"\")","v":""},null,{"$f":"IF(N3=\"\",\"\",N3*B4)","v":""},"kg Gesamtschlag org Dünger für 170 Kontrollgrenze",null,null,"Gesamt N","NH4-N","P2O5 mineral.","P2O5 organisch"]
[null,"Sorte","VorVorfrucht",null,null,null,null,"Phosphatkulisse",null,null,{"$f":"IF(B2=\"\",\"\",VLOOKUP(B2,Ackerbauplan,21,0))","v":0},null,null,{"$f":"IF(H12=\"\",\"\",IF(K3=\"ja\",N2*0.8,\"\"))","v":""},"Nitrat belastetes Gebiet Düngebedarf Gesamtschlag kg N/ha",null,"N Gesamt minerl.",{"$f":"SUMIF($N$14:$N$28,\"mineralisch\",$H$14:$H$28)*B4","v":0}]
[null,{"$f":"IF(B2=\"\",\"\",VLOOKUP(B2,Ackerbauplan,8,0))","v":0},null,null,null,null,null,"sonstige Auflagen",null,null,null,null,null,{"$f":"IF(K3=\"ja\",X30+Y30,\"\")","v":""},"org +min .anrechenbare N Menge Gesamtschlag  kg N/ha",null,"NH4-N minerlisch",null,{"$f":"SUMIF($N$14:$N$28,\"mineralisch\",$I$14:$I$28)*B4","v":0}]
[null,"Aussaatdatum","Kö./m² ",{"$f":"IF(B2=\"\",\"\",VLOOKUP(B2,Ackerbauplan,52,0))","v":0},null,"Eigen","Zukauf","Versorgungsstufen",null,null,null,null,null,{"$f":"IF(K3=\"ja\",J12*B4,\"\")","v":""},null,null,"N Gesamt organsich",{"$f":"SUMIF($N$14:$N$28,\"organisch\",$H$14:$H$28)*B4","v":0}]
[null,{"$f":"IF(B2=\"0\",\"\",VLOOKUP(B2,Ackerbauplan,51,0))","v":"00:00:00"},"x TKG ",{"$f":"IF(B2=\"\",\"\",VLOOKUP(B2,Ackerbauplan,53,0))","v":0},"dt/ha ",null,null,"Nmin",null,"P2O5",null,"K2O","MgO",null,null,null,"NH4-N organsich",null,{"$f":"SUMIF($N$14:$N$28,\"organisch\",I14:I28)*B4","v":0}]
[null,"Beize","/Kei.fäh.",{"$f":"IF(B2=\"\",\"\",VLOOKUP(B2,Ackerbauplan,54,0))","v":0},"€/dt",null,null,{"$f":"IF(B2=\"\",\"\",VLOOKUP(B2,Ackerbauplan,17,0))","v":0},null,{"$f":"IF(B2=\"\",\"\",VLOOKUP(B2,Ackerbauplan,30,0))","v":"C"},null,{"$f":"IF(B2=\"\",\"\",VLOOKUP(B2,Ackerbauplan,31,0))","v":"C"},{"$f":"IF(B2=\"\",\"\",VLOOKUP(B2,Ackerbauplan,32,0))","v":"C"},null,null,null,"P2O5 mineralisch",null,null,{"$f":"SUMIF($N$14:$N$28,\"mineralisch\",$J$14:$J$28)*B4","v":0}]
[null,null,"= kg/ha",{"$f":"IF(B2=\"\",\"\",VLOOKUP(B2,Ackerbauplan,55,0))","v":""},"€/ha ",{"$f":"F8*F9","v":0},{"$f":"G8*G9","v":0},"Düngebedarf kg/ha (Blatt Ackerfläche)",null,null,null,null,null,null,"Düngebedarf um 20% reduziert",null,"P2O5 organisch",null,null,null,{"$f":"SUMIF($N$14:$N$28,\"organisch\",$J$14:$J$28)*B4","v":0},null,null,null,null,null,null,{"$f":"IF(K3=\"ja\",\"Noch nicht ausgeschöpfter Stickstoff Düngebedarf aller Flächen\",\"\")","v":""}]
[null,"Saatgutkennnummer",null,null,null,"Summe",{"$f":"F10+G10","v":0},{"$f":"IF(H12=\"\",\"\",IF(K3=\"ja\",H12*0.8,\"\"))","v":""},{"$f":"IF(K3=\"ja\",O10,\"\")","v":""},null,null,null,null,null,null,null,"Sonstige organische Düngemittel",{"$f":"SUMIF($N$14:$N$28,Q11,$H$14:$H$28)*B4","v":0},{"$f":"SUMIF($N$14:$N$28,Q11,$I$14:$I$28)*B4","v":0},{"$f":"SUMIF($N$14:$N$28,Q11,$J$14:$J$28)*B4","v":0},null,null,null,null,null,null,null,{"$f":"IF(K3=\"ja\",'Zus. Anlage 5 DüV'!D43,\"\")","v":""},{"$f":"IF(K3=\"ja\",\"kg N Gesamtfläche\",\"\")","v":""}]
[null,null,null,null,"N Bedarf DÜV kg/ha",null,null,{"$f":"IF(B2=\"\",\"\",VLOOKUP(B2,Ackerbauplan,18,0))","v":"0"},null,{"$f":"IF(B2=\"\",\"\",VLOOKUP(B2,Ackerbauplan,37,0))","v":"0"},null,{"$f":"IF(B2=\"\",\"\",VLOOKUP(B2,Ackerbauplan,38,0))","v":"0"},null,null,null,null,"Bodenhilfsstoffe",{"$f":"SUMIF($N$14:$N$28,Q12,$H$14:$H$28)*B4","v":0},null,{"$f":"SUMIF($N$14:$N$28,Q12,$J$14:$J$28)*B4","v":0},null,"Anrechnung","Anrechnung ","Prüfung NH4","mineral","Kontroll\nSumme"]
[null,"Dünger","Datum","EC","m³o.dt/ha","€/dt","€/ha","Ges.-N","NH4-N","P2O5",null,"K2O","S",null,null,null,"Kultursubstrate",{"$f":"SUMIF($N$14:$N$28,Q13,$H$14:$H$28)*B4","v":0},null,{"$f":"SUMIF($N$14:$N$28,Q13,$J$14:$J$28)*B4","v":0},null,"aktuelles Jahr","170 kg GW"," oder Anlage3","Stickstoff"]
[null,null,null,null,null,{"$f":"IF(B14=\"\",\"\",VLOOKUP(B14,Düngemiteldaten,2,0))","v":""},{"$f":"IF(B14=\"\",\"\",E14*F14)","v":""},{"$f":"IF(B14=\"\",\"\",VLOOKUP(B14,Düngemiteldaten,4,0)*E14)","v":""},{"$f":"IF(B14=\"\",\"\",VLOOKUP(B14,Düngemiteldaten,5,0)*E14)","v":""},{"$f":"IF(B14=\"\",\"\",VLOOKUP(B14,Düngemiteldaten,7,0)*E14)","v":""},null,{"$f":"IF(B14=\"\",\"\",VLOOKUP(B14,Düngemiteldaten,8,0)*E14)","v":""},{"$f":"IF(B14=\"\",\"\",VLOOKUP(B14,Düngemiteldaten,10,0)*E14)","v":""},{"$f":"IF(B14=\"\",\"\",VLOOKUP(B14,Düngemiteldaten,20,0))","v":""},null,null,"Pflanzenhilfsmittel",{"$f":"SUMIF($N$14:$N$28,Q14,$H$14:$H$28)*B4","v":0},null,{"$f":"SUMIF($N$14:$N$28,Q14,$J$14:$J$28)*B4","v":0},null,{"$f":"IF(OR(B14=\"\",N14=\"\"),\"\",IF(N14=\"mineralisch\",\"\",VLOOKUP(B14,Düngemiteldaten,17,0)*VLOOKUP(B14,Düngemiteldaten,4,0)*E14))","v":""},{"$f":"IF(N14=\"organisch\",VLOOKUP(B14,Düngemiteldaten,4,0)*E14*VLOOKUP(B14,Düngemiteldaten,19,0),\"\")","v":""},{"$f":"IF(B14=\"\",\"\",IF(V14<I14,I14,V14))","v":""},{"$f":"IF(B14=\"\",\"\",IF(N14=\"organisch\",0,H14))","v":""},{"$f":"IF(SUM(V14:Y14)=0,\"\",SUM(X14:Y14))","v":""},null,{"$f":"IF(K3=\"ja\",\"Summe Gesamtstickstoff\",\"\")","v":""},null,{"$f":"IF(K3=\"ja\",\"Anteil § 13a Prüfung \n160 kg N/ha Gesamt\n80 kg N/ha mineralisch\",\"\")","v":""}]
[null,null,null,null,null,"",{"$f":"IF(B15=\"\",\"\",E15*F15)","v":""},"","","",null,"","","",null,null,"Abfälle zur Beseitigung (§ 28 Absatz 2 odeS 3 KSWG)",{"$f":"SUMIF($N$14:$N$28,Q15,$H$14:$H$28)*B4","v":0},null,{"$f":"SUMIF($N$14:$N$28,Q15,$J$14:$J$28)*B4","v":0},null,"","",{"$f":"IF(B15=\"\",\"\",IF(V15<I15,I15,V15))","v":""},{"$f":"IF(B15=\"\",\"\",IF(N15=\"organisch\",0,H15))","v":""},{"$f":"IF(SUM(V15:Y15)=0,\"\",SUM(X15:Y15))","v":""},null,{"$f":"IF(L4=\"\",\"\",SUMIF($N$14:$N$28,\"mineralisch\",$H$14:$H$28))","v":""},{"$f":"IF(K3=\"ja\",\"mineralisch N kg/ha\",\"\")","v":""}]
[null,null,null,null,null,"","","","","",null,"","","",null,null,null,null,null,null,null,"","","","","",null,{"$f":"IF(L4=\"\",\"\",SUMIF($N$14:$N$28,\"organisch\",$H$14:$H$28)+SUMIF($N$14:$N$28,Q11,$H$14:$H$28))","v":""},{"$f":"IF(K3=\"ja\",\"organisch N kg/ha\",\"\")","v":""}]
[null,null,null,null,null,"","","","","",null,"","","",null,null,null,null,null,null,null,{"$f":"IF(OR(B17=\"\",N17=\"\"),\"\",IF(N17=\"mineralisch\",\"\",VLOOKUP(B17,Düngemiteldaten,17,0)*VLOOKUP(B17,Düngemiteldaten,4,0)*E17))","v":""},"","","","",null,{"$f":"IF(K3=\"ja\",(AB16+AB15),\"\")","v":""},{"$f":"IF(K3=\"ja\",\"Gesamt kg N/ha\",\"\")","v":""}]
[null,null,null,null,null,"","","","","",null,"","","",null,null,"Nährstoffherkunft auf gefährdeten Flächen §13",null,null,null,null,"","","","",""]
[null,null,null,null,null,"","","","","",null,"","","",null,null,null,"Gesamt N","NH4-N","P2O5 mineral.","P2O5 organisch","","","","",""]
[null,null,null,null,null,"","","","","",null,"","","",null,null,"N Gesamt minerl.",{"$f":"IF(K3=\"ja\",SUMIF($N$14:$N$28,\"mineralisch\",$H$14:$H$28),0)*B4","v":0},null,null,null,"","","","",""]
[null,null,null,null,null,"","","","","",null,"","","",null,null,"NH4-N minerlisch",null,{"$f":"IF(K3=\"ja\",SUMIF($N$14:$N$28,\"mineralisch\",$I$14:$I$28),0)*B4","v":0},null,null,"","","","",""]
[null,null,null,null,null,"","","","","",null,"","","",null,null,"N Gesamt organsich",{"$f":"IF(K3=\"ja\",SUMIF($N$14:$N$28,\"organisch\",$H$14:$H$28),0)*B4","v":0},null,null,null,"","","","",""]
[null,null,null,null,null,"","","","","",null,"","","",null,null,"NH4-N organsich",null,{"$f":"IF(K3=\"ja\",SUMIF($N$14:$N$28,\"organisch\",$I$14:$I$28),0)*B4","v":0},null,null,"","","","",""]
[null,null,null,null,null,"","","","","",null,"","","",null,null,"P2O5 mineralisch",null,null,{"$f":"IF(K3=\"ja\",SUMIF($N$14:$N$28,\"mineralisch\",$J$14:$J$28),0)*B4","v":0},null,"","","","",""]
[null,null,null,null,null,"","","","","",null,"","","",null,null,"P2O5 organisch",null,null,null,{"$f":"IF(K3=\"ja\",SUMIF($N$14:$N$28,\"organisch\",$J$14:$J$28),0)*B4","v":0},"","","","",""]
[null,null,null,null,null,"","","","","",null,"","","",null,null,"Sonstige organische Düngemittel",{"$f":"IF(K3=\"ja\",SUMIF($N$14:$N$28,Q26,$H$14:$H$28),0)*B4","v":0},{"$f":"IF(K3=\"ja\",SUMIF($N$14:$N$28,Q26,$I$14:$I$28),0)*B4","v":0},{"$f":"IF(K3=\"ja\",SUMIF($N$14:$N$28,Q26,$J$14:$J$28),0)*B4","v":0},null,"","","","",""]
[null,null,null,null,null,"","","","","",null,"","","",null,null,"Bodenhilfsstoffe",{"$f":"IF(K3=\"ja\",SUMIF($N$14:$N$28,Q27,$H$14:$H$28),0)*B4","v":0},null,{"$f":"IF(K3=\"ja\",SUMIF($N$14:$N$28,Q27,$J$14:$J$28),0)*B4","v":0},null,"","","","",""]
[null,null,null,null,null,"","","","","",null,"","","",null,null,"Kultursubstrate",{"$f":"IF(K3=\"ja\",SUMIF($N$14:$N$28,Q28,$H$14:$H$28),0)*B4","v":0},null,{"$f":"IF(K3=\"ja\",SUMIF($N$14:$N$28,Q28,$J$14:$J$28),0)*B4","v":0},null,"","","","",""]
[null,"anrechenbarer N aus org.Dgg. + min. Dgg. kg N/ha",null,null,null,null,null,{"$f":"X29+Y29","v":0},null,{"$f":"SUM(J14:J28)","v":0},null,{"$f":"SUM(L14:L28)","v":0},{"$f":"SUM(M14:M28)","v":0},null,null,null,"Pflanzenhilfsmittel",{"$f":"IF(K3=\"ja\",SUMIF($N$14:$N$28,Q29,$H$14:$H$28),0)*B4","v":0},null,{"$f":"IF(K3=\"ja\",SUMIF($N$14:$N$28,Q29,$J$14:$J$28),0)*B4","v":0},null,{"$f":"SUM(V14:V28)","v":0},{"$f":"SUM(W14:W28)","v":0},{"$f":"SUM(X14:X28)","v":0},{"$f":"SUM(Y14:Y28)","v":0},"kg/ha"]
[null,{"$f":"IF(K3=\"0\",O31,O30)","v":"Bilanz (anrechenbarer Dgg.- reduzierter Düngebedarf) kg N/ha"},null,null,null,null,null,{"$f":"IF(H12=\"\",0,IF(OR(K3=0,K3=\"nein\"),H29-H12,H29-H11))","v":0},null,{"$f":"IF(J12=\"\",\"\",J29-J12)","v":0},null,{"$f":"IF(L12=\"\",\"\",L29-L12)","v":0},{"$f":"IF(M12=\"\",\"\",M29-M12)","v":""},null,"Bilanz (anrechenbarer Dgg.- reduzierter Düngebedarf) kg N/ha",null,"Abfälle zur Beseitigung (§ 28 Absatz 2 odeS 3 KSWG)",{"$f":"IF(K3=\"ja\",SUMIF($N$14:$N$28,Q30,$H$14:$H$28),0)*B4","v":0},null,{"$f":"IF(K3=\"ja\",SUMIF($N$14:$N$28,Q30,$J$14:$J$28),0)*B4","v":0},null,{"$f":"V29*B4","v":0},{"$f":"W29*B4","v":0},{"$f":"X29*B4","v":0},{"$f":"Y29*B4","v":0},"kg/Schlag",null,{"$f":"IF(H30>0,\"Stickstoffmenge überschreitet den Düngebedarf\",\"\")","v":""}]
["Pflanzenschutzmittel",null,"Datum","EC","E./ha","€/E.","€/ha","Anwender",null,null,"Bemerkungen",null,null,null,"Bilanz (anrechenbarer Dgg.- Düngebedarf) kg N/ha"]
[null,null,null,null,null,{"$f":"IF($B32=\"\",\"\",VLOOKUP($B32,PSMMittel,2,0))","v":""},{"$f":"IF(B32=\"\",\"\",E32*F32)","v":""}]
[null,null,null,null,null,"",{"$f":"IF(B33=\"\",\"\",E33*F33)","v":""},null,null,null,null,null,null,null,null,null,"Stickstoffherkunft nicht gefährdetes Gebiet Gesamtfläche"]
[null,null,null,null,null,"","",null,null,null,null,null,null,null,null,null,null,"Gesamt N","NH4-N","P2O5 mineral.","P2O5 organisch",null,"N Fixierung kg N/ha"]
[null,null,null,null,null,"","",null,null,null,null,null,null,null,null,null,"N Gesamt minerl.",{"$f":"R5-R20","v":0},null,null,null,null,{"$f":"IF(E3=0,\"\",VLOOKUP(E3,AckerbauKulturen,26,0)*G56*B4)","v":""}]
[null,null,null,null,null,"","",null,null,null,null,null,null,null,null,null,"NH4-N minerlisch",null,{"$f":"S6-S21","v":0}]
[null,null,null,null,null,"","",null,null,null,null,null,null,null,null,null,"N Gesamt organsich",{"$f":"R7-R22","v":0}]
[null,null,null,null,null,"","",null,null,null,null,null,null,null,null,null,"NH4-N organsich",null,{"$f":"S8-S23","v":0}]
[null,null,null,null,null,"","",null,null,null,null,null,null,null,null,null,"P2O5 mineralisch",null,null,{"$f":"T9-T24","v":0}]
[null,null,null,null,null,"","",null,null,null,null,null,null,null,null,null,"P2O5 organisch",null,null,null,{"$f":"U10-U25","v":0}]
[null,null,null,null,null,"","",null,null,null,null,null,null,null,null,null,"Sonstige organische Düngemittel",{"$f":"R11-R26","v":0},{"$f":"S11-S26","v":0},{"$f":"T11-T26","v":0}]
[null,null,null,null,null,"","",null,null,null,null,null,null,null,null,null,"Bodenhilfsstoffe",{"$f":"R12-R27","v":0},null,{"$f":"T12-T27","v":0}]
[null,null,null,null,null,"","",null,null,null,null,null,null,null,null,null,"Kultursubstrate",{"$f":"R13-R28","v":0},null,{"$f":"T13-T28","v":0}]
[null,null,null,null,null,"","",null,null,null,null,null,null,null,null,null,"Pflanzenhilfsmittel",{"$f":"R14-R29","v":0},null,{"$f":"T14-T29","v":0}]
[null,null,null,null,null,"","",null,null,null,null,null,null,null,null,null,"Abfälle zur Beseitigung (§ 28 Absatz 2 odeS 3 KSWG)",{"$f":"R15-R30","v":0},null,{"$f":"T15-T30","v":0}]
[null,null,null,null,null,"",""]
[null,null,null,null,null,"",""]
[null,null,null,null,null,"",""]
[null,null,null,null,null,"",""]
[null,null,null,null,null,"",""]
[null,null,null,null,null,"",""]
[null,null,null,null,null,"",""]
[null,null,null,null,null,"",""]
[null,"Summe",null,null,null,null,{"$f":"SUM(G32:G53)","v":0}]
[]
[null,"Erntedatum:",null,{"$f":"IF(VLOOKUP($B$2,Ackerbauplan,58,0)=\"\",\"\",VLOOKUP($B$2,Ackerbauplan,58,0))","v":""},null,"dt/ha",{"$f":"VLOOKUP($B$2,Ackerbauplan,60,0)","v":0},null,null,"€/dt",null,{"$f":"VLOOKUP($B$2,Ackerbauplan,59,0)","v":0}]
[null,"   Hauptleistung ",null,{"$f":"IF(VLOOKUP($B$2,Ackerbauplan,61,0)=\"\",\"\",VLOOKUP($B$2,Ackerbauplan,61,0))","v":""},null,"Saatgut ",null,{"$f":"G11","v":0},"€/ha","Marktleistung -"]
[null,null,"+ Nebenleistung ",{"$f":"IF($B$2=\"\",\"\",VLOOKUP($B$2,Anbauplan,62,0))","v":0},null,"Dünger ",null,{"$f":"SUM(G14:G28)","v":0},"€/ha","Saatgut, Dünger, PSM"]
[null,null,"= Marktleistung ",{"$f":"IF(D57=\"\",\"\",D58+D57)","v":""},null,"Pflanzenschutz ",null,{"$f":"G54","v":0},"€/ha",{"$f":"IF(D59=\"\",\"\",D59-H57-H58-H59)","v":""},null,null,"€/ha"]
[null,{"$f":"IF($B$2=\"\",\"\",VLOOKUP($B$2,Anbauplan,2,0))","v":0}]
[null,"Bearbeitung","Maschine 1",null,"Maschine 2",null,"Maschine 3",null,"Datum",null,"Bemerkung"]

{"sheet":"A17","index":26,"n_rows":61,"n_cols":30,"rows_kept":61,"cut":false,"hidden":false,"merged":[[13,27,13,28],[13,29,16,30],[6,7,6,12],[7,7,7,8],[8,7,8,8],[7,9,7,10],[8,9,8,10],[10,8,10,12],[73,2,73,3],[73,4,73,5],[73,6,73,7],[73,8,73,9],[73,10,73,12],[69,2,69,3],[69,4,69,5],[69,6,69,7],[69,8,69,9],[69,10,69,12],[70,2,70,3],[70,4,70,5],[70,6,70,7],[70,8,70,9],[70,10,70,12],[67,2,67,3],[67,4,67,5],[67,6,67,7],[74,2,74,3],[74,4,74,5],[74,6,74,7],[74,8,74,9],[74,10,74,12],[71,2,71,3],[71,4,71,5],[71,6,71,7],[71,8,71,9],[71,10,71,12],[72,2,72,3],[72,4,72,5],[72,6,72,7],[72,8,72,9],[72,10,72,12],[67,8,67,9],[67,10,67,12],[68,2,68,3],[68,4,68,5],[68,6,68,7],[68,8,68,9],[68,10,68,12],[65,2,65,3],[65,4,65,5],[65,6,65,7],[65,8,65,9],[65,10,65,12],[66,2,66,3],[66,4,66,5],[66,6,66,7],[66,8,66,9],[66,10,66,12],[63,2,63,3],[63,4,63,5],[63,6,63,7],[63,8,63,9],[63,10,63,12],[64,2,64,3],[64,4,64,5],[64,6,64,7],[64,8,64,9],[64,10,64,12],[61,2,61,3],[61,4,61,5],[61,6,61,7],[61,8,61,9],[61,10,61,12],[62,2,62,3],[62,4,62,5],[62,6,62,7],[62,8,62,9],[62,10,62,12],[58,3,58,4],[58,5,58,6],[58,9,58,11],[59,1,59,12],[60,2,60,3],[60,4,60,5],[60,6,60,7],[60,8,60,9],[60,10,60,12],[56,1,56,2],[56,3,56,4],[56,5,56,6],[56,9,56,12],[57,3,57,4],[57,5,57,6],[57,9,57,12],[52,7,52,9],[52,10,52,12],[53,1,53,5],[53,7,53,12],[54,1,54,6],[55,1,55,2],[55,3,55,4],[55,6,55,8],[55,9,55,10],[55,11,55,12],[49,7,49,9],[49,10,49,12],[50,7,50,9],[50,10,50,12],[51,7,51,9],[51,10,51,12],[46,7,46,9],[46,10,46,12],[47,7,47,9],[47,10,47,12],[48,7,48,9],[48,10,48,12],[43,7,43,9],[43,10,43,12],[44,7,44,9],[44,10,44,12],[45,7,45,9],[45,10,45,12],[40,7,40,9],[40,10,40,12],[41,7,41,9],[41,10,41,12],[42,7,42,9],[42,10,42,12],[37,7,37,9],[37,10,37,12],[38,7,38,9],[38,10,38,12],[39,7,39,9],[39,10,39,12],[34,7,34,9],[34,10,34,12],[35,7,35,9],[35,10,35,12],[36,7,36,9],[36,10,36,12],[31,7,31,9],[31,10,31,12],[32,7,32,9],[32,10,32,12],[32,16,32,20],[33,7,33,9],[33,10,33,12],[29,1,29,6],[29,7,29,8],[29,9,29,10],[30,0,30,1],[30,7,30,9],[30,10,30,12],[23,9,23,10],[24,9,24,10],[25,9,25,10],[26,9,26,10],[27,9,27,10],[28,1,28,6],[28,7,28,8],[28,9,28,10],[17,16,17,20],[18,9,18,10],[19,9,19,10],[20,9,20,10],[21,9,21,10],[22,9,22,10],[14,9,14,10],[15,9,15,10],[16,9,16,10],[17,9,17,10],[10,1,10,2],[9,7,9,12],[11,1,11,2],[11,4,11,6],[11,7,11,8],[11,9,11,10],[11,25,12,25],[33,22,33,23],[34,22,34,23],[0,1,0,12],[1,2,1,3],[1,4,1,6],[1,7,1,9],[1,10,1,12],[2,2,2,3],[2,4,2,6],[2,7,2,9],[2,10,2,12],[5,7,5,10],[5,11,5,12],[3,2,3,3],[3,4,3,6],[3,7,3,10],[3,11,3,12],[4,2,4,3],[4,4,4,6],[4,7,4,9],[4,10,4,12],[12,9,12,10],[13,9,13,10]]}
[null,"Ackerland"]
[null,17,"Name:",null,{"$f":"IF(B2=\"\",\"\",VLOOKUP(B2,Anbauplan,2,0))","v":0},null,null,"Jahr:",null,null,{"$f":"IF(Einführung!I8=\"\",\"\",Einführung!I8)","v":""},null,null,{"$f":"IF(OR(B4=\"\",H12=\"\"),\"\",H12*B4)","v":0},"DB kg * Fläche"]
[null,"Hektar ","Hauptfrucht ",null,{"$f":"IF(B2=\"\",\"\",VLOOKUP(B2,Ackerbauplan,4,0))","v":0},null,null,"Nitratkulisse",null,null,{"$f":"IF(B2=\"\",\"\",VLOOKUP(B2,Ackerbauplan,20,0))","v":0},null,null,{"$f":"L4","v":""},"kg/ha org. Dünger für Kontrollgrenze"]
[null,{"$f":"IF(B2=\"\",\"\",VLOOKUP(B2,Ackerbauplan,3,0))","v":0},"Vorfrucht",null,{"$f":"IF(B2=\"\",\"\",VLOOKUP(B2,Ackerbauplan,9,0))","v":0},null,null,"Wirtschaftsdünger zur Berechung\ndes 130 kg N/ha Anteils in kg/ha",null,null,null,{"$f":"IF(K3=\"ja\",W29,\"\")","v":""},null,{"$f":"IF(N3=\"\",\"\",N3*B4)","v":""},"kg Gesamtschlag org Dünger für 170 Kontrollgrenze",null,null,"Gesamt N","NH4-N","P2O5 mineral.","P2O5 organisch"]
[null,"Sorte","VorVorfrucht",null,null,null,null,"Phosphatkulisse",null,null,{"$f":"IF(B2=\"\",\"\",VLOOKUP(B2,Ackerbauplan,21,0))","v":0},null,null,{"$f":"IF(H12=\"\",\"\",IF(K3=\"ja\",N2*0.8,\"\"))","v":""},"Nitrat belastetes Gebiet Düngebedarf Gesamtschlag kg N/ha",null,"N Gesamt minerl.",{"$f":"SUMIF($N$14:$N$28,\"mineralisch\",$H$14:$H$28)*B4","v":0}]
[null,{"$f":"IF(B2=\"\",\"\",VLOOKUP(B2,Ackerbauplan,8,0))","v":0},null,null,null,null,null,"sonstige Auflagen",null,null,null,null,null,{"$f":"IF(K3=\"ja\",X30+Y30,\"\")","v":""},"org +min .anrechenbare N Menge Gesamtschlag  kg N/ha",null,"NH4-N minerlisch",null,{"$f":"SUMIF($N$14:$N$28,\"mineralisch\",$I$14:$I$28)*B4","v":0}]
[null,"Aussaatdatum","Kö./m² ",{"$f":"IF(B2=\"\",\"\",VLOOKUP(B2,Ackerbauplan,52,0))","v":0},null,"Eigen","Zukauf","Versorgungsstufen",null,null,null,null,null,{"$f":"IF(K3=\"ja\",J12*B4,\"\")","v":""},null,null,"N Gesamt organsich",{"$f":"SUMIF($N$14:$N$28,\"organisch\",$H$14:$H$28)*B4","v":0}]
[null,{"$f":"IF(B2=\"0\",\"\",VLOOKUP(B2,Ackerbauplan,51,0))","v":"00:00:00"},"x TKG ",{"$f":"IF(B2=\"\",\"\",VLOOKUP(B2,Ackerbauplan,53,0))","v":0},"dt/ha ",null,null,"Nmin",null,"P2O5",null,"K2O","MgO",null,null,null,"NH4-N organsich",null,{"$f":"SUMIF($N$14:$N$28,\"organisch\",I14:I28)*B4","v":0}]
[null,"Beize","/Kei.fäh.",{"$f":"IF(B2=\"\",\"\",VLOOKUP(B2,Ackerbauplan,54,0))","v":0},"€/dt",null,null,{"$f":"IF(B2=\"\",\"\",VLOOKUP(B2,Ackerbauplan,17,0))","v":0},null,{"$f":"IF(B2=\"\",\"\",VLOOKUP(B2,Ackerbauplan,30,0))","v":"C"},null,{"$f":"IF(B2=\"\",\"\",VLOOKUP(B2,Ackerbauplan,31,0))","v":"C"},{"$f":"IF(B2=\"\",\"\",VLOOKUP(B2,Ackerbauplan,32,0))","v":"C"},null,null,null,"P2O5 mineralisch",null,null,{"$f":"SUMIF($N$14:$N$28,\"mineralisch\",$J$14:$J$28)*B4","v":0}]
[null,null,"= kg/ha",{"$f":"IF(B2=\"\",\"\",VLOOKUP(B2,Ackerbauplan,55,0))","v":""},"€/ha ",{"$f":"F8*F9","v":0},{"$f":"G8*G9","v":0},"Düngebedarf kg/ha (Blatt Ackerfläche)",null,null,null,null,null,null,"Düngebedarf um 20% reduziert",null,"P2O5 organisch",null,null,null,{"$f":"SUMIF($N$14:$N$28,\"organisch\",$J$14:$J$28)*B4","v":0},null,null,null,null,null,null,{"$f":"IF(K3=\"ja\",\"Noch nicht ausgeschöpfter Stickstoff Düngebedarf aller Flächen\",\"\")","v":""}]
[null,"Saatgutkennnummer",null,null,null,"Summe",{"$f":"F10+G10","v":0},{"$f":"IF(H12=\"\",\"\",IF(K3=\"ja\",H12*0.8,\"\"))","v":""},{"$f":"IF(K3=\"ja\",O10,\"\")","v":""},null,null,null,null,null,null,null,"Sonstige organische Düngemittel",{"$f":"SUMIF($N$14:$N$28,Q11,$H$14:$H$28)*B4","v":0},{"$f":"SUMIF($N$14:$N$28,Q11,$I$14:$I$28)*B4","v":0},{"$f":"SUMIF($N$14:$N$28,Q11,$J$14:$J$28)*B4","v":0},null,null,null,null,null,null,null,{"$f":"IF(K3=\"ja\",'Zus. Anlage 5 DüV'!D43,\"\")","v":""},{"$f":"IF(K3=\"ja\",\"kg N Gesamtfläche\",\"\")","v":""}]
[null,null,null,null,"N Bedarf DÜV kg/ha",null,null,{"$f":"IF(B2=\"\",\"\",VLOOKUP(B2,Ackerbauplan,18,0))","v":"0"},null,{"$f":"IF(B2=\"\",\"\",VLOOKUP(B2,Ackerbauplan,37,0))","v":"0"},null,{"$f":"IF(B2=\"\",\"\",VLOOKUP(B2,Ackerbauplan,38,0))","v":"0"},null,null,null,null,"Bodenhilfsstoffe",{"$f":"SUMIF($N$14:$N$28,Q12,$H$14:$H$28)*B4","v":0},null,{"$f":"SUMIF($N$14:$N$28,Q12,$J$14:$J$28)*B4","v":0},null,"Anrechnung","Anrechnung ","Prüfung NH4","mineral","Kontroll\nSumme"]
[null,"Dünger","Datum","EC","m³o.dt/ha","€/dt","€/ha","Ges.-N","NH4-N","P2O5",null,"K2O","S",null,null,null,"Kultursubstrate",{"$f":"SUMIF($N$14:$N$28,Q13,$H$14:$H$28)*B4","v":0},null,{"$f":"SUMIF($N$14:$N$28,Q13,$J$14:$J$28)*B4","v":0},null,"aktuelles Jahr","170 kg GW"," oder Anlage3","Stickstoff"]
[null,null,null,null,null,{"$f":"IF(B14=\"\",\"\",VLOOKUP(B14,Düngemiteldaten,2,0))","v":""},{"$f":"IF(B14=\"\",\"\",E14*F14)","v":""},{"$f":"IF(B14=\"\",\"\",VLOOKUP(B14,Düngemiteldaten,4,0)*E14)","v":""},{"$f":"IF(B14=\"\",\"\",VLOOKUP(B14,Düngemiteldaten,5,0)*E14)","v":""},{"$f":"IF(B14=\"\",\"\",VLOOKUP(B14,Düngemiteldaten,7,0)*E14)","v":""},null,{"$f":"IF(B14=\"\",\"\",VLOOKUP(B14,Düngemiteldaten,8,0)*E14)","v":""},{"$f":"IF(B14=\"\",\"\",VLOOKUP(B14,Düngemiteldaten,10,0)*E14)","v":""},{"$f":"IF(B14=\"\",\"\",VLOOKUP(B14,Düngemiteldaten,20,0))","v":""},null,null,"Pflanzenhilfsmittel",{"$f":"SUMIF($N$14:$N$28,Q14,$H$14:$H$28)*B4","v":0},null,{"$f":"SUMIF($N$14:$N$28,Q14,$J$14:$J$28)*B4","v":0},null,{"$f":"IF(OR(B14=\"\",N14=\"\"),\"\",IF(N14=\"mineralisch\",\"\",VLOOKUP(B14,Düngemiteldaten,17,0)*VLOOKUP(B14,Düngemiteldaten,4,0)*E14))","v":""},{"$f":"IF(N14=\"organisch\",VLOOKUP(B14,Düngemiteldaten,4,0)*E14*VLOOKUP(B14,Düngemiteldaten,19,0),\"\")","v":""},{"$f":"IF(B14=\"\",\"\",IF(V14<I14,I14,V14))","v":""},{"$f":"IF(B14=\"\",\"\",IF(N14=\"organisch\",0,H14))","v":""},{"$f":"IF(SUM(V14:Y14)=0,\"\",SUM(X14:Y14))","v":""},null,{"$f":"IF(K3=\"ja\",\"Summe Gesamtstickstoff\",\"\")","v":""},null,{"$f":"IF(K3=\"ja\",\"Anteil § 13a Prüfung \n160 kg N/ha Gesamt\n80 kg N/ha mineralisch\",\"\")","v":""}]
[null,null,null,null,null,"",{"$f":"IF(B15=\"\",\"\",E15*F15)","v":""},"","","",null,"","","",null,null,"Abfälle zur Beseitigung (§ 28 Absatz 2 odeS 3 KSWG)",{"$f":"SUMIF($N$14:$N$28,Q15,$H$14:$H$28)*B4","v":0},null,{"$f":"SUMIF($N$14:$N$28,Q15,$J$14:$J$28)*B4","v":0},null,"","",{"$f":"IF(B15=\"\",\"\",IF(V15<I15,I15,V15))","v":""},{"$f":"IF(B15=\"\",\"\",IF(N15=\"organisch\",0,H15))","v":""},{"$f":"IF(SUM(V15:Y15)=0,\"\",SUM(X15:Y15))","v":""},null,{"$f":"IF(L4=\"\",\"\",SUMIF($N$14:$N$28,\"mineralisch\",$H$14:$H$28))","v":""},{"$f":"IF(K3=\"ja\",\"mineralisch N kg/ha\",\"\")","v":""}]
[null,null,null,null,null,"","","","","",null,"","","",null,null,null,null,null,null,null,"","","","","",null,{"$f":"IF(L4=\"\",\"\",SUMIF($N$14:$N$28,\"organisch\",$H$14:$H$28)+SUMIF($N$14:$N$28,Q11,$H$14:$H$28))","v":""},{"$f":"IF(K3=\"ja\",\"organisch N kg/ha\",\"\")","v":""}]
[null,null,null,null,null,"","","","","",null,"","","",null,null,null,null,null,null,null,{"$f":"IF(OR(B17=\"\",N17=\"\"),\"\",IF(N17=\"mineralisch\",\"\",VLOOKUP(B17,Düngemiteldaten,17,0)*VLOOKUP(B17,Düngemiteldaten,4,0)*E17))","v":""},"","","","",null,{"$f":"IF(K3=\"ja\",(AB16+AB15),\"\")","v":""},{"$f":"IF(K3=\"ja\",\"Gesamt kg N/ha\",\"\")","v":""}]
[null,null,null,null,null,"","","","","",null,"","","",null,null,"Nährstoffherkunft auf gefährdeten Flächen §13",null,null,null,null,"","","","",""]
[null,null,null,null,null,"","","","","",null,"","","",null,null,null,"Gesamt N","NH4-N","P2O5 mineral.","P2O5 organisch","","","","",""]
[null,null,null,null,null,"","","","","",null,"","","",null,null,"N Gesamt minerl.",{"$f":"IF(K3=\"ja\",SUMIF($N$14:$N$28,\"mineralisch\",$H$14:$H$28),0)*B4","v":0},null,null,null,"","","","",""]
[null,null,null,null,null,"","","","","",null,"","","",null,null,"NH4-N minerlisch",null,{"$f":"IF(K3=\"ja\",SUMIF($N$14:$N$28,\"mineralisch\",$I$14:$I$28),0)*B4","v":0},null,null,"","","","",""]
[null,null,null,null,null,"","","","","",null,"","","",null,null,"N Gesamt organsich",{"$f":"IF(K3=\"ja\",SUMIF($N$14:$N$28,\"organisch\",$H$14:$H$28),0)*B4","v":0},null,null,null,"","","","",""]
[null,null,null,null,null,"","","","","",null,"","","",null,null,"NH4-N organsich",null,{"$f":"IF(K3=\"ja\",SUMIF($N$14:$N$28,\"organisch\",$I$14:$I$28),0)*B4","v":0},null,null,"","","","",""]
[null,null,null,null,null,"","","","","",null,"","","",null,null,"P2O5 mineralisch",null,null,{"$f":"IF(K3=\"ja\",SUMIF($N$14:$N$28,\"mineralisch\",$J$14:$J$28),0)*B4","v":0},null,"","","","",""]
[null,null,null,null,null,"","","","","",null,"","","",null,null,"P2O5 organisch",null,null,null,{"$f":"IF(K3=\"ja\",SUMIF($N$14:$N$28,\"organisch\",$J$14:$J$28),0)*B4","v":0},"","","","",""]
[null,null,null,null,null,"","","","","",null,"","","",null,null,"Sonstige organische Düngemittel",{"$f":"IF(K3=\"ja\",SUMIF($N$14:$N$28,Q26,$H$14:$H$28),0)*B4","v":0},{"$f":"IF(K3=\"ja\",SUMIF($N$14:$N$28,Q26,$I$14:$I$28),0)*B4","v":0},{"$f":"IF(K3=\"ja\",SUMIF($N$14:$N$28,Q26,$J$14:$J$28),0)*B4","v":0},null,"","","","",""]
[null,null,null,null,null,"","","","","",null,"","","",null,null,"Bodenhilfsstoffe",{"$f":"IF(K3=\"ja\",SUMIF($N$14:$N$28,Q27,$H$14:$H$28),0)*B4","v":0},null,{"$f":"IF(K3=\"ja\",SUMIF($N$14:$N$28,Q27,$J$14:$J$28),0)*B4","v":0},null,"","","","",""]
[null,null,null,null,null,"","","","","",null,"","","",null,null,"Kultursubstrate",{"$f":"IF(K3=\"ja\",SUMIF($N$14:$N$28,Q28,$H$14:$H$28),0)*B4","v":0},null,{"$f":"IF(K3=\"ja\",SUMIF($N$14:$N$28,Q28,$J$14:$J$28),0)*B4","v":0},null,"","","","",""]
[null,"anrechenbarer N aus org.Dgg. + min. Dgg. kg N/ha",null,null,null,null,null,{"$f":"X29+Y29","v":0},null,{"$f":"SUM(J14:J28)","v":0},null,{"$f":"SUM(L14:L28)","v":0},{"$f":"SUM(M14:M28)","v":0},null,null,null,"Pflanzenhilfsmittel",{"$f":"IF(K3=\"ja\",SUMIF($N$14:$N$28,Q29,$H$14:$H$28),0)*B4","v":0},null,{"$f":"IF(K3=\"ja\",SUMIF($N$14:$N$28,Q29,$J$14:$J$28),0)*B4","v":0},null,{"$f":"SUM(V14:V28)","v":0},{"$f":"SUM(W14:W28)","v":0},{"$f":"SUM(X14:X28)","v":0},{"$f":"SUM(Y14:Y28)","v":0},"kg/ha"]
[null,{"$f":"IF(K3=\"0\",O31,O30)","v":"Bilanz (anrechenbarer Dgg.- reduzierter Düngebedarf) kg N/ha"},null,null,null,null,null,{"$f":"IF(H12=\"\",0,IF(OR(K3=0,K3=\"nein\"),H29-H12,H29-H11))","v":0},null,{"$f":"IF(J12=\"\",\"\",J29-J12)","v":0},null,{"$f":"IF(L12=\"\",\"\",L29-L12)","v":0},{"$f":"IF(M12=\"\",\"\",M29-M12)","v":""},null,"Bilanz (anrechenbarer Dgg.- reduzierter Düngebedarf) kg N/ha",null,"Abfälle zur Beseitigung (§ 28 Absatz 2 odeS 3 KSWG)",{"$f":"IF(K3=\"ja\",SUMIF($N$14:$N$28,Q30,$H$14:$H$28),0)*B4","v":0},null,{"$f":"IF(K3=\"ja\",SUMIF($N$14:$N$28,Q30,$J$14:$J$28),0)*B4","v":0},null,{"$f":"V29*B4","v":0},{"$f":"W29*B4","v":0},{"$f":"X29*B4","v":0},{"$f":"Y29*B4","v":0},"kg/Schlag",null,{"$f":"IF(H30>0,\"Stickstoffmenge überschreitet den Düngebedarf\",\"\")","v":""}]
["Pflanzenschutzmittel",null,"Datum","EC","E./ha","€/E.","€/ha","Anwender",null,null,"Bemerkungen",null,null,null,"Bilanz (anrechenbarer Dgg.- Düngebedarf) kg N/ha"]
[null,null,null,null,null,{"$f":"IF($B32=\"\",\"\",VLOOKUP($B32,PSMMittel,2,0))","v":""},{"$f":"IF(B32=\"\",\"\",E32*F32)","v":""}]
[null,null,null,null,null,"",{"$f":"IF(B33=\"\",\"\",E33*F33)","v":""},null,null,null,null,null,null,null,null,null,"Stickstoffherkunft nicht gefährdetes Gebiet Gesamtfläche"]
[null,null,null,null,null,"","",null,null,null,null,null,null,null,null,null,null,"Gesamt N","NH4-N","P2O5 mineral.","P2O5 organisch",null,"N Fixierung kg N/ha"]
[null,null,null,null,null,"","",null,null,null,null,null,null,null,null,null,"N Gesamt minerl.",{"$f":"R5-R20","v":0},null,null,null,null,{"$f":"IF(E3=0,\"\",VLOOKUP(E3,AckerbauKulturen,26,0)*G56*B4)","v":""}]
[null,null,null,null,null,"","",null,null,null,null,null,null,null,null,null,"NH4-N minerlisch",null,{"$f":"S6-S21","v":0}]
[null,null,null,null,null,"","",null,null,null,null,null,null,null,null,null,"N Gesamt organsich",{"$f":"R7-R22","v":0}]
[null,null,null,null,null,"","",null,null,null,null,null,null,null,null,null,"NH4-N organsich",null,{"$f":"S8-S23","v":0}]
[null,null,null,null,null,"","",null,null,null,null,null,null,null,null,null,"P2O5 mineralisch",null,null,{"$f":"T9-T24","v":0}]
[null,null,null,null,null,"","",null,null,null,null,null,null,null,null,null,"P2O5 organisch",null,null,null,{"$f":"U10-U25","v":0}]
[null,null,null,null,null,"","",null,null,null,null,null,null,null,null,null,"Sonstige organische Düngemittel",{"$f":"R11-R26","v":0},{"$f":"S11-S26","v":0},{"$f":"T11-T26","v":0}]
[null,null,null,null,null,"","",null,null,null,null,null,null,null,null,null,"Bodenhilfsstoffe",{"$f":"R12-R27","v":0},null,{"$f":"T12-T27","v":0}]
[null,null,null,null,null,"","",null,null,null,null,null,null,null,null,null,"Kultursubstrate",{"$f":"R13-R28","v":0},null,{"$f":"T13-T28","v":0}]
[null,null,null,null,null,"","",null,null,null,null,null,null,null,null,null,"Pflanzenhilfsmittel",{"$f":"R14-R29","v":0},null,{"$f":"T14-T29","v":0}]
[null,null,null,null,null,"","",null,null,null,null,null,null,null,null,null,"Abfälle zur Beseitigung (§ 28 Absatz 2 odeS 3 KSWG)",{"$f":"R15-R30","v":0},null,{"$f":"T15-T30","v":0}]
[null,null,null,null,null,"",""]
[null,null,null,null,null,"",""]
[null,null,null,null,null,"",""]
[null,null,null,null,null,"",""]
[null,null,null,null,null,"",""]
[null,null,null,null,null,"",""]
[null,null,null,null,null,"",""]
[null,null,null,null,null,"",""]
[null,"Summe",null,null,null,null,{"$f":"SUM(G32:G53)","v":0}]
[]
[null,"Erntedatum:",null,{"$f":"IF(VLOOKUP($B$2,Ackerbauplan,58,0)=\"\",\"\",VLOOKUP($B$2,Ackerbauplan,58,0))","v":""},null,"dt/ha",{"$f":"VLOOKUP($B$2,Ackerbauplan,60,0)","v":0},null,null,"€/dt",null,{"$f":"VLOOKUP($B$2,Ackerbauplan,59,0)","v":0}]
[null,"   Hauptleistung ",null,{"$f":"IF(VLOOKUP($B$2,Ackerbauplan,61,0)=\"\",\"\",VLOOKUP($B$2,Ackerbauplan,61,0))","v":""},null,"Saatgut ",null,{"$f":"G11","v":0},"€/ha","Marktleistung -"]
[null,null,"+ Nebenleistung ",{"$f":"IF($B$2=\"\",\"\",VLOOKUP($B$2,Anbauplan,62,0))","v":0},null,"Dünger ",null,{"$f":"SUM(G14:G28)","v":0},"€/ha","Saatgut, Dünger, PSM"]
[null,null,"= Marktleistung ",{"$f":"IF(D57=\"\",\"\",D58+D57)","v":""},null,"Pflanzenschutz ",null,{"$f":"G54","v":0},"€/ha",{"$f":"IF(D59=\"\",\"\",D59-H57-H58-H59)","v":""},null,null,"€/ha"]
[null,{"$f":"IF($B$2=\"\",\"\",VLOOKUP($B$2,Anbauplan,2,0))","v":0}]
[null,"Bearbeitung","Maschine 1",null,"Maschine 2",null,"Maschine 3",null,"Datum",null,"Bemerkung"]

{"sheet":"A18","index":27,"n_rows":61,"n_cols":30,"rows_kept":61,"cut":false,"hidden":false,"merged":[[13,27,13,28],[13,29,16,30],[6,7,6,12],[7,7,7,8],[8,7,8,8],[7,9,7,10],[8,9,8,10],[10,8,10,12],[73,2,73,3],[73,4,73,5],[73,6,73,7],[73,8,73,9],[73,10,73,12],[69,2,69,3],[69,4,69,5],[69,6,69,7],[69,8,69,9],[69,10,69,12],[70,2,70,3],[70,4,70,5],[70,6,70,7],[70,8,70,9],[70,10,70,12],[67,2,67,3],[67,4,67,5],[67,6,67,7],[74,2,74,3],[74,4,74,5],[74,6,74,7],[74,8,74,9],[74,10,74,12],[71,2,71,3],[71,4,71,5],[71,6,71,7],[71,8,71,9],[71,10,71,12],[72,2,72,3],[72,4,72,5],[72,6,72,7],[72,8,72,9],[72,10,72,12],[67,8,67,9],[67,10,67,12],[68,2,68,3],[68,4,68,5],[68,6,68,7],[68,8,68,9],[68,10,68,12],[65,2,65,3],[65,4,65,5],[65,6,65,7],[65,8,65,9],[65,10,65,12],[66,2,66,3],[66,4,66,5],[66,6,66,7],[66,8,66,9],[66,10,66,12],[63,2,63,3],[63,4,63,5],[63,6,63,7],[63,8,63,9],[63,10,63,12],[64,2,64,3],[64,4,64,5],[64,6,64,7],[64,8,64,9],[64,10,64,12],[61,2,61,3],[61,4,61,5],[61,6,61,7],[61,8,61,9],[61,10,61,12],[62,2,62,3],[62,4,62,5],[62,6,62,7],[62,8,62,9],[62,10,62,12],[58,3,58,4],[58,5,58,6],[58,9,58,11],[59,1,59,12],[60,2,60,3],[60,4,60,5],[60,6,60,7],[60,8,60,9],[60,10,60,12],[56,1,56,2],[56,3,56,4],[56,5,56,6],[56,9,56,12],[57,3,57,4],[57,5,57,6],[57,9,57,12],[52,7,52,9],[52,10,52,12],[53,1,53,5],[53,7,53,12],[54,1,54,6],[55,1,55,2],[55,3,55,4],[55,6,55,8],[55,9,55,10],[55,11,55,12],[49,7,49,9],[49,10,49,12],[50,7,50,9],[50,10,50,12],[51,7,51,9],[51,10,51,12],[46,7,46,9],[46,10,46,12],[47,7,47,9],[47,10,47,12],[48,7,48,9],[48,10,48,12],[43,7,43,9],[43,10,43,12],[44,7,44,9],[44,10,44,12],[45,7,45,9],[45,10,45,12],[40,7,40,9],[40,10,40,12],[41,7,41,9],[41,10,41,12],[42,7,42,9],[42,10,42,12],[37,7,37,9],[37,10,37,12],[38,7,38,9],[38,10,38,12],[39,7,39,9],[39,10,39,12],[34,7,34,9],[34,10,34,12],[35,7,35,9],[35,10,35,12],[36,7,36,9],[36,10,36,12],[31,7,31,9],[31,10,31,12],[32,7,32,9],[32,10,32,12],[32,16,32,20],[33,7,33,9],[33,10,33,12],[29,1,29,6],[29,7,29,8],[29,9,29,10],[30,0,30,1],[30,7,30,9],[30,10,30,12],[23,9,23,10],[24,9,24,10],[25,9,25,10],[26,9,26,10],[27,9,27,10],[28,1,28,6],[28,7,28,8],[28,9,28,10],[17,16,17,20],[18,9,18,10],[19,9,19,10],[20,9,20,10],[21,9,21,10],[22,9,22,10],[14,9,14,10],[15,9,15,10],[16,9,16,10],[17,9,17,10],[10,1,10,2],[9,7,9,12],[11,1,11,2],[11,4,11,6],[11,7,11,8],[11,9,11,10],[11,25,12,25],[33,22,33,23],[34,22,34,23],[0,1,0,12],[1,2,1,3],[1,4,1,6],[1,7,1,9],[1,10,1,12],[2,2,2,3],[2,4,2,6],[2,7,2,9],[2,10,2,12],[5,7,5,10],[5,11,5,12],[3,2,3,3],[3,4,3,6],[3,7,3,10],[3,11,3,12],[4,2,4,3],[4,4,4,6],[4,7,4,9],[4,10,4,12],[12,9,12,10],[13,9,13,10]]}
[null,"Ackerland"]
[null,18,"Name:",null,{"$f":"IF(B2=\"\",\"\",VLOOKUP(B2,Anbauplan,2,0))","v":0},null,null,"Jahr:",null,null,{"$f":"IF(Einführung!I8=\"\",\"\",Einführung!I8)","v":""},null,null,{"$f":"IF(OR(B4=\"\",H12=\"\"),\"\",H12*B4)","v":0},"DB kg * Fläche"]
[null,"Hektar ","Hauptfrucht ",null,{"$f":"IF(B2=\"\",\"\",VLOOKUP(B2,Ackerbauplan,4,0))","v":0},null,null,"Nitratkulisse",null,null,{"$f":"IF(B2=\"\",\"\",VLOOKUP(B2,Ackerbauplan,20,0))","v":0},null,null,{"$f":"L4","v":""},"kg/ha org. Dünger für Kontrollgrenze"]
[null,{"$f":"IF(B2=\"\",\"\",VLOOKUP(B2,Ackerbauplan,3,0))","v":0},"Vorfrucht",null,{"$f":"IF(B2=\"\",\"\",VLOOKUP(B2,Ackerbauplan,9,0))","v":0},null,null,"Wirtschaftsdünger zur Berechung\ndes 130 kg N/ha Anteils in kg/ha",null,null,null,{"$f":"IF(K3=\"ja\",W29,\"\")","v":""},null,{"$f":"IF(N3=\"\",\"\",N3*B4)","v":""},"kg Gesamtschlag org Dünger für 170 Kontrollgrenze",null,null,"Gesamt N","NH4-N","P2O5 mineral.","P2O5 organisch"]
[null,"Sorte","VorVorfrucht",null,null,null,null,"Phosphatkulisse",null,null,{"$f":"IF(B2=\"\",\"\",VLOOKUP(B2,Ackerbauplan,21,0))","v":0},null,null,{"$f":"IF(H12=\"\",\"\",IF(K3=\"ja\",N2*0.8,\"\"))","v":""},"Nitrat belastetes Gebiet Düngebedarf Gesamtschlag kg N/ha",null,"N Gesamt minerl.",{"$f":"SUMIF($N$14:$N$28,\"mineralisch\",$H$14:$H$28)*B4","v":0}]
[null,{"$f":"IF(B2=\"\",\"\",VLOOKUP(B2,Ackerbauplan,8,0))","v":0},null,null,null,null,null,"sonstige Auflagen",null,null,null,null,null,{"$f":"IF(K3=\"ja\",X30+Y30,\"\")","v":""},"org +min .anrechenbare N Menge Gesamtschlag  kg N/ha",null,"NH4-N minerlisch",null,{"$f":"SUMIF($N$14:$N$28,\"mineralisch\",$I$14:$I$28)*B4","v":0}]
[null,"Aussaatdatum","Kö./m² ",{"$f":"IF(B2=\"\",\"\",VLOOKUP(B2,Ackerbauplan,52,0))","v":0},null,"Eigen","Zukauf","Versorgungsstufen",null,null,null,null,null,{"$f":"IF(K3=\"ja\",J12*B4,\"\")","v":""},null,null,"N Gesamt organsich",{"$f":"SUMIF($N$14:$N$28,\"organisch\",$H$14:$H$28)*B4","v":0}]
[null,{"$f":"IF(B2=\"0\",\"\",VLOOKUP(B2,Ackerbauplan,51,0))","v":"00:00:00"},"x TKG ",{"$f":"IF(B2=\"\",\"\",VLOOKUP(B2,Ackerbauplan,53,0))","v":0},"dt/ha ",null,null,"Nmin",null,"P2O5",null,"K2O","MgO",null,null,null,"NH4-N organsich",null,{"$f":"SUMIF($N$14:$N$28,\"organisch\",I14:I28)*B4","v":0}]
[null,"Beize","/Kei.fäh.",{"$f":"IF(B2=\"\",\"\",VLOOKUP(B2,Ackerbauplan,54,0))","v":0},"€/dt",null,null,{"$f":"IF(B2=\"\",\"\",VLOOKUP(B2,Ackerbauplan,17,0))","v":0},null,{"$f":"IF(B2=\"\",\"\",VLOOKUP(B2,Ackerbauplan,30,0))","v":"C"},null,{"$f":"IF(B2=\"\",\"\",VLOOKUP(B2,Ackerbauplan,31,0))","v":"C"},{"$f":"IF(B2=\"\",\"\",VLOOKUP(B2,Ackerbauplan,32,0))","v":"C"},null,null,null,"P2O5 mineralisch",null,null,{"$f":"SUMIF($N$14:$N$28,\"mineralisch\",$J$14:$J$28)*B4","v":0}]
[null,null,"= kg/ha",{"$f":"IF(B2=\"\",\"\",VLOOKUP(B2,Ackerbauplan,55,0))","v":""},"€/ha ",{"$f":"F8*F9","v":0},{"$f":"G8*G9","v":0},"Düngebedarf kg/ha (Blatt Ackerfläche)",null,null,null,null,null,null,"Düngebedarf um 20% reduziert",null,"P2O5 organisch",null,null,null,{"$f":"SUMIF($N$14:$N$28,\"organisch\",$J$14:$J$28)*B4","v":0},null,null,null,null,null,null,{"$f":"IF(K3=\"ja\",\"Noch nicht ausgeschöpfter Stickstoff Düngebedarf aller Flächen\",\"\")","v":""}]
[null,"Saatgutkennnummer",null,null,null,"Summe",{"$f":"F10+G10","v":0},{"$f":"IF(H12=\"\",\"\",IF(K3=\"ja\",H12*0.8,\"\"))","v":""},{"$f":"IF(K3=\"ja\",O10,\"\")","v":""},null,null,null,null,null,null,null,"Sonstige organische Düngemittel",{"$f":"SUMIF($N$14:$N$28,Q11,$H$14:$H$28)*B4","v":0},{"$f":"SUMIF($N$14:$N$28,Q11,$I$14:$I$28)*B4","v":0},{"$f":"SUMIF($N$14:$N$28,Q11,$J$14:$J$28)*B4","v":0},null,null,null,null,null,null,null,{"$f":"IF(K3=\"ja\",'Zus. Anlage 5 DüV'!D43,\"\")","v":""},{"$f":"IF(K3=\"ja\",\"kg N Gesamtfläche\",\"\")","v":""}]
[null,null,null,null,"N Bedarf DÜV kg/ha",null,null,{"$f":"IF(B2=\"\",\"\",VLOOKUP(B2,Ackerbauplan,18,0))","v":"0"},null,{"$f":"IF(B2=\"\",\"\",VLOOKUP(B2,Ackerbauplan,37,0))","v":"0"},null,{"$f":"IF(B2=\"\",\"\",VLOOKUP(B2,Ackerbauplan,38,0))","v":"0"},null,null,null,null,"Bodenhilfsstoffe",{"$f":"SUMIF($N$14:$N$28,Q12,$H$14:$H$28)*B4","v":0},null,{"$f":"SUMIF($N$14:$N$28,Q12,$J$14:$J$28)*B4","v":0},null,"Anrechnung","Anrechnung ","Prüfung NH4","mineral","Kontroll\nSumme"]
[null,"Dünger","Datum","EC","m³o.dt/ha","€/dt","€/ha","Ges.-N","NH4-N","P2O5",null,"K2O","S",null,null,null,"Kultursubstrate",{"$f":"SUMIF($N$14:$N$28,Q13,$H$14:$H$28)*B4","v":0},null,{"$f":"SUMIF($N$14:$N$28,Q13,$J$14:$J$28)*B4","v":0},null,"aktuelles Jahr","170 kg GW"," oder Anlage3","Stickstoff"]
[null,null,null,null,null,{"$f":"IF(B14=\"\",\"\",VLOOKUP(B14,Düngemiteldaten,2,0))","v":""},{"$f":"IF(B14=\"\",\"\",E14*F14)","v":""},{"$f":"IF(B14=\"\",\"\",VLOOKUP(B14,Düngemiteldaten,4,0)*E14)","v":""},{"$f":"IF(B14=\"\",\"\",VLOOKUP(B14,Düngemiteldaten,5,0)*E14)","v":""},{"$f":"IF(B14=\"\",\"\",VLOOKUP(B14,Düngemiteldaten,7,0)*E14)","v":""},null,{"$f":"IF(B14=\"\",\"\",VLOOKUP(B14,Düngemiteldaten,8,0)*E14)","v":""},{"$f":"IF(B14=\"\",\"\",VLOOKUP(B14,Düngemiteldaten,10,0)*E14)","v":""},{"$f":"IF(B14=\"\",\"\",VLOOKUP(B14,Düngemiteldaten,20,0))","v":""},null,null,"Pflanzenhilfsmittel",{"$f":"SUMIF($N$14:$N$28,Q14,$H$14:$H$28)*B4","v":0},null,{"$f":"SUMIF($N$14:$N$28,Q14,$J$14:$J$28)*B4","v":0},null,{"$f":"IF(OR(B14=\"\",N14=\"\"),\"\",IF(N14=\"mineralisch\",\"\",VLOOKUP(B14,Düngemiteldaten,17,0)*VLOOKUP(B14,Düngemiteldaten,4,0)*E14))","v":""},{"$f":"IF(N14=\"organisch\",VLOOKUP(B14,Düngemiteldaten,4,0)*E14*VLOOKUP(B14,Düngemiteldaten,19,0),\"\")","v":""},{"$f":"IF(B14=\"\",\"\",IF(V14<I14,I14,V14))","v":""},{"$f":"IF(B14=\"\",\"\",IF(N14=\"organisch\",0,H14))","v":""},{"$f":"IF(SUM(V14:Y14)=0,\"\",SUM(X14:Y14))","v":""},null,{"$f":"IF(K3=\"ja\",\"Summe Gesamtstickstoff\",\"\")","v":""},null,{"$f":"IF(K3=\"ja\",\"Anteil § 13a Prüfung \n160 kg N/ha Gesamt\n80 kg N/ha mineralisch\",\"\")","v":""}]
[null,null,null,null,null,"",{"$f":"IF(B15=\"\",\"\",E15*F15)","v":""},"","","",null,"","","",null,null,"Abfälle zur Beseitigung (§ 28 Absatz 2 odeS 3 KSWG)",{"$f":"SUMIF($N$14:$N$28,Q15,$H$14:$H$28)*B4","v":0},null,{"$f":"SUMIF($N$14:$N$28,Q15,$J$14:$J$28)*B4","v":0},null,"","",{"$f":"IF(B15=\"\",\"\",IF(V15<I15,I15,V15))","v":""},{"$f":"IF(B15=\"\",\"\",IF(N15=\"organisch\",0,H15))","v":""},{"$f":"IF(SUM(V15:Y15)=0,\"\",SUM(X15:Y15))","v":""},null,{"$f":"IF(L4=\"\",\"\",SUMIF($N$14:$N$28,\"mineralisch\",$H$14:$H$28))","v":""},{"$f":"IF(K3=\"ja\",\"mineralisch N kg/ha\",\"\")","v":""}]
[null,null,null,null,null,"","","","","",null,"","","",null,null,null,null,null,null,null,"","","","","",null,{"$f":"IF(L4=\"\",\"\",SUMIF($N$14:$N$28,\"organisch\",$H$14:$H$28)+SUMIF($N$14:$N$28,Q11,$H$14:$H$28))","v":""},{"$f":"IF(K3=\"ja\",\"organisch N kg/ha\",\"\")","v":""}]
[null,null,null,null,null,"","","","","",null,"","","",null,null,null,null,null,null,null,{"$f":"IF(OR(B17=\"\",N17=\"\"),\"\",IF(N17=\"mineralisch\",\"\",VLOOKUP(B17,Düngemiteldaten,17,0)*VLOOKUP(B17,Düngemiteldaten,4,0)*E17))","v":""},"","","","",null,{"$f":"IF(K3=\"ja\",(AB16+AB15),\"\")","v":""},{"$f":"IF(K3=\"ja\",\"Gesamt kg N/ha\",\"\")","v":""}]
[null,null,null,null,null,"","","","","",null,"","","",null,null,"Nährstoffherkunft auf gefährdeten Flächen §13",null,null,null,null,"","","","",""]
[null,null,null,null,null,"","","","","",null,"","","",null,null,null,"Gesamt N","NH4-N","P2O5 mineral.","P2O5 organisch","","","","",""]
[null,null,null,null,null,"","","","","",null,"","","",null,null,"N Gesamt minerl.",{"$f":"IF(K3=\"ja\",SUMIF($N$14:$N$28,\"mineralisch\",$H$14:$H$28),0)*B4","v":0},null,null,null,"","","","",""]
[null,null,null,null,null,"","","","","",null,"","","",null,null,"NH4-N minerlisch",null,{"$f":"IF(K3=\"ja\",SUMIF($N$14:$N$28,\"mineralisch\",$I$14:$I$28),0)*B4","v":0},null,null,"","","","",""]
[null,null,null,null,null,"","","","","",null,"","","",null,null,"N Gesamt organsich",{"$f":"IF(K3=\"ja\",SUMIF($N$14:$N$28,\"organisch\",$H$14:$H$28),0)*B4","v":0},null,null,null,"","","","",""]
[null,null,null,null,null,"","","","","",null,"","","",null,null,"NH4-N organsich",null,{"$f":"IF(K3=\"ja\",SUMIF($N$14:$N$28,\"organisch\",$I$14:$I$28),0)*B4","v":0},null,null,"","","","",""]
[null,null,null,null,null,"","","","","",null,"","","",null,null,"P2O5 mineralisch",null,null,{"$f":"IF(K3=\"ja\",SUMIF($N$14:$N$28,\"mineralisch\",$J$14:$J$28),0)*B4","v":0},null,"","","","",""]
[null,null,null,null,null,"","","","","",null,"","","",null,null,"P2O5 organisch",null,null,null,{"$f":"IF(K3=\"ja\",SUMIF($N$14:$N$28,\"organisch\",$J$14:$J$28),0)*B4","v":0},"","","","",""]
[null,null,null,null,null,"","","","","",null,"","","",null,null,"Sonstige organische Düngemittel",{"$f":"IF(K3=\"ja\",SUMIF($N$14:$N$28,Q26,$H$14:$H$28),0)*B4","v":0},{"$f":"IF(K3=\"ja\",SUMIF($N$14:$N$28,Q26,$I$14:$I$28),0)*B4","v":0},{"$f":"IF(K3=\"ja\",SUMIF($N$14:$N$28,Q26,$J$14:$J$28),0)*B4","v":0},null,"","","","",""]
[null,null,null,null,null,"","","","","",null,"","","",null,null,"Bodenhilfsstoffe",{"$f":"IF(K3=\"ja\",SUMIF($N$14:$N$28,Q27,$H$14:$H$28),0)*B4","v":0},null,{"$f":"IF(K3=\"ja\",SUMIF($N$14:$N$28,Q27,$J$14:$J$28),0)*B4","v":0},null,"","","","",""]
[null,null,null,null,null,"","","","","",null,"","","",null,null,"Kultursubstrate",{"$f":"IF(K3=\"ja\",SUMIF($N$14:$N$28,Q28,$H$14:$H$28),0)*B4","v":0},null,{"$f":"IF(K3=\"ja\",SUMIF($N$14:$N$28,Q28,$J$14:$J$28),0)*B4","v":0},null,"","","","",""]
[null,"anrechenbarer N aus org.Dgg. + min. Dgg. kg N/ha",null,null,null,null,null,{"$f":"X29+Y29","v":0},null,{"$f":"SUM(J14:J28)","v":0},null,{"$f":"SUM(L14:L28)","v":0},{"$f":"SUM(M14:M28)","v":0},null,null,null,"Pflanzenhilfsmittel",{"$f":"IF(K3=\"ja\",SUMIF($N$14:$N$28,Q29,$H$14:$H$28),0)*B4","v":0},null,{"$f":"IF(K3=\"ja\",SUMIF($N$14:$N$28,Q29,$J$14:$J$28),0)*B4","v":0},null,{"$f":"SUM(V14:V28)","v":0},{"$f":"SUM(W14:W28)","v":0},{"$f":"SUM(X14:X28)","v":0},{"$f":"SUM(Y14:Y28)","v":0},"kg/ha"]
[null,{"$f":"IF(K3=\"0\",O31,O30)","v":"Bilanz (anrechenbarer Dgg.- reduzierter Düngebedarf) kg N/ha"},null,null,null,null,null,{"$f":"IF(H12=\"\",0,IF(OR(K3=0,K3=\"nein\"),H29-H12,H29-H11))","v":0},null,{"$f":"IF(J12=\"\",\"\",J29-J12)","v":0},null,{"$f":"IF(L12=\"\",\"\",L29-L12)","v":0},{"$f":"IF(M12=\"\",\"\",M29-M12)","v":""},null,"Bilanz (anrechenbarer Dgg.- reduzierter Düngebedarf) kg N/ha",null,"Abfälle zur Beseitigung (§ 28 Absatz 2 odeS 3 KSWG)",{"$f":"IF(K3=\"ja\",SUMIF($N$14:$N$28,Q30,$H$14:$H$28),0)*B4","v":0},null,{"$f":"IF(K3=\"ja\",SUMIF($N$14:$N$28,Q30,$J$14:$J$28),0)*B4","v":0},null,{"$f":"V29*B4","v":0},{"$f":"W29*B4","v":0},{"$f":"X29*B4","v":0},{"$f":"Y29*B4","v":0},"kg/Schlag",null,{"$f":"IF(H30>0,\"Stickstoffmenge überschreitet den Düngebedarf\",\"\")","v":""}]
["Pflanzenschutzmittel",null,"Datum","EC","E./ha","€/E.","€/ha","Anwender",null,null,"Bemerkungen",null,null,null,"Bilanz (anrechenbarer Dgg.- Düngebedarf) kg N/ha"]
[null,null,null,null,null,{"$f":"IF($B32=\"\",\"\",VLOOKUP($B32,PSMMittel,2,0))","v":""},{"$f":"IF(B32=\"\",\"\",E32*F32)","v":""}]
[null,null,null,null,null,"",{"$f":"IF(B33=\"\",\"\",E33*F33)","v":""},null,null,null,null,null,null,null,null,null,"Stickstoffherkunft nicht gefährdetes Gebiet Gesamtfläche"]
[null,null,null,null,null,"","",null,null,null,null,null,null,null,null,null,null,"Gesamt N","NH4-N","P2O5 mineral.","P2O5 organisch",null,"N Fixierung kg N/ha"]
[null,null,null,null,null,"","",null,null,null,null,null,null,null,null,null,"N Gesamt minerl.",{"$f":"R5-R20","v":0},null,null,null,null,{"$f":"IF(E3=0,\"\",VLOOKUP(E3,AckerbauKulturen,26,0)*G56*B4)","v":""}]
[null,null,null,null,null,"","",null,null,null,null,null,null,null,null,null,"NH4-N minerlisch",null,{"$f":"S6-S21","v":0}]
[null,null,null,null,null,"","",null,null,null,null,null,null,null,null,null,"N Gesamt organsich",{"$f":"R7-R22","v":0}]
[null,null,null,null,null,"","",null,null,null,null,null,null,null,null,null,"NH4-N organsich",null,{"$f":"S8-S23","v":0}]
[null,null,null,null,null,"","",null,null,null,null,null,null,null,null,null,"P2O5 mineralisch",null,null,{"$f":"T9-T24","v":0}]
[null,null,null,null,null,"","",null,null,null,null,null,null,null,null,null,"P2O5 organisch",null,null,null,{"$f":"U10-U25","v":0}]
[null,null,null,null,null,"","",null,null,null,null,null,null,null,null,null,"Sonstige organische Düngemittel",{"$f":"R11-R26","v":0},{"$f":"S11-S26","v":0},{"$f":"T11-T26","v":0}]
[null,null,null,null,null,"","",null,null,null,null,null,null,null,null,null,"Bodenhilfsstoffe",{"$f":"R12-R27","v":0},null,{"$f":"T12-T27","v":0}]
[null,null,null,null,null,"","",null,null,null,null,null,null,null,null,null,"Kultursubstrate",{"$f":"R13-R28","v":0},null,{"$f":"T13-T28","v":0}]
[null,null,null,null,null,"","",null,null,null,null,null,null,null,null,null,"Pflanzenhilfsmittel",{"$f":"R14-R29","v":0},null,{"$f":"T14-T29","v":0}]
[null,null,null,null,null,"","",null,null,null,null,null,null,null,null,null,"Abfälle zur Beseitigung (§ 28 Absatz 2 odeS 3 KSWG)",{"$f":"R15-R30","v":0},null,{"$f":"T15-T30","v":0}]
[null,null,null,null,null,"",""]
[null,null,null,null,null,"",""]
[null,null,null,null,null,"",""]
[null,null,null,null,null,"",""]
[null,null,null,null,null,"",""]
[null,null,null,null,null,"",""]
[null,null,null,null,null,"",""]
[null,null,null,null,null,"",""]
[null,"Summe",null,null,null,null,{"$f":"SUM(G32:G53)","v":0}]
[]
[null,"Erntedatum:",null,{"$f":"IF(VLOOKUP($B$2,Ackerbauplan,58,0)=\"\",\"\",VLOOKUP($B$2,Ackerbauplan,58,0))","v":""},null,"dt/ha",{"$f":"VLOOKUP($B$2,Ackerbauplan,60,0)","v":0},null,null,"€/dt",null,{"$f":"VLOOKUP($B$2,Ackerbauplan,59,0)","v":0}]
[null,"   Hauptleistung ",null,{"$f":"IF(VLOOKUP($B$2,Ackerbauplan,61,0)=\"\",\"\",VLOOKUP($B$2,Ackerbauplan,61,0))","v":""},null,"Saatgut ",null,{"$f":"G11","v":0},"€/ha","Marktleistung -"]
[null,null,"+ Nebenleistung ",{"$f":"IF($B$2=\"\",\"\",VLOOKUP($B$2,Anbauplan,62,0))","v":0},null,"Dünger ",null,{"$f":"SUM(G14:G28)","v":0},"€/ha","Saatgut, Dünger, PSM"]
[null,null,"= Marktleistung ",{"$f":"IF(D57=\"\",\"\",D58+D57)","v":""},null,"Pflanzenschutz ",null,{"$f":"G54","v":0},"€/ha",{"$f":"IF(D59=\"\",\"\",D59-H57-H58-H59)","v":""},null,null,"€/ha"]
[null,{"$f":"IF($B$2=\"\",\"\",VLOOKUP($B$2,Anbauplan,2,0))","v":0}]
[null,"Bearbeitung","Maschine 1",null,"Maschine 2",null,"Maschine 3",null,"Datum",null,"Bemerkung"]

{"sheet":"A19","index":28,"n_rows":61,"n_cols":30,"rows_kept":61,"cut":false,"hidden":false,"merged":[[13,27,13,28],[13,29,16,30],[6,7,6,12],[7,7,7,8],[8,7,8,8],[7,9,7,10],[8,9,8,10],[10,8,10,12],[73,2,73,3],[73,4,73,5],[73,6,73,7],[73,8,73,9],[73,10,73,12],[69,2,69,3],[69,4,69,5],[69,6,69,7],[69,8,69,9],[69,10,69,12],[70,2,70,3],[70,4,70,5],[70,6,70,7],[70,8,70,9],[70,10,70,12],[67,2,67,3],[67,4,67,5],[67,6,67,7],[74,2,74,3],[74,4,74,5],[74,6,74,7],[74,8,74,9],[74,10,74,12],[71,2,71,3],[71,4,71,5],[71,6,71,7],[71,8,71,9],[71,10,71,12],[72,2,72,3],[72,4,72,5],[72,6,72,7],[72,8,72,9],[72,10,72,12],[67,8,67,9],[67,10,67,12],[68,2,68,3],[68,4,68,5],[68,6,68,7],[68,8,68,9],[68,10,68,12],[65,2,65,3],[65,4,65,5],[65,6,65,7],[65,8,65,9],[65,10,65,12],[66,2,66,3],[66,4,66,5],[66,6,66,7],[66,8,66,9],[66,10,66,12],[63,2,63,3],[63,4,63,5],[63,6,63,7],[63,8,63,9],[63,10,63,12],[64,2,64,3],[64,4,64,5],[64,6,64,7],[64,8,64,9],[64,10,64,12],[61,2,61,3],[61,4,61,5],[61,6,61,7],[61,8,61,9],[61,10,61,12],[62,2,62,3],[62,4,62,5],[62,6,62,7],[62,8,62,9],[62,10,62,12],[58,3,58,4],[58,5,58,6],[58,9,58,11],[59,1,59,12],[60,2,60,3],[60,4,60,5],[60,6,60,7],[60,8,60,9],[60,10,60,12],[56,1,56,2],[56,3,56,4],[56,5,56,6],[56,9,56,12],[57,3,57,4],[57,5,57,6],[57,9,57,12],[52,7,52,9],[52,10,52,12],[53,1,53,5],[53,7,53,12],[54,1,54,6],[55,1,55,2],[55,3,55,4],[55,6,55,8],[55,9,55,10],[55,11,55,12],[49,7,49,9],[49,10,49,12],[50,7,50,9],[50,10,50,12],[51,7,51,9],[51,10,51,12],[46,7,46,9],[46,10,46,12],[47,7,47,9],[47,10,47,12],[48,7,48,9],[48,10,48,12],[43,7,43,9],[43,10,43,12],[44,7,44,9],[44,10,44,12],[45,7,45,9],[45,10,45,12],[40,7,40,9],[40,10,40,12],[41,7,41,9],[41,10,41,12],[42,7,42,9],[42,10,42,12],[37,7,37,9],[37,10,37,12],[38,7,38,9],[38,10,38,12],[39,7,39,9],[39,10,39,12],[34,7,34,9],[34,10,34,12],[35,7,35,9],[35,10,35,12],[36,7,36,9],[36,10,36,12],[31,7,31,9],[31,10,31,12],[32,7,32,9],[32,10,32,12],[32,16,32,20],[33,7,33,9],[33,10,33,12],[29,1,29,6],[29,7,29,8],[29,9,29,10],[30,0,30,1],[30,7,30,9],[30,10,30,12],[23,9,23,10],[24,9,24,10],[25,9,25,10],[26,9,26,10],[27,9,27,10],[28,1,28,6],[28,7,28,8],[28,9,28,10],[17,16,17,20],[18,9,18,10],[19,9,19,10],[20,9,20,10],[21,9,21,10],[22,9,22,10],[14,9,14,10],[15,9,15,10],[16,9,16,10],[17,9,17,10],[10,1,10,2],[9,7,9,12],[11,1,11,2],[11,4,11,6],[11,7,11,8],[11,9,11,10],[11,25,12,25],[33,22,33,23],[34,22,34,23],[0,1,0,12],[1,2,1,3],[1,4,1,6],[1,7,1,9],[1,10,1,12],[2,2,2,3],[2,4,2,6],[2,7,2,9],[2,10,2,12],[5,7,5,10],[5,11,5,12],[3,2,3,3],[3,4,3,6],[3,7,3,10],[3,11,3,12],[4,2,4,3],[4,4,4,6],[4,7,4,9],[4,10,4,12],[12,9,12,10],[13,9,13,10]]}
[null,"Ackerland"]
[null,19,"Name:",null,{"$f":"IF(B2=\"\",\"\",VLOOKUP(B2,Anbauplan,2,0))","v":0},null,null,"Jahr:",null,null,{"$f":"IF(Einführung!I8=\"\",\"\",Einführung!I8)","v":""},null,null,{"$f":"IF(OR(B4=\"\",H12=\"\"),\"\",H12*B4)","v":0},"DB kg * Fläche"]
[null,"Hektar ","Hauptfrucht ",null,{"$f":"IF(B2=\"\",\"\",VLOOKUP(B2,Ackerbauplan,4,0))","v":0},null,null,"Nitratkulisse",null,null,{"$f":"IF(B2=\"\",\"\",VLOOKUP(B2,Ackerbauplan,20,0))","v":0},null,null,{"$f":"L4","v":""},"kg/ha org. Dünger für Kontrollgrenze"]
[null,{"$f":"IF(B2=\"\",\"\",VLOOKUP(B2,Ackerbauplan,3,0))","v":0},"Vorfrucht",null,{"$f":"IF(B2=\"\",\"\",VLOOKUP(B2,Ackerbauplan,9,0))","v":0},null,null,"Wirtschaftsdünger zur Berechung\ndes 130 kg N/ha Anteils in kg/ha",null,null,null,{"$f":"IF(K3=\"ja\",W29,\"\")","v":""},null,{"$f":"IF(N3=\"\",\"\",N3*B4)","v":""},"kg Gesamtschlag org Dünger für 170 Kontrollgrenze",null,null,"Gesamt N","NH4-N","P2O5 mineral.","P2O5 organisch"]
[null,"Sorte","VorVorfrucht",null,null,null,null,"Phosphatkulisse",null,null,{"$f":"IF(B2=\"\",\"\",VLOOKUP(B2,Ackerbauplan,21,0))","v":0},null,null,{"$f":"IF(H12=\"\",\"\",IF(K3=\"ja\",N2*0.8,\"\"))","v":""},"Nitrat belastetes Gebiet Düngebedarf Gesamtschlag kg N/ha",null,"N Gesamt minerl.",{"$f":"SUMIF($N$14:$N$28,\"mineralisch\",$H$14:$H$28)*B4","v":0}]
[null,{"$f":"IF(B2=\"\",\"\",VLOOKUP(B2,Ackerbauplan,8,0))","v":0},null,null,null,null,null,"sonstige Auflagen",null,null,null,null,null,{"$f":"IF(K3=\"ja\",X30+Y30,\"\")","v":""},"org +min .anrechenbare N Menge Gesamtschlag  kg N/ha",null,"NH4-N minerlisch",null,{"$f":"SUMIF($N$14:$N$28,\"mineralisch\",$I$14:$I$28)*B4","v":0}]
[null,"Aussaatdatum","Kö./m² ",{"$f":"IF(B2=\"\",\"\",VLOOKUP(B2,Ackerbauplan,52,0))","v":0},null,"Eigen","Zukauf","Versorgungsstufen",null,null,null,null,null,{"$f":"IF(K3=\"ja\",J12*B4,\"\")","v":""},null,null,"N Gesamt organsich",{"$f":"SUMIF($N$14:$N$28,\"organisch\",$H$14:$H$28)*B4","v":0}]
[null,{"$f":"IF(B2=\"0\",\"\",VLOOKUP(B2,Ackerbauplan,51,0))","v":"00:00:00"},"x TKG ",{"$f":"IF(B2=\"\",\"\",VLOOKUP(B2,Ackerbauplan,53,0))","v":0},"dt/ha ",null,null,"Nmin",null,"P2O5",null,"K2O","MgO",null,null,null,"NH4-N organsich",null,{"$f":"SUMIF($N$14:$N$28,\"organisch\",I14:I28)*B4","v":0}]
[null,"Beize","/Kei.fäh.",{"$f":"IF(B2=\"\",\"\",VLOOKUP(B2,Ackerbauplan,54,0))","v":0},"€/dt",null,null,{"$f":"IF(B2=\"\",\"\",VLOOKUP(B2,Ackerbauplan,17,0))","v":0},null,{"$f":"IF(B2=\"\",\"\",VLOOKUP(B2,Ackerbauplan,30,0))","v":"C"},null,{"$f":"IF(B2=\"\",\"\",VLOOKUP(B2,Ackerbauplan,31,0))","v":"C"},{"$f":"IF(B2=\"\",\"\",VLOOKUP(B2,Ackerbauplan,32,0))","v":"C"},null,null,null,"P2O5 mineralisch",null,null,{"$f":"SUMIF($N$14:$N$28,\"mineralisch\",$J$14:$J$28)*B4","v":0}]
[null,null,"= kg/ha",{"$f":"IF(B2=\"\",\"\",VLOOKUP(B2,Ackerbauplan,55,0))","v":""},"€/ha ",{"$f":"F8*F9","v":0},{"$f":"G8*G9","v":0},"Düngebedarf kg/ha (Blatt Ackerfläche)",null,null,null,null,null,null,"Düngebedarf um 20% reduziert",null,"P2O5 organisch",null,null,null,{"$f":"SUMIF($N$14:$N$28,\"organisch\",$J$14:$J$28)*B4","v":0},null,null,null,null,null,null,{"$f":"IF(K3=\"ja\",\"Noch nicht ausgeschöpfter Stickstoff Düngebedarf aller Flächen\",\"\")","v":""}]
[null,"Saatgutkennnummer",null,null,null,"Summe",{"$f":"F10+G10","v":0},{"$f":"IF(H12=\"\",\"\",IF(K3=\"ja\",H12*0.8,\"\"))","v":""},{"$f":"IF(K3=\"ja\",O10,\"\")","v":""},null,null,null,null,null,null,null,"Sonstige organische Düngemittel",{"$f":"SUMIF($N$14:$N$28,Q11,$H$14:$H$28)*B4","v":0},{"$f":"SUMIF($N$14:$N$28,Q11,$I$14:$I$28)*B4","v":0},{"$f":"SUMIF($N$14:$N$28,Q11,$J$14:$J$28)*B4","v":0},null,null,null,null,null,null,null,{"$f":"IF(K3=\"ja\",'Zus. Anlage 5 DüV'!D43,\"\")","v":""},{"$f":"IF(K3=\"ja\",\"kg N Gesamtfläche\",\"\")","v":""}]
[null,null,null,null,"N Bedarf DÜV kg/ha",null,null,{"$f":"IF(B2=\"\",\"\",VLOOKUP(B2,Ackerbauplan,18,0))","v":"0"},null,{"$f":"IF(B2=\"\",\"\",VLOOKUP(B2,Ackerbauplan,37,0))","v":"0"},null,{"$f":"IF(B2=\"\",\"\",VLOOKUP(B2,Ackerbauplan,38,0))","v":"0"},null,null,null,null,"Bodenhilfsstoffe",{"$f":"SUMIF($N$14:$N$28,Q12,$H$14:$H$28)*B4","v":0},null,{"$f":"SUMIF($N$14:$N$28,Q12,$J$14:$J$28)*B4","v":0},null,"Anrechnung","Anrechnung ","Prüfung NH4","mineral","Kontroll\nSumme"]
[null,"Dünger","Datum","EC","m³o.dt/ha","€/dt","€/ha","Ges.-N","NH4-N","P2O5",null,"K2O","S",null,null,null,"Kultursubstrate",{"$f":"SUMIF($N$14:$N$28,Q13,$H$14:$H$28)*B4","v":0},null,{"$f":"SUMIF($N$14:$N$28,Q13,$J$14:$J$28)*B4","v":0},null,"aktuelles Jahr","170 kg GW"," oder Anlage3","Stickstoff"]
[null,null,null,null,null,{"$f":"IF(B14=\"\",\"\",VLOOKUP(B14,Düngemiteldaten,2,0))","v":""},{"$f":"IF(B14=\"\",\"\",E14*F14)","v":""},{"$f":"IF(B14=\"\",\"\",VLOOKUP(B14,Düngemiteldaten,4,0)*E14)","v":""},{"$f":"IF(B14=\"\",\"\",VLOOKUP(B14,Düngemiteldaten,5,0)*E14)","v":""},{"$f":"IF(B14=\"\",\"\",VLOOKUP(B14,Düngemiteldaten,7,0)*E14)","v":""},null,{"$f":"IF(B14=\"\",\"\",VLOOKUP(B14,Düngemiteldaten,8,0)*E14)","v":""},{"$f":"IF(B14=\"\",\"\",VLOOKUP(B14,Düngemiteldaten,10,0)*E14)","v":""},{"$f":"IF(B14=\"\",\"\",VLOOKUP(B14,Düngemiteldaten,20,0))","v":""},null,null,"Pflanzenhilfsmittel",{"$f":"SUMIF($N$14:$N$28,Q14,$H$14:$H$28)*B4","v":0},null,{"$f":"SUMIF($N$14:$N$28,Q14,$J$14:$J$28)*B4","v":0},null,{"$f":"IF(OR(B14=\"\",N14=\"\"),\"\",IF(N14=\"mineralisch\",\"\",VLOOKUP(B14,Düngemiteldaten,17,0)*VLOOKUP(B14,Düngemiteldaten,4,0)*E14))","v":""},{"$f":"IF(N14=\"organisch\",VLOOKUP(B14,Düngemiteldaten,4,0)*E14*VLOOKUP(B14,Düngemiteldaten,19,0),\"\")","v":""},{"$f":"IF(B14=\"\",\"\",IF(V14<I14,I14,V14))","v":""},{"$f":"IF(B14=\"\",\"\",IF(N14=\"organisch\",0,H14))","v":""},{"$f":"IF(SUM(V14:Y14)=0,\"\",SUM(X14:Y14))","v":""},null,{"$f":"IF(K3=\"ja\",\"Summe Gesamtstickstoff\",\"\")","v":""},null,{"$f":"IF(K3=\"ja\",\"Anteil § 13a Prüfung \n160 kg N/ha Gesamt\n80 kg N/ha mineralisch\",\"\")","v":""}]
[null,null,null,null,null,"",{"$f":"IF(B15=\"\",\"\",E15*F15)","v":""},"","","",null,"","","",null,null,"Abfälle zur Beseitigung (§ 28 Absatz 2 odeS 3 KSWG)",{"$f":"SUMIF($N$14:$N$28,Q15,$H$14:$H$28)*B4","v":0},null,{"$f":"SUMIF($N$14:$N$28,Q15,$J$14:$J$28)*B4","v":0},null,"","",{"$f":"IF(B15=\"\",\"\",IF(V15<I15,I15,V15))","v":""},{"$f":"IF(B15=\"\",\"\",IF(N15=\"organisch\",0,H15))","v":""},{"$f":"IF(SUM(V15:Y15)=0,\"\",SUM(X15:Y15))","v":""},null,{"$f":"IF(L4=\"\",\"\",SUMIF($N$14:$N$28,\"mineralisch\",$H$14:$H$28))","v":""},{"$f":"IF(K3=\"ja\",\"mineralisch N kg/ha\",\"\")","v":""}]
[null,null,null,null,null,"","","","","",null,"","","",null,null,null,null,null,null,null,"","","","","",null,{"$f":"IF(L4=\"\",\"\",SUMIF($N$14:$N$28,\"organisch\",$H$14:$H$28)+SUMIF($N$14:$N$28,Q11,$H$14:$H$28))","v":""},{"$f":"IF(K3=\"ja\",\"organisch N kg/ha\",\"\")","v":""}]
[null,null,null,null,null,"","","","","",null,"","","",null,null,null,null,null,null,null,{"$f":"IF(OR(B17=\"\",N17=\"\"),\"\",IF(N17=\"mineralisch\",\"\",VLOOKUP(B17,Düngemiteldaten,17,0)*VLOOKUP(B17,Düngemiteldaten,4,0)*E17))","v":""},"","","","",null,{"$f":"IF(K3=\"ja\",(AB16+AB15),\"\")","v":""},{"$f":"IF(K3=\"ja\",\"Gesamt kg N/ha\",\"\")","v":""}]
[null,null,null,null,null,"","","","","",null,"","","",null,null,"Nährstoffherkunft auf gefährdeten Flächen §13",null,null,null,null,"","","","",""]
[null,null,null,null,null,"","","","","",null,"","","",null,null,null,"Gesamt N","NH4-N","P2O5 mineral.","P2O5 organisch","","","","",""]
[null,null,null,null,null,"","","","","",null,"","","",null,null,"N Gesamt minerl.",{"$f":"IF(K3=\"ja\",SUMIF($N$14:$N$28,\"mineralisch\",$H$14:$H$28),0)*B4","v":0},null,null,null,"","","","",""]
[null,null,null,null,null,"","","","","",null,"","","",null,null,"NH4-N minerlisch",null,{"$f":"IF(K3=\"ja\",SUMIF($N$14:$N$28,\"mineralisch\",$I$14:$I$28),0)*B4","v":0},null,null,"","","","",""]
[null,null,null,null,null,"","","","","",null,"","","",null,null,"N Gesamt organsich",{"$f":"IF(K3=\"ja\",SUMIF($N$14:$N$28,\"organisch\",$H$14:$H$28),0)*B4","v":0},null,null,null,"","","","",""]
[null,null,null,null,null,"","","","","",null,"","","",null,null,"NH4-N organsich",null,{"$f":"IF(K3=\"ja\",SUMIF($N$14:$N$28,\"organisch\",$I$14:$I$28),0)*B4","v":0},null,null,"","","","",""]
[null,null,null,null,null,"","","","","",null,"","","",null,null,"P2O5 mineralisch",null,null,{"$f":"IF(K3=\"ja\",SUMIF($N$14:$N$28,\"mineralisch\",$J$14:$J$28),0)*B4","v":0},null,"","","","",""]
[null,null,null,null,null,"","","","","",null,"","","",null,null,"P2O5 organisch",null,null,null,{"$f":"IF(K3=\"ja\",SUMIF($N$14:$N$28,\"organisch\",$J$14:$J$28),0)*B4","v":0},"","","","",""]
[null,null,null,null,null,"","","","","",null,"","","",null,null,"Sonstige organische Düngemittel",{"$f":"IF(K3=\"ja\",SUMIF($N$14:$N$28,Q26,$H$14:$H$28),0)*B4","v":0},{"$f":"IF(K3=\"ja\",SUMIF($N$14:$N$28,Q26,$I$14:$I$28),0)*B4","v":0},{"$f":"IF(K3=\"ja\",SUMIF($N$14:$N$28,Q26,$J$14:$J$28),0)*B4","v":0},null,"","","","",""]
[null,null,null,null,null,"","","","","",null,"","","",null,null,"Bodenhilfsstoffe",{"$f":"IF(K3=\"ja\",SUMIF($N$14:$N$28,Q27,$H$14:$H$28),0)*B4","v":0},null,{"$f":"IF(K3=\"ja\",SUMIF($N$14:$N$28,Q27,$J$14:$J$28),0)*B4","v":0},null,"","","","",""]
[null,null,null,null,null,"","","","","",null,"","","",null,null,"Kultursubstrate",{"$f":"IF(K3=\"ja\",SUMIF($N$14:$N$28,Q28,$H$14:$H$28),0)*B4","v":0},null,{"$f":"IF(K3=\"ja\",SUMIF($N$14:$N$28,Q28,$J$14:$J$28),0)*B4","v":0},null,"","","","",""]
[null,"anrechenbarer N aus org.Dgg. + min. Dgg. kg N/ha",null,null,null,null,null,{"$f":"X29+Y29","v":0},null,{"$f":"SUM(J14:J28)","v":0},null,{"$f":"SUM(L14:L28)","v":0},{"$f":"SUM(M14:M28)","v":0},null,null,null,"Pflanzenhilfsmittel",{"$f":"IF(K3=\"ja\",SUMIF($N$14:$N$28,Q29,$H$14:$H$28),0)*B4","v":0},null,{"$f":"IF(K3=\"ja\",SUMIF($N$14:$N$28,Q29,$J$14:$J$28),0)*B4","v":0},null,{"$f":"SUM(V14:V28)","v":0},{"$f":"SUM(W14:W28)","v":0},{"$f":"SUM(X14:X28)","v":0},{"$f":"SUM(Y14:Y28)","v":0},"kg/ha"]
[null,{"$f":"IF(K3=\"0\",O31,O30)","v":"Bilanz (anrechenbarer Dgg.- reduzierter Düngebedarf) kg N/ha"},null,null,null,null,null,{"$f":"IF(H12=\"\",0,IF(OR(K3=0,K3=\"nein\"),H29-H12,H29-H11))","v":0},null,{"$f":"IF(J12=\"\",\"\",J29-J12)","v":0},null,{"$f":"IF(L12=\"\",\"\",L29-L12)","v":0},{"$f":"IF(M12=\"\",\"\",M29-M12)","v":""},null,"Bilanz (anrechenbarer Dgg.- reduzierter Düngebedarf) kg N/ha",null,"Abfälle zur Beseitigung (§ 28 Absatz 2 odeS 3 KSWG)",{"$f":"IF(K3=\"ja\",SUMIF($N$14:$N$28,Q30,$H$14:$H$28),0)*B4","v":0},null,{"$f":"IF(K3=\"ja\",SUMIF($N$14:$N$28,Q30,$J$14:$J$28),0)*B4","v":0},null,{"$f":"V29*B4","v":0},{"$f":"W29*B4","v":0},{"$f":"X29*B4","v":0},{"$f":"Y29*B4","v":0},"kg/Schlag",null,{"$f":"IF(H30>0,\"Stickstoffmenge überschreitet den Düngebedarf\",\"\")","v":""}]
["Pflanzenschutzmittel",null,"Datum","EC","E./ha","€/E.","€/ha","Anwender",null,null,"Bemerkungen",null,null,null,"Bilanz (anrechenbarer Dgg.- Düngebedarf) kg N/ha"]
[null,null,null,null,null,{"$f":"IF($B32=\"\",\"\",VLOOKUP($B32,PSMMittel,2,0))","v":""},{"$f":"IF(B32=\"\",\"\",E32*F32)","v":""}]
[null,null,null,null,null,"",{"$f":"IF(B33=\"\",\"\",E33*F33)","v":""},null,null,null,null,null,null,null,null,null,"Stickstoffherkunft nicht gefährdetes Gebiet Gesamtfläche"]
[null,null,null,null,null,"","",null,null,null,null,null,null,null,null,null,null,"Gesamt N","NH4-N","P2O5 mineral.","P2O5 organisch",null,"N Fixierung kg N/ha"]
[null,null,null,null,null,"","",null,null,null,null,null,null,null,null,null,"N Gesamt minerl.",{"$f":"R5-R20","v":0},null,null,null,null,{"$f":"IF(E3=0,\"\",VLOOKUP(E3,AckerbauKulturen,26,0)*G56*B4)","v":""}]
[null,null,null,null,null,"","",null,null,null,null,null,null,null,null,null,"NH4-N minerlisch",null,{"$f":"S6-S21","v":0}]
[null,null,null,null,null,"","",null,null,null,null,null,null,null,null,null,"N Gesamt organsich",{"$f":"R7-R22","v":0}]
[null,null,null,null,null,"","",null,null,null,null,null,null,null,null,null,"NH4-N organsich",null,{"$f":"S8-S23","v":0}]
[null,null,null,null,null,"","",null,null,null,null,null,null,null,null,null,"P2O5 mineralisch",null,null,{"$f":"T9-T24","v":0}]
[null,null,null,null,null,"","",null,null,null,null,null,null,null,null,null,"P2O5 organisch",null,null,null,{"$f":"U10-U25","v":0}]
[null,null,null,null,null,"","",null,null,null,null,null,null,null,null,null,"Sonstige organische Düngemittel",{"$f":"R11-R26","v":0},{"$f":"S11-S26","v":0},{"$f":"T11-T26","v":0}]
[null,null,null,null,null,"","",null,null,null,null,null,null,null,null,null,"Bodenhilfsstoffe",{"$f":"R12-R27","v":0},null,{"$f":"T12-T27","v":0}]
[null,null,null,null,null,"","",null,null,null,null,null,null,null,null,null,"Kultursubstrate",{"$f":"R13-R28","v":0},null,{"$f":"T13-T28","v":0}]
[null,null,null,null,null,"","",null,null,null,null,null,null,null,null,null,"Pflanzenhilfsmittel",{"$f":"R14-R29","v":0},null,{"$f":"T14-T29","v":0}]
[null,null,null,null,null,"","",null,null,null,null,null,null,null,null,null,"Abfälle zur Beseitigung (§ 28 Absatz 2 odeS 3 KSWG)",{"$f":"R15-R30","v":0},null,{"$f":"T15-T30","v":0}]
[null,null,null,null,null,"",""]
[null,null,null,null,null,"",""]
[null,null,null,null,null,"",""]
[null,null,null,null,null,"",""]
[null,null,null,null,null,"",""]
[null,null,null,null,null,"",""]
[null,null,null,null,null,"",""]
[null,null,null,null,null,"",""]
[null,"Summe",null,null,null,null,{"$f":"SUM(G32:G53)","v":0}]
[]
[null,"Erntedatum:",null,{"$f":"IF(VLOOKUP($B$2,Ackerbauplan,58,0)=\"\",\"\",VLOOKUP($B$2,Ackerbauplan,58,0))","v":""},null,"dt/ha",{"$f":"VLOOKUP($B$2,Ackerbauplan,60,0)","v":0},null,null,"€/dt",null,{"$f":"VLOOKUP($B$2,Ackerbauplan,59,0)","v":0}]
[null,"   Hauptleistung ",null,{"$f":"IF(VLOOKUP($B$2,Ackerbauplan,61,0)=\"\",\"\",VLOOKUP($B$2,Ackerbauplan,61,0))","v":""},null,"Saatgut ",null,{"$f":"G11","v":0},"€/ha","Marktleistung -"]
[null,null,"+ Nebenleistung ",{"$f":"IF($B$2=\"\",\"\",VLOOKUP($B$2,Anbauplan,62,0))","v":0},null,"Dünger ",null,{"$f":"SUM(G14:G28)","v":0},"€/ha","Saatgut, Dünger, PSM"]
[null,null,"= Marktleistung ",{"$f":"IF(D57=\"\",\"\",D58+D57)","v":""},null,"Pflanzenschutz ",null,{"$f":"G54","v":0},"€/ha",{"$f":"IF(D59=\"\",\"\",D59-H57-H58-H59)","v":""},null,null,"€/ha"]
[null,{"$f":"IF($B$2=\"\",\"\",VLOOKUP($B$2,Anbauplan,2,0))","v":0}]
[null,"Bearbeitung","Maschine 1",null,"Maschine 2",null,"Maschine 3",null,"Datum",null,"Bemerkung"]

{"sheet":"A20","index":29,"n_rows":61,"n_cols":30,"rows_kept":61,"cut":false,"hidden":false,"merged":[[13,27,13,28],[13,29,16,30],[6,7,6,12],[7,7,7,8],[8,7,8,8],[7,9,7,10],[8,9,8,10],[10,8,10,12],[73,2,73,3],[73,4,73,5],[73,6,73,7],[73,8,73,9],[73,10,73,12],[69,2,69,3],[69,4,69,5],[69,6,69,7],[69,8,69,9],[69,10,69,12],[70,2,70,3],[70,4,70,5],[70,6,70,7],[70,8,70,9],[70,10,70,12],[67,2,67,3],[67,4,67,5],[67,6,67,7],[74,2,74,3],[74,4,74,5],[74,6,74,7],[74,8,74,9],[74,10,74,12],[71,2,71,3],[71,4,71,5],[71,6,71,7],[71,8,71,9],[71,10,71,12],[72,2,72,3],[72,4,72,5],[72,6,72,7],[72,8,72,9],[72,10,72,12],[67,8,67,9],[67,10,67,12],[68,2,68,3],[68,4,68,5],[68,6,68,7],[68,8,68,9],[68,10,68,12],[65,2,65,3],[65,4,65,5],[65,6,65,7],[65,8,65,9],[65,10,65,12],[66,2,66,3],[66,4,66,5],[66,6,66,7],[66,8,66,9],[66,10,66,12],[63,2,63,3],[63,4,63,5],[63,6,63,7],[63,8,63,9],[63,10,63,12],[64,2,64,3],[64,4,64,5],[64,6,64,7],[64,8,64,9],[64,10,64,12],[61,2,61,3],[61,4,61,5],[61,6,61,7],[61,8,61,9],[61,10,61,12],[62,2,62,3],[62,4,62,5],[62,6,62,7],[62,8,62,9],[62,10,62,12],[58,3,58,4],[58,5,58,6],[58,9,58,11],[59,1,59,12],[60,2,60,3],[60,4,60,5],[60,6,60,7],[60,8,60,9],[60,10,60,12],[56,1,56,2],[56,3,56,4],[56,5,56,6],[56,9,56,12],[57,3,57,4],[57,5,57,6],[57,9,57,12],[52,7,52,9],[52,10,52,12],[53,1,53,5],[53,7,53,12],[54,1,54,6],[55,1,55,2],[55,3,55,4],[55,6,55,8],[55,9,55,10],[55,11,55,12],[49,7,49,9],[49,10,49,12],[50,7,50,9],[50,10,50,12],[51,7,51,9],[51,10,51,12],[46,7,46,9],[46,10,46,12],[47,7,47,9],[47,10,47,12],[48,7,48,9],[48,10,48,12],[43,7,43,9],[43,10,43,12],[44,7,44,9],[44,10,44,12],[45,7,45,9],[45,10,45,12],[40,7,40,9],[40,10,40,12],[41,7,41,9],[41,10,41,12],[42,7,42,9],[42,10,42,12],[37,7,37,9],[37,10,37,12],[38,7,38,9],[38,10,38,12],[39,7,39,9],[39,10,39,12],[34,7,34,9],[34,10,34,12],[35,7,35,9],[35,10,35,12],[36,7,36,9],[36,10,36,12],[31,7,31,9],[31,10,31,12],[32,7,32,9],[32,10,32,12],[32,16,32,20],[33,7,33,9],[33,10,33,12],[29,1,29,6],[29,7,29,8],[29,9,29,10],[30,0,30,1],[30,7,30,9],[30,10,30,12],[23,9,23,10],[24,9,24,10],[25,9,25,10],[26,9,26,10],[27,9,27,10],[28,1,28,6],[28,7,28,8],[28,9,28,10],[17,16,17,20],[18,9,18,10],[19,9,19,10],[20,9,20,10],[21,9,21,10],[22,9,22,10],[14,9,14,10],[15,9,15,10],[16,9,16,10],[17,9,17,10],[10,1,10,2],[9,7,9,12],[11,1,11,2],[11,4,11,6],[11,7,11,8],[11,9,11,10],[11,25,12,25],[33,22,33,23],[34,22,34,23],[0,1,0,12],[1,2,1,3],[1,4,1,6],[1,7,1,9],[1,10,1,12],[2,2,2,3],[2,4,2,6],[2,7,2,9],[2,10,2,12],[5,7,5,10],[5,11,5,12],[3,2,3,3],[3,4,3,6],[3,7,3,10],[3,11,3,12],[4,2,4,3],[4,4,4,6],[4,7,4,9],[4,10,4,12],[12,9,12,10],[13,9,13,10]]}
[null,"Ackerland"]
[null,20,"Name:",null,{"$f":"IF(B2=\"\",\"\",VLOOKUP(B2,Anbauplan,2,0))","v":0},null,null,"Jahr:",null,null,{"$f":"IF(Einführung!I8=\"\",\"\",Einführung!I8)","v":""},null,null,{"$f":"IF(OR(B4=\"\",H12=\"\"),\"\",H12*B4)","v":0},"DB kg * Fläche"]
[null,"Hektar ","Hauptfrucht ",null,{"$f":"IF(B2=\"\",\"\",VLOOKUP(B2,Ackerbauplan,4,0))","v":0},null,null,"Nitratkulisse",null,null,{"$f":"IF(B2=\"\",\"\",VLOOKUP(B2,Ackerbauplan,20,0))","v":0},null,null,{"$f":"L4","v":""},"kg/ha org. Dünger für Kontrollgrenze"]
[null,{"$f":"IF(B2=\"\",\"\",VLOOKUP(B2,Ackerbauplan,3,0))","v":0},"Vorfrucht",null,{"$f":"IF(B2=\"\",\"\",VLOOKUP(B2,Ackerbauplan,9,0))","v":0},null,null,"Wirtschaftsdünger zur Berechung\ndes 130 kg N/ha Anteils in kg/ha",null,null,null,{"$f":"IF(K3=\"ja\",W29,\"\")","v":""},null,{"$f":"IF(N3=\"\",\"\",N3*B4)","v":""},"kg Gesamtschlag org Dünger für 170 Kontrollgrenze",null,null,"Gesamt N","NH4-N","P2O5 mineral.","P2O5 organisch"]
[null,"Sorte","VorVorfrucht",null,null,null,null,"Phosphatkulisse",null,null,{"$f":"IF(B2=\"\",\"\",VLOOKUP(B2,Ackerbauplan,21,0))","v":0},null,null,{"$f":"IF(H12=\"\",\"\",IF(K3=\"ja\",N2*0.8,\"\"))","v":""},"Nitrat belastetes Gebiet Düngebedarf Gesamtschlag kg N/ha",null,"N Gesamt minerl.",{"$f":"SUMIF($N$14:$N$28,\"mineralisch\",$H$14:$H$28)*B4","v":0}]
[null,{"$f":"IF(B2=\"\",\"\",VLOOKUP(B2,Ackerbauplan,8,0))","v":0},null,null,null,null,null,"sonstige Auflagen",null,null,null,null,null,{"$f":"IF(K3=\"ja\",X30+Y30,\"\")","v":""},"org +min .anrechenbare N Menge Gesamtschlag  kg N/ha",null,"NH4-N minerlisch",null,{"$f":"SUMIF($N$14:$N$28,\"mineralisch\",$I$14:$I$28)*B4","v":0}]
[null,"Aussaatdatum","Kö./m² ",{"$f":"IF(B2=\"\",\"\",VLOOKUP(B2,Ackerbauplan,52,0))","v":0},null,"Eigen","Zukauf","Versorgungsstufen",null,null,null,null,null,{"$f":"IF(K3=\"ja\",J12*B4,\"\")","v":""},null,null,"N Gesamt organsich",{"$f":"SUMIF($N$14:$N$28,\"organisch\",$H$14:$H$28)*B4","v":0}]
[null,{"$f":"IF(B2=\"0\",\"\",VLOOKUP(B2,Ackerbauplan,51,0))","v":"00:00:00"},"x TKG ",{"$f":"IF(B2=\"\",\"\",VLOOKUP(B2,Ackerbauplan,53,0))","v":0},"dt/ha ",null,null,"Nmin",null,"P2O5",null,"K2O","MgO",null,null,null,"NH4-N organsich",null,{"$f":"SUMIF($N$14:$N$28,\"organisch\",I14:I28)*B4","v":0}]
[null,"Beize","/Kei.fäh.",{"$f":"IF(B2=\"\",\"\",VLOOKUP(B2,Ackerbauplan,54,0))","v":0},"€/dt",null,null,{"$f":"IF(B2=\"\",\"\",VLOOKUP(B2,Ackerbauplan,17,0))","v":0},null,{"$f":"IF(B2=\"\",\"\",VLOOKUP(B2,Ackerbauplan,30,0))","v":"C"},null,{"$f":"IF(B2=\"\",\"\",VLOOKUP(B2,Ackerbauplan,31,0))","v":"C"},{"$f":"IF(B2=\"\",\"\",VLOOKUP(B2,Ackerbauplan,32,0))","v":"C"},null,null,null,"P2O5 mineralisch",null,null,{"$f":"SUMIF($N$14:$N$28,\"mineralisch\",$J$14:$J$28)*B4","v":0}]
[null,null,"= kg/ha",{"$f":"IF(B2=\"\",\"\",VLOOKUP(B2,Ackerbauplan,55,0))","v":""},"€/ha ",{"$f":"F8*F9","v":0},{"$f":"G8*G9","v":0},"Düngebedarf kg/ha (Blatt Ackerfläche)",null,null,null,null,null,null,"Düngebedarf um 20% reduziert",null,"P2O5 organisch",null,null,null,{"$f":"SUMIF($N$14:$N$28,\"organisch\",$J$14:$J$28)*B4","v":0},null,null,null,null,null,null,{"$f":"IF(K3=\"ja\",\"Noch nicht ausgeschöpfter Stickstoff Düngebedarf aller Flächen\",\"\")","v":""}]
[null,"Saatgutkennnummer",null,null,null,"Summe",{"$f":"F10+G10","v":0},{"$f":"IF(H12=\"\",\"\",IF(K3=\"ja\",H12*0.8,\"\"))","v":""},{"$f":"IF(K3=\"ja\",O10,\"\")","v":""},null,null,null,null,null,null,null,"Sonstige organische Düngemittel",{"$f":"SUMIF($N$14:$N$28,Q11,$H$14:$H$28)*B4","v":0},{"$f":"SUMIF($N$14:$N$28,Q11,$I$14:$I$28)*B4","v":0},{"$f":"SUMIF($N$14:$N$28,Q11,$J$14:$J$28)*B4","v":0},null,null,null,null,null,null,null,{"$f":"IF(K3=\"ja\",'Zus. Anlage 5 DüV'!D43,\"\")","v":""},{"$f":"IF(K3=\"ja\",\"kg N Gesamtfläche\",\"\")","v":""}]
[null,null,null,null,"N Bedarf DÜV kg/ha",null,null,{"$f":"IF(B2=\"\",\"\",VLOOKUP(B2,Ackerbauplan,18,0))","v":"0"},null,{"$f":"IF(B2=\"\",\"\",VLOOKUP(B2,Ackerbauplan,37,0))","v":"0"},null,{"$f":"IF(B2=\"\",\"\",VLOOKUP(B2,Ackerbauplan,38,0))","v":"0"},null,null,null,null,"Bodenhilfsstoffe",{"$f":"SUMIF($N$14:$N$28,Q12,$H$14:$H$28)*B4","v":0},null,{"$f":"SUMIF($N$14:$N$28,Q12,$J$14:$J$28)*B4","v":0},null,"Anrechnung","Anrechnung ","Prüfung NH4","mineral","Kontroll\nSumme"]
[null,"Dünger","Datum","EC","m³o.dt/ha","€/dt","€/ha","Ges.-N","NH4-N","P2O5",null,"K2O","S",null,null,null,"Kultursubstrate",{"$f":"SUMIF($N$14:$N$28,Q13,$H$14:$H$28)*B4","v":0},null,{"$f":"SUMIF($N$14:$N$28,Q13,$J$14:$J$28)*B4","v":0},null,"aktuelles Jahr","170 kg GW"," oder Anlage3","Stickstoff"]
[null,null,null,null,null,{"$f":"IF(B14=\"\",\"\",VLOOKUP(B14,Düngemiteldaten,2,0))","v":""},{"$f":"IF(B14=\"\",\"\",E14*F14)","v":""},{"$f":"IF(B14=\"\",\"\",VLOOKUP(B14,Düngemiteldaten,4,0)*E14)","v":""},{"$f":"IF(B14=\"\",\"\",VLOOKUP(B14,Düngemiteldaten,5,0)*E14)","v":""},{"$f":"IF(B14=\"\",\"\",VLOOKUP(B14,Düngemiteldaten,7,0)*E14)","v":""},null,{"$f":"IF(B14=\"\",\"\",VLOOKUP(B14,Düngemiteldaten,8,0)*E14)","v":""},{"$f":"IF(B14=\"\",\"\",VLOOKUP(B14,Düngemiteldaten,10,0)*E14)","v":""},{"$f":"IF(B14=\"\",\"\",VLOOKUP(B14,Düngemiteldaten,20,0))","v":""},null,null,"Pflanzenhilfsmittel",{"$f":"SUMIF($N$14:$N$28,Q14,$H$14:$H$28)*B4","v":0},null,{"$f":"SUMIF($N$14:$N$28,Q14,$J$14:$J$28)*B4","v":0},null,{"$f":"IF(OR(B14=\"\",N14=\"\"),\"\",IF(N14=\"mineralisch\",\"\",VLOOKUP(B14,Düngemiteldaten,17,0)*VLOOKUP(B14,Düngemiteldaten,4,0)*E14))","v":""},{"$f":"IF(N14=\"organisch\",VLOOKUP(B14,Düngemiteldaten,4,0)*E14*VLOOKUP(B14,Düngemiteldaten,19,0),\"\")","v":""},{"$f":"IF(B14=\"\",\"\",IF(V14<I14,I14,V14))","v":""},{"$f":"IF(B14=\"\",\"\",IF(N14=\"organisch\",0,H14))","v":""},{"$f":"IF(SUM(V14:Y14)=0,\"\",SUM(X14:Y14))","v":""},null,{"$f":"IF(K3=\"ja\",\"Summe Gesamtstickstoff\",\"\")","v":""},null,{"$f":"IF(K3=\"ja\",\"Anteil § 13a Prüfung \n160 kg N/ha Gesamt\n80 kg N/ha mineralisch\",\"\")","v":""}]
[null,null,null,null,null,"",{"$f":"IF(B15=\"\",\"\",E15*F15)","v":""},"","","",null,"","","",null,null,"Abfälle zur Beseitigung (§ 28 Absatz 2 odeS 3 KSWG)",{"$f":"SUMIF($N$14:$N$28,Q15,$H$14:$H$28)*B4","v":0},null,{"$f":"SUMIF($N$14:$N$28,Q15,$J$14:$J$28)*B4","v":0},null,"","",{"$f":"IF(B15=\"\",\"\",IF(V15<I15,I15,V15))","v":""},{"$f":"IF(B15=\"\",\"\",IF(N15=\"organisch\",0,H15))","v":""},{"$f":"IF(SUM(V15:Y15)=0,\"\",SUM(X15:Y15))","v":""},null,{"$f":"IF(L4=\"\",\"\",SUMIF($N$14:$N$28,\"mineralisch\",$H$14:$H$28))","v":""},{"$f":"IF(K3=\"ja\",\"mineralisch N kg/ha\",\"\")","v":""}]
[null,null,null,null,null,"","","","","",null,"","","",null,null,null,null,null,null,null,"","","","","",null,{"$f":"IF(L4=\"\",\"\",SUMIF($N$14:$N$28,\"organisch\",$H$14:$H$28)+SUMIF($N$14:$N$28,Q11,$H$14:$H$28))","v":""},{"$f":"IF(K3=\"ja\",\"organisch N kg/ha\",\"\")","v":""}]
[null,null,null,null,null,"","","","","",null,"","","",null,null,null,null,null,null,null,{"$f":"IF(OR(B17=\"\",N17=\"\"),\"\",IF(N17=\"mineralisch\",\"\",VLOOKUP(B17,Düngemiteldaten,17,0)*VLOOKUP(B17,Düngemiteldaten,4,0)*E17))","v":""},"","","","",null,{"$f":"IF(K3=\"ja\",(AB16+AB15),\"\")","v":""},{"$f":"IF(K3=\"ja\",\"Gesamt kg N/ha\",\"\")","v":""}]
[null,null,null,null,null,"","","","","",null,"","","",null,null,"Nährstoffherkunft auf gefährdeten Flächen §13",null,null,null,null,"","","","",""]
[null,null,null,null,null,"","","","","",null,"","","",null,null,null,"Gesamt N","NH4-N","P2O5 mineral.","P2O5 organisch","","","","",""]
[null,null,null,null,null,"","","","","",null,"","","",null,null,"N Gesamt minerl.",{"$f":"IF(K3=\"ja\",SUMIF($N$14:$N$28,\"mineralisch\",$H$14:$H$28),0)*B4","v":0},null,null,null,"","","","",""]
[null,null,null,null,null,"","","","","",null,"","","",null,null,"NH4-N minerlisch",null,{"$f":"IF(K3=\"ja\",SUMIF($N$14:$N$28,\"mineralisch\",$I$14:$I$28),0)*B4","v":0},null,null,"","","","",""]
[null,null,null,null,null,"","","","","",null,"","","",null,null,"N Gesamt organsich",{"$f":"IF(K3=\"ja\",SUMIF($N$14:$N$28,\"organisch\",$H$14:$H$28),0)*B4","v":0},null,null,null,"","","","",""]
[null,null,null,null,null,"","","","","",null,"","","",null,null,"NH4-N organsich",null,{"$f":"IF(K3=\"ja\",SUMIF($N$14:$N$28,\"organisch\",$I$14:$I$28),0)*B4","v":0},null,null,"","","","",""]
[null,null,null,null,null,"","","","","",null,"","","",null,null,"P2O5 mineralisch",null,null,{"$f":"IF(K3=\"ja\",SUMIF($N$14:$N$28,\"mineralisch\",$J$14:$J$28),0)*B4","v":0},null,"","","","",""]
[null,null,null,null,null,"","","","","",null,"","","",null,null,"P2O5 organisch",null,null,null,{"$f":"IF(K3=\"ja\",SUMIF($N$14:$N$28,\"organisch\",$J$14:$J$28),0)*B4","v":0},"","","","",""]
[null,null,null,null,null,"","","","","",null,"","","",null,null,"Sonstige organische Düngemittel",{"$f":"IF(K3=\"ja\",SUMIF($N$14:$N$28,Q26,$H$14:$H$28),0)*B4","v":0},{"$f":"IF(K3=\"ja\",SUMIF($N$14:$N$28,Q26,$I$14:$I$28),0)*B4","v":0},{"$f":"IF(K3=\"ja\",SUMIF($N$14:$N$28,Q26,$J$14:$J$28),0)*B4","v":0},null,"","","","",""]
[null,null,null,null,null,"","","","","",null,"","","",null,null,"Bodenhilfsstoffe",{"$f":"IF(K3=\"ja\",SUMIF($N$14:$N$28,Q27,$H$14:$H$28),0)*B4","v":0},null,{"$f":"IF(K3=\"ja\",SUMIF($N$14:$N$28,Q27,$J$14:$J$28),0)*B4","v":0},null,"","","","",""]
[null,null,null,null,null,"","","","","",null,"","","",null,null,"Kultursubstrate",{"$f":"IF(K3=\"ja\",SUMIF($N$14:$N$28,Q28,$H$14:$H$28),0)*B4","v":0},null,{"$f":"IF(K3=\"ja\",SUMIF($N$14:$N$28,Q28,$J$14:$J$28),0)*B4","v":0},null,"","","","",""]
[null,"anrechenbarer N aus org.Dgg. + min. Dgg. kg N/ha",null,null,null,null,null,{"$f":"X29+Y29","v":0},null,{"$f":"SUM(J14:J28)","v":0},null,{"$f":"SUM(L14:L28)","v":0},{"$f":"SUM(M14:M28)","v":0},null,null,null,"Pflanzenhilfsmittel",{"$f":"IF(K3=\"ja\",SUMIF($N$14:$N$28,Q29,$H$14:$H$28),0)*B4","v":0},null,{"$f":"IF(K3=\"ja\",SUMIF($N$14:$N$28,Q29,$J$14:$J$28),0)*B4","v":0},null,{"$f":"SUM(V14:V28)","v":0},{"$f":"SUM(W14:W28)","v":0},{"$f":"SUM(X14:X28)","v":0},{"$f":"SUM(Y14:Y28)","v":0},"kg/ha"]
[null,{"$f":"IF(K3=\"0\",O31,O30)","v":"Bilanz (anrechenbarer Dgg.- reduzierter Düngebedarf) kg N/ha"},null,null,null,null,null,{"$f":"IF(H12=\"\",0,IF(OR(K3=0,K3=\"nein\"),H29-H12,H29-H11))","v":0},null,{"$f":"IF(J12=\"\",\"\",J29-J12)","v":0},null,{"$f":"IF(L12=\"\",\"\",L29-L12)","v":0},{"$f":"IF(M12=\"\",\"\",M29-M12)","v":""},null,"Bilanz (anrechenbarer Dgg.- reduzierter Düngebedarf) kg N/ha",null,"Abfälle zur Beseitigung (§ 28 Absatz 2 odeS 3 KSWG)",{"$f":"IF(K3=\"ja\",SUMIF($N$14:$N$28,Q30,$H$14:$H$28),0)*B4","v":0},null,{"$f":"IF(K3=\"ja\",SUMIF($N$14:$N$28,Q30,$J$14:$J$28),0)*B4","v":0},null,{"$f":"V29*B4","v":0},{"$f":"W29*B4","v":0},{"$f":"X29*B4","v":0},{"$f":"Y29*B4","v":0},"kg/Schlag",null,{"$f":"IF(H30>0,\"Stickstoffmenge überschreitet den Düngebedarf\",\"\")","v":""}]
["Pflanzenschutzmittel",null,"Datum","EC","E./ha","€/E.","€/ha","Anwender",null,null,"Bemerkungen",null,null,null,"Bilanz (anrechenbarer Dgg.- Düngebedarf) kg N/ha"]
[null,null,null,null,null,{"$f":"IF($B32=\"\",\"\",VLOOKUP($B32,PSMMittel,2,0))","v":""},{"$f":"IF(B32=\"\",\"\",E32*F32)","v":""}]
[null,null,null,null,null,"",{"$f":"IF(B33=\"\",\"\",E33*F33)","v":""},null,null,null,null,null,null,null,null,null,"Stickstoffherkunft nicht gefährdetes Gebiet Gesamtfläche"]
[null,null,null,null,null,"","",null,null,null,null,null,null,null,null,null,null,"Gesamt N","NH4-N","P2O5 mineral.","P2O5 organisch",null,"N Fixierung kg N/ha"]
[null,null,null,null,null,"","",null,null,null,null,null,null,null,null,null,"N Gesamt minerl.",{"$f":"R5-R20","v":0},null,null,null,null,{"$f":"IF(E3=0,\"\",VLOOKUP(E3,AckerbauKulturen,26,0)*G56*B4)","v":""}]
[null,null,null,null,null,"","",null,null,null,null,null,null,null,null,null,"NH4-N minerlisch",null,{"$f":"S6-S21","v":0}]
[null,null,null,null,null,"","",null,null,null,null,null,null,null,null,null,"N Gesamt organsich",{"$f":"R7-R22","v":0}]
[null,null,null,null,null,"","",null,null,null,null,null,null,null,null,null,"NH4-N organsich",null,{"$f":"S8-S23","v":0}]
[null,null,null,null,null,"","",null,null,null,null,null,null,null,null,null,"P2O5 mineralisch",null,null,{"$f":"T9-T24","v":0}]
[null,null,null,null,null,"","",null,null,null,null,null,null,null,null,null,"P2O5 organisch",null,null,null,{"$f":"U10-U25","v":0}]
[null,null,null,null,null,"","",null,null,null,null,null,null,null,null,null,"Sonstige organische Düngemittel",{"$f":"R11-R26","v":0},{"$f":"S11-S26","v":0},{"$f":"T11-T26","v":0}]
[null,null,null,null,null,"","",null,null,null,null,null,null,null,null,null,"Bodenhilfsstoffe",{"$f":"R12-R27","v":0},null,{"$f":"T12-T27","v":0}]
[null,null,null,null,null,"","",null,null,null,null,null,null,null,null,null,"Kultursubstrate",{"$f":"R13-R28","v":0},null,{"$f":"T13-T28","v":0}]
[null,null,null,null,null,"","",null,null,null,null,null,null,null,null,null,"Pflanzenhilfsmittel",{"$f":"R14-R29","v":0},null,{"$f":"T14-T29","v":0}]
[null,null,null,null,null,"","",null,null,null,null,null,null,null,null,null,"Abfälle zur Beseitigung (§ 28 Absatz 2 odeS 3 KSWG)",{"$f":"R15-R30","v":0},null,{"$f":"T15-T30","v":0}]
[null,null,null,null,null,"",""]
[null,null,null,null,null,"",""]
[null,null,null,null,null,"",""]
[null,null,null,null,null,"",""]
[null,null,null,null,null,"",""]
[null,null,null,null,null,"",""]
[null,null,null,null,null,"",""]
[null,null,null,null,null,"",""]
[null,"Summe",null,null,null,null,{"$f":"SUM(G32:G53)","v":0}]
[]
[null,"Erntedatum:",null,{"$f":"IF(VLOOKUP($B$2,Ackerbauplan,58,0)=\"\",\"\",VLOOKUP($B$2,Ackerbauplan,58,0))","v":""},null,"dt/ha",{"$f":"VLOOKUP($B$2,Ackerbauplan,60,0)","v":0},null,null,"€/dt",null,{"$f":"VLOOKUP($B$2,Ackerbauplan,59,0)","v":0}]
[null,"   Hauptleistung ",null,{"$f":"IF(VLOOKUP($B$2,Ackerbauplan,61,0)=\"\",\"\",VLOOKUP($B$2,Ackerbauplan,61,0))","v":""},null,"Saatgut ",null,{"$f":"G11","v":0},"€/ha","Marktleistung -"]
[null,null,"+ Nebenleistung ",{"$f":"IF($B$2=\"\",\"\",VLOOKUP($B$2,Anbauplan,62,0))","v":0},null,"Dünger ",null,{"$f":"SUM(G14:G28)","v":0},"€/ha","Saatgut, Dünger, PSM"]
[null,null,"= Marktleistung ",{"$f":"IF(D57=\"\",\"\",D58+D57)","v":""},null,"Pflanzenschutz ",null,{"$f":"G54","v":0},"€/ha",{"$f":"IF(D59=\"\",\"\",D59-H57-H58-H59)","v":""},null,null,"€/ha"]
[null,{"$f":"IF($B$2=\"\",\"\",VLOOKUP($B$2,Anbauplan,2,0))","v":0}]
[null,"Bearbeitung","Maschine 1",null,"Maschine 2",null,"Maschine 3",null,"Datum",null,"Bemerkung"]

{"sheet":"A21","index":30,"n_rows":61,"n_cols":30,"rows_kept":61,"cut":false,"hidden":true,"merged":[[13,27,13,28],[13,29,16,30],[6,7,6,12],[7,7,7,8],[8,7,8,8],[7,9,7,10],[8,9,8,10],[10,8,10,12],[73,2,73,3],[73,4,73,5],[73,6,73,7],[73,8,73,9],[73,10,73,12],[69,2,69,3],[69,4,69,5],[69,6,69,7],[69,8,69,9],[69,10,69,12],[70,2,70,3],[70,4,70,5],[70,6,70,7],[70,8,70,9],[70,10,70,12],[67,2,67,3],[67,4,67,5],[67,6,67,7],[74,2,74,3],[74,4,74,5],[74,6,74,7],[74,8,74,9],[74,10,74,12],[71,2,71,3],[71,4,71,5],[71,6,71,7],[71,8,71,9],[71,10,71,12],[72,2,72,3],[72,4,72,5],[72,6,72,7],[72,8,72,9],[72,10,72,12],[67,8,67,9],[67,10,67,12],[68,2,68,3],[68,4,68,5],[68,6,68,7],[68,8,68,9],[68,10,68,12],[65,2,65,3],[65,4,65,5],[65,6,65,7],[65,8,65,9],[65,10,65,12],[66,2,66,3],[66,4,66,5],[66,6,66,7],[66,8,66,9],[66,10,66,12],[63,2,63,3],[63,4,63,5],[63,6,63,7],[63,8,63,9],[63,10,63,12],[64,2,64,3],[64,4,64,5],[64,6,64,7],[64,8,64,9],[64,10,64,12],[61,2,61,3],[61,4,61,5],[61,6,61,7],[61,8,61,9],[61,10,61,12],[62,2,62,3],[62,4,62,5],[62,6,62,7],[62,8,62,9],[62,10,62,12],[58,3,58,4],[58,5,58,6],[58,9,58,11],[59,1,59,12],[60,2,60,3],[60,4,60,5],[60,6,60,7],[60,8,60,9],[60,10,60,12],[56,1,56,2],[56,3,56,4],[56,5,56,6],[56,9,56,12],[57,3,57,4],[57,5,57,6],[57,9,57,12],[52,7,52,9],[52,10,52,12],[53,1,53,5],[53,7,53,12],[54,1,54,6],[55,1,55,2],[55,3,55,4],[55,6,55,8],[55,9,55,10],[55,11,55,12],[49,7,49,9],[49,10,49,12],[50,7,50,9],[50,10,50,12],[51,7,51,9],[51,10,51,12],[46,7,46,9],[46,10,46,12],[47,7,47,9],[47,10,47,12],[48,7,48,9],[48,10,48,12],[43,7,43,9],[43,10,43,12],[44,7,44,9],[44,10,44,12],[45,7,45,9],[45,10,45,12],[40,7,40,9],[40,10,40,12],[41,7,41,9],[41,10,41,12],[42,7,42,9],[42,10,42,12],[37,7,37,9],[37,10,37,12],[38,7,38,9],[38,10,38,12],[39,7,39,9],[39,10,39,12],[34,7,34,9],[34,10,34,12],[35,7,35,9],[35,10,35,12],[36,7,36,9],[36,10,36,12],[31,7,31,9],[31,10,31,12],[32,7,32,9],[32,10,32,12],[32,16,32,20],[33,7,33,9],[33,10,33,12],[29,1,29,6],[29,7,29,8],[29,9,29,10],[30,0,30,1],[30,7,30,9],[30,10,30,12],[23,9,23,10],[24,9,24,10],[25,9,25,10],[26,9,26,10],[27,9,27,10],[28,1,28,6],[28,7,28,8],[28,9,28,10],[17,16,17,20],[18,9,18,10],[19,9,19,10],[20,9,20,10],[21,9,21,10],[22,9,22,10],[14,9,14,10],[15,9,15,10],[16,9,16,10],[17,9,17,10],[10,1,10,2],[9,7,9,12],[11,1,11,2],[11,4,11,6],[11,7,11,8],[11,9,11,10],[11,25,12,25],[33,22,33,23],[34,22,34,23],[0,1,0,12],[1,2,1,3],[1,4,1,6],[1,7,1,9],[1,10,1,12],[2,2,2,3],[2,4,2,6],[2,7,2,9],[2,10,2,12],[5,7,5,10],[5,11,5,12],[3,2,3,3],[3,4,3,6],[3,7,3,10],[3,11,3,12],[4,2,4,3],[4,4,4,6],[4,7,4,9],[4,10,4,12],[12,9,12,10],[13,9,13,10]]}
[null,"Ackerland"]
[null,21,"Name:",null,{"$f":"IF(B2=\"\",\"\",VLOOKUP(B2,Anbauplan,2,0))","v":0},null,null,"Jahr:",null,null,{"$f":"IF(Einführung!I8=\"\",\"\",Einführung!I8)","v":""},null,null,{"$f":"IF(OR(B4=\"\",H12=\"\"),\"\",H12*B4)","v":0},"DB kg * Fläche"]
[null,"Hektar ","Hauptfrucht ",null,{"$f":"IF(B2=\"\",\"\",VLOOKUP(B2,Ackerbauplan,4,0))","v":0},null,null,"Nitratkulisse",null,null,{"$f":"IF(B2=\"\",\"\",VLOOKUP(B2,Ackerbauplan,20,0))","v":0},null,null,{"$f":"L4","v":""},"kg/ha org. Dünger für Kontrollgrenze"]
[null,{"$f":"IF(B2=\"\",\"\",VLOOKUP(B2,Ackerbauplan,3,0))","v":0},"Vorfrucht",null,{"$f":"IF(B2=\"\",\"\",VLOOKUP(B2,Ackerbauplan,9,0))","v":0},null,null,"Wirtschaftsdünger zur Berechung\ndes 130 kg N/ha Anteils in kg/ha",null,null,null,{"$f":"IF(K3=\"ja\",W29,\"\")","v":""},null,{"$f":"IF(N3=\"\",\"\",N3*B4)","v":""},"kg Gesamtschlag org Dünger für 170 Kontrollgrenze",null,null,"Gesamt N","NH4-N","P2O5 mineral.","P2O5 organisch"]
[null,"Sorte","VorVorfrucht",null,null,null,null,"Phosphatkulisse",null,null,{"$f":"IF(B2=\"\",\"\",VLOOKUP(B2,Ackerbauplan,21,0))","v":0},null,null,{"$f":"IF(H12=\"\",\"\",IF(K3=\"ja\",N2*0.8,\"\"))","v":""},"Nitrat belastetes Gebiet Düngebedarf Gesamtschlag kg N/ha",null,"N Gesamt minerl.",{"$f":"SUMIF($N$14:$N$28,\"mineralisch\",$H$14:$H$28)*B4","v":0}]
[null,{"$f":"IF(B2=\"\",\"\",VLOOKUP(B2,Ackerbauplan,8,0))","v":0},null,null,null,null,null,"sonstige Auflagen",null,null,null,null,null,{"$f":"IF(K3=\"ja\",X30+Y30,\"\")","v":""},"org +min .anrechenbare N Menge Gesamtschlag  kg N/ha",null,"NH4-N minerlisch",null,{"$f":"SUMIF($N$14:$N$28,\"mineralisch\",$I$14:$I$28)*B4","v":0}]
[null,"Aussaatdatum","Kö./m² ",{"$f":"IF(B2=\"\",\"\",VLOOKUP(B2,Ackerbauplan,52,0))","v":0},null,"Eigen","Zukauf","Versorgungsstufen",null,null,null,null,null,{"$f":"IF(K3=\"ja\",J12*B4,\"\")","v":""},null,null,"N Gesamt organsich",{"$f":"SUMIF($N$14:$N$28,\"organisch\",$H$14:$H$28)*B4","v":0}]
[null,{"$f":"IF(B2=\"0\",\"\",VLOOKUP(B2,Ackerbauplan,51,0))","v":"00:00:00"},"x TKG ",{"$f":"IF(B2=\"\",\"\",VLOOKUP(B2,Ackerbauplan,53,0))","v":0},"dt/ha ",null,null,"Nmin",null,"P2O5",null,"K2O","MgO",null,null,null,"NH4-N organsich",null,{"$f":"SUMIF($N$14:$N$28,\"organisch\",I14:I28)*B4","v":0}]
[null,"Beize","/Kei.fäh.",{"$f":"IF(B2=\"\",\"\",VLOOKUP(B2,Ackerbauplan,54,0))","v":0},"€/dt",null,null,{"$f":"IF(B2=\"\",\"\",VLOOKUP(B2,Ackerbauplan,17,0))","v":0},null,{"$f":"IF(B2=\"\",\"\",VLOOKUP(B2,Ackerbauplan,30,0))","v":"C"},null,{"$f":"IF(B2=\"\",\"\",VLOOKUP(B2,Ackerbauplan,31,0))","v":"C"},{"$f":"IF(B2=\"\",\"\",VLOOKUP(B2,Ackerbauplan,32,0))","v":"C"},null,null,null,"P2O5 mineralisch",null,null,{"$f":"SUMIF($N$14:$N$28,\"mineralisch\",$J$14:$J$28)*B4","v":0}]
[null,null,"= kg/ha",{"$f":"IF(B2=\"\",\"\",VLOOKUP(B2,Ackerbauplan,55,0))","v":""},"€/ha ",{"$f":"F8*F9","v":0},{"$f":"G8*G9","v":0},"Düngebedarf kg/ha (Blatt Ackerfläche)",null,null,null,null,null,null,"Düngebedarf um 20% reduziert",null,"P2O5 organisch",null,null,null,{"$f":"SUMIF($N$14:$N$28,\"organisch\",$J$14:$J$28)*B4","v":0},null,null,null,null,null,null,{"$f":"IF(K3=\"ja\",\"Noch nicht ausgeschöpfter Stickstoff Düngebedarf aller Flächen\",\"\")","v":""}]
[null,"Saatgutkennnummer",null,null,null,"Summe",{"$f":"F10+G10","v":0},{"$f":"IF(H12=\"\",\"\",IF(K3=\"ja\",H12*0.8,\"\"))","v":""},{"$f":"IF(K3=\"ja\",O10,\"\")","v":""},null,null,null,null,null,null,null,"Sonstige organische Düngemittel",{"$f":"SUMIF($N$14:$N$28,Q11,$H$14:$H$28)*B4","v":0},{"$f":"SUMIF($N$14:$N$28,Q11,$I$14:$I$28)*B4","v":0},{"$f":"SUMIF($N$14:$N$28,Q11,$J$14:$J$28)*B4","v":0},null,null,null,null,null,null,null,{"$f":"IF(K3=\"ja\",'Zus. Anlage 5 DüV'!D43,\"\")","v":""},{"$f":"IF(K3=\"ja\",\"kg N Gesamtfläche\",\"\")","v":""}]
[null,null,null,null,"N Bedarf DÜV kg/ha",null,null,{"$f":"IF(B2=\"\",\"\",VLOOKUP(B2,Ackerbauplan,18,0))","v":"0"},null,{"$f":"IF(B2=\"\",\"\",VLOOKUP(B2,Ackerbauplan,37,0))","v":"0"},null,{"$f":"IF(B2=\"\",\"\",VLOOKUP(B2,Ackerbauplan,38,0))","v":"0"},null,null,null,null,"Bodenhilfsstoffe",{"$f":"SUMIF($N$14:$N$28,Q12,$H$14:$H$28)*B4","v":0},null,{"$f":"SUMIF($N$14:$N$28,Q12,$J$14:$J$28)*B4","v":0},null,"Anrechnung","Anrechnung ","Prüfung NH4","mineral","Kontroll\nSumme"]
[null,"Dünger","Datum","EC","m³o.dt/ha","€/dt","€/ha","Ges.-N","NH4-N","P2O5",null,"K2O","S",null,null,null,"Kultursubstrate",{"$f":"SUMIF($N$14:$N$28,Q13,$H$14:$H$28)*B4","v":0},null,{"$f":"SUMIF($N$14:$N$28,Q13,$J$14:$J$28)*B4","v":0},null,"aktuelles Jahr","170 kg GW"," oder Anlage3","Stickstoff"]
[null,null,null,null,null,{"$f":"IF(B14=\"\",\"\",VLOOKUP(B14,Düngemiteldaten,2,0))","v":""},{"$f":"IF(B14=\"\",\"\",E14*F14)","v":""},{"$f":"IF(B14=\"\",\"\",VLOOKUP(B14,Düngemiteldaten,4,0)*E14)","v":""},{"$f":"IF(B14=\"\",\"\",VLOOKUP(B14,Düngemiteldaten,5,0)*E14)","v":""},{"$f":"IF(B14=\"\",\"\",VLOOKUP(B14,Düngemiteldaten,7,0)*E14)","v":""},null,{"$f":"IF(B14=\"\",\"\",VLOOKUP(B14,Düngemiteldaten,8,0)*E14)","v":""},{"$f":"IF(B14=\"\",\"\",VLOOKUP(B14,Düngemiteldaten,10,0)*E14)","v":""},{"$f":"IF(B14=\"\",\"\",VLOOKUP(B14,Düngemiteldaten,20,0))","v":""},null,null,"Pflanzenhilfsmittel",{"$f":"SUMIF($N$14:$N$28,Q14,$H$14:$H$28)*B4","v":0},null,{"$f":"SUMIF($N$14:$N$28,Q14,$J$14:$J$28)*B4","v":0},null,{"$f":"IF(OR(B14=\"\",N14=\"\"),\"\",IF(N14=\"mineralisch\",\"\",VLOOKUP(B14,Düngemiteldaten,17,0)*VLOOKUP(B14,Düngemiteldaten,4,0)*E14))","v":""},{"$f":"IF(N14=\"organisch\",VLOOKUP(B14,Düngemiteldaten,4,0)*E14*VLOOKUP(B14,Düngemiteldaten,19,0),\"\")","v":""},{"$f":"IF(B14=\"\",\"\",IF(V14<I14,I14,V14))","v":""},{"$f":"IF(B14=\"\",\"\",IF(N14=\"organisch\",0,H14))","v":""},{"$f":"IF(SUM(V14:Y14)=0,\"\",SUM(X14:Y14))","v":""},null,{"$f":"IF(K3=\"ja\",\"Summe Gesamtstickstoff\",\"\")","v":""},null,{"$f":"IF(K3=\"ja\",\"Anteil § 13a Prüfung \n160 kg N/ha Gesamt\n80 kg N/ha mineralisch\",\"\")","v":""}]
[null,null,null,null,null,"",{"$f":"IF(B15=\"\",\"\",E15*F15)","v":""},"","","",null,"","","",null,null,"Abfälle zur Beseitigung (§ 28 Absatz 2 odeS 3 KSWG)",{"$f":"SUMIF($N$14:$N$28,Q15,$H$14:$H$28)*B4","v":0},null,{"$f":"SUMIF($N$14:$N$28,Q15,$J$14:$J$28)*B4","v":0},null,"","",{"$f":"IF(B15=\"\",\"\",IF(V15<I15,I15,V15))","v":""},{"$f":"IF(B15=\"\",\"\",IF(N15=\"organisch\",0,H15))","v":""},{"$f":"IF(SUM(V15:Y15)=0,\"\",SUM(X15:Y15))","v":""},null,{"$f":"IF(L4=\"\",\"\",SUMIF($N$14:$N$28,\"mineralisch\",$H$14:$H$28))","v":""},{"$f":"IF(K3=\"ja\",\"mineralisch N kg/ha\",\"\")","v":""}]
[null,null,null,null,null,"","","","","",null,"","","",null,null,null,null,null,null,null,"","","","","",null,{"$f":"IF(L4=\"\",\"\",SUMIF($N$14:$N$28,\"organisch\",$H$14:$H$28)+SUMIF($N$14:$N$28,Q11,$H$14:$H$28))","v":""},{"$f":"IF(K3=\"ja\",\"organisch N kg/ha\",\"\")","v":""}]
[null,null,null,null,null,"","","","","",null,"","","",null,null,null,null,null,null,null,{"$f":"IF(OR(B17=\"\",N17=\"\"),\"\",IF(N17=\"mineralisch\",\"\",VLOOKUP(B17,Düngemiteldaten,17,0)*VLOOKUP(B17,Düngemiteldaten,4,0)*E17))","v":""},"","","","",null,{"$f":"IF(K3=\"ja\",(AB16+AB15),\"\")","v":""},{"$f":"IF(K3=\"ja\",\"Gesamt kg N/ha\",\"\")","v":""}]
[null,null,null,null,null,"","","","","",null,"","","",null,null,"Nährstoffherkunft auf gefährdeten Flächen §13",null,null,null,null,"","","","",""]
[null,null,null,null,null,"","","","","",null,"","","",null,null,null,"Gesamt N","NH4-N","P2O5 mineral.","P2O5 organisch","","","","",""]
[null,null,null,null,null,"","","","","",null,"","","",null,null,"N Gesamt minerl.",{"$f":"IF(K3=\"ja\",SUMIF($N$14:$N$28,\"mineralisch\",$H$14:$H$28),0)*B4","v":0},null,null,null,"","","","",""]
[null,null,null,null,null,"","","","","",null,"","","",null,null,"NH4-N minerlisch",null,{"$f":"IF(K3=\"ja\",SUMIF($N$14:$N$28,\"mineralisch\",$I$14:$I$28),0)*B4","v":0},null,null,"","","","",""]
[null,null,null,null,null,"","","","","",null,"","","",null,null,"N Gesamt organsich",{"$f":"IF(K3=\"ja\",SUMIF($N$14:$N$28,\"organisch\",$H$14:$H$28),0)*B4","v":0},null,null,null,"","","","",""]
[null,null,null,null,null,"","","","","",null,"","","",null,null,"NH4-N organsich",null,{"$f":"IF(K3=\"ja\",SUMIF($N$14:$N$28,\"organisch\",$I$14:$I$28),0)*B4","v":0},null,null,"","","","",""]
[null,null,null,null,null,"","","","","",null,"","","",null,null,"P2O5 mineralisch",null,null,{"$f":"IF(K3=\"ja\",SUMIF($N$14:$N$28,\"mineralisch\",$J$14:$J$28),0)*B4","v":0},null,"","","","",""]
[null,null,null,null,null,"","","","","",null,"","","",null,null,"P2O5 organisch",null,null,null,{"$f":"IF(K3=\"ja\",SUMIF($N$14:$N$28,\"organisch\",$J$14:$J$28),0)*B4","v":0},"","","","",""]
[null,null,null,null,null,"","","","","",null,"","","",null,null,"Sonstige organische Düngemittel",{"$f":"IF(K3=\"ja\",SUMIF($N$14:$N$28,Q26,$H$14:$H$28),0)*B4","v":0},{"$f":"IF(K3=\"ja\",SUMIF($N$14:$N$28,Q26,$I$14:$I$28),0)*B4","v":0},{"$f":"IF(K3=\"ja\",SUMIF($N$14:$N$28,Q26,$J$14:$J$28),0)*B4","v":0},null,"","","","",""]
[null,null,null,null,null,"","","","","",null,"","","",null,null,"Bodenhilfsstoffe",{"$f":"IF(K3=\"ja\",SUMIF($N$14:$N$28,Q27,$H$14:$H$28),0)*B4","v":0},null,{"$f":"IF(K3=\"ja\",SUMIF($N$14:$N$28,Q27,$J$14:$J$28),0)*B4","v":0},null,"","","","",""]
[null,null,null,null,null,"","","","","",null,"","","",null,null,"Kultursubstrate",{"$f":"IF(K3=\"ja\",SUMIF($N$14:$N$28,Q28,$H$14:$H$28),0)*B4","v":0},null,{"$f":"IF(K3=\"ja\",SUMIF($N$14:$N$28,Q28,$J$14:$J$28),0)*B4","v":0},null,"","","","",""]
[null,"anrechenbarer N aus org.Dgg. + min. Dgg. kg N/ha",null,null,null,null,null,{"$f":"X29+Y29","v":0},null,{"$f":"SUM(J14:J28)","v":0},null,{"$f":"SUM(L14:L28)","v":0},{"$f":"SUM(M14:M28)","v":0},null,null,null,"Pflanzenhilfsmittel",{"$f":"IF(K3=\"ja\",SUMIF($N$14:$N$28,Q29,$H$14:$H$28),0)*B4","v":0},null,{"$f":"IF(K3=\"ja\",SUMIF($N$14:$N$28,Q29,$J$14:$J$28),0)*B4","v":0},null,{"$f":"SUM(V14:V28)","v":0},{"$f":"SUM(W14:W28)","v":0},{"$f":"SUM(X14:X28)","v":0},{"$f":"SUM(Y14:Y28)","v":0},"kg/ha"]
[null,{"$f":"IF(K3=\"0\",O31,O30)","v":"Bilanz (anrechenbarer Dgg.- reduzierter Düngebedarf) kg N/ha"},null,null,null,null,null,{"$f":"IF(H12=\"\",0,IF(OR(K3=0,K3=\"nein\"),H29-H12,H29-H11))","v":0},null,{"$f":"IF(J12=\"\",\"\",J29-J12)","v":0},null,{"$f":"IF(L12=\"\",\"\",L29-L12)","v":0},{"$f":"IF(M12=\"\",\"\",M29-M12)","v":""},null,"Bilanz (anrechenbarer Dgg.- reduzierter Düngebedarf) kg N/ha",null,"Abfälle zur Beseitigung (§ 28 Absatz 2 odeS 3 KSWG)",{"$f":"IF(K3=\"ja\",SUMIF($N$14:$N$28,Q30,$H$14:$H$28),0)*B4","v":0},null,{"$f":"IF(K3=\"ja\",SUMIF($N$14:$N$28,Q30,$J$14:$J$28),0)*B4","v":0},null,{"$f":"V29*B4","v":0},{"$f":"W29*B4","v":0},{"$f":"X29*B4","v":0},{"$f":"Y29*B4","v":0},"kg/Schlag",null,{"$f":"IF(H30>0,\"Stickstoffmenge überschreitet den Düngebedarf\",\"\")","v":""}]
["Pflanzenschutzmittel",null,"Datum","EC","E./ha","€/E.","€/ha","Anwender",null,null,"Bemerkungen",null,null,null,"Bilanz (anrechenbarer Dgg.- Düngebedarf) kg N/ha"]
[null,null,null,null,null,{"$f":"IF($B32=\"\",\"\",VLOOKUP($B32,PSMMittel,2,0))","v":""},{"$f":"IF(B32=\"\",\"\",E32*F32)","v":""}]
[null,null,null,null,null,"",{"$f":"IF(B33=\"\",\"\",E33*F33)","v":""},null,null,null,null,null,null,null,null,null,"Stickstoffherkunft nicht gefährdetes Gebiet Gesamtfläche"]
[null,null,null,null,null,"","",null,null,null,null,null,null,null,null,null,null,"Gesamt N","NH4-N","P2O5 mineral.","P2O5 organisch",null,"N Fixierung kg N/ha"]
[null,null,null,null,null,"","",null,null,null,null,null,null,null,null,null,"N Gesamt minerl.",{"$f":"R5-R20","v":0},null,null,null,null,{"$f":"IF(E3=0,\"\",VLOOKUP(E3,AckerbauKulturen,26,0)*G56*B4)","v":""}]
[null,null,null,null,null,"","",null,null,null,null,null,null,null,null,null,"NH4-N minerlisch",null,{"$f":"S6-S21","v":0}]
[null,null,null,null,null,"","",null,null,null,null,null,null,null,null,null,"N Gesamt organsich",{"$f":"R7-R22","v":0}]
[null,null,null,null,null,"","",null,null,null,null,null,null,null,null,null,"NH4-N organsich",null,{"$f":"S8-S23","v":0}]
[null,null,null,null,null,"","",null,null,null,null,null,null,null,null,null,"P2O5 mineralisch",null,null,{"$f":"T9-T24","v":0}]
[null,null,null,null,null,"","",null,null,null,null,null,null,null,null,null,"P2O5 organisch",null,null,null,{"$f":"U10-U25","v":0}]
[null,null,null,null,null,"","",null,null,null,null,null,null,null,null,null,"Sonstige organische Düngemittel",{"$f":"R11-R26","v":0},{"$f":"S11-S26","v":0},{"$f":"T11-T26","v":0}]
[null,null,null,null,null,"","",null,null,null,null,null,null,null,null,null,"Bodenhilfsstoffe",{"$f":"R12-R27","v":0},null,{"$f":"T12-T27","v":0}]
[null,null,null,null,null,"","",null,null,null,null,null,null,null,null,null,"Kultursubstrate",{"$f":"R13-R28","v":0},null,{"$f":"T13-T28","v":0}]
[null,null,null,null,null,"","",null,null,null,null,null,null,null,null,null,"Pflanzenhilfsmittel",{"$f":"R14-R29","v":0},null,{"$f":"T14-T29","v":0}]
[null,null,null,null,null,"","",null,null,null,null,null,null,null,null,null,"Abfälle zur Beseitigung (§ 28 Absatz 2 odeS 3 KSWG)",{"$f":"R15-R30","v":0},null,{"$f":"T15-T30","v":0}]
[null,null,null,null,null,"",""]
[null,null,null,null,null,"",""]
[null,null,null,null,null,"",""]
[null,null,null,null,null,"",""]
[null,null,null,null,null,"",""]
[null,null,null,null,null,"",""]
[null,null,null,null,null,"",""]
[null,null,null,null,null,"",""]
[null,"Summe",null,null,null,null,{"$f":"SUM(G32:G53)","v":0}]
[]
[null,"Erntedatum:",null,{"$f":"IF(VLOOKUP($B$2,Ackerbauplan,58,0)=\"\",\"\",VLOOKUP($B$2,Ackerbauplan,58,0))","v":""},null,"dt/ha",{"$f":"VLOOKUP($B$2,Ackerbauplan,60,0)","v":0},null,null,"€/dt",null,{"$f":"VLOOKUP($B$2,Ackerbauplan,59,0)","v":0}]
[null,"   Hauptleistung ",null,{"$f":"IF(VLOOKUP($B$2,Ackerbauplan,61,0)=\"\",\"\",VLOOKUP($B$2,Ackerbauplan,61,0))","v":""},null,"Saatgut ",null,{"$f":"G11","v":0},"€/ha","Marktleistung -"]
[null,null,"+ Nebenleistung ",{"$f":"IF($B$2=\"\",\"\",VLOOKUP($B$2,Anbauplan,62,0))","v":0},null,"Dünger ",null,{"$f":"SUM(G14:G28)","v":0},"€/ha","Saatgut, Dünger, PSM"]
[null,null,"= Marktleistung ",{"$f":"IF(D57=\"\",\"\",D58+D57)","v":""},null,"Pflanzenschutz ",null,{"$f":"G54","v":0},"€/ha",{"$f":"IF(D59=\"\",\"\",D59-H57-H58-H59)","v":""},null,null,"€/ha"]
[null,{"$f":"IF($B$2=\"\",\"\",VLOOKUP($B$2,Anbauplan,2,0))","v":0}]
[null,"Bearbeitung","Maschine 1",null,"Maschine 2",null,"Maschine 3",null,"Datum",null,"Bemerkung"]

{"sheet":"A22","index":31,"n_rows":61,"n_cols":30,"rows_kept":61,"cut":false,"hidden":true,"merged":[[13,27,13,28],[13,29,16,30],[6,7,6,12],[7,7,7,8],[8,7,8,8],[7,9,7,10],[8,9,8,10],[10,8,10,12],[73,2,73,3],[73,4,73,5],[73,6,73,7],[73,8,73,9],[73,10,73,12],[69,2,69,3],[69,4,69,5],[69,6,69,7],[69,8,69,9],[69,10,69,12],[70,2,70,3],[70,4,70,5],[70,6,70,7],[70,8,70,9],[70,10,70,12],[67,2,67,3],[67,4,67,5],[67,6,67,7],[74,2,74,3],[74,4,74,5],[74,6,74,7],[74,8,74,9],[74,10,74,12],[71,2,71,3],[71,4,71,5],[71,6,71,7],[71,8,71,9],[71,10,71,12],[72,2,72,3],[72,4,72,5],[72,6,72,7],[72,8,72,9],[72,10,72,12],[67,8,67,9],[67,10,67,12],[68,2,68,3],[68,4,68,5],[68,6,68,7],[68,8,68,9],[68,10,68,12],[65,2,65,3],[65,4,65,5],[65,6,65,7],[65,8,65,9],[65,10,65,12],[66,2,66,3],[66,4,66,5],[66,6,66,7],[66,8,66,9],[66,10,66,12],[63,2,63,3],[63,4,63,5],[63,6,63,7],[63,8,63,9],[63,10,63,12],[64,2,64,3],[64,4,64,5],[64,6,64,7],[64,8,64,9],[64,10,64,12],[61,2,61,3],[61,4,61,5],[61,6,61,7],[61,8,61,9],[61,10,61,12],[62,2,62,3],[62,4,62,5],[62,6,62,7],[62,8,62,9],[62,10,62,12],[58,3,58,4],[58,5,58,6],[58,9,58,11],[59,1,59,12],[60,2,60,3],[60,4,60,5],[60,6,60,7],[60,8,60,9],[60,10,60,12],[56,1,56,2],[56,3,56,4],[56,5,56,6],[56,9,56,12],[57,3,57,4],[57,5,57,6],[57,9,57,12],[52,7,52,9],[52,10,52,12],[53,1,53,5],[53,7,53,12],[54,1,54,6],[55,1,55,2],[55,3,55,4],[55,6,55,8],[55,9,55,10],[55,11,55,12],[49,7,49,9],[49,10,49,12],[50,7,50,9],[50,10,50,12],[51,7,51,9],[51,10,51,12],[46,7,46,9],[46,10,46,12],[47,7,47,9],[47,10,47,12],[48,7,48,9],[48,10,48,12],[43,7,43,9],[43,10,43,12],[44,7,44,9],[44,10,44,12],[45,7,45,9],[45,10,45,12],[40,7,40,9],[40,10,40,12],[41,7,41,9],[41,10,41,12],[42,7,42,9],[42,10,42,12],[37,7,37,9],[37,10,37,12],[38,7,38,9],[38,10,38,12],[39,7,39,9],[39,10,39,12],[34,7,34,9],[34,10,34,12],[35,7,35,9],[35,10,35,12],[36,7,36,9],[36,10,36,12],[31,7,31,9],[31,10,31,12],[32,7,32,9],[32,10,32,12],[32,16,32,20],[33,7,33,9],[33,10,33,12],[29,1,29,6],[29,7,29,8],[29,9,29,10],[30,0,30,1],[30,7,30,9],[30,10,30,12],[23,9,23,10],[24,9,24,10],[25,9,25,10],[26,9,26,10],[27,9,27,10],[28,1,28,6],[28,7,28,8],[28,9,28,10],[17,16,17,20],[18,9,18,10],[19,9,19,10],[20,9,20,10],[21,9,21,10],[22,9,22,10],[14,9,14,10],[15,9,15,10],[16,9,16,10],[17,9,17,10],[10,1,10,2],[9,7,9,12],[11,1,11,2],[11,4,11,6],[11,7,11,8],[11,9,11,10],[11,25,12,25],[33,22,33,23],[34,22,34,23],[0,1,0,12],[1,2,1,3],[1,4,1,6],[1,7,1,9],[1,10,1,12],[2,2,2,3],[2,4,2,6],[2,7,2,9],[2,10,2,12],[5,7,5,10],[5,11,5,12],[3,2,3,3],[3,4,3,6],[3,7,3,10],[3,11,3,12],[4,2,4,3],[4,4,4,6],[4,7,4,9],[4,10,4,12],[12,9,12,10],[13,9,13,10]]}
[null,"Ackerland"]
[null,22,"Name:",null,{"$f":"IF(B2=\"\",\"\",VLOOKUP(B2,Anbauplan,2,0))","v":0},null,null,"Jahr:",null,null,{"$f":"IF(Einführung!I8=\"\",\"\",Einführung!I8)","v":""},null,null,{"$f":"IF(OR(B4=\"\",H12=\"\"),\"\",H12*B4)","v":0},"DB kg * Fläche"]
[null,"Hektar ","Hauptfrucht ",null,{"$f":"IF(B2=\"\",\"\",VLOOKUP(B2,Ackerbauplan,4,0))","v":0},null,null,"Nitratkulisse",null,null,{"$f":"IF(B2=\"\",\"\",VLOOKUP(B2,Ackerbauplan,20,0))","v":0},null,null,{"$f":"L4","v":""},"kg/ha org. Dünger für Kontrollgrenze"]
[null,{"$f":"IF(B2=\"\",\"\",VLOOKUP(B2,Ackerbauplan,3,0))","v":0},"Vorfrucht",null,{"$f":"IF(B2=\"\",\"\",VLOOKUP(B2,Ackerbauplan,9,0))","v":0},null,null,"Wirtschaftsdünger zur Berechung\ndes 130 kg N/ha Anteils in kg/ha",null,null,null,{"$f":"IF(K3=\"ja\",W29,\"\")","v":""},null,{"$f":"IF(N3=\"\",\"\",N3*B4)","v":""},"kg Gesamtschlag org Dünger für 170 Kontrollgrenze",null,null,"Gesamt N","NH4-N","P2O5 mineral.","P2O5 organisch"]
[null,"Sorte","VorVorfrucht",null,null,null,null,"Phosphatkulisse",null,null,{"$f":"IF(B2=\"\",\"\",VLOOKUP(B2,Ackerbauplan,21,0))","v":0},null,null,{"$f":"IF(H12=\"\",\"\",IF(K3=\"ja\",N2*0.8,\"\"))","v":""},"Nitrat belastetes Gebiet Düngebedarf Gesamtschlag kg N/ha",null,"N Gesamt minerl.",{"$f":"SUMIF($N$14:$N$28,\"mineralisch\",$H$14:$H$28)*B4","v":0}]
[null,{"$f":"IF(B2=\"\",\"\",VLOOKUP(B2,Ackerbauplan,8,0))","v":0},null,null,null,null,null,"sonstige Auflagen",null,null,null,null,null,{"$f":"IF(K3=\"ja\",X30+Y30,\"\")","v":""},"org +min .anrechenbare N Menge Gesamtschlag  kg N/ha",null,"NH4-N minerlisch",null,{"$f":"SUMIF($N$14:$N$28,\"mineralisch\",$I$14:$I$28)*B4","v":0}]
[null,"Aussaatdatum","Kö./m² ",{"$f":"IF(B2=\"\",\"\",VLOOKUP(B2,Ackerbauplan,52,0))","v":0},null,"Eigen","Zukauf","Versorgungsstufen",null,null,null,null,null,{"$f":"IF(K3=\"ja\",J12*B4,\"\")","v":""},null,null,"N Gesamt organsich",{"$f":"SUMIF($N$14:$N$28,\"organisch\",$H$14:$H$28)*B4","v":0}]
[null,{"$f":"IF(B2=\"0\",\"\",VLOOKUP(B2,Ackerbauplan,51,0))","v":"00:00:00"},"x TKG ",{"$f":"IF(B2=\"\",\"\",VLOOKUP(B2,Ackerbauplan,53,0))","v":0},"dt/ha ",null,null,"Nmin",null,"P2O5",null,"K2O","MgO",null,null,null,"NH4-N organsich",null,{"$f":"SUMIF($N$14:$N$28,\"organisch\",I14:I28)*B4","v":0}]
[null,"Beize","/Kei.fäh.",{"$f":"IF(B2=\"\",\"\",VLOOKUP(B2,Ackerbauplan,54,0))","v":0},"€/dt",null,null,{"$f":"IF(B2=\"\",\"\",VLOOKUP(B2,Ackerbauplan,17,0))","v":0},null,{"$f":"IF(B2=\"\",\"\",VLOOKUP(B2,Ackerbauplan,30,0))","v":"C"},null,{"$f":"IF(B2=\"\",\"\",VLOOKUP(B2,Ackerbauplan,31,0))","v":"C"},{"$f":"IF(B2=\"\",\"\",VLOOKUP(B2,Ackerbauplan,32,0))","v":"C"},null,null,null,"P2O5 mineralisch",null,null,{"$f":"SUMIF($N$14:$N$28,\"mineralisch\",$J$14:$J$28)*B4","v":0}]
[null,null,"= kg/ha",{"$f":"IF(B2=\"\",\"\",VLOOKUP(B2,Ackerbauplan,55,0))","v":""},"€/ha ",{"$f":"F8*F9","v":0},{"$f":"G8*G9","v":0},"Düngebedarf kg/ha (Blatt Ackerfläche)",null,null,null,null,null,null,"Düngebedarf um 20% reduziert",null,"P2O5 organisch",null,null,null,{"$f":"SUMIF($N$14:$N$28,\"organisch\",$J$14:$J$28)*B4","v":0},null,null,null,null,null,null,{"$f":"IF(K3=\"ja\",\"Noch nicht ausgeschöpfter Stickstoff Düngebedarf aller Flächen\",\"\")","v":""}]
[null,"Saatgutkennnummer",null,null,null,"Summe",{"$f":"F10+G10","v":0},{"$f":"IF(H12=\"\",\"\",IF(K3=\"ja\",H12*0.8,\"\"))","v":""},{"$f":"IF(K3=\"ja\",O10,\"\")","v":""},null,null,null,null,null,null,null,"Sonstige organische Düngemittel",{"$f":"SUMIF($N$14:$N$28,Q11,$H$14:$H$28)*B4","v":0},{"$f":"SUMIF($N$14:$N$28,Q11,$I$14:$I$28)*B4","v":0},{"$f":"SUMIF($N$14:$N$28,Q11,$J$14:$J$28)*B4","v":0},null,null,null,null,null,null,null,{"$f":"IF(K3=\"ja\",'Zus. Anlage 5 DüV'!D43,\"\")","v":""},{"$f":"IF(K3=\"ja\",\"kg N Gesamtfläche\",\"\")","v":""}]
[null,null,null,null,"N Bedarf DÜV kg/ha",null,null,{"$f":"IF(B2=\"\",\"\",VLOOKUP(B2,Ackerbauplan,18,0))","v":"0"},null,{"$f":"IF(B2=\"\",\"\",VLOOKUP(B2,Ackerbauplan,37,0))","v":"0"},null,{"$f":"IF(B2=\"\",\"\",VLOOKUP(B2,Ackerbauplan,38,0))","v":"0"},null,null,null,null,"Bodenhilfsstoffe",{"$f":"SUMIF($N$14:$N$28,Q12,$H$14:$H$28)*B4","v":0},null,{"$f":"SUMIF($N$14:$N$28,Q12,$J$14:$J$28)*B4","v":0},null,"Anrechnung","Anrechnung ","Prüfung NH4","mineral","Kontroll\nSumme"]
[null,"Dünger","Datum","EC","m³o.dt/ha","€/dt","€/ha","Ges.-N","NH4-N","P2O5",null,"K2O","S",null,null,null,"Kultursubstrate",{"$f":"SUMIF($N$14:$N$28,Q13,$H$14:$H$28)*B4","v":0},null,{"$f":"SUMIF($N$14:$N$28,Q13,$J$14:$J$28)*B4","v":0},null,"aktuelles Jahr","170 kg GW"," oder Anlage3","Stickstoff"]
[null,null,null,null,null,{"$f":"IF(B14=\"\",\"\",VLOOKUP(B14,Düngemiteldaten,2,0))","v":""},{"$f":"IF(B14=\"\",\"\",E14*F14)","v":""},{"$f":"IF(B14=\"\",\"\",VLOOKUP(B14,Düngemiteldaten,4,0)*E14)","v":""},{"$f":"IF(B14=\"\",\"\",VLOOKUP(B14,Düngemiteldaten,5,0)*E14)","v":""},{"$f":"IF(B14=\"\",\"\",VLOOKUP(B14,Düngemiteldaten,7,0)*E14)","v":""},null,{"$f":"IF(B14=\"\",\"\",VLOOKUP(B14,Düngemiteldaten,8,0)*E14)","v":""},{"$f":"IF(B14=\"\",\"\",VLOOKUP(B14,Düngemiteldaten,10,0)*E14)","v":""},{"$f":"IF(B14=\"\",\"\",VLOOKUP(B14,Düngemiteldaten,20,0))","v":""},null,null,"Pflanzenhilfsmittel",{"$f":"SUMIF($N$14:$N$28,Q14,$H$14:$H$28)*B4","v":0},null,{"$f":"SUMIF($N$14:$N$28,Q14,$J$14:$J$28)*B4","v":0},null,{"$f":"IF(OR(B14=\"\",N14=\"\"),\"\",IF(N14=\"mineralisch\",\"\",VLOOKUP(B14,Düngemiteldaten,17,0)*VLOOKUP(B14,Düngemiteldaten,4,0)*E14))","v":""},{"$f":"IF(N14=\"organisch\",VLOOKUP(B14,Düngemiteldaten,4,0)*E14*VLOOKUP(B14,Düngemiteldaten,19,0),\"\")","v":""},{"$f":"IF(B14=\"\",\"\",IF(V14<I14,I14,V14))","v":""},{"$f":"IF(B14=\"\",\"\",IF(N14=\"organisch\",0,H14))","v":""},{"$f":"IF(SUM(V14:Y14)=0,\"\",SUM(X14:Y14))","v":""},null,{"$f":"IF(K3=\"ja\",\"Summe Gesamtstickstoff\",\"\")","v":""},null,{"$f":"IF(K3=\"ja\",\"Anteil § 13a Prüfung \n160 kg N/ha Gesamt\n80 kg N/ha mineralisch\",\"\")","v":""}]
[null,null,null,null,null,"",{"$f":"IF(B15=\"\",\"\",E15*F15)","v":""},"","","",null,"","","",null,null,"Abfälle zur Beseitigung (§ 28 Absatz 2 odeS 3 KSWG)",{"$f":"SUMIF($N$14:$N$28,Q15,$H$14:$H$28)*B4","v":0},null,{"$f":"SUMIF($N$14:$N$28,Q15,$J$14:$J$28)*B4","v":0},null,"","",{"$f":"IF(B15=\"\",\"\",IF(V15<I15,I15,V15))","v":""},{"$f":"IF(B15=\"\",\"\",IF(N15=\"organisch\",0,H15))","v":""},{"$f":"IF(SUM(V15:Y15)=0,\"\",SUM(X15:Y15))","v":""},null,{"$f":"IF(L4=\"\",\"\",SUMIF($N$14:$N$28,\"mineralisch\",$H$14:$H$28))","v":""},{"$f":"IF(K3=\"ja\",\"mineralisch N kg/ha\",\"\")","v":""}]
[null,null,null,null,null,"","","","","",null,"","","",null,null,null,null,null,null,null,"","","","","",null,{"$f":"IF(L4=\"\",\"\",SUMIF($N$14:$N$28,\"organisch\",$H$14:$H$28)+SUMIF($N$14:$N$28,Q11,$H$14:$H$28))","v":""},{"$f":"IF(K3=\"ja\",\"organisch N kg/ha\",\"\")","v":""}]
[null,null,null,null,null,"","","","","",null,"","","",null,null,null,null,null,null,null,{"$f":"IF(OR(B17=\"\",N17=\"\"),\"\",IF(N17=\"mineralisch\",\"\",VLOOKUP(B17,Düngemiteldaten,17,0)*VLOOKUP(B17,Düngemiteldaten,4,0)*E17))","v":""},"","","","",null,{"$f":"IF(K3=\"ja\",(AB16+AB15),\"\")","v":""},{"$f":"IF(K3=\"ja\",\"Gesamt kg N/ha\",\"\")","v":""}]
[null,null,null,null,null,"","","","","",null,"","","",null,null,"Nährstoffherkunft auf gefährdeten Flächen §13",null,null,null,null,"","","","",""]
[null,null,null,null,null,"","","","","",null,"","","",null,null,null,"Gesamt N","NH4-N","P2O5 mineral.","P2O5 organisch","","","","",""]
[null,null,null,null,null,"","","","","",null,"","","",null,null,"N Gesamt minerl.",{"$f":"IF(K3=\"ja\",SUMIF($N$14:$N$28,\"mineralisch\",$H$14:$H$28),0)*B4","v":0},null,null,null,"","","","",""]
[null,null,null,null,null,"","","","","",null,"","","",null,null,"NH4-N minerlisch",null,{"$f":"IF(K3=\"ja\",SUMIF($N$14:$N$28,\"mineralisch\",$I$14:$I$28),0)*B4","v":0},null,null,"","","","",""]
[null,null,null,null,null,"","","","","",null,"","","",null,null,"N Gesamt organsich",{"$f":"IF(K3=\"ja\",SUMIF($N$14:$N$28,\"organisch\",$H$14:$H$28),0)*B4","v":0},null,null,null,"","","","",""]
[null,null,null,null,null,"","","","","",null,"","","",null,null,"NH4-N organsich",null,{"$f":"IF(K3=\"ja\",SUMIF($N$14:$N$28,\"organisch\",$I$14:$I$28),0)*B4","v":0},null,null,"","","","",""]
[null,null,null,null,null,"","","","","",null,"","","",null,null,"P2O5 mineralisch",null,null,{"$f":"IF(K3=\"ja\",SUMIF($N$14:$N$28,\"mineralisch\",$J$14:$J$28),0)*B4","v":0},null,"","","","",""]
[null,null,null,null,null,"","","","","",null,"","","",null,null,"P2O5 organisch",null,null,null,{"$f":"IF(K3=\"ja\",SUMIF($N$14:$N$28,\"organisch\",$J$14:$J$28),0)*B4","v":0},"","","","",""]
[null,null,null,null,null,"","","","","",null,"","","",null,null,"Sonstige organische Düngemittel",{"$f":"IF(K3=\"ja\",SUMIF($N$14:$N$28,Q26,$H$14:$H$28),0)*B4","v":0},{"$f":"IF(K3=\"ja\",SUMIF($N$14:$N$28,Q26,$I$14:$I$28),0)*B4","v":0},{"$f":"IF(K3=\"ja\",SUMIF($N$14:$N$28,Q26,$J$14:$J$28),0)*B4","v":0},null,"","","","",""]
[null,null,null,null,null,"","","","","",null,"","","",null,null,"Bodenhilfsstoffe",{"$f":"IF(K3=\"ja\",SUMIF($N$14:$N$28,Q27,$H$14:$H$28),0)*B4","v":0},null,{"$f":"IF(K3=\"ja\",SUMIF($N$14:$N$28,Q27,$J$14:$J$28),0)*B4","v":0},null,"","","","",""]
[null,null,null,null,null,"","","","","",null,"","","",null,null,"Kultursubstrate",{"$f":"IF(K3=\"ja\",SUMIF($N$14:$N$28,Q28,$H$14:$H$28),0)*B4","v":0},null,{"$f":"IF(K3=\"ja\",SUMIF($N$14:$N$28,Q28,$J$14:$J$28),0)*B4","v":0},null,"","","","",""]
[null,"anrechenbarer N aus org.Dgg. + min. Dgg. kg N/ha",null,null,null,null,null,{"$f":"X29+Y29","v":0},null,{"$f":"SUM(J14:J28)","v":0},null,{"$f":"SUM(L14:L28)","v":0},{"$f":"SUM(M14:M28)","v":0},null,null,null,"Pflanzenhilfsmittel",{"$f":"IF(K3=\"ja\",SUMIF($N$14:$N$28,Q29,$H$14:$H$28),0)*B4","v":0},null,{"$f":"IF(K3=\"ja\",SUMIF($N$14:$N$28,Q29,$J$14:$J$28),0)*B4","v":0},null,{"$f":"SUM(V14:V28)","v":0},{"$f":"SUM(W14:W28)","v":0},{"$f":"SUM(X14:X28)","v":0},{"$f":"SUM(Y14:Y28)","v":0},"kg/ha"]
[null,{"$f":"IF(K3=\"0\",O31,O30)","v":"Bilanz (anrechenbarer Dgg.- reduzierter Düngebedarf) kg N/ha"},null,null,null,null,null,{"$f":"IF(H12=\"\",0,IF(OR(K3=0,K3=\"nein\"),H29-H12,H29-H11))","v":0},null,{"$f":"IF(J12=\"\",\"\",J29-J12)","v":0},null,{"$f":"IF(L12=\"\",\"\",L29-L12)","v":0},{"$f":"IF(M12=\"\",\"\",M29-M12)","v":""},null,"Bilanz (anrechenbarer Dgg.- reduzierter Düngebedarf) kg N/ha",null,"Abfälle zur Beseitigung (§ 28 Absatz 2 odeS 3 KSWG)",{"$f":"IF(K3=\"ja\",SUMIF($N$14:$N$28,Q30,$H$14:$H$28),0)*B4","v":0},null,{"$f":"IF(K3=\"ja\",SUMIF($N$14:$N$28,Q30,$J$14:$J$28),0)*B4","v":0},null,{"$f":"V29*B4","v":0},{"$f":"W29*B4","v":0},{"$f":"X29*B4","v":0},{"$f":"Y29*B4","v":0},"kg/Schlag",null,{"$f":"IF(H30>0,\"Stickstoffmenge überschreitet den Düngebedarf\",\"\")","v":""}]
["Pflanzenschutzmittel",null,"Datum","EC","E./ha","€/E.","€/ha","Anwender",null,null,"Bemerkungen",null,null,null,"Bilanz (anrechenbarer Dgg.- Düngebedarf) kg N/ha"]
[null,null,null,null,null,{"$f":"IF($B32=\"\",\"\",VLOOKUP($B32,PSMMittel,2,0))","v":""},{"$f":"IF(B32=\"\",\"\",E32*F32)","v":""}]
[null,null,null,null,null,"",{"$f":"IF(B33=\"\",\"\",E33*F33)","v":""},null,null,null,null,null,null,null,null,null,"Stickstoffherkunft nicht gefährdetes Gebiet Gesamtfläche"]
[null,null,null,null,null,"","",null,null,null,null,null,null,null,null,null,null,"Gesamt N","NH4-N","P2O5 mineral.","P2O5 organisch",null,"N Fixierung kg N/ha"]
[null,null,null,null,null,"","",null,null,null,null,null,null,null,null,null,"N Gesamt minerl.",{"$f":"R5-R20","v":0},null,null,null,null,{"$f":"IF(E3=0,\"\",VLOOKUP(E3,AckerbauKulturen,26,0)*G56*B4)","v":""}]
[null,null,null,null,null,"","",null,null,null,null,null,null,null,null,null,"NH4-N minerlisch",null,{"$f":"S6-S21","v":0}]
[null,null,null,null,null,"","",null,null,null,null,null,null,null,null,null,"N Gesamt organsich",{"$f":"R7-R22","v":0}]
[null,null,null,null,null,"","",null,null,null,null,null,null,null,null,null,"NH4-N organsich",null,{"$f":"S8-S23","v":0}]
[null,null,null,null,null,"","",null,null,null,null,null,null,null,null,null,"P2O5 mineralisch",null,null,{"$f":"T9-T24","v":0}]
[null,null,null,null,null,"","",null,null,null,null,null,null,null,null,null,"P2O5 organisch",null,null,null,{"$f":"U10-U25","v":0}]
[null,null,null,null,null,"","",null,null,null,null,null,null,null,null,null,"Sonstige organische Düngemittel",{"$f":"R11-R26","v":0},{"$f":"S11-S26","v":0},{"$f":"T11-T26","v":0}]
[null,null,null,null,null,"","",null,null,null,null,null,null,null,null,null,"Bodenhilfsstoffe",{"$f":"R12-R27","v":0},null,{"$f":"T12-T27","v":0}]
[null,null,null,null,null,"","",null,null,null,null,null,null,null,null,null,"Kultursubstrate",{"$f":"R13-R28","v":0},null,{"$f":"T13-T28","v":0}]
[null,null,null,null,null,"","",null,null,null,null,null,null,null,null,null,"Pflanzenhilfsmittel",{"$f":"R14-R29","v":0},null,{"$f":"T14-T29","v":0}]
[null,null,null,null,null,"","",null,null,null,null,null,null,null,null,null,"Abfälle zur Beseitigung (§ 28 Absatz 2 odeS 3 KSWG)",{"$f":"R15-R30","v":0},null,{"$f":"T15-T30","v":0}]
[null,null,null,null,null,"",""]
[null,null,null,null,null,"",""]
[null,null,null,null,null,"",""]
[null,null,null,null,null,"",""]
[null,null,null,null,null,"",""]
[null,null,null,null,null,"",""]
[null,null,null,null,null,"",""]
[null,null,null,null,null,"",""]
[null,"Summe",null,null,null,null,{"$f":"SUM(G32:G53)","v":0}]
[]
[null,"Erntedatum:",null,{"$f":"IF(VLOOKUP($B$2,Ackerbauplan,58,0)=\"\",\"\",VLOOKUP($B$2,Ackerbauplan,58,0))","v":""},null,"dt/ha",{"$f":"VLOOKUP($B$2,Ackerbauplan,60,0)","v":0},null,null,"€/dt",null,{"$f":"VLOOKUP($B$2,Ackerbauplan,59,0)","v":0}]
[null,"   Hauptleistung ",null,{"$f":"IF(VLOOKUP($B$2,Ackerbauplan,61,0)=\"\",\"\",VLOOKUP($B$2,Ackerbauplan,61,0))","v":""},null,"Saatgut ",null,{"$f":"G11","v":0},"€/ha","Marktleistung -"]
[null,null,"+ Nebenleistung ",{"$f":"IF($B$2=\"\",\"\",VLOOKUP($B$2,Anbauplan,62,0))","v":0},null,"Dünger ",null,{"$f":"SUM(G14:G28)","v":0},"€/ha","Saatgut, Dünger, PSM"]
[null,null,"= Marktleistung ",{"$f":"IF(D57=\"\",\"\",D58+D57)","v":""},null,"Pflanzenschutz ",null,{"$f":"G54","v":0},"€/ha",{"$f":"IF(D59=\"\",\"\",D59-H57-H58-H59)","v":""},null,null,"€/ha"]
[null,{"$f":"IF($B$2=\"\",\"\",VLOOKUP($B$2,Anbauplan,2,0))","v":0}]
[null,"Bearbeitung","Maschine 1",null,"Maschine 2",null,"Maschine 3",null,"Datum",null,"Bemerkung"]

{"sheet":"A23","index":32,"n_rows":61,"n_cols":30,"rows_kept":61,"cut":false,"hidden":true,"merged":[[13,27,13,28],[13,29,16,30],[6,7,6,12],[7,7,7,8],[8,7,8,8],[7,9,7,10],[8,9,8,10],[10,8,10,12],[73,2,73,3],[73,4,73,5],[73,6,73,7],[73,8,73,9],[73,10,73,12],[69,2,69,3],[69,4,69,5],[69,6,69,7],[69,8,69,9],[69,10,69,12],[70,2,70,3],[70,4,70,5],[70,6,70,7],[70,8,70,9],[70,10,70,12],[67,2,67,3],[67,4,67,5],[67,6,67,7],[74,2,74,3],[74,4,74,5],[74,6,74,7],[74,8,74,9],[74,10,74,12],[71,2,71,3],[71,4,71,5],[71,6,71,7],[71,8,71,9],[71,10,71,12],[72,2,72,3],[72,4,72,5],[72,6,72,7],[72,8,72,9],[72,10,72,12],[67,8,67,9],[67,10,67,12],[68,2,68,3],[68,4,68,5],[68,6,68,7],[68,8,68,9],[68,10,68,12],[65,2,65,3],[65,4,65,5],[65,6,65,7],[65,8,65,9],[65,10,65,12],[66,2,66,3],[66,4,66,5],[66,6,66,7],[66,8,66,9],[66,10,66,12],[63,2,63,3],[63,4,63,5],[63,6,63,7],[63,8,63,9],[63,10,63,12],[64,2,64,3],[64,4,64,5],[64,6,64,7],[64,8,64,9],[64,10,64,12],[61,2,61,3],[61,4,61,5],[61,6,61,7],[61,8,61,9],[61,10,61,12],[62,2,62,3],[62,4,62,5],[62,6,62,7],[62,8,62,9],[62,10,62,12],[58,3,58,4],[58,5,58,6],[58,9,58,11],[59,1,59,12],[60,2,60,3],[60,4,60,5],[60,6,60,7],[60,8,60,9],[60,10,60,12],[56,1,56,2],[56,3,56,4],[56,5,56,6],[56,9,56,12],[57,3,57,4],[57,5,57,6],[57,9,57,12],[52,7,52,9],[52,10,52,12],[53,1,53,5],[53,7,53,12],[54,1,54,6],[55,1,55,2],[55,3,55,4],[55,6,55,8],[55,9,55,10],[55,11,55,12],[49,7,49,9],[49,10,49,12],[50,7,50,9],[50,10,50,12],[51,7,51,9],[51,10,51,12],[46,7,46,9],[46,10,46,12],[47,7,47,9],[47,10,47,12],[48,7,48,9],[48,10,48,12],[43,7,43,9],[43,10,43,12],[44,7,44,9],[44,10,44,12],[45,7,45,9],[45,10,45,12],[40,7,40,9],[40,10,40,12],[41,7,41,9],[41,10,41,12],[42,7,42,9],[42,10,42,12],[37,7,37,9],[37,10,37,12],[38,7,38,9],[38,10,38,12],[39,7,39,9],[39,10,39,12],[34,7,34,9],[34,10,34,12],[35,7,35,9],[35,10,35,12],[36,7,36,9],[36,10,36,12],[31,7,31,9],[31,10,31,12],[32,7,32,9],[32,10,32,12],[32,16,32,20],[33,7,33,9],[33,10,33,12],[29,1,29,6],[29,7,29,8],[29,9,29,10],[30,0,30,1],[30,7,30,9],[30,10,30,12],[23,9,23,10],[24,9,24,10],[25,9,25,10],[26,9,26,10],[27,9,27,10],[28,1,28,6],[28,7,28,8],[28,9,28,10],[17,16,17,20],[18,9,18,10],[19,9,19,10],[20,9,20,10],[21,9,21,10],[22,9,22,10],[14,9,14,10],[15,9,15,10],[16,9,16,10],[17,9,17,10],[10,1,10,2],[9,7,9,12],[11,1,11,2],[11,4,11,6],[11,7,11,8],[11,9,11,10],[11,25,12,25],[33,22,33,23],[34,22,34,23],[0,1,0,12],[1,2,1,3],[1,4,1,6],[1,7,1,9],[1,10,1,12],[2,2,2,3],[2,4,2,6],[2,7,2,9],[2,10,2,12],[5,7,5,10],[5,11,5,12],[3,2,3,3],[3,4,3,6],[3,7,3,10],[3,11,3,12],[4,2,4,3],[4,4,4,6],[4,7,4,9],[4,10,4,12],[12,9,12,10],[13,9,13,10]]}
[null,"Ackerland"]
[null,23,"Name:",null,{"$f":"IF(B2=\"\",\"\",VLOOKUP(B2,Anbauplan,2,0))","v":0},null,null,"Jahr:",null,null,{"$f":"IF(Einführung!I8=\"\",\"\",Einführung!I8)","v":""},null,null,{"$f":"IF(OR(B4=\"\",H12=\"\"),\"\",H12*B4)","v":0},"DB kg * Fläche"]
[null,"Hektar ","Hauptfrucht ",null,{"$f":"IF(B2=\"\",\"\",VLOOKUP(B2,Ackerbauplan,4,0))","v":0},null,null,"Nitratkulisse",null,null,{"$f":"IF(B2=\"\",\"\",VLOOKUP(B2,Ackerbauplan,20,0))","v":0},null,null,{"$f":"L4","v":""},"kg/ha org. Dünger für Kontrollgrenze"]
[null,{"$f":"IF(B2=\"\",\"\",VLOOKUP(B2,Ackerbauplan,3,0))","v":0},"Vorfrucht",null,{"$f":"IF(B2=\"\",\"\",VLOOKUP(B2,Ackerbauplan,9,0))","v":0},null,null,"Wirtschaftsdünger zur Berechung\ndes 130 kg N/ha Anteils in kg/ha",null,null,null,{"$f":"IF(K3=\"ja\",W29,\"\")","v":""},null,{"$f":"IF(N3=\"\",\"\",N3*B4)","v":""},"kg Gesamtschlag org Dünger für 170 Kontrollgrenze",null,null,"Gesamt N","NH4-N","P2O5 mineral.","P2O5 organisch"]
[null,"Sorte","VorVorfrucht",null,null,null,null,"Phosphatkulisse",null,null,{"$f":"IF(B2=\"\",\"\",VLOOKUP(B2,Ackerbauplan,21,0))","v":0},null,null,{"$f":"IF(H12=\"\",\"\",IF(K3=\"ja\",N2*0.8,\"\"))","v":""},"Nitrat belastetes Gebiet Düngebedarf Gesamtschlag kg N/ha",null,"N Gesamt minerl.",{"$f":"SUMIF($N$14:$N$28,\"mineralisch\",$H$14:$H$28)*B4","v":0}]
[null,{"$f":"IF(B2=\"\",\"\",VLOOKUP(B2,Ackerbauplan,8,0))","v":0},null,null,null,null,null,"sonstige Auflagen",null,null,null,null,null,{"$f":"IF(K3=\"ja\",X30+Y30,\"\")","v":""},"org +min .anrechenbare N Menge Gesamtschlag  kg N/ha",null,"NH4-N minerlisch",null,{"$f":"SUMIF($N$14:$N$28,\"mineralisch\",$I$14:$I$28)*B4","v":0}]
[null,"Aussaatdatum","Kö./m² ",{"$f":"IF(B2=\"\",\"\",VLOOKUP(B2,Ackerbauplan,52,0))","v":0},null,"Eigen","Zukauf","Versorgungsstufen",null,null,null,null,null,{"$f":"IF(K3=\"ja\",J12*B4,\"\")","v":""},null,null,"N Gesamt organsich",{"$f":"SUMIF($N$14:$N$28,\"organisch\",$H$14:$H$28)*B4","v":0}]
[null,{"$f":"IF(B2=\"0\",\"\",VLOOKUP(B2,Ackerbauplan,51,0))","v":"00:00:00"},"x TKG ",{"$f":"IF(B2=\"\",\"\",VLOOKUP(B2,Ackerbauplan,53,0))","v":0},"dt/ha ",null,null,"Nmin",null,"P2O5",null,"K2O","MgO",null,null,null,"NH4-N organsich",null,{"$f":"SUMIF($N$14:$N$28,\"organisch\",I14:I28)*B4","v":0}]
[null,"Beize","/Kei.fäh.",{"$f":"IF(B2=\"\",\"\",VLOOKUP(B2,Ackerbauplan,54,0))","v":0},"€/dt",null,null,{"$f":"IF(B2=\"\",\"\",VLOOKUP(B2,Ackerbauplan,17,0))","v":0},null,{"$f":"IF(B2=\"\",\"\",VLOOKUP(B2,Ackerbauplan,30,0))","v":"C"},null,{"$f":"IF(B2=\"\",\"\",VLOOKUP(B2,Ackerbauplan,31,0))","v":"C"},{"$f":"IF(B2=\"\",\"\",VLOOKUP(B2,Ackerbauplan,32,0))","v":"C"},null,null,null,"P2O5 mineralisch",null,null,{"$f":"SUMIF($N$14:$N$28,\"mineralisch\",$J$14:$J$28)*B4","v":0}]
[null,null,"= kg/ha",{"$f":"IF(B2=\"\",\"\",VLOOKUP(B2,Ackerbauplan,55,0))","v":""},"€/ha ",{"$f":"F8*F9","v":0},{"$f":"G8*G9","v":0},"Düngebedarf kg/ha (Blatt Ackerfläche)",null,null,null,null,null,null,"Düngebedarf um 20% reduziert",null,"P2O5 organisch",null,null,null,{"$f":"SUMIF($N$14:$N$28,\"organisch\",$J$14:$J$28)*B4","v":0},null,null,null,null,null,null,{"$f":"IF(K3=\"ja\",\"Noch nicht ausgeschöpfter Stickstoff Düngebedarf aller Flächen\",\"\")","v":""}]
[null,"Saatgutkennnummer",null,null,null,"Summe",{"$f":"F10+G10","v":0},{"$f":"IF(H12=\"\",\"\",IF(K3=\"ja\",H12*0.8,\"\"))","v":""},{"$f":"IF(K3=\"ja\",O10,\"\")","v":""},null,null,null,null,null,null,null,"Sonstige organische Düngemittel",{"$f":"SUMIF($N$14:$N$28,Q11,$H$14:$H$28)*B4","v":0},{"$f":"SUMIF($N$14:$N$28,Q11,$I$14:$I$28)*B4","v":0},{"$f":"SUMIF($N$14:$N$28,Q11,$J$14:$J$28)*B4","v":0},null,null,null,null,null,null,null,{"$f":"IF(K3=\"ja\",'Zus. Anlage 5 DüV'!D43,\"\")","v":""},{"$f":"IF(K3=\"ja\",\"kg N Gesamtfläche\",\"\")","v":""}]
[null,null,null,null,"N Bedarf DÜV kg/ha",null,null,{"$f":"IF(B2=\"\",\"\",VLOOKUP(B2,Ackerbauplan,18,0))","v":"0"},null,{"$f":"IF(B2=\"\",\"\",VLOOKUP(B2,Ackerbauplan,37,0))","v":"0"},null,{"$f":"IF(B2=\"\",\"\",VLOOKUP(B2,Ackerbauplan,38,0))","v":"0"},null,null,null,null,"Bodenhilfsstoffe",{"$f":"SUMIF($N$14:$N$28,Q12,$H$14:$H$28)*B4","v":0},null,{"$f":"SUMIF($N$14:$N$28,Q12,$J$14:$J$28)*B4","v":0},null,"Anrechnung","Anrechnung ","Prüfung NH4","mineral","Kontroll\nSumme"]
[null,"Dünger","Datum","EC","m³o.dt/ha","€/dt","€/ha","Ges.-N","NH4-N","P2O5",null,"K2O","S",null,null,null,"Kultursubstrate",{"$f":"SUMIF($N$14:$N$28,Q13,$H$14:$H$28)*B4","v":0},null,{"$f":"SUMIF($N$14:$N$28,Q13,$J$14:$J$28)*B4","v":0},null,"aktuelles Jahr","170 kg GW"," oder Anlage3","Stickstoff"]
[null,null,null,null,null,{"$f":"IF(B14=\"\",\"\",VLOOKUP(B14,Düngemiteldaten,2,0))","v":""},{"$f":"IF(B14=\"\",\"\",E14*F14)","v":""},{"$f":"IF(B14=\"\",\"\",VLOOKUP(B14,Düngemiteldaten,4,0)*E14)","v":""},{"$f":"IF(B14=\"\",\"\",VLOOKUP(B14,Düngemiteldaten,5,0)*E14)","v":""},{"$f":"IF(B14=\"\",\"\",VLOOKUP(B14,Düngemiteldaten,7,0)*E14)","v":""},null,{"$f":"IF(B14=\"\",\"\",VLOOKUP(B14,Düngemiteldaten,8,0)*E14)","v":""},{"$f":"IF(B14=\"\",\"\",VLOOKUP(B14,Düngemiteldaten,10,0)*E14)","v":""},{"$f":"IF(B14=\"\",\"\",VLOOKUP(B14,Düngemiteldaten,20,0))","v":""},null,null,"Pflanzenhilfsmittel",{"$f":"SUMIF($N$14:$N$28,Q14,$H$14:$H$28)*B4","v":0},null,{"$f":"SUMIF($N$14:$N$28,Q14,$J$14:$J$28)*B4","v":0},null,{"$f":"IF(OR(B14=\"\",N14=\"\"),\"\",IF(N14=\"mineralisch\",\"\",VLOOKUP(B14,Düngemiteldaten,17,0)*VLOOKUP(B14,Düngemiteldaten,4,0)*E14))","v":""},{"$f":"IF(N14=\"organisch\",VLOOKUP(B14,Düngemiteldaten,4,0)*E14*VLOOKUP(B14,Düngemiteldaten,19,0),\"\")","v":""},{"$f":"IF(B14=\"\",\"\",IF(V14<I14,I14,V14))","v":""},{"$f":"IF(B14=\"\",\"\",IF(N14=\"organisch\",0,H14))","v":""},{"$f":"IF(SUM(V14:Y14)=0,\"\",SUM(X14:Y14))","v":""},null,{"$f":"IF(K3=\"ja\",\"Summe Gesamtstickstoff\",\"\")","v":""},null,{"$f":"IF(K3=\"ja\",\"Anteil § 13a Prüfung \n160 kg N/ha Gesamt\n80 kg N/ha mineralisch\",\"\")","v":""}]
[null,null,null,null,null,"",{"$f":"IF(B15=\"\",\"\",E15*F15)","v":""},"","","",null,"","","",null,null,"Abfälle zur Beseitigung (§ 28 Absatz 2 odeS 3 KSWG)",{"$f":"SUMIF($N$14:$N$28,Q15,$H$14:$H$28)*B4","v":0},null,{"$f":"SUMIF($N$14:$N$28,Q15,$J$14:$J$28)*B4","v":0},null,"","",{"$f":"IF(B15=\"\",\"\",IF(V15<I15,I15,V15))","v":""},{"$f":"IF(B15=\"\",\"\",IF(N15=\"organisch\",0,H15))","v":""},{"$f":"IF(SUM(V15:Y15)=0,\"\",SUM(X15:Y15))","v":""},null,{"$f":"IF(L4=\"\",\"\",SUMIF($N$14:$N$28,\"mineralisch\",$H$14:$H$28))","v":""},{"$f":"IF(K3=\"ja\",\"mineralisch N kg/ha\",\"\")","v":""}]
[null,null,null,null,null,"","","","","",null,"","","",null,null,null,null,null,null,null,"","","","","",null,{"$f":"IF(L4=\"\",\"\",SUMIF($N$14:$N$28,\"organisch\",$H$14:$H$28)+SUMIF($N$14:$N$28,Q11,$H$14:$H$28))","v":""},{"$f":"IF(K3=\"ja\",\"organisch N kg/ha\",\"\")","v":""}]
[null,null,null,null,null,"","","","","",null,"","","",null,null,null,null,null,null,null,{"$f":"IF(OR(B17=\"\",N17=\"\"),\"\",IF(N17=\"mineralisch\",\"\",VLOOKUP(B17,Düngemiteldaten,17,0)*VLOOKUP(B17,Düngemiteldaten,4,0)*E17))","v":""},"","","","",null,{"$f":"IF(K3=\"ja\",(AB16+AB15),\"\")","v":""},{"$f":"IF(K3=\"ja\",\"Gesamt kg N/ha\",\"\")","v":""}]
[null,null,null,null,null,"","","","","",null,"","","",null,null,"Nährstoffherkunft auf gefährdeten Flächen §13",null,null,null,null,"","","","",""]
[null,null,null,null,null,"","","","","",null,"","","",null,null,null,"Gesamt N","NH4-N","P2O5 mineral.","P2O5 organisch","","","","",""]
[null,null,null,null,null,"","","","","",null,"","","",null,null,"N Gesamt minerl.",{"$f":"IF(K3=\"ja\",SUMIF($N$14:$N$28,\"mineralisch\",$H$14:$H$28),0)*B4","v":0},null,null,null,"","","","",""]
[null,null,null,null,null,"","","","","",null,"","","",null,null,"NH4-N minerlisch",null,{"$f":"IF(K3=\"ja\",SUMIF($N$14:$N$28,\"mineralisch\",$I$14:$I$28),0)*B4","v":0},null,null,"","","","",""]
[null,null,null,null,null,"","","","","",null,"","","",null,null,"N Gesamt organsich",{"$f":"IF(K3=\"ja\",SUMIF($N$14:$N$28,\"organisch\",$H$14:$H$28),0)*B4","v":0},null,null,null,"","","","",""]
[null,null,null,null,null,"","","","","",null,"","","",null,null,"NH4-N organsich",null,{"$f":"IF(K3=\"ja\",SUMIF($N$14:$N$28,\"organisch\",$I$14:$I$28),0)*B4","v":0},null,null,"","","","",""]
[null,null,null,null,null,"","","","","",null,"","","",null,null,"P2O5 mineralisch",null,null,{"$f":"IF(K3=\"ja\",SUMIF($N$14:$N$28,\"mineralisch\",$J$14:$J$28),0)*B4","v":0},null,"","","","",""]
[null,null,null,null,null,"","","","","",null,"","","",null,null,"P2O5 organisch",null,null,null,{"$f":"IF(K3=\"ja\",SUMIF($N$14:$N$28,\"organisch\",$J$14:$J$28),0)*B4","v":0},"","","","",""]
[null,null,null,null,null,"","","","","",null,"","","",null,null,"Sonstige organische Düngemittel",{"$f":"IF(K3=\"ja\",SUMIF($N$14:$N$28,Q26,$H$14:$H$28),0)*B4","v":0},{"$f":"IF(K3=\"ja\",SUMIF($N$14:$N$28,Q26,$I$14:$I$28),0)*B4","v":0},{"$f":"IF(K3=\"ja\",SUMIF($N$14:$N$28,Q26,$J$14:$J$28),0)*B4","v":0},null,"","","","",""]
[null,null,null,null,null,"","","","","",null,"","","",null,null,"Bodenhilfsstoffe",{"$f":"IF(K3=\"ja\",SUMIF($N$14:$N$28,Q27,$H$14:$H$28),0)*B4","v":0},null,{"$f":"IF(K3=\"ja\",SUMIF($N$14:$N$28,Q27,$J$14:$J$28),0)*B4","v":0},null,"","","","",""]
[null,null,null,null,null,"","","","","",null,"","","",null,null,"Kultursubstrate",{"$f":"IF(K3=\"ja\",SUMIF($N$14:$N$28,Q28,$H$14:$H$28),0)*B4","v":0},null,{"$f":"IF(K3=\"ja\",SUMIF($N$14:$N$28,Q28,$J$14:$J$28),0)*B4","v":0},null,"","","","",""]
[null,"anrechenbarer N aus org.Dgg. + min. Dgg. kg N/ha",null,null,null,null,null,{"$f":"X29+Y29","v":0},null,{"$f":"SUM(J14:J28)","v":0},null,{"$f":"SUM(L14:L28)","v":0},{"$f":"SUM(M14:M28)","v":0},null,null,null,"Pflanzenhilfsmittel",{"$f":"IF(K3=\"ja\",SUMIF($N$14:$N$28,Q29,$H$14:$H$28),0)*B4","v":0},null,{"$f":"IF(K3=\"ja\",SUMIF($N$14:$N$28,Q29,$J$14:$J$28),0)*B4","v":0},null,{"$f":"SUM(V14:V28)","v":0},{"$f":"SUM(W14:W28)","v":0},{"$f":"SUM(X14:X28)","v":0},{"$f":"SUM(Y14:Y28)","v":0},"kg/ha"]
[null,{"$f":"IF(K3=\"0\",O31,O30)","v":"Bilanz (anrechenbarer Dgg.- reduzierter Düngebedarf) kg N/ha"},null,null,null,null,null,{"$f":"IF(H12=\"\",0,IF(OR(K3=0,K3=\"nein\"),H29-H12,H29-H11))","v":0},null,{"$f":"IF(J12=\"\",\"\",J29-J12)","v":0},null,{"$f":"IF(L12=\"\",\"\",L29-L12)","v":0},{"$f":"IF(M12=\"\",\"\",M29-M12)","v":""},null,"Bilanz (anrechenbarer Dgg.- reduzierter Düngebedarf) kg N/ha",null,"Abfälle zur Beseitigung (§ 28 Absatz 2 odeS 3 KSWG)",{"$f":"IF(K3=\"ja\",SUMIF($N$14:$N$28,Q30,$H$14:$H$28),0)*B4","v":0},null,{"$f":"IF(K3=\"ja\",SUMIF($N$14:$N$28,Q30,$J$14:$J$28),0)*B4","v":0},null,{"$f":"V29*B4","v":0},{"$f":"W29*B4","v":0},{"$f":"X29*B4","v":0},{"$f":"Y29*B4","v":0},"kg/Schlag",null,{"$f":"IF(H30>0,\"Stickstoffmenge überschreitet den Düngebedarf\",\"\")","v":""}]
["Pflanzenschutzmittel",null,"Datum","EC","E./ha","€/E.","€/ha","Anwender",null,null,"Bemerkungen",null,null,null,"Bilanz (anrechenbarer Dgg.- Düngebedarf) kg N/ha"]
[null,null,null,null,null,{"$f":"IF($B32=\"\",\"\",VLOOKUP($B32,PSMMittel,2,0))","v":""},{"$f":"IF(B32=\"\",\"\",E32*F32)","v":""}]
[null,null,null,null,null,"",{"$f":"IF(B33=\"\",\"\",E33*F33)","v":""},null,null,null,null,null,null,null,null,null,"Stickstoffherkunft nicht gefährdetes Gebiet Gesamtfläche"]
[null,null,null,null,null,"","",null,null,null,null,null,null,null,null,null,null,"Gesamt N","NH4-N","P2O5 mineral.","P2O5 organisch",null,"N Fixierung kg N/ha"]
[null,null,null,null,null,"","",null,null,null,null,null,null,null,null,null,"N Gesamt minerl.",{"$f":"R5-R20","v":0},null,null,null,null,{"$f":"IF(E3=0,\"\",VLOOKUP(E3,AckerbauKulturen,26,0)*G56*B4)","v":""}]
[null,null,null,null,null,"","",null,null,null,null,null,null,null,null,null,"NH4-N minerlisch",null,{"$f":"S6-S21","v":0}]
[null,null,null,null,null,"","",null,null,null,null,null,null,null,null,null,"N Gesamt organsich",{"$f":"R7-R22","v":0}]
[null,null,null,null,null,"","",null,null,null,null,null,null,null,null,null,"NH4-N organsich",null,{"$f":"S8-S23","v":0}]
[null,null,null,null,null,"","",null,null,null,null,null,null,null,null,null,"P2O5 mineralisch",null,null,{"$f":"T9-T24","v":0}]
[null,null,null,null,null,"","",null,null,null,null,null,null,null,null,null,"P2O5 organisch",null,null,null,{"$f":"U10-U25","v":0}]
[null,null,null,null,null,"","",null,null,null,null,null,null,null,null,null,"Sonstige organische Düngemittel",{"$f":"R11-R26","v":0},{"$f":"S11-S26","v":0},{"$f":"T11-T26","v":0}]
[null,null,null,null,null,"","",null,null,null,null,null,null,null,null,null,"Bodenhilfsstoffe",{"$f":"R12-R27","v":0},null,{"$f":"T12-T27","v":0}]
[null,null,null,null,null,"","",null,null,null,null,null,null,null,null,null,"Kultursubstrate",{"$f":"R13-R28","v":0},null,{"$f":"T13-T28","v":0}]
[null,null,null,null,null,"","",null,null,null,null,null,null,null,null,null,"Pflanzenhilfsmittel",{"$f":"R14-R29","v":0},null,{"$f":"T14-T29","v":0}]
[null,null,null,null,null,"","",null,null,null,null,null,null,null,null,null,"Abfälle zur Beseitigung (§ 28 Absatz 2 odeS 3 KSWG)",{"$f":"R15-R30","v":0},null,{"$f":"T15-T30","v":0}]
[null,null,null,null,null,"",""]
[null,null,null,null,null,"",""]
[null,null,null,null,null,"",""]
[null,null,null,null,null,"",""]
[null,null,null,null,null,"",""]
[null,null,null,null,null,"",""]
[null,null,null,null,null,"",""]
[null,null,null,null,null,"",""]
[null,"Summe",null,null,null,null,{"$f":"SUM(G32:G53)","v":0}]
[]
[null,"Erntedatum:",null,{"$f":"IF(VLOOKUP($B$2,Ackerbauplan,58,0)=\"\",\"\",VLOOKUP($B$2,Ackerbauplan,58,0))","v":""},null,"dt/ha",{"$f":"VLOOKUP($B$2,Ackerbauplan,60,0)","v":0},null,null,"€/dt",null,{"$f":"VLOOKUP($B$2,Ackerbauplan,59,0)","v":0}]
[null,"   Hauptleistung ",null,{"$f":"IF(VLOOKUP($B$2,Ackerbauplan,61,0)=\"\",\"\",VLOOKUP($B$2,Ackerbauplan,61,0))","v":""},null,"Saatgut ",null,{"$f":"G11","v":0},"€/ha","Marktleistung -"]
[null,null,"+ Nebenleistung ",{"$f":"IF($B$2=\"\",\"\",VLOOKUP($B$2,Anbauplan,62,0))","v":0},null,"Dünger ",null,{"$f":"SUM(G14:G28)","v":0},"€/ha","Saatgut, Dünger, PSM"]
[null,null,"= Marktleistung ",{"$f":"IF(D57=\"\",\"\",D58+D57)","v":""},null,"Pflanzenschutz ",null,{"$f":"G54","v":0},"€/ha",{"$f":"IF(D59=\"\",\"\",D59-H57-H58-H59)","v":""},null,null,"€/ha"]
[null,{"$f":"IF($B$2=\"\",\"\",VLOOKUP($B$2,Anbauplan,2,0))","v":0}]
[null,"Bearbeitung","Maschine 1",null,"Maschine 2",null,"Maschine 3",null,"Datum",null,"Bemerkung"]

{"sheet":"A24","index":33,"n_rows":61,"n_cols":30,"rows_kept":61,"cut":false,"hidden":true,"merged":[[13,27,13,28],[13,29,16,30],[6,7,6,12],[7,7,7,8],[8,7,8,8],[7,9,7,10],[8,9,8,10],[10,8,10,12],[73,2,73,3],[73,4,73,5],[73,6,73,7],[73,8,73,9],[73,10,73,12],[69,2,69,3],[69,4,69,5],[69,6,69,7],[69,8,69,9],[69,10,69,12],[70,2,70,3],[70,4,70,5],[70,6,70,7],[70,8,70,9],[70,10,70,12],[67,2,67,3],[67,4,67,5],[67,6,67,7],[74,2,74,3],[74,4,74,5],[74,6,74,7],[74,8,74,9],[74,10,74,12],[71,2,71,3],[71,4,71,5],[71,6,71,7],[71,8,71,9],[71,10,71,12],[72,2,72,3],[72,4,72,5],[72,6,72,7],[72,8,72,9],[72,10,72,12],[67,8,67,9],[67,10,67,12],[68,2,68,3],[68,4,68,5],[68,6,68,7],[68,8,68,9],[68,10,68,12],[65,2,65,3],[65,4,65,5],[65,6,65,7],[65,8,65,9],[65,10,65,12],[66,2,66,3],[66,4,66,5],[66,6,66,7],[66,8,66,9],[66,10,66,12],[63,2,63,3],[63,4,63,5],[63,6,63,7],[63,8,63,9],[63,10,63,12],[64,2,64,3],[64,4,64,5],[64,6,64,7],[64,8,64,9],[64,10,64,12],[61,2,61,3],[61,4,61,5],[61,6,61,7],[61,8,61,9],[61,10,61,12],[62,2,62,3],[62,4,62,5],[62,6,62,7],[62,8,62,9],[62,10,62,12],[58,3,58,4],[58,5,58,6],[58,9,58,11],[59,1,59,12],[60,2,60,3],[60,4,60,5],[60,6,60,7],[60,8,60,9],[60,10,60,12],[56,1,56,2],[56,3,56,4],[56,5,56,6],[56,9,56,12],[57,3,57,4],[57,5,57,6],[57,9,57,12],[52,7,52,9],[52,10,52,12],[53,1,53,5],[53,7,53,12],[54,1,54,6],[55,1,55,2],[55,3,55,4],[55,6,55,8],[55,9,55,10],[55,11,55,12],[49,7,49,9],[49,10,49,12],[50,7,50,9],[50,10,50,12],[51,7,51,9],[51,10,51,12],[46,7,46,9],[46,10,46,12],[47,7,47,9],[47,10,47,12],[48,7,48,9],[48,10,48,12],[43,7,43,9],[43,10,43,12],[44,7,44,9],[44,10,44,12],[45,7,45,9],[45,10,45,12],[40,7,40,9],[40,10,40,12],[41,7,41,9],[41,10,41,12],[42,7,42,9],[42,10,42,12],[37,7,37,9],[37,10,37,12],[38,7,38,9],[38,10,38,12],[39,7,39,9],[39,10,39,12],[34,7,34,9],[34,10,34,12],[35,7,35,9],[35,10,35,12],[36,7,36,9],[36,10,36,12],[31,7,31,9],[31,10,31,12],[32,7,32,9],[32,10,32,12],[32,16,32,20],[33,7,33,9],[33,10,33,12],[29,1,29,6],[29,7,29,8],[29,9,29,10],[30,0,30,1],[30,7,30,9],[30,10,30,12],[23,9,23,10],[24,9,24,10],[25,9,25,10],[26,9,26,10],[27,9,27,10],[28,1,28,6],[28,7,28,8],[28,9,28,10],[17,16,17,20],[18,9,18,10],[19,9,19,10],[20,9,20,10],[21,9,21,10],[22,9,22,10],[14,9,14,10],[15,9,15,10],[16,9,16,10],[17,9,17,10],[10,1,10,2],[9,7,9,12],[11,1,11,2],[11,4,11,6],[11,7,11,8],[11,9,11,10],[11,25,12,25],[33,22,33,23],[34,22,34,23],[0,1,0,12],[1,2,1,3],[1,4,1,6],[1,7,1,9],[1,10,1,12],[2,2,2,3],[2,4,2,6],[2,7,2,9],[2,10,2,12],[5,7,5,10],[5,11,5,12],[3,2,3,3],[3,4,3,6],[3,7,3,10],[3,11,3,12],[4,2,4,3],[4,4,4,6],[4,7,4,9],[4,10,4,12],[12,9,12,10],[13,9,13,10]]}
[null,"Ackerland"]
[null,24,"Name:",null,{"$f":"IF(B2=\"\",\"\",VLOOKUP(B2,Anbauplan,2,0))","v":0},null,null,"Jahr:",null,null,{"$f":"IF(Einführung!I8=\"\",\"\",Einführung!I8)","v":""},null,null,{"$f":"IF(OR(B4=\"\",H12=\"\"),\"\",H12*B4)","v":0},"DB kg * Fläche"]
[null,"Hektar ","Hauptfrucht ",null,{"$f":"IF(B2=\"\",\"\",VLOOKUP(B2,Ackerbauplan,4,0))","v":0},null,null,"Nitratkulisse",null,null,{"$f":"IF(B2=\"\",\"\",VLOOKUP(B2,Ackerbauplan,20,0))","v":0},null,null,{"$f":"L4","v":""},"kg/ha org. Dünger für Kontrollgrenze"]
[null,{"$f":"IF(B2=\"\",\"\",VLOOKUP(B2,Ackerbauplan,3,0))","v":0},"Vorfrucht",null,{"$f":"IF(B2=\"\",\"\",VLOOKUP(B2,Ackerbauplan,9,0))","v":0},null,null,"Wirtschaftsdünger zur Berechung\ndes 130 kg N/ha Anteils in kg/ha",null,null,null,{"$f":"IF(K3=\"ja\",W29,\"\")","v":""},null,{"$f":"IF(N3=\"\",\"\",N3*B4)","v":""},"kg Gesamtschlag org Dünger für 170 Kontrollgrenze",null,null,"Gesamt N","NH4-N","P2O5 mineral.","P2O5 organisch"]
[null,"Sorte","VorVorfrucht",null,null,null,null,"Phosphatkulisse",null,null,{"$f":"IF(B2=\"\",\"\",VLOOKUP(B2,Ackerbauplan,21,0))","v":0},null,null,{"$f":"IF(H12=\"\",\"\",IF(K3=\"ja\",N2*0.8,\"\"))","v":""},"Nitrat belastetes Gebiet Düngebedarf Gesamtschlag kg N/ha",null,"N Gesamt minerl.",{"$f":"SUMIF($N$14:$N$28,\"mineralisch\",$H$14:$H$28)*B4","v":0}]
[null,{"$f":"IF(B2=\"\",\"\",VLOOKUP(B2,Ackerbauplan,8,0))","v":0},null,null,null,null,null,"sonstige Auflagen",null,null,null,null,null,{"$f":"IF(K3=\"ja\",X30+Y30,\"\")","v":""},"org +min .anrechenbare N Menge Gesamtschlag  kg N/ha",null,"NH4-N minerlisch",null,{"$f":"SUMIF($N$14:$N$28,\"mineralisch\",$I$14:$I$28)*B4","v":0}]
[null,"Aussaatdatum","Kö./m² ",{"$f":"IF(B2=\"\",\"\",VLOOKUP(B2,Ackerbauplan,52,0))","v":0},null,"Eigen","Zukauf","Versorgungsstufen",null,null,null,null,null,{"$f":"IF(K3=\"ja\",J12*B4,\"\")","v":""},null,null,"N Gesamt organsich",{"$f":"SUMIF($N$14:$N$28,\"organisch\",$H$14:$H$28)*B4","v":0}]
[null,{"$f":"IF(B2=\"0\",\"\",VLOOKUP(B2,Ackerbauplan,51,0))","v":"00:00:00"},"x TKG ",{"$f":"IF(B2=\"\",\"\",VLOOKUP(B2,Ackerbauplan,53,0))","v":0},"dt/ha ",null,null,"Nmin",null,"P2O5",null,"K2O","MgO",null,null,null,"NH4-N organsich",null,{"$f":"SUMIF($N$14:$N$28,\"organisch\",I14:I28)*B4","v":0}]
[null,"Beize","/Kei.fäh.",{"$f":"IF(B2=\"\",\"\",VLOOKUP(B2,Ackerbauplan,54,0))","v":0},"€/dt",null,null,{"$f":"IF(B2=\"\",\"\",VLOOKUP(B2,Ackerbauplan,17,0))","v":0},null,{"$f":"IF(B2=\"\",\"\",VLOOKUP(B2,Ackerbauplan,30,0))","v":"C"},null,{"$f":"IF(B2=\"\",\"\",VLOOKUP(B2,Ackerbauplan,31,0))","v":"C"},{"$f":"IF(B2=\"\",\"\",VLOOKUP(B2,Ackerbauplan,32,0))","v":"C"},null,null,null,"P2O5 mineralisch",null,null,{"$f":"SUMIF($N$14:$N$28,\"mineralisch\",$J$14:$J$28)*B4","v":0}]
[null,null,"= kg/ha",{"$f":"IF(B2=\"\",\"\",VLOOKUP(B2,Ackerbauplan,55,0))","v":""},"€/ha ",{"$f":"F8*F9","v":0},{"$f":"G8*G9","v":0},"Düngebedarf kg/ha (Blatt Ackerfläche)",null,null,null,null,null,null,"Düngebedarf um 20% reduziert",null,"P2O5 organisch",null,null,null,{"$f":"SUMIF($N$14:$N$28,\"organisch\",$J$14:$J$28)*B4","v":0},null,null,null,null,null,null,{"$f":"IF(K3=\"ja\",\"Noch nicht ausgeschöpfter Stickstoff Düngebedarf aller Flächen\",\"\")","v":""}]
[null,"Saatgutkennnummer",null,null,null,"Summe",{"$f":"F10+G10","v":0},{"$f":"IF(H12=\"\",\"\",IF(K3=\"ja\",H12*0.8,\"\"))","v":""},{"$f":"IF(K3=\"ja\",O10,\"\")","v":""},null,null,null,null,null,null,null,"Sonstige organische Düngemittel",{"$f":"SUMIF($N$14:$N$28,Q11,$H$14:$H$28)*B4","v":0},{"$f":"SUMIF($N$14:$N$28,Q11,$I$14:$I$28)*B4","v":0},{"$f":"SUMIF($N$14:$N$28,Q11,$J$14:$J$28)*B4","v":0},null,null,null,null,null,null,null,{"$f":"IF(K3=\"ja\",'Zus. Anlage 5 DüV'!D43,\"\")","v":""},{"$f":"IF(K3=\"ja\",\"kg N Gesamtfläche\",\"\")","v":""}]
[null,null,null,null,"N Bedarf DÜV kg/ha",null,null,{"$f":"IF(B2=\"\",\"\",VLOOKUP(B2,Ackerbauplan,18,0))","v":"0"},null,{"$f":"IF(B2=\"\",\"\",VLOOKUP(B2,Ackerbauplan,37,0))","v":"0"},null,{"$f":"IF(B2=\"\",\"\",VLOOKUP(B2,Ackerbauplan,38,0))","v":"0"},null,null,null,null,"Bodenhilfsstoffe",{"$f":"SUMIF($N$14:$N$28,Q12,$H$14:$H$28)*B4","v":0},null,{"$f":"SUMIF($N$14:$N$28,Q12,$J$14:$J$28)*B4","v":0},null,"Anrechnung","Anrechnung ","Prüfung NH4","mineral","Kontroll\nSumme"]
[null,"Dünger","Datum","EC","m³o.dt/ha","€/dt","€/ha","Ges.-N","NH4-N","P2O5",null,"K2O","S",null,null,null,"Kultursubstrate",{"$f":"SUMIF($N$14:$N$28,Q13,$H$14:$H$28)*B4","v":0},null,{"$f":"SUMIF($N$14:$N$28,Q13,$J$14:$J$28)*B4","v":0},null,"aktuelles Jahr","170 kg GW"," oder Anlage3","Stickstoff"]
[null,null,null,null,null,{"$f":"IF(B14=\"\",\"\",VLOOKUP(B14,Düngemiteldaten,2,0))","v":""},{"$f":"IF(B14=\"\",\"\",E14*F14)","v":""},{"$f":"IF(B14=\"\",\"\",VLOOKUP(B14,Düngemiteldaten,4,0)*E14)","v":""},{"$f":"IF(B14=\"\",\"\",VLOOKUP(B14,Düngemiteldaten,5,0)*E14)","v":""},{"$f":"IF(B14=\"\",\"\",VLOOKUP(B14,Düngemiteldaten,7,0)*E14)","v":""},null,{"$f":"IF(B14=\"\",\"\",VLOOKUP(B14,Düngemiteldaten,8,0)*E14)","v":""},{"$f":"IF(B14=\"\",\"\",VLOOKUP(B14,Düngemiteldaten,10,0)*E14)","v":""},{"$f":"IF(B14=\"\",\"\",VLOOKUP(B14,Düngemiteldaten,20,0))","v":""},null,null,"Pflanzenhilfsmittel",{"$f":"SUMIF($N$14:$N$28,Q14,$H$14:$H$28)*B4","v":0},null,{"$f":"SUMIF($N$14:$N$28,Q14,$J$14:$J$28)*B4","v":0},null,{"$f":"IF(OR(B14=\"\",N14=\"\"),\"\",IF(N14=\"mineralisch\",\"\",VLOOKUP(B14,Düngemiteldaten,17,0)*VLOOKUP(B14,Düngemiteldaten,4,0)*E14))","v":""},{"$f":"IF(N14=\"organisch\",VLOOKUP(B14,Düngemiteldaten,4,0)*E14*VLOOKUP(B14,Düngemiteldaten,19,0),\"\")","v":""},{"$f":"IF(B14=\"\",\"\",IF(V14<I14,I14,V14))","v":""},{"$f":"IF(B14=\"\",\"\",IF(N14=\"organisch\",0,H14))","v":""},{"$f":"IF(SUM(V14:Y14)=0,\"\",SUM(X14:Y14))","v":""},null,{"$f":"IF(K3=\"ja\",\"Summe Gesamtstickstoff\",\"\")","v":""},null,{"$f":"IF(K3=\"ja\",\"Anteil § 13a Prüfung \n160 kg N/ha Gesamt\n80 kg N/ha mineralisch\",\"\")","v":""}]
[null,null,null,null,null,"",{"$f":"IF(B15=\"\",\"\",E15*F15)","v":""},"","","",null,"","","",null,null,"Abfälle zur Beseitigung (§ 28 Absatz 2 odeS 3 KSWG)",{"$f":"SUMIF($N$14:$N$28,Q15,$H$14:$H$28)*B4","v":0},null,{"$f":"SUMIF($N$14:$N$28,Q15,$J$14:$J$28)*B4","v":0},null,"","",{"$f":"IF(B15=\"\",\"\",IF(V15<I15,I15,V15))","v":""},{"$f":"IF(B15=\"\",\"\",IF(N15=\"organisch\",0,H15))","v":""},{"$f":"IF(SUM(V15:Y15)=0,\"\",SUM(X15:Y15))","v":""},null,{"$f":"IF(L4=\"\",\"\",SUMIF($N$14:$N$28,\"mineralisch\",$H$14:$H$28))","v":""},{"$f":"IF(K3=\"ja\",\"mineralisch N kg/ha\",\"\")","v":""}]
[null,null,null,null,null,"","","","","",null,"","","",null,null,null,null,null,null,null,"","","","","",null,{"$f":"IF(L4=\"\",\"\",SUMIF($N$14:$N$28,\"organisch\",$H$14:$H$28)+SUMIF($N$14:$N$28,Q11,$H$14:$H$28))","v":""},{"$f":"IF(K3=\"ja\",\"organisch N kg/ha\",\"\")","v":""}]
[null,null,null,null,null,"","","","","",null,"","","",null,null,null,null,null,null,null,{"$f":"IF(OR(B17=\"\",N17=\"\"),\"\",IF(N17=\"mineralisch\",\"\",VLOOKUP(B17,Düngemiteldaten,17,0)*VLOOKUP(B17,Düngemiteldaten,4,0)*E17))","v":""},"","","","",null,{"$f":"IF(K3=\"ja\",(AB16+AB15),\"\")","v":""},{"$f":"IF(K3=\"ja\",\"Gesamt kg N/ha\",\"\")","v":""}]
[null,null,null,null,null,"","","","","",null,"","","",null,null,"Nährstoffherkunft auf gefährdeten Flächen §13",null,null,null,null,"","","","",""]
[null,null,null,null,null,"","","","","",null,"","","",null,null,null,"Gesamt N","NH4-N","P2O5 mineral.","P2O5 organisch","","","","",""]
[null,null,null,null,null,"","","","","",null,"","","",null,null,"N Gesamt minerl.",{"$f":"IF(K3=\"ja\",SUMIF($N$14:$N$28,\"mineralisch\",$H$14:$H$28),0)*B4","v":0},null,null,null,"","","","",""]
[null,null,null,null,null,"","","","","",null,"","","",null,null,"NH4-N minerlisch",null,{"$f":"IF(K3=\"ja\",SUMIF($N$14:$N$28,\"mineralisch\",$I$14:$I$28),0)*B4","v":0},null,null,"","","","",""]
[null,null,null,null,null,"","","","","",null,"","","",null,null,"N Gesamt organsich",{"$f":"IF(K3=\"ja\",SUMIF($N$14:$N$28,\"organisch\",$H$14:$H$28),0)*B4","v":0},null,null,null,"","","","",""]
[null,null,null,null,null,"","","","","",null,"","","",null,null,"NH4-N organsich",null,{"$f":"IF(K3=\"ja\",SUMIF($N$14:$N$28,\"organisch\",$I$14:$I$28),0)*B4","v":0},null,null,"","","","",""]
[null,null,null,null,null,"","","","","",null,"","","",null,null,"P2O5 mineralisch",null,null,{"$f":"IF(K3=\"ja\",SUMIF($N$14:$N$28,\"mineralisch\",$J$14:$J$28),0)*B4","v":0},null,"","","","",""]
[null,null,null,null,null,"","","","","",null,"","","",null,null,"P2O5 organisch",null,null,null,{"$f":"IF(K3=\"ja\",SUMIF($N$14:$N$28,\"organisch\",$J$14:$J$28),0)*B4","v":0},"","","","",""]
[null,null,null,null,null,"","","","","",null,"","","",null,null,"Sonstige organische Düngemittel",{"$f":"IF(K3=\"ja\",SUMIF($N$14:$N$28,Q26,$H$14:$H$28),0)*B4","v":0},{"$f":"IF(K3=\"ja\",SUMIF($N$14:$N$28,Q26,$I$14:$I$28),0)*B4","v":0},{"$f":"IF(K3=\"ja\",SUMIF($N$14:$N$28,Q26,$J$14:$J$28),0)*B4","v":0},null,"","","","",""]
[null,null,null,null,null,"","","","","",null,"","","",null,null,"Bodenhilfsstoffe",{"$f":"IF(K3=\"ja\",SUMIF($N$14:$N$28,Q27,$H$14:$H$28),0)*B4","v":0},null,{"$f":"IF(K3=\"ja\",SUMIF($N$14:$N$28,Q27,$J$14:$J$28),0)*B4","v":0},null,"","","","",""]
[null,null,null,null,null,"","","","","",null,"","","",null,null,"Kultursubstrate",{"$f":"IF(K3=\"ja\",SUMIF($N$14:$N$28,Q28,$H$14:$H$28),0)*B4","v":0},null,{"$f":"IF(K3=\"ja\",SUMIF($N$14:$N$28,Q28,$J$14:$J$28),0)*B4","v":0},null,"","","","",""]
[null,"anrechenbarer N aus org.Dgg. + min. Dgg. kg N/ha",null,null,null,null,null,{"$f":"X29+Y29","v":0},null,{"$f":"SUM(J14:J28)","v":0},null,{"$f":"SUM(L14:L28)","v":0},{"$f":"SUM(M14:M28)","v":0},null,null,null,"Pflanzenhilfsmittel",{"$f":"IF(K3=\"ja\",SUMIF($N$14:$N$28,Q29,$H$14:$H$28),0)*B4","v":0},null,{"$f":"IF(K3=\"ja\",SUMIF($N$14:$N$28,Q29,$J$14:$J$28),0)*B4","v":0},null,{"$f":"SUM(V14:V28)","v":0},{"$f":"SUM(W14:W28)","v":0},{"$f":"SUM(X14:X28)","v":0},{"$f":"SUM(Y14:Y28)","v":0},"kg/ha"]
[null,{"$f":"IF(K3=\"0\",O31,O30)","v":"Bilanz (anrechenbarer Dgg.- reduzierter Düngebedarf) kg N/ha"},null,null,null,null,null,{"$f":"IF(H12=\"\",0,IF(OR(K3=0,K3=\"nein\"),H29-H12,H29-H11))","v":0},null,{"$f":"IF(J12=\"\",\"\",J29-J12)","v":0},null,{"$f":"IF(L12=\"\",\"\",L29-L12)","v":0},{"$f":"IF(M12=\"\",\"\",M29-M12)","v":""},null,"Bilanz (anrechenbarer Dgg.- reduzierter Düngebedarf) kg N/ha",null,"Abfälle zur Beseitigung (§ 28 Absatz 2 odeS 3 KSWG)",{"$f":"IF(K3=\"ja\",SUMIF($N$14:$N$28,Q30,$H$14:$H$28),0)*B4","v":0},null,{"$f":"IF(K3=\"ja\",SUMIF($N$14:$N$28,Q30,$J$14:$J$28),0)*B4","v":0},null,{"$f":"V29*B4","v":0},{"$f":"W29*B4","v":0},{"$f":"X29*B4","v":0},{"$f":"Y29*B4","v":0},"kg/Schlag",null,{"$f":"IF(H30>0,\"Stickstoffmenge überschreitet den Düngebedarf\",\"\")","v":""}]
["Pflanzenschutzmittel",null,"Datum","EC","E./ha","€/E.","€/ha","Anwender",null,null,"Bemerkungen",null,null,null,"Bilanz (anrechenbarer Dgg.- Düngebedarf) kg N/ha"]
[null,null,null,null,null,{"$f":"IF($B32=\"\",\"\",VLOOKUP($B32,PSMMittel,2,0))","v":""},{"$f":"IF(B32=\"\",\"\",E32*F32)","v":""}]
[null,null,null,null,null,"",{"$f":"IF(B33=\"\",\"\",E33*F33)","v":""},null,null,null,null,null,null,null,null,null,"Stickstoffherkunft nicht gefährdetes Gebiet Gesamtfläche"]
[null,null,null,null,null,"","",null,null,null,null,null,null,null,null,null,null,"Gesamt N","NH4-N","P2O5 mineral.","P2O5 organisch",null,"N Fixierung kg N/ha"]
[null,null,null,null,null,"","",null,null,null,null,null,null,null,null,null,"N Gesamt minerl.",{"$f":"R5-R20","v":0},null,null,null,null,{"$f":"IF(E3=0,\"\",VLOOKUP(E3,AckerbauKulturen,26,0)*G56*B4)","v":""}]
[null,null,null,null,null,"","",null,null,null,null,null,null,null,null,null,"NH4-N minerlisch",null,{"$f":"S6-S21","v":0}]
[null,null,null,null,null,"","",null,null,null,null,null,null,null,null,null,"N Gesamt organsich",{"$f":"R7-R22","v":0}]
[null,null,null,null,null,"","",null,null,null,null,null,null,null,null,null,"NH4-N organsich",null,{"$f":"S8-S23","v":0}]
[null,null,null,null,null,"","",null,null,null,null,null,null,null,null,null,"P2O5 mineralisch",null,null,{"$f":"T9-T24","v":0}]
[null,null,null,null,null,"","",null,null,null,null,null,null,null,null,null,"P2O5 organisch",null,null,null,{"$f":"U10-U25","v":0}]
[null,null,null,null,null,"","",null,null,null,null,null,null,null,null,null,"Sonstige organische Düngemittel",{"$f":"R11-R26","v":0},{"$f":"S11-S26","v":0},{"$f":"T11-T26","v":0}]
[null,null,null,null,null,"","",null,null,null,null,null,null,null,null,null,"Bodenhilfsstoffe",{"$f":"R12-R27","v":0},null,{"$f":"T12-T27","v":0}]
[null,null,null,null,null,"","",null,null,null,null,null,null,null,null,null,"Kultursubstrate",{"$f":"R13-R28","v":0},null,{"$f":"T13-T28","v":0}]
[null,null,null,null,null,"","",null,null,null,null,null,null,null,null,null,"Pflanzenhilfsmittel",{"$f":"R14-R29","v":0},null,{"$f":"T14-T29","v":0}]
[null,null,null,null,null,"","",null,null,null,null,null,null,null,null,null,"Abfälle zur Beseitigung (§ 28 Absatz 2 odeS 3 KSWG)",{"$f":"R15-R30","v":0},null,{"$f":"T15-T30","v":0}]
[null,null,null,null,null,"",""]
[null,null,null,null,null,"",""]
[null,null,null,null,null,"",""]
[null,null,null,null,null,"",""]
[null,null,null,null,null,"",""]
[null,null,null,null,null,"",""]
[null,null,null,null,null,"",""]
[null,null,null,null,null,"",""]
[null,"Summe",null,null,null,null,{"$f":"SUM(G32:G53)","v":0}]
[]
[null,"Erntedatum:",null,{"$f":"IF(VLOOKUP($B$2,Ackerbauplan,58,0)=\"\",\"\",VLOOKUP($B$2,Ackerbauplan,58,0))","v":""},null,"dt/ha",{"$f":"VLOOKUP($B$2,Ackerbauplan,60,0)","v":0},null,null,"€/dt",null,{"$f":"VLOOKUP($B$2,Ackerbauplan,59,0)","v":0}]
[null,"   Hauptleistung ",null,{"$f":"IF(VLOOKUP($B$2,Ackerbauplan,61,0)=\"\",\"\",VLOOKUP($B$2,Ackerbauplan,61,0))","v":""},null,"Saatgut ",null,{"$f":"G11","v":0},"€/ha","Marktleistung -"]
[null,null,"+ Nebenleistung ",{"$f":"IF($B$2=\"\",\"\",VLOOKUP($B$2,Anbauplan,62,0))","v":0},null,"Dünger ",null,{"$f":"SUM(G14:G28)","v":0},"€/ha","Saatgut, Dünger, PSM"]
[null,null,"= Marktleistung ",{"$f":"IF(D57=\"\",\"\",D58+D57)","v":""},null,"Pflanzenschutz ",null,{"$f":"G54","v":0},"€/ha",{"$f":"IF(D59=\"\",\"\",D59-H57-H58-H59)","v":""},null,null,"€/ha"]
[null,{"$f":"IF($B$2=\"\",\"\",VLOOKUP($B$2,Anbauplan,2,0))","v":0}]
[null,"Bearbeitung","Maschine 1",null,"Maschine 2",null,"Maschine 3",null,"Datum",null,"Bemerkung"]

{"sheet":"A25","index":34,"n_rows":61,"n_cols":30,"rows_kept":61,"cut":false,"hidden":true,"merged":[[13,27,13,28],[13,29,16,30],[6,7,6,12],[7,7,7,8],[8,7,8,8],[7,9,7,10],[8,9,8,10],[10,8,10,12],[73,2,73,3],[73,4,73,5],[73,6,73,7],[73,8,73,9],[73,10,73,12],[69,2,69,3],[69,4,69,5],[69,6,69,7],[69,8,69,9],[69,10,69,12],[70,2,70,3],[70,4,70,5],[70,6,70,7],[70,8,70,9],[70,10,70,12],[67,2,67,3],[67,4,67,5],[67,6,67,7],[74,2,74,3],[74,4,74,5],[74,6,74,7],[74,8,74,9],[74,10,74,12],[71,2,71,3],[71,4,71,5],[71,6,71,7],[71,8,71,9],[71,10,71,12],[72,2,72,3],[72,4,72,5],[72,6,72,7],[72,8,72,9],[72,10,72,12],[67,8,67,9],[67,10,67,12],[68,2,68,3],[68,4,68,5],[68,6,68,7],[68,8,68,9],[68,10,68,12],[65,2,65,3],[65,4,65,5],[65,6,65,7],[65,8,65,9],[65,10,65,12],[66,2,66,3],[66,4,66,5],[66,6,66,7],[66,8,66,9],[66,10,66,12],[63,2,63,3],[63,4,63,5],[63,6,63,7],[63,8,63,9],[63,10,63,12],[64,2,64,3],[64,4,64,5],[64,6,64,7],[64,8,64,9],[64,10,64,12],[61,2,61,3],[61,4,61,5],[61,6,61,7],[61,8,61,9],[61,10,61,12],[62,2,62,3],[62,4,62,5],[62,6,62,7],[62,8,62,9],[62,10,62,12],[58,3,58,4],[58,5,58,6],[58,9,58,11],[59,1,59,12],[60,2,60,3],[60,4,60,5],[60,6,60,7],[60,8,60,9],[60,10,60,12],[56,1,56,2],[56,3,56,4],[56,5,56,6],[56,9,56,12],[57,3,57,4],[57,5,57,6],[57,9,57,12],[52,7,52,9],[52,10,52,12],[53,1,53,5],[53,7,53,12],[54,1,54,6],[55,1,55,2],[55,3,55,4],[55,6,55,8],[55,9,55,10],[55,11,55,12],[49,7,49,9],[49,10,49,12],[50,7,50,9],[50,10,50,12],[51,7,51,9],[51,10,51,12],[46,7,46,9],[46,10,46,12],[47,7,47,9],[47,10,47,12],[48,7,48,9],[48,10,48,12],[43,7,43,9],[43,10,43,12],[44,7,44,9],[44,10,44,12],[45,7,45,9],[45,10,45,12],[40,7,40,9],[40,10,40,12],[41,7,41,9],[41,10,41,12],[42,7,42,9],[42,10,42,12],[37,7,37,9],[37,10,37,12],[38,7,38,9],[38,10,38,12],[39,7,39,9],[39,10,39,12],[34,7,34,9],[34,10,34,12],[35,7,35,9],[35,10,35,12],[36,7,36,9],[36,10,36,12],[31,7,31,9],[31,10,31,12],[32,7,32,9],[32,10,32,12],[32,16,32,20],[33,7,33,9],[33,10,33,12],[29,1,29,6],[29,7,29,8],[29,9,29,10],[30,0,30,1],[30,7,30,9],[30,10,30,12],[23,9,23,10],[24,9,24,10],[25,9,25,10],[26,9,26,10],[27,9,27,10],[28,1,28,6],[28,7,28,8],[28,9,28,10],[17,16,17,20],[18,9,18,10],[19,9,19,10],[20,9,20,10],[21,9,21,10],[22,9,22,10],[14,9,14,10],[15,9,15,10],[16,9,16,10],[17,9,17,10],[10,1,10,2],[9,7,9,12],[11,1,11,2],[11,4,11,6],[11,7,11,8],[11,9,11,10],[11,25,12,25],[33,22,33,23],[34,22,34,23],[0,1,0,12],[1,2,1,3],[1,4,1,6],[1,7,1,9],[1,10,1,12],[2,2,2,3],[2,4,2,6],[2,7,2,9],[2,10,2,12],[5,7,5,10],[5,11,5,12],[3,2,3,3],[3,4,3,6],[3,7,3,10],[3,11,3,12],[4,2,4,3],[4,4,4,6],[4,7,4,9],[4,10,4,12],[12,9,12,10],[13,9,13,10]]}
[null,"Ackerland"]
[null,25,"Name:",null,{"$f":"IF(B2=\"\",\"\",VLOOKUP(B2,Anbauplan,2,0))","v":0},null,null,"Jahr:",null,null,{"$f":"IF(Einführung!I8=\"\",\"\",Einführung!I8)","v":""},null,null,{"$f":"IF(OR(B4=\"\",H12=\"\"),\"\",H12*B4)","v":0},"DB kg * Fläche"]
[null,"Hektar ","Hauptfrucht ",null,{"$f":"IF(B2=\"\",\"\",VLOOKUP(B2,Ackerbauplan,4,0))","v":0},null,null,"Nitratkulisse",null,null,{"$f":"IF(B2=\"\",\"\",VLOOKUP(B2,Ackerbauplan,20,0))","v":0},null,null,{"$f":"L4","v":""},"kg/ha org. Dünger für Kontrollgrenze"]
[null,{"$f":"IF(B2=\"\",\"\",VLOOKUP(B2,Ackerbauplan,3,0))","v":0},"Vorfrucht",null,{"$f":"IF(B2=\"\",\"\",VLOOKUP(B2,Ackerbauplan,9,0))","v":0},null,null,"Wirtschaftsdünger zur Berechung\ndes 130 kg N/ha Anteils in kg/ha",null,null,null,{"$f":"IF(K3=\"ja\",W29,\"\")","v":""},null,{"$f":"IF(N3=\"\",\"\",N3*B4)","v":""},"kg Gesamtschlag org Dünger für 170 Kontrollgrenze",null,null,"Gesamt N","NH4-N","P2O5 mineral.","P2O5 organisch"]
[null,"Sorte","VorVorfrucht",null,null,null,null,"Phosphatkulisse",null,null,{"$f":"IF(B2=\"\",\"\",VLOOKUP(B2,Ackerbauplan,21,0))","v":0},null,null,{"$f":"IF(H12=\"\",\"\",IF(K3=\"ja\",N2*0.8,\"\"))","v":""},"Nitrat belastetes Gebiet Düngebedarf Gesamtschlag kg N/ha",null,"N Gesamt minerl.",{"$f":"SUMIF($N$14:$N$28,\"mineralisch\",$H$14:$H$28)*B4","v":0}]
[null,{"$f":"IF(B2=\"\",\"\",VLOOKUP(B2,Ackerbauplan,8,0))","v":0},null,null,null,null,null,"sonstige Auflagen",null,null,null,null,null,{"$f":"IF(K3=\"ja\",X30+Y30,\"\")","v":""},"org +min .anrechenbare N Menge Gesamtschlag  kg N/ha",null,"NH4-N minerlisch",null,{"$f":"SUMIF($N$14:$N$28,\"mineralisch\",$I$14:$I$28)*B4","v":0}]
[null,"Aussaatdatum","Kö./m² ",{"$f":"IF(B2=\"\",\"\",VLOOKUP(B2,Ackerbauplan,52,0))","v":0},null,"Eigen","Zukauf","Versorgungsstufen",null,null,null,null,null,{"$f":"IF(K3=\"ja\",J12*B4,\"\")","v":""},null,null,"N Gesamt organsich",{"$f":"SUMIF($N$14:$N$28,\"organisch\",$H$14:$H$28)*B4","v":0}]
[null,{"$f":"IF(B2=\"0\",\"\",VLOOKUP(B2,Ackerbauplan,51,0))","v":"00:00:00"},"x TKG ",{"$f":"IF(B2=\"\",\"\",VLOOKUP(B2,Ackerbauplan,53,0))","v":0},"dt/ha ",null,null,"Nmin",null,"P2O5",null,"K2O","MgO",null,null,null,"NH4-N organsich",null,{"$f":"SUMIF($N$14:$N$28,\"organisch\",I14:I28)*B4","v":0}]
[null,"Beize","/Kei.fäh.",{"$f":"IF(B2=\"\",\"\",VLOOKUP(B2,Ackerbauplan,54,0))","v":0},"€/dt",null,null,{"$f":"IF(B2=\"\",\"\",VLOOKUP(B2,Ackerbauplan,17,0))","v":0},null,{"$f":"IF(B2=\"\",\"\",VLOOKUP(B2,Ackerbauplan,30,0))","v":"C"},null,{"$f":"IF(B2=\"\",\"\",VLOOKUP(B2,Ackerbauplan,31,0))","v":"C"},{"$f":"IF(B2=\"\",\"\",VLOOKUP(B2,Ackerbauplan,32,0))","v":"C"},null,null,null,"P2O5 mineralisch",null,null,{"$f":"SUMIF($N$14:$N$28,\"mineralisch\",$J$14:$J$28)*B4","v":0}]
[null,null,"= kg/ha",{"$f":"IF(B2=\"\",\"\",VLOOKUP(B2,Ackerbauplan,55,0))","v":""},"€/ha ",{"$f":"F8*F9","v":0},{"$f":"G8*G9","v":0},"Düngebedarf kg/ha (Blatt Ackerfläche)",null,null,null,null,null,null,"Düngebedarf um 20% reduziert",null,"P2O5 organisch",null,null,null,{"$f":"SUMIF($N$14:$N$28,\"organisch\",$J$14:$J$28)*B4","v":0},null,null,null,null,null,null,{"$f":"IF(K3=\"ja\",\"Noch nicht ausgeschöpfter Stickstoff Düngebedarf aller Flächen\",\"\")","v":""}]
[null,"Saatgutkennnummer",null,null,null,"Summe",{"$f":"F10+G10","v":0},{"$f":"IF(H12=\"\",\"\",IF(K3=\"ja\",H12*0.8,\"\"))","v":""},{"$f":"IF(K3=\"ja\",O10,\"\")","v":""},null,null,null,null,null,null,null,"Sonstige organische Düngemittel",{"$f":"SUMIF($N$14:$N$28,Q11,$H$14:$H$28)*B4","v":0},{"$f":"SUMIF($N$14:$N$28,Q11,$I$14:$I$28)*B4","v":0},{"$f":"SUMIF($N$14:$N$28,Q11,$J$14:$J$28)*B4","v":0},null,null,null,null,null,null,null,{"$f":"IF(K3=\"ja\",'Zus. Anlage 5 DüV'!D43,\"\")","v":""},{"$f":"IF(K3=\"ja\",\"kg N Gesamtfläche\",\"\")","v":""}]
[null,null,null,null,"N Bedarf DÜV kg/ha",null,null,{"$f":"IF(B2=\"\",\"\",VLOOKUP(B2,Ackerbauplan,18,0))","v":"0"},null,{"$f":"IF(B2=\"\",\"\",VLOOKUP(B2,Ackerbauplan,37,0))","v":"0"},null,{"$f":"IF(B2=\"\",\"\",VLOOKUP(B2,Ackerbauplan,38,0))","v":"0"},null,null,null,null,"Bodenhilfsstoffe",{"$f":"SUMIF($N$14:$N$28,Q12,$H$14:$H$28)*B4","v":0},null,{"$f":"SUMIF($N$14:$N$28,Q12,$J$14:$J$28)*B4","v":0},null,"Anrechnung","Anrechnung ","Prüfung NH4","mineral","Kontroll\nSumme"]
[null,"Dünger","Datum","EC","m³o.dt/ha","€/dt","€/ha","Ges.-N","NH4-N","P2O5",null,"K2O","S",null,null,null,"Kultursubstrate",{"$f":"SUMIF($N$14:$N$28,Q13,$H$14:$H$28)*B4","v":0},null,{"$f":"SUMIF($N$14:$N$28,Q13,$J$14:$J$28)*B4","v":0},null,"aktuelles Jahr","170 kg GW"," oder Anlage3","Stickstoff"]
[null,null,null,null,null,{"$f":"IF(B14=\"\",\"\",VLOOKUP(B14,Düngemiteldaten,2,0))","v":""},{"$f":"IF(B14=\"\",\"\",E14*F14)","v":""},{"$f":"IF(B14=\"\",\"\",VLOOKUP(B14,Düngemiteldaten,4,0)*E14)","v":""},{"$f":"IF(B14=\"\",\"\",VLOOKUP(B14,Düngemiteldaten,5,0)*E14)","v":""},{"$f":"IF(B14=\"\",\"\",VLOOKUP(B14,Düngemiteldaten,7,0)*E14)","v":""},null,{"$f":"IF(B14=\"\",\"\",VLOOKUP(B14,Düngemiteldaten,8,0)*E14)","v":""},{"$f":"IF(B14=\"\",\"\",VLOOKUP(B14,Düngemiteldaten,10,0)*E14)","v":""},{"$f":"IF(B14=\"\",\"\",VLOOKUP(B14,Düngemiteldaten,20,0))","v":""},null,null,"Pflanzenhilfsmittel",{"$f":"SUMIF($N$14:$N$28,Q14,$H$14:$H$28)*B4","v":0},null,{"$f":"SUMIF($N$14:$N$28,Q14,$J$14:$J$28)*B4","v":0},null,{"$f":"IF(OR(B14=\"\",N14=\"\"),\"\",IF(N14=\"mineralisch\",\"\",VLOOKUP(B14,Düngemiteldaten,17,0)*VLOOKUP(B14,Düngemiteldaten,4,0)*E14))","v":""},{"$f":"IF(N14=\"organisch\",VLOOKUP(B14,Düngemiteldaten,4,0)*E14*VLOOKUP(B14,Düngemiteldaten,19,0),\"\")","v":""},{"$f":"IF(B14=\"\",\"\",IF(V14<I14,I14,V14))","v":""},{"$f":"IF(B14=\"\",\"\",IF(N14=\"organisch\",0,H14))","v":""},{"$f":"IF(SUM(V14:Y14)=0,\"\",SUM(X14:Y14))","v":""},null,{"$f":"IF(K3=\"ja\",\"Summe Gesamtstickstoff\",\"\")","v":""},null,{"$f":"IF(K3=\"ja\",\"Anteil § 13a Prüfung \n160 kg N/ha Gesamt\n80 kg N/ha mineralisch\",\"\")","v":""}]
[null,null,null,null,null,"",{"$f":"IF(B15=\"\",\"\",E15*F15)","v":""},"","","",null,"","","",null,null,"Abfälle zur Beseitigung (§ 28 Absatz 2 odeS 3 KSWG)",{"$f":"SUMIF($N$14:$N$28,Q15,$H$14:$H$28)*B4","v":0},null,{"$f":"SUMIF($N$14:$N$28,Q15,$J$14:$J$28)*B4","v":0},null,"","",{"$f":"IF(B15=\"\",\"\",IF(V15<I15,I15,V15))","v":""},{"$f":"IF(B15=\"\",\"\",IF(N15=\"organisch\",0,H15))","v":""},{"$f":"IF(SUM(V15:Y15)=0,\"\",SUM(X15:Y15))","v":""},null,{"$f":"IF(L4=\"\",\"\",SUMIF($N$14:$N$28,\"mineralisch\",$H$14:$H$28))","v":""},{"$f":"IF(K3=\"ja\",\"mineralisch N kg/ha\",\"\")","v":""}]
[null,null,null,null,null,"","","","","",null,"","","",null,null,null,null,null,null,null,"","","","","",null,{"$f":"IF(L4=\"\",\"\",SUMIF($N$14:$N$28,\"organisch\",$H$14:$H$28)+SUMIF($N$14:$N$28,Q11,$H$14:$H$28))","v":""},{"$f":"IF(K3=\"ja\",\"organisch N kg/ha\",\"\")","v":""}]
[null,null,null,null,null,"","","","","",null,"","","",null,null,null,null,null,null,null,{"$f":"IF(OR(B17=\"\",N17=\"\"),\"\",IF(N17=\"mineralisch\",\"\",VLOOKUP(B17,Düngemiteldaten,17,0)*VLOOKUP(B17,Düngemiteldaten,4,0)*E17))","v":""},"","","","",null,{"$f":"IF(K3=\"ja\",(AB16+AB15),\"\")","v":""},{"$f":"IF(K3=\"ja\",\"Gesamt kg N/ha\",\"\")","v":""}]
[null,null,null,null,null,"","","","","",null,"","","",null,null,"Nährstoffherkunft auf gefährdeten Flächen §13",null,null,null,null,"","","","",""]
[null,null,null,null,null,"","","","","",null,"","","",null,null,null,"Gesamt N","NH4-N","P2O5 mineral.","P2O5 organisch","","","","",""]
[null,null,null,null,null,"","","","","",null,"","","",null,null,"N Gesamt minerl.",{"$f":"IF(K3=\"ja\",SUMIF($N$14:$N$28,\"mineralisch\",$H$14:$H$28),0)*B4","v":0},null,null,null,"","","","",""]
[null,null,null,null,null,"","","","","",null,"","","",null,null,"NH4-N minerlisch",null,{"$f":"IF(K3=\"ja\",SUMIF($N$14:$N$28,\"mineralisch\",$I$14:$I$28),0)*B4","v":0},null,null,"","","","",""]
[null,null,null,null,null,"","","","","",null,"","","",null,null,"N Gesamt organsich",{"$f":"IF(K3=\"ja\",SUMIF($N$14:$N$28,\"organisch\",$H$14:$H$28),0)*B4","v":0},null,null,null,"","","","",""]
[null,null,null,null,null,"","","","","",null,"","","",null,null,"NH4-N organsich",null,{"$f":"IF(K3=\"ja\",SUMIF($N$14:$N$28,\"organisch\",$I$14:$I$28),0)*B4","v":0},null,null,"","","","",""]
[null,null,null,null,null,"","","","","",null,"","","",null,null,"P2O5 mineralisch",null,null,{"$f":"IF(K3=\"ja\",SUMIF($N$14:$N$28,\"mineralisch\",$J$14:$J$28),0)*B4","v":0},null,"","","","",""]
[null,null,null,null,null,"","","","","",null,"","","",null,null,"P2O5 organisch",null,null,null,{"$f":"IF(K3=\"ja\",SUMIF($N$14:$N$28,\"organisch\",$J$14:$J$28),0)*B4","v":0},"","","","",""]
[null,null,null,null,null,"","","","","",null,"","","",null,null,"Sonstige organische Düngemittel",{"$f":"IF(K3=\"ja\",SUMIF($N$14:$N$28,Q26,$H$14:$H$28),0)*B4","v":0},{"$f":"IF(K3=\"ja\",SUMIF($N$14:$N$28,Q26,$I$14:$I$28),0)*B4","v":0},{"$f":"IF(K3=\"ja\",SUMIF($N$14:$N$28,Q26,$J$14:$J$28),0)*B4","v":0},null,"","","","",""]
[null,null,null,null,null,"","","","","",null,"","","",null,null,"Bodenhilfsstoffe",{"$f":"IF(K3=\"ja\",SUMIF($N$14:$N$28,Q27,$H$14:$H$28),0)*B4","v":0},null,{"$f":"IF(K3=\"ja\",SUMIF($N$14:$N$28,Q27,$J$14:$J$28),0)*B4","v":0},null,"","","","",""]
[null,null,null,null,null,"","","","","",null,"","","",null,null,"Kultursubstrate",{"$f":"IF(K3=\"ja\",SUMIF($N$14:$N$28,Q28,$H$14:$H$28),0)*B4","v":0},null,{"$f":"IF(K3=\"ja\",SUMIF($N$14:$N$28,Q28,$J$14:$J$28),0)*B4","v":0},null,"","","","",""]
[null,"anrechenbarer N aus org.Dgg. + min. Dgg. kg N/ha",null,null,null,null,null,{"$f":"X29+Y29","v":0},null,{"$f":"SUM(J14:J28)","v":0},null,{"$f":"SUM(L14:L28)","v":0},{"$f":"SUM(M14:M28)","v":0},null,null,null,"Pflanzenhilfsmittel",{"$f":"IF(K3=\"ja\",SUMIF($N$14:$N$28,Q29,$H$14:$H$28),0)*B4","v":0},null,{"$f":"IF(K3=\"ja\",SUMIF($N$14:$N$28,Q29,$J$14:$J$28),0)*B4","v":0},null,{"$f":"SUM(V14:V28)","v":0},{"$f":"SUM(W14:W28)","v":0},{"$f":"SUM(X14:X28)","v":0},{"$f":"SUM(Y14:Y28)","v":0},"kg/ha"]
[null,{"$f":"IF(K3=\"0\",O31,O30)","v":"Bilanz (anrechenbarer Dgg.- reduzierter Düngebedarf) kg N/ha"},null,null,null,null,null,{"$f":"IF(H12=\"\",0,IF(OR(K3=0,K3=\"nein\"),H29-H12,H29-H11))","v":0},null,{"$f":"IF(J12=\"\",\"\",J29-J12)","v":0},null,{"$f":"IF(L12=\"\",\"\",L29-L12)","v":0},{"$f":"IF(M12=\"\",\"\",M29-M12)","v":""},null,"Bilanz (anrechenbarer Dgg.- reduzierter Düngebedarf) kg N/ha",null,"Abfälle zur Beseitigung (§ 28 Absatz 2 odeS 3 KSWG)",{"$f":"IF(K3=\"ja\",SUMIF($N$14:$N$28,Q30,$H$14:$H$28),0)*B4","v":0},null,{"$f":"IF(K3=\"ja\",SUMIF($N$14:$N$28,Q30,$J$14:$J$28),0)*B4","v":0},null,{"$f":"V29*B4","v":0},{"$f":"W29*B4","v":0},{"$f":"X29*B4","v":0},{"$f":"Y29*B4","v":0},"kg/Schlag",null,{"$f":"IF(H30>0,\"Stickstoffmenge überschreitet den Düngebedarf\",\"\")","v":""}]
["Pflanzenschutzmittel",null,"Datum","EC","E./ha","€/E.","€/ha","Anwender",null,null,"Bemerkungen",null,null,null,"Bilanz (anrechenbarer Dgg.- Düngebedarf) kg N/ha"]
[null,null,null,null,null,{"$f":"IF($B32=\"\",\"\",VLOOKUP($B32,PSMMittel,2,0))","v":""},{"$f":"IF(B32=\"\",\"\",E32*F32)","v":""}]
[null,null,null,null,null,"",{"$f":"IF(B33=\"\",\"\",E33*F33)","v":""},null,null,null,null,null,null,null,null,null,"Stickstoffherkunft nicht gefährdetes Gebiet Gesamtfläche"]
[null,null,null,null,null,"","",null,null,null,null,null,null,null,null,null,null,"Gesamt N","NH4-N","P2O5 mineral.","P2O5 organisch",null,"N Fixierung kg N/ha"]
[null,null,null,null,null,"","",null,null,null,null,null,null,null,null,null,"N Gesamt minerl.",{"$f":"R5-R20","v":0},null,null,null,null,{"$f":"IF(E3=0,\"\",VLOOKUP(E3,AckerbauKulturen,26,0)*G56*B4)","v":""}]
[null,null,null,null,null,"","",null,null,null,null,null,null,null,null,null,"NH4-N minerlisch",null,{"$f":"S6-S21","v":0}]
[null,null,null,null,null,"","",null,null,null,null,null,null,null,null,null,"N Gesamt organsich",{"$f":"R7-R22","v":0}]
[null,null,null,null,null,"","",null,null,null,null,null,null,null,null,null,"NH4-N organsich",null,{"$f":"S8-S23","v":0}]
[null,null,null,null,null,"","",null,null,null,null,null,null,null,null,null,"P2O5 mineralisch",null,null,{"$f":"T9-T24","v":0}]
[null,null,null,null,null,"","",null,null,null,null,null,null,null,null,null,"P2O5 organisch",null,null,null,{"$f":"U10-U25","v":0}]
[null,null,null,null,null,"","",null,null,null,null,null,null,null,null,null,"Sonstige organische Düngemittel",{"$f":"R11-R26","v":0},{"$f":"S11-S26","v":0},{"$f":"T11-T26","v":0}]
[null,null,null,null,null,"","",null,null,null,null,null,null,null,null,null,"Bodenhilfsstoffe",{"$f":"R12-R27","v":0},null,{"$f":"T12-T27","v":0}]
[null,null,null,null,null,"","",null,null,null,null,null,null,null,null,null,"Kultursubstrate",{"$f":"R13-R28","v":0},null,{"$f":"T13-T28","v":0}]
[null,null,null,null,null,"","",null,null,null,null,null,null,null,null,null,"Pflanzenhilfsmittel",{"$f":"R14-R29","v":0},null,{"$f":"T14-T29","v":0}]
[null,null,null,null,null,"","",null,null,null,null,null,null,null,null,null,"Abfälle zur Beseitigung (§ 28 Absatz 2 odeS 3 KSWG)",{"$f":"R15-R30","v":0},null,{"$f":"T15-T30","v":0}]
[null,null,null,null,null,"",""]
[null,null,null,null,null,"",""]
[null,null,null,null,null,"",""]
[null,null,null,null,null,"",""]
[null,null,null,null,null,"",""]
[null,null,null,null,null,"",""]
[null,null,null,null,null,"",""]
[null,null,null,null,null,"",""]
[null,"Summe",null,null,null,null,{"$f":"SUM(G32:G53)","v":0}]
[]
[null,"Erntedatum:",null,{"$f":"IF(VLOOKUP($B$2,Ackerbauplan,58,0)=\"\",\"\",VLOOKUP($B$2,Ackerbauplan,58,0))","v":""},null,"dt/ha",{"$f":"VLOOKUP($B$2,Ackerbauplan,60,0)","v":0},null,null,"€/dt",null,{"$f":"VLOOKUP($B$2,Ackerbauplan,59,0)","v":0}]
[null,"   Hauptleistung ",null,{"$f":"IF(VLOOKUP($B$2,Ackerbauplan,61,0)=\"\",\"\",VLOOKUP($B$2,Ackerbauplan,61,0))","v":""},null,"Saatgut ",null,{"$f":"G11","v":0},"€/ha","Marktleistung -"]
[null,null,"+ Nebenleistung ",{"$f":"IF($B$2=\"\",\"\",VLOOKUP($B$2,Anbauplan,62,0))","v":0},null,"Dünger ",null,{"$f":"SUM(G14:G28)","v":0},"€/ha","Saatgut, Dünger, PSM"]
[null,null,"= Marktleistung ",{"$f":"IF(D57=\"\",\"\",D58+D57)","v":""},null,"Pflanzenschutz ",null,{"$f":"G54","v":0},"€/ha",{"$f":"IF(D59=\"\",\"\",D59-H57-H58-H59)","v":""},null,null,"€/ha"]
[null,{"$f":"IF($B$2=\"\",\"\",VLOOKUP($B$2,Anbauplan,2,0))","v":0}]
[null,"Bearbeitung","Maschine 1",null,"Maschine 2",null,"Maschine 3",null,"Datum",null,"Bemerkung"]

{"sheet":"A26","index":35,"n_rows":61,"n_cols":30,"rows_kept":61,"cut":false,"hidden":true,"merged":[[13,27,13,28],[13,29,16,30],[6,7,6,12],[7,7,7,8],[8,7,8,8],[7,9,7,10],[8,9,8,10],[10,8,10,12],[73,2,73,3],[73,4,73,5],[73,6,73,7],[73,8,73,9],[73,10,73,12],[69,2,69,3],[69,4,69,5],[69,6,69,7],[69,8,69,9],[69,10,69,12],[70,2,70,3],[70,4,70,5],[70,6,70,7],[70,8,70,9],[70,10,70,12],[67,2,67,3],[67,4,67,5],[67,6,67,7],[74,2,74,3],[74,4,74,5],[74,6,74,7],[74,8,74,9],[74,10,74,12],[71,2,71,3],[71,4,71,5],[71,6,71,7],[71,8,71,9],[71,10,71,12],[72,2,72,3],[72,4,72,5],[72,6,72,7],[72,8,72,9],[72,10,72,12],[67,8,67,9],[67,10,67,12],[68,2,68,3],[68,4,68,5],[68,6,68,7],[68,8,68,9],[68,10,68,12],[65,2,65,3],[65,4,65,5],[65,6,65,7],[65,8,65,9],[65,10,65,12],[66,2,66,3],[66,4,66,5],[66,6,66,7],[66,8,66,9],[66,10,66,12],[63,2,63,3],[63,4,63,5],[63,6,63,7],[63,8,63,9],[63,10,63,12],[64,2,64,3],[64,4,64,5],[64,6,64,7],[64,8,64,9],[64,10,64,12],[61,2,61,3],[61,4,61,5],[61,6,61,7],[61,8,61,9],[61,10,61,12],[62,2,62,3],[62,4,62,5],[62,6,62,7],[62,8,62,9],[62,10,62,12],[58,3,58,4],[58,5,58,6],[58,9,58,11],[59,1,59,12],[60,2,60,3],[60,4,60,5],[60,6,60,7],[60,8,60,9],[60,10,60,12],[56,1,56,2],[56,3,56,4],[56,5,56,6],[56,9,56,12],[57,3,57,4],[57,5,57,6],[57,9,57,12],[52,7,52,9],[52,10,52,12],[53,1,53,5],[53,7,53,12],[54,1,54,6],[55,1,55,2],[55,3,55,4],[55,6,55,8],[55,9,55,10],[55,11,55,12],[49,7,49,9],[49,10,49,12],[50,7,50,9],[50,10,50,12],[51,7,51,9],[51,10,51,12],[46,7,46,9],[46,10,46,12],[47,7,47,9],[47,10,47,12],[48,7,48,9],[48,10,48,12],[43,7,43,9],[43,10,43,12],[44,7,44,9],[44,10,44,12],[45,7,45,9],[45,10,45,12],[40,7,40,9],[40,10,40,12],[41,7,41,9],[41,10,41,12],[42,7,42,9],[42,10,42,12],[37,7,37,9],[37,10,37,12],[38,7,38,9],[38,10,38,12],[39,7,39,9],[39,10,39,12],[34,7,34,9],[34,10,34,12],[35,7,35,9],[35,10,35,12],[36,7,36,9],[36,10,36,12],[31,7,31,9],[31,10,31,12],[32,7,32,9],[32,10,32,12],[32,16,32,20],[33,7,33,9],[33,10,33,12],[29,1,29,6],[29,7,29,8],[29,9,29,10],[30,0,30,1],[30,7,30,9],[30,10,30,12],[23,9,23,10],[24,9,24,10],[25,9,25,10],[26,9,26,10],[27,9,27,10],[28,1,28,6],[28,7,28,8],[28,9,28,10],[17,16,17,20],[18,9,18,10],[19,9,19,10],[20,9,20,10],[21,9,21,10],[22,9,22,10],[14,9,14,10],[15,9,15,10],[16,9,16,10],[17,9,17,10],[10,1,10,2],[9,7,9,12],[11,1,11,2],[11,4,11,6],[11,7,11,8],[11,9,11,10],[11,25,12,25],[33,22,33,23],[34,22,34,23],[0,1,0,12],[1,2,1,3],[1,4,1,6],[1,7,1,9],[1,10,1,12],[2,2,2,3],[2,4,2,6],[2,7,2,9],[2,10,2,12],[5,7,5,10],[5,11,5,12],[3,2,3,3],[3,4,3,6],[3,7,3,10],[3,11,3,12],[4,2,4,3],[4,4,4,6],[4,7,4,9],[4,10,4,12],[12,9,12,10],[13,9,13,10]]}
[null,"Ackerland"]
[null,26,"Name:",null,{"$f":"IF(B2=\"\",\"\",VLOOKUP(B2,Anbauplan,2,0))","v":0},null,null,"Jahr:",null,null,{"$f":"IF(Einführung!I8=\"\",\"\",Einführung!I8)","v":""},null,null,{"$f":"IF(OR(B4=\"\",H12=\"\"),\"\",H12*B4)","v":0},"DB kg * Fläche"]
[null,"Hektar ","Hauptfrucht ",null,{"$f":"IF(B2=\"\",\"\",VLOOKUP(B2,Ackerbauplan,4,0))","v":0},null,null,"Nitratkulisse",null,null,{"$f":"IF(B2=\"\",\"\",VLOOKUP(B2,Ackerbauplan,20,0))","v":0},null,null,{"$f":"L4","v":""},"kg/ha org. Dünger für Kontrollgrenze"]
[null,{"$f":"IF(B2=\"\",\"\",VLOOKUP(B2,Ackerbauplan,3,0))","v":0},"Vorfrucht",null,{"$f":"IF(B2=\"\",\"\",VLOOKUP(B2,Ackerbauplan,9,0))","v":0},null,null,"Wirtschaftsdünger zur Berechung\ndes 130 kg N/ha Anteils in kg/ha",null,null,null,{"$f":"IF(K3=\"ja\",W29,\"\")","v":""},null,{"$f":"IF(N3=\"\",\"\",N3*B4)","v":""},"kg Gesamtschlag org Dünger für 170 Kontrollgrenze",null,null,"Gesamt N","NH4-N","P2O5 mineral.","P2O5 organisch"]
[null,"Sorte","VorVorfrucht",null,null,null,null,"Phosphatkulisse",null,null,{"$f":"IF(B2=\"\",\"\",VLOOKUP(B2,Ackerbauplan,21,0))","v":0},null,null,{"$f":"IF(H12=\"\",\"\",IF(K3=\"ja\",N2*0.8,\"\"))","v":""},"Nitrat belastetes Gebiet Düngebedarf Gesamtschlag kg N/ha",null,"N Gesamt minerl.",{"$f":"SUMIF($N$14:$N$28,\"mineralisch\",$H$14:$H$28)*B4","v":0}]
[null,{"$f":"IF(B2=\"\",\"\",VLOOKUP(B2,Ackerbauplan,8,0))","v":0},null,null,null,null,null,"sonstige Auflagen",null,null,null,null,null,{"$f":"IF(K3=\"ja\",X30+Y30,\"\")","v":""},"org +min .anrechenbare N Menge Gesamtschlag  kg N/ha",null,"NH4-N minerlisch",null,{"$f":"SUMIF($N$14:$N$28,\"mineralisch\",$I$14:$I$28)*B4","v":0}]
[null,"Aussaatdatum","Kö./m² ",{"$f":"IF(B2=\"\",\"\",VLOOKUP(B2,Ackerbauplan,52,0))","v":0},null,"Eigen","Zukauf","Versorgungsstufen",null,null,null,null,null,{"$f":"IF(K3=\"ja\",J12*B4,\"\")","v":""},null,null,"N Gesamt organsich",{"$f":"SUMIF($N$14:$N$28,\"organisch\",$H$14:$H$28)*B4","v":0}]
[null,{"$f":"IF(B2=\"0\",\"\",VLOOKUP(B2,Ackerbauplan,51,0))","v":"00:00:00"},"x TKG ",{"$f":"IF(B2=\"\",\"\",VLOOKUP(B2,Ackerbauplan,53,0))","v":0},"dt/ha ",null,null,"Nmin",null,"P2O5",null,"K2O","MgO",null,null,null,"NH4-N organsich",null,{"$f":"SUMIF($N$14:$N$28,\"organisch\",I14:I28)*B4","v":0}]
[null,"Beize","/Kei.fäh.",{"$f":"IF(B2=\"\",\"\",VLOOKUP(B2,Ackerbauplan,54,0))","v":0},"€/dt",null,null,{"$f":"IF(B2=\"\",\"\",VLOOKUP(B2,Ackerbauplan,17,0))","v":0},null,{"$f":"IF(B2=\"\",\"\",VLOOKUP(B2,Ackerbauplan,30,0))","v":"C"},null,{"$f":"IF(B2=\"\",\"\",VLOOKUP(B2,Ackerbauplan,31,0))","v":"C"},{"$f":"IF(B2=\"\",\"\",VLOOKUP(B2,Ackerbauplan,32,0))","v":"C"},null,null,null,"P2O5 mineralisch",null,null,{"$f":"SUMIF($N$14:$N$28,\"mineralisch\",$J$14:$J$28)*B4","v":0}]
[null,null,"= kg/ha",{"$f":"IF(B2=\"\",\"\",VLOOKUP(B2,Ackerbauplan,55,0))","v":""},"€/ha ",{"$f":"F8*F9","v":0},{"$f":"G8*G9","v":0},"Düngebedarf kg/ha (Blatt Ackerfläche)",null,null,null,null,null,null,"Düngebedarf um 20% reduziert",null,"P2O5 organisch",null,null,null,{"$f":"SUMIF($N$14:$N$28,\"organisch\",$J$14:$J$28)*B4","v":0},null,null,null,null,null,null,{"$f":"IF(K3=\"ja\",\"Noch nicht ausgeschöpfter Stickstoff Düngebedarf aller Flächen\",\"\")","v":""}]
[null,"Saatgutkennnummer",null,null,null,"Summe",{"$f":"F10+G10","v":0},{"$f":"IF(H12=\"\",\"\",IF(K3=\"ja\",H12*0.8,\"\"))","v":""},{"$f":"IF(K3=\"ja\",O10,\"\")","v":""},null,null,null,null,null,null,null,"Sonstige organische Düngemittel",{"$f":"SUMIF($N$14:$N$28,Q11,$H$14:$H$28)*B4","v":0},{"$f":"SUMIF($N$14:$N$28,Q11,$I$14:$I$28)*B4","v":0},{"$f":"SUMIF($N$14:$N$28,Q11,$J$14:$J$28)*B4","v":0},null,null,null,null,null,null,null,{"$f":"IF(K3=\"ja\",'Zus. Anlage 5 DüV'!D43,\"\")","v":""},{"$f":"IF(K3=\"ja\",\"kg N Gesamtfläche\",\"\")","v":""}]
[null,null,null,null,"N Bedarf DÜV kg/ha",null,null,{"$f":"IF(B2=\"\",\"\",VLOOKUP(B2,Ackerbauplan,18,0))","v":"0"},null,{"$f":"IF(B2=\"\",\"\",VLOOKUP(B2,Ackerbauplan,37,0))","v":"0"},null,{"$f":"IF(B2=\"\",\"\",VLOOKUP(B2,Ackerbauplan,38,0))","v":"0"},null,null,null,null,"Bodenhilfsstoffe",{"$f":"SUMIF($N$14:$N$28,Q12,$H$14:$H$28)*B4","v":0},null,{"$f":"SUMIF($N$14:$N$28,Q12,$J$14:$J$28)*B4","v":0},null,"Anrechnung","Anrechnung ","Prüfung NH4","mineral","Kontroll\nSumme"]
[null,"Dünger","Datum","EC","m³o.dt/ha","€/dt","€/ha","Ges.-N","NH4-N","P2O5",null,"K2O","S",null,null,null,"Kultursubstrate",{"$f":"SUMIF($N$14:$N$28,Q13,$H$14:$H$28)*B4","v":0},null,{"$f":"SUMIF($N$14:$N$28,Q13,$J$14:$J$28)*B4","v":0},null,"aktuelles Jahr","170 kg GW"," oder Anlage3","Stickstoff"]
[null,null,null,null,null,{"$f":"IF(B14=\"\",\"\",VLOOKUP(B14,Düngemiteldaten,2,0))","v":""},{"$f":"IF(B14=\"\",\"\",E14*F14)","v":""},{"$f":"IF(B14=\"\",\"\",VLOOKUP(B14,Düngemiteldaten,4,0)*E14)","v":""},{"$f":"IF(B14=\"\",\"\",VLOOKUP(B14,Düngemiteldaten,5,0)*E14)","v":""},{"$f":"IF(B14=\"\",\"\",VLOOKUP(B14,Düngemiteldaten,7,0)*E14)","v":""},null,{"$f":"IF(B14=\"\",\"\",VLOOKUP(B14,Düngemiteldaten,8,0)*E14)","v":""},{"$f":"IF(B14=\"\",\"\",VLOOKUP(B14,Düngemiteldaten,10,0)*E14)","v":""},{"$f":"IF(B14=\"\",\"\",VLOOKUP(B14,Düngemiteldaten,20,0))","v":""},null,null,"Pflanzenhilfsmittel",{"$f":"SUMIF($N$14:$N$28,Q14,$H$14:$H$28)*B4","v":0},null,{"$f":"SUMIF($N$14:$N$28,Q14,$J$14:$J$28)*B4","v":0},null,{"$f":"IF(OR(B14=\"\",N14=\"\"),\"\",IF(N14=\"mineralisch\",\"\",VLOOKUP(B14,Düngemiteldaten,17,0)*VLOOKUP(B14,Düngemiteldaten,4,0)*E14))","v":""},{"$f":"IF(N14=\"organisch\",VLOOKUP(B14,Düngemiteldaten,4,0)*E14*VLOOKUP(B14,Düngemiteldaten,19,0),\"\")","v":""},{"$f":"IF(B14=\"\",\"\",IF(V14<I14,I14,V14))","v":""},{"$f":"IF(B14=\"\",\"\",IF(N14=\"organisch\",0,H14))","v":""},{"$f":"IF(SUM(V14:Y14)=0,\"\",SUM(X14:Y14))","v":""},null,{"$f":"IF(K3=\"ja\",\"Summe Gesamtstickstoff\",\"\")","v":""},null,{"$f":"IF(K3=\"ja\",\"Anteil § 13a Prüfung \n160 kg N/ha Gesamt\n80 kg N/ha mineralisch\",\"\")","v":""}]
[null,null,null,null,null,"",{"$f":"IF(B15=\"\",\"\",E15*F15)","v":""},"","","",null,"","","",null,null,"Abfälle zur Beseitigung (§ 28 Absatz 2 odeS 3 KSWG)",{"$f":"SUMIF($N$14:$N$28,Q15,$H$14:$H$28)*B4","v":0},null,{"$f":"SUMIF($N$14:$N$28,Q15,$J$14:$J$28)*B4","v":0},null,"","",{"$f":"IF(B15=\"\",\"\",IF(V15<I15,I15,V15))","v":""},{"$f":"IF(B15=\"\",\"\",IF(N15=\"organisch\",0,H15))","v":""},{"$f":"IF(SUM(V15:Y15)=0,\"\",SUM(X15:Y15))","v":""},null,{"$f":"IF(L4=\"\",\"\",SUMIF($N$14:$N$28,\"mineralisch\",$H$14:$H$28))","v":""},{"$f":"IF(K3=\"ja\",\"mineralisch N kg/ha\",\"\")","v":""}]
[null,null,null,null,null,"","","","","",null,"","","",null,null,null,null,null,null,null,"","","","","",null,{"$f":"IF(L4=\"\",\"\",SUMIF($N$14:$N$28,\"organisch\",$H$14:$H$28)+SUMIF($N$14:$N$28,Q11,$H$14:$H$28))","v":""},{"$f":"IF(K3=\"ja\",\"organisch N kg/ha\",\"\")","v":""}]
[null,null,null,null,null,"","","","","",null,"","","",null,null,null,null,null,null,null,{"$f":"IF(OR(B17=\"\",N17=\"\"),\"\",IF(N17=\"mineralisch\",\"\",VLOOKUP(B17,Düngemiteldaten,17,0)*VLOOKUP(B17,Düngemiteldaten,4,0)*E17))","v":""},"","","","",null,{"$f":"IF(K3=\"ja\",(AB16+AB15),\"\")","v":""},{"$f":"IF(K3=\"ja\",\"Gesamt kg N/ha\",\"\")","v":""}]
[null,null,null,null,null,"","","","","",null,"","","",null,null,"Nährstoffherkunft auf gefährdeten Flächen §13",null,null,null,null,"","","","",""]
[null,null,null,null,null,"","","","","",null,"","","",null,null,null,"Gesamt N","NH4-N","P2O5 mineral.","P2O5 organisch","","","","",""]
[null,null,null,null,null,"","","","","",null,"","","",null,null,"N Gesamt minerl.",{"$f":"IF(K3=\"ja\",SUMIF($N$14:$N$28,\"mineralisch\",$H$14:$H$28),0)*B4","v":0},null,null,null,"","","","",""]
[null,null,null,null,null,"","","","","",null,"","","",null,null,"NH4-N minerlisch",null,{"$f":"IF(K3=\"ja\",SUMIF($N$14:$N$28,\"mineralisch\",$I$14:$I$28),0)*B4","v":0},null,null,"","","","",""]
[null,null,null,null,null,"","","","","",null,"","","",null,null,"N Gesamt organsich",{"$f":"IF(K3=\"ja\",SUMIF($N$14:$N$28,\"organisch\",$H$14:$H$28),0)*B4","v":0},null,null,null,"","","","",""]
[null,null,null,null,null,"","","","","",null,"","","",null,null,"NH4-N organsich",null,{"$f":"IF(K3=\"ja\",SUMIF($N$14:$N$28,\"organisch\",$I$14:$I$28),0)*B4","v":0},null,null,"","","","",""]
[null,null,null,null,null,"","","","","",null,"","","",null,null,"P2O5 mineralisch",null,null,{"$f":"IF(K3=\"ja\",SUMIF($N$14:$N$28,\"mineralisch\",$J$14:$J$28),0)*B4","v":0},null,"","","","",""]
[null,null,null,null,null,"","","","","",null,"","","",null,null,"P2O5 organisch",null,null,null,{"$f":"IF(K3=\"ja\",SUMIF($N$14:$N$28,\"organisch\",$J$14:$J$28),0)*B4","v":0},"","","","",""]
[null,null,null,null,null,"","","","","",null,"","","",null,null,"Sonstige organische Düngemittel",{"$f":"IF(K3=\"ja\",SUMIF($N$14:$N$28,Q26,$H$14:$H$28),0)*B4","v":0},{"$f":"IF(K3=\"ja\",SUMIF($N$14:$N$28,Q26,$I$14:$I$28),0)*B4","v":0},{"$f":"IF(K3=\"ja\",SUMIF($N$14:$N$28,Q26,$J$14:$J$28),0)*B4","v":0},null,"","","","",""]
[null,null,null,null,null,"","","","","",null,"","","",null,null,"Bodenhilfsstoffe",{"$f":"IF(K3=\"ja\",SUMIF($N$14:$N$28,Q27,$H$14:$H$28),0)*B4","v":0},null,{"$f":"IF(K3=\"ja\",SUMIF($N$14:$N$28,Q27,$J$14:$J$28),0)*B4","v":0},null,"","","","",""]
[null,null,null,null,null,"","","","","",null,"","","",null,null,"Kultursubstrate",{"$f":"IF(K3=\"ja\",SUMIF($N$14:$N$28,Q28,$H$14:$H$28),0)*B4","v":0},null,{"$f":"IF(K3=\"ja\",SUMIF($N$14:$N$28,Q28,$J$14:$J$28),0)*B4","v":0},null,"","","","",""]
[null,"anrechenbarer N aus org.Dgg. + min. Dgg. kg N/ha",null,null,null,null,null,{"$f":"X29+Y29","v":0},null,{"$f":"SUM(J14:J28)","v":0},null,{"$f":"SUM(L14:L28)","v":0},{"$f":"SUM(M14:M28)","v":0},null,null,null,"Pflanzenhilfsmittel",{"$f":"IF(K3=\"ja\",SUMIF($N$14:$N$28,Q29,$H$14:$H$28),0)*B4","v":0},null,{"$f":"IF(K3=\"ja\",SUMIF($N$14:$N$28,Q29,$J$14:$J$28),0)*B4","v":0},null,{"$f":"SUM(V14:V28)","v":0},{"$f":"SUM(W14:W28)","v":0},{"$f":"SUM(X14:X28)","v":0},{"$f":"SUM(Y14:Y28)","v":0},"kg/ha"]
[null,{"$f":"IF(K3=\"0\",O31,O30)","v":"Bilanz (anrechenbarer Dgg.- reduzierter Düngebedarf) kg N/ha"},null,null,null,null,null,{"$f":"IF(H12=\"\",0,IF(OR(K3=0,K3=\"nein\"),H29-H12,H29-H11))","v":0},null,{"$f":"IF(J12=\"\",\"\",J29-J12)","v":0},null,{"$f":"IF(L12=\"\",\"\",L29-L12)","v":0},{"$f":"IF(M12=\"\",\"\",M29-M12)","v":""},null,"Bilanz (anrechenbarer Dgg.- reduzierter Düngebedarf) kg N/ha",null,"Abfälle zur Beseitigung (§ 28 Absatz 2 odeS 3 KSWG)",{"$f":"IF(K3=\"ja\",SUMIF($N$14:$N$28,Q30,$H$14:$H$28),0)*B4","v":0},null,{"$f":"IF(K3=\"ja\",SUMIF($N$14:$N$28,Q30,$J$14:$J$28),0)*B4","v":0},null,{"$f":"V29*B4","v":0},{"$f":"W29*B4","v":0},{"$f":"X29*B4","v":0},{"$f":"Y29*B4","v":0},"kg/Schlag",null,{"$f":"IF(H30>0,\"Stickstoffmenge überschreitet den Düngebedarf\",\"\")","v":""}]
["Pflanzenschutzmittel",null,"Datum","EC","E./ha","€/E.","€/ha","Anwender",null,null,"Bemerkungen",null,null,null,"Bilanz (anrechenbarer Dgg.- Düngebedarf) kg N/ha"]
[null,null,null,null,null,{"$f":"IF($B32=\"\",\"\",VLOOKUP($B32,PSMMittel,2,0))","v":""},{"$f":"IF(B32=\"\",\"\",E32*F32)","v":""}]
[null,null,null,null,null,"",{"$f":"IF(B33=\"\",\"\",E33*F33)","v":""},null,null,null,null,null,null,null,null,null,"Stickstoffherkunft nicht gefährdetes Gebiet Gesamtfläche"]
[null,null,null,null,null,"","",null,null,null,null,null,null,null,null,null,null,"Gesamt N","NH4-N","P2O5 mineral.","P2O5 organisch",null,"N Fixierung kg N/ha"]
[null,null,null,null,null,"","",null,null,null,null,null,null,null,null,null,"N Gesamt minerl.",{"$f":"R5-R20","v":0},null,null,null,null,{"$f":"IF(E3=0,\"\",VLOOKUP(E3,AckerbauKulturen,26,0)*G56*B4)","v":""}]
[null,null,null,null,null,"","",null,null,null,null,null,null,null,null,null,"NH4-N minerlisch",null,{"$f":"S6-S21","v":0}]
[null,null,null,null,null,"","",null,null,null,null,null,null,null,null,null,"N Gesamt organsich",{"$f":"R7-R22","v":0}]
[null,null,null,null,null,"","",null,null,null,null,null,null,null,null,null,"NH4-N organsich",null,{"$f":"S8-S23","v":0}]
[null,null,null,null,null,"","",null,null,null,null,null,null,null,null,null,"P2O5 mineralisch",null,null,{"$f":"T9-T24","v":0}]
[null,null,null,null,null,"","",null,null,null,null,null,null,null,null,null,"P2O5 organisch",null,null,null,{"$f":"U10-U25","v":0}]
[null,null,null,null,null,"","",null,null,null,null,null,null,null,null,null,"Sonstige organische Düngemittel",{"$f":"R11-R26","v":0},{"$f":"S11-S26","v":0},{"$f":"T11-T26","v":0}]
[null,null,null,null,null,"","",null,null,null,null,null,null,null,null,null,"Bodenhilfsstoffe",{"$f":"R12-R27","v":0},null,{"$f":"T12-T27","v":0}]
[null,null,null,null,null,"","",null,null,null,null,null,null,null,null,null,"Kultursubstrate",{"$f":"R13-R28","v":0},null,{"$f":"T13-T28","v":0}]
[null,null,null,null,null,"","",null,null,null,null,null,null,null,null,null,"Pflanzenhilfsmittel",{"$f":"R14-R29","v":0},null,{"$f":"T14-T29","v":0}]
[null,null,null,null,null,"","",null,null,null,null,null,null,null,null,null,"Abfälle zur Beseitigung (§ 28 Absatz 2 odeS 3 KSWG)",{"$f":"R15-R30","v":0},null,{"$f":"T15-T30","v":0}]
[null,null,null,null,null,"",""]
[null,null,null,null,null,"",""]
[null,null,null,null,null,"",""]
[null,null,null,null,null,"",""]
[null,null,null,null,null,"",""]
[null,null,null,null,null,"",""]
[null,null,null,null,null,"",""]
[null,null,null,null,null,"",""]
[null,"Summe",null,null,null,null,{"$f":"SUM(G32:G53)","v":0}]
[]
[null,"Erntedatum:",null,{"$f":"IF(VLOOKUP($B$2,Ackerbauplan,58,0)=\"\",\"\",VLOOKUP($B$2,Ackerbauplan,58,0))","v":""},null,"dt/ha",{"$f":"VLOOKUP($B$2,Ackerbauplan,60,0)","v":0},null,null,"€/dt",null,{"$f":"VLOOKUP($B$2,Ackerbauplan,59,0)","v":0}]
[null,"   Hauptleistung ",null,{"$f":"IF(VLOOKUP($B$2,Ackerbauplan,61,0)=\"\",\"\",VLOOKUP($B$2,Ackerbauplan,61,0))","v":""},null,"Saatgut ",null,{"$f":"G11","v":0},"€/ha","Marktleistung -"]
[null,null,"+ Nebenleistung ",{"$f":"IF($B$2=\"\",\"\",VLOOKUP($B$2,Anbauplan,62,0))","v":0},null,"Dünger ",null,{"$f":"SUM(G14:G28)","v":0},"€/ha","Saatgut, Dünger, PSM"]
[null,null,"= Marktleistung ",{"$f":"IF(D57=\"\",\"\",D58+D57)","v":""},null,"Pflanzenschutz ",null,{"$f":"G54","v":0},"€/ha",{"$f":"IF(D59=\"\",\"\",D59-H57-H58-H59)","v":""},null,null,"€/ha"]
[null,{"$f":"IF($B$2=\"\",\"\",VLOOKUP($B$2,Anbauplan,2,0))","v":0}]
[null,"Bearbeitung","Maschine 1",null,"Maschine 2",null,"Maschine 3",null,"Datum",null,"Bemerkung"]

{"sheet":"A27","index":36,"n_rows":61,"n_cols":30,"rows_kept":61,"cut":false,"hidden":true,"merged":[[13,27,13,28],[13,29,16,30],[6,7,6,12],[7,7,7,8],[8,7,8,8],[7,9,7,10],[8,9,8,10],[10,8,10,12],[73,2,73,3],[73,4,73,5],[73,6,73,7],[73,8,73,9],[73,10,73,12],[69,2,69,3],[69,4,69,5],[69,6,69,7],[69,8,69,9],[69,10,69,12],[70,2,70,3],[70,4,70,5],[70,6,70,7],[70,8,70,9],[70,10,70,12],[67,2,67,3],[67,4,67,5],[67,6,67,7],[74,2,74,3],[74,4,74,5],[74,6,74,7],[74,8,74,9],[74,10,74,12],[71,2,71,3],[71,4,71,5],[71,6,71,7],[71,8,71,9],[71,10,71,12],[72,2,72,3],[72,4,72,5],[72,6,72,7],[72,8,72,9],[72,10,72,12],[67,8,67,9],[67,10,67,12],[68,2,68,3],[68,4,68,5],[68,6,68,7],[68,8,68,9],[68,10,68,12],[65,2,65,3],[65,4,65,5],[65,6,65,7],[65,8,65,9],[65,10,65,12],[66,2,66,3],[66,4,66,5],[66,6,66,7],[66,8,66,9],[66,10,66,12],[63,2,63,3],[63,4,63,5],[63,6,63,7],[63,8,63,9],[63,10,63,12],[64,2,64,3],[64,4,64,5],[64,6,64,7],[64,8,64,9],[64,10,64,12],[61,2,61,3],[61,4,61,5],[61,6,61,7],[61,8,61,9],[61,10,61,12],[62,2,62,3],[62,4,62,5],[62,6,62,7],[62,8,62,9],[62,10,62,12],[58,3,58,4],[58,5,58,6],[58,9,58,11],[59,1,59,12],[60,2,60,3],[60,4,60,5],[60,6,60,7],[60,8,60,9],[60,10,60,12],[56,1,56,2],[56,3,56,4],[56,5,56,6],[56,9,56,12],[57,3,57,4],[57,5,57,6],[57,9,57,12],[52,7,52,9],[52,10,52,12],[53,1,53,5],[53,7,53,12],[54,1,54,6],[55,1,55,2],[55,3,55,4],[55,6,55,8],[55,9,55,10],[55,11,55,12],[49,7,49,9],[49,10,49,12],[50,7,50,9],[50,10,50,12],[51,7,51,9],[51,10,51,12],[46,7,46,9],[46,10,46,12],[47,7,47,9],[47,10,47,12],[48,7,48,9],[48,10,48,12],[43,7,43,9],[43,10,43,12],[44,7,44,9],[44,10,44,12],[45,7,45,9],[45,10,45,12],[40,7,40,9],[40,10,40,12],[41,7,41,9],[41,10,41,12],[42,7,42,9],[42,10,42,12],[37,7,37,9],[37,10,37,12],[38,7,38,9],[38,10,38,12],[39,7,39,9],[39,10,39,12],[34,7,34,9],[34,10,34,12],[35,7,35,9],[35,10,35,12],[36,7,36,9],[36,10,36,12],[31,7,31,9],[31,10,31,12],[32,7,32,9],[32,10,32,12],[32,16,32,20],[33,7,33,9],[33,10,33,12],[29,1,29,6],[29,7,29,8],[29,9,29,10],[30,0,30,1],[30,7,30,9],[30,10,30,12],[23,9,23,10],[24,9,24,10],[25,9,25,10],[26,9,26,10],[27,9,27,10],[28,1,28,6],[28,7,28,8],[28,9,28,10],[17,16,17,20],[18,9,18,10],[19,9,19,10],[20,9,20,10],[21,9,21,10],[22,9,22,10],[14,9,14,10],[15,9,15,10],[16,9,16,10],[17,9,17,10],[10,1,10,2],[9,7,9,12],[11,1,11,2],[11,4,11,6],[11,7,11,8],[11,9,11,10],[11,25,12,25],[33,22,33,23],[34,22,34,23],[0,1,0,12],[1,2,1,3],[1,4,1,6],[1,7,1,9],[1,10,1,12],[2,2,2,3],[2,4,2,6],[2,7,2,9],[2,10,2,12],[5,7,5,10],[5,11,5,12],[3,2,3,3],[3,4,3,6],[3,7,3,10],[3,11,3,12],[4,2,4,3],[4,4,4,6],[4,7,4,9],[4,10,4,12],[12,9,12,10],[13,9,13,10]]}
[null,"Ackerland"]
[null,27,"Name:",null,{"$f":"IF(B2=\"\",\"\",VLOOKUP(B2,Anbauplan,2,0))","v":0},null,null,"Jahr:",null,null,{"$f":"IF(Einführung!I8=\"\",\"\",Einführung!I8)","v":""},null,null,{"$f":"IF(OR(B4=\"\",H12=\"\"),\"\",H12*B4)","v":0},"DB kg * Fläche"]
[null,"Hektar ","Hauptfrucht ",null,{"$f":"IF(B2=\"\",\"\",VLOOKUP(B2,Ackerbauplan,4,0))","v":0},null,null,"Nitratkulisse",null,null,{"$f":"IF(B2=\"\",\"\",VLOOKUP(B2,Ackerbauplan,20,0))","v":0},null,null,{"$f":"L4","v":""},"kg/ha org. Dünger für Kontrollgrenze"]
[null,{"$f":"IF(B2=\"\",\"\",VLOOKUP(B2,Ackerbauplan,3,0))","v":0},"Vorfrucht",null,{"$f":"IF(B2=\"\",\"\",VLOOKUP(B2,Ackerbauplan,9,0))","v":0},null,null,"Wirtschaftsdünger zur Berechung\ndes 130 kg N/ha Anteils in kg/ha",null,null,null,{"$f":"IF(K3=\"ja\",W29,\"\")","v":""},null,{"$f":"IF(N3=\"\",\"\",N3*B4)","v":""},"kg Gesamtschlag org Dünger für 170 Kontrollgrenze",null,null,"Gesamt N","NH4-N","P2O5 mineral.","P2O5 organisch"]
[null,"Sorte","VorVorfrucht",null,null,null,null,"Phosphatkulisse",null,null,{"$f":"IF(B2=\"\",\"\",VLOOKUP(B2,Ackerbauplan,21,0))","v":0},null,null,{"$f":"IF(H12=\"\",\"\",IF(K3=\"ja\",N2*0.8,\"\"))","v":""},"Nitrat belastetes Gebiet Düngebedarf Gesamtschlag kg N/ha",null,"N Gesamt minerl.",{"$f":"SUMIF($N$14:$N$28,\"mineralisch\",$H$14:$H$28)*B4","v":0}]
[null,{"$f":"IF(B2=\"\",\"\",VLOOKUP(B2,Ackerbauplan,8,0))","v":0},null,null,null,null,null,"sonstige Auflagen",null,null,null,null,null,{"$f":"IF(K3=\"ja\",X30+Y30,\"\")","v":""},"org +min .anrechenbare N Menge Gesamtschlag  kg N/ha",null,"NH4-N minerlisch",null,{"$f":"SUMIF($N$14:$N$28,\"mineralisch\",$I$14:$I$28)*B4","v":0}]
[null,"Aussaatdatum","Kö./m² ",{"$f":"IF(B2=\"\",\"\",VLOOKUP(B2,Ackerbauplan,52,0))","v":0},null,"Eigen","Zukauf","Versorgungsstufen",null,null,null,null,null,{"$f":"IF(K3=\"ja\",J12*B4,\"\")","v":""},null,null,"N Gesamt organsich",{"$f":"SUMIF($N$14:$N$28,\"organisch\",$H$14:$H$28)*B4","v":0}]
[null,{"$f":"IF(B2=\"0\",\"\",VLOOKUP(B2,Ackerbauplan,51,0))","v":"00:00:00"},"x TKG ",{"$f":"IF(B2=\"\",\"\",VLOOKUP(B2,Ackerbauplan,53,0))","v":0},"dt/ha ",null,null,"Nmin",null,"P2O5",null,"K2O","MgO",null,null,null,"NH4-N organsich",null,{"$f":"SUMIF($N$14:$N$28,\"organisch\",I14:I28)*B4","v":0}]
[null,"Beize","/Kei.fäh.",{"$f":"IF(B2=\"\",\"\",VLOOKUP(B2,Ackerbauplan,54,0))","v":0},"€/dt",null,null,{"$f":"IF(B2=\"\",\"\",VLOOKUP(B2,Ackerbauplan,17,0))","v":0},null,{"$f":"IF(B2=\"\",\"\",VLOOKUP(B2,Ackerbauplan,30,0))","v":"C"},null,{"$f":"IF(B2=\"\",\"\",VLOOKUP(B2,Ackerbauplan,31,0))","v":"C"},{"$f":"IF(B2=\"\",\"\",VLOOKUP(B2,Ackerbauplan,32,0))","v":"C"},null,null,null,"P2O5 mineralisch",null,null,{"$f":"SUMIF($N$14:$N$28,\"mineralisch\",$J$14:$J$28)*B4","v":0}]
[null,null,"= kg/ha",{"$f":"IF(B2=\"\",\"\",VLOOKUP(B2,Ackerbauplan,55,0))","v":""},"€/ha ",{"$f":"F8*F9","v":0},{"$f":"G8*G9","v":0},"Düngebedarf kg/ha (Blatt Ackerfläche)",null,null,null,null,null,null,"Düngebedarf um 20% reduziert",null,"P2O5 organisch",null,null,null,{"$f":"SUMIF($N$14:$N$28,\"organisch\",$J$14:$J$28)*B4","v":0},null,null,null,null,null,null,{"$f":"IF(K3=\"ja\",\"Noch nicht ausgeschöpfter Stickstoff Düngebedarf aller Flächen\",\"\")","v":""}]
[null,"Saatgutkennnummer",null,null,null,"Summe",{"$f":"F10+G10","v":0},{"$f":"IF(H12=\"\",\"\",IF(K3=\"ja\",H12*0.8,\"\"))","v":""},{"$f":"IF(K3=\"ja\",O10,\"\")","v":""},null,null,null,null,null,null,null,"Sonstige organische Düngemittel",{"$f":"SUMIF($N$14:$N$28,Q11,$H$14:$H$28)*B4","v":0},{"$f":"SUMIF($N$14:$N$28,Q11,$I$14:$I$28)*B4","v":0},{"$f":"SUMIF($N$14:$N$28,Q11,$J$14:$J$28)*B4","v":0},null,null,null,null,null,null,null,{"$f":"IF(K3=\"ja\",'Zus. Anlage 5 DüV'!D43,\"\")","v":""},{"$f":"IF(K3=\"ja\",\"kg N Gesamtfläche\",\"\")","v":""}]
[null,null,null,null,"N Bedarf DÜV kg/ha",null,null,{"$f":"IF(B2=\"\",\"\",VLOOKUP(B2,Ackerbauplan,18,0))","v":"0"},null,{"$f":"IF(B2=\"\",\"\",VLOOKUP(B2,Ackerbauplan,37,0))","v":"0"},null,{"$f":"IF(B2=\"\",\"\",VLOOKUP(B2,Ackerbauplan,38,0))","v":"0"},null,null,null,null,"Bodenhilfsstoffe",{"$f":"SUMIF($N$14:$N$28,Q12,$H$14:$H$28)*B4","v":0},null,{"$f":"SUMIF($N$14:$N$28,Q12,$J$14:$J$28)*B4","v":0},null,"Anrechnung","Anrechnung ","Prüfung NH4","mineral","Kontroll\nSumme"]
[null,"Dünger","Datum","EC","m³o.dt/ha","€/dt","€/ha","Ges.-N","NH4-N","P2O5",null,"K2O","S",null,null,null,"Kultursubstrate",{"$f":"SUMIF($N$14:$N$28,Q13,$H$14:$H$28)*B4","v":0},null,{"$f":"SUMIF($N$14:$N$28,Q13,$J$14:$J$28)*B4","v":0},null,"aktuelles Jahr","170 kg GW"," oder Anlage3","Stickstoff"]
[null,null,null,null,null,{"$f":"IF(B14=\"\",\"\",VLOOKUP(B14,Düngemiteldaten,2,0))","v":""},{"$f":"IF(B14=\"\",\"\",E14*F14)","v":""},{"$f":"IF(B14=\"\",\"\",VLOOKUP(B14,Düngemiteldaten,4,0)*E14)","v":""},{"$f":"IF(B14=\"\",\"\",VLOOKUP(B14,Düngemiteldaten,5,0)*E14)","v":""},{"$f":"IF(B14=\"\",\"\",VLOOKUP(B14,Düngemiteldaten,7,0)*E14)","v":""},null,{"$f":"IF(B14=\"\",\"\",VLOOKUP(B14,Düngemiteldaten,8,0)*E14)","v":""},{"$f":"IF(B14=\"\",\"\",VLOOKUP(B14,Düngemiteldaten,10,0)*E14)","v":""},{"$f":"IF(B14=\"\",\"\",VLOOKUP(B14,Düngemiteldaten,20,0))","v":""},null,null,"Pflanzenhilfsmittel",{"$f":"SUMIF($N$14:$N$28,Q14,$H$14:$H$28)*B4","v":0},null,{"$f":"SUMIF($N$14:$N$28,Q14,$J$14:$J$28)*B4","v":0},null,{"$f":"IF(OR(B14=\"\",N14=\"\"),\"\",IF(N14=\"mineralisch\",\"\",VLOOKUP(B14,Düngemiteldaten,17,0)*VLOOKUP(B14,Düngemiteldaten,4,0)*E14))","v":""},{"$f":"IF(N14=\"organisch\",VLOOKUP(B14,Düngemiteldaten,4,0)*E14*VLOOKUP(B14,Düngemiteldaten,19,0),\"\")","v":""},{"$f":"IF(B14=\"\",\"\",IF(V14<I14,I14,V14))","v":""},{"$f":"IF(B14=\"\",\"\",IF(N14=\"organisch\",0,H14))","v":""},{"$f":"IF(SUM(V14:Y14)=0,\"\",SUM(X14:Y14))","v":""},null,{"$f":"IF(K3=\"ja\",\"Summe Gesamtstickstoff\",\"\")","v":""},null,{"$f":"IF(K3=\"ja\",\"Anteil § 13a Prüfung \n160 kg N/ha Gesamt\n80 kg N/ha mineralisch\",\"\")","v":""}]
[null,null,null,null,null,"",{"$f":"IF(B15=\"\",\"\",E15*F15)","v":""},"","","",null,"","","",null,null,"Abfälle zur Beseitigung (§ 28 Absatz 2 odeS 3 KSWG)",{"$f":"SUMIF($N$14:$N$28,Q15,$H$14:$H$28)*B4","v":0},null,{"$f":"SUMIF($N$14:$N$28,Q15,$J$14:$J$28)*B4","v":0},null,"","",{"$f":"IF(B15=\"\",\"\",IF(V15<I15,I15,V15))","v":""},{"$f":"IF(B15=\"\",\"\",IF(N15=\"organisch\",0,H15))","v":""},{"$f":"IF(SUM(V15:Y15)=0,\"\",SUM(X15:Y15))","v":""},null,{"$f":"IF(L4=\"\",\"\",SUMIF($N$14:$N$28,\"mineralisch\",$H$14:$H$28))","v":""},{"$f":"IF(K3=\"ja\",\"mineralisch N kg/ha\",\"\")","v":""}]
[null,null,null,null,null,"","","","","",null,"","","",null,null,null,null,null,null,null,"","","","","",null,{"$f":"IF(L4=\"\",\"\",SUMIF($N$14:$N$28,\"organisch\",$H$14:$H$28)+SUMIF($N$14:$N$28,Q11,$H$14:$H$28))","v":""},{"$f":"IF(K3=\"ja\",\"organisch N kg/ha\",\"\")","v":""}]
[null,null,null,null,null,"","","","","",null,"","","",null,null,null,null,null,null,null,{"$f":"IF(OR(B17=\"\",N17=\"\"),\"\",IF(N17=\"mineralisch\",\"\",VLOOKUP(B17,Düngemiteldaten,17,0)*VLOOKUP(B17,Düngemiteldaten,4,0)*E17))","v":""},"","","","",null,{"$f":"IF(K3=\"ja\",(AB16+AB15),\"\")","v":""},{"$f":"IF(K3=\"ja\",\"Gesamt kg N/ha\",\"\")","v":""}]
[null,null,null,null,null,"","","","","",null,"","","",null,null,"Nährstoffherkunft auf gefährdeten Flächen §13",null,null,null,null,"","","","",""]
[null,null,null,null,null,"","","","","",null,"","","",null,null,null,"Gesamt N","NH4-N","P2O5 mineral.","P2O5 organisch","","","","",""]
[null,null,null,null,null,"","","","","",null,"","","",null,null,"N Gesamt minerl.",{"$f":"IF(K3=\"ja\",SUMIF($N$14:$N$28,\"mineralisch\",$H$14:$H$28),0)*B4","v":0},null,null,null,"","","","",""]
[null,null,null,null,null,"","","","","",null,"","","",null,null,"NH4-N minerlisch",null,{"$f":"IF(K3=\"ja\",SUMIF($N$14:$N$28,\"mineralisch\",$I$14:$I$28),0)*B4","v":0},null,null,"","","","",""]
[null,null,null,null,null,"","","","","",null,"","","",null,null,"N Gesamt organsich",{"$f":"IF(K3=\"ja\",SUMIF($N$14:$N$28,\"organisch\",$H$14:$H$28),0)*B4","v":0},null,null,null,"","","","",""]
[null,null,null,null,null,"","","","","",null,"","","",null,null,"NH4-N organsich",null,{"$f":"IF(K3=\"ja\",SUMIF($N$14:$N$28,\"organisch\",$I$14:$I$28),0)*B4","v":0},null,null,"","","","",""]
[null,null,null,null,null,"","","","","",null,"","","",null,null,"P2O5 mineralisch",null,null,{"$f":"IF(K3=\"ja\",SUMIF($N$14:$N$28,\"mineralisch\",$J$14:$J$28),0)*B4","v":0},null,"","","","",""]
[null,null,null,null,null,"","","","","",null,"","","",null,null,"P2O5 organisch",null,null,null,{"$f":"IF(K3=\"ja\",SUMIF($N$14:$N$28,\"organisch\",$J$14:$J$28),0)*B4","v":0},"","","","",""]
[null,null,null,null,null,"","","","","",null,"","","",null,null,"Sonstige organische Düngemittel",{"$f":"IF(K3=\"ja\",SUMIF($N$14:$N$28,Q26,$H$14:$H$28),0)*B4","v":0},{"$f":"IF(K3=\"ja\",SUMIF($N$14:$N$28,Q26,$I$14:$I$28),0)*B4","v":0},{"$f":"IF(K3=\"ja\",SUMIF($N$14:$N$28,Q26,$J$14:$J$28),0)*B4","v":0},null,"","","","",""]
[null,null,null,null,null,"","","","","",null,"","","",null,null,"Bodenhilfsstoffe",{"$f":"IF(K3=\"ja\",SUMIF($N$14:$N$28,Q27,$H$14:$H$28),0)*B4","v":0},null,{"$f":"IF(K3=\"ja\",SUMIF($N$14:$N$28,Q27,$J$14:$J$28),0)*B4","v":0},null,"","","","",""]
[null,null,null,null,null,"","","","","",null,"","","",null,null,"Kultursubstrate",{"$f":"IF(K3=\"ja\",SUMIF($N$14:$N$28,Q28,$H$14:$H$28),0)*B4","v":0},null,{"$f":"IF(K3=\"ja\",SUMIF($N$14:$N$28,Q28,$J$14:$J$28),0)*B4","v":0},null,"","","","",""]
[null,"anrechenbarer N aus org.Dgg. + min. Dgg. kg N/ha",null,null,null,null,null,{"$f":"X29+Y29","v":0},null,{"$f":"SUM(J14:J28)","v":0},null,{"$f":"SUM(L14:L28)","v":0},{"$f":"SUM(M14:M28)","v":0},null,null,null,"Pflanzenhilfsmittel",{"$f":"IF(K3=\"ja\",SUMIF($N$14:$N$28,Q29,$H$14:$H$28),0)*B4","v":0},null,{"$f":"IF(K3=\"ja\",SUMIF($N$14:$N$28,Q29,$J$14:$J$28),0)*B4","v":0},null,{"$f":"SUM(V14:V28)","v":0},{"$f":"SUM(W14:W28)","v":0},{"$f":"SUM(X14:X28)","v":0},{"$f":"SUM(Y14:Y28)","v":0},"kg/ha"]
[null,{"$f":"IF(K3=\"0\",O31,O30)","v":"Bilanz (anrechenbarer Dgg.- reduzierter Düngebedarf) kg N/ha"},null,null,null,null,null,{"$f":"IF(H12=\"\",0,IF(OR(K3=0,K3=\"nein\"),H29-H12,H29-H11))","v":0},null,{"$f":"IF(J12=\"\",\"\",J29-J12)","v":0},null,{"$f":"IF(L12=\"\",\"\",L29-L12)","v":0},{"$f":"IF(M12=\"\",\"\",M29-M12)","v":""},null,"Bilanz (anrechenbarer Dgg.- reduzierter Düngebedarf) kg N/ha",null,"Abfälle zur Beseitigung (§ 28 Absatz 2 odeS 3 KSWG)",{"$f":"IF(K3=\"ja\",SUMIF($N$14:$N$28,Q30,$H$14:$H$28),0)*B4","v":0},null,{"$f":"IF(K3=\"ja\",SUMIF($N$14:$N$28,Q30,$J$14:$J$28),0)*B4","v":0},null,{"$f":"V29*B4","v":0},{"$f":"W29*B4","v":0},{"$f":"X29*B4","v":0},{"$f":"Y29*B4","v":0},"kg/Schlag",null,{"$f":"IF(H30>0,\"Stickstoffmenge überschreitet den Düngebedarf\",\"\")","v":""}]
["Pflanzenschutzmittel",null,"Datum","EC","E./ha","€/E.","€/ha","Anwender",null,null,"Bemerkungen",null,null,null,"Bilanz (anrechenbarer Dgg.- Düngebedarf) kg N/ha"]
[null,null,null,null,null,{"$f":"IF($B32=\"\",\"\",VLOOKUP($B32,PSMMittel,2,0))","v":""},{"$f":"IF(B32=\"\",\"\",E32*F32)","v":""}]
[null,null,null,null,null,"",{"$f":"IF(B33=\"\",\"\",E33*F33)","v":""},null,null,null,null,null,null,null,null,null,"Stickstoffherkunft nicht gefährdetes Gebiet Gesamtfläche"]
[null,null,null,null,null,"","",null,null,null,null,null,null,null,null,null,null,"Gesamt N","NH4-N","P2O5 mineral.","P2O5 organisch",null,"N Fixierung kg N/ha"]
[null,null,null,null,null,"","",null,null,null,null,null,null,null,null,null,"N Gesamt minerl.",{"$f":"R5-R20","v":0},null,null,null,null,{"$f":"IF(E3=0,\"\",VLOOKUP(E3,AckerbauKulturen,26,0)*G56*B4)","v":""}]
[null,null,null,null,null,"","",null,null,null,null,null,null,null,null,null,"NH4-N minerlisch",null,{"$f":"S6-S21","v":0}]
[null,null,null,null,null,"","",null,null,null,null,null,null,null,null,null,"N Gesamt organsich",{"$f":"R7-R22","v":0}]
[null,null,null,null,null,"","",null,null,null,null,null,null,null,null,null,"NH4-N organsich",null,{"$f":"S8-S23","v":0}]
[null,null,null,null,null,"","",null,null,null,null,null,null,null,null,null,"P2O5 mineralisch",null,null,{"$f":"T9-T24","v":0}]
[null,null,null,null,null,"","",null,null,null,null,null,null,null,null,null,"P2O5 organisch",null,null,null,{"$f":"U10-U25","v":0}]
[null,null,null,null,null,"","",null,null,null,null,null,null,null,null,null,"Sonstige organische Düngemittel",{"$f":"R11-R26","v":0},{"$f":"S11-S26","v":0},{"$f":"T11-T26","v":0}]
[null,null,null,null,null,"","",null,null,null,null,null,null,null,null,null,"Bodenhilfsstoffe",{"$f":"R12-R27","v":0},null,{"$f":"T12-T27","v":0}]
[null,null,null,null,null,"","",null,null,null,null,null,null,null,null,null,"Kultursubstrate",{"$f":"R13-R28","v":0},null,{"$f":"T13-T28","v":0}]
[null,null,null,null,null,"","",null,null,null,null,null,null,null,null,null,"Pflanzenhilfsmittel",{"$f":"R14-R29","v":0},null,{"$f":"T14-T29","v":0}]
[null,null,null,null,null,"","",null,null,null,null,null,null,null,null,null,"Abfälle zur Beseitigung (§ 28 Absatz 2 odeS 3 KSWG)",{"$f":"R15-R30","v":0},null,{"$f":"T15-T30","v":0}]
[null,null,null,null,null,"",""]
[null,null,null,null,null,"",""]
[null,null,null,null,null,"",""]
[null,null,null,null,null,"",""]
[null,null,null,null,null,"",""]
[null,null,null,null,null,"",""]
[null,null,null,null,null,"",""]
[null,null,null,null,null,"",""]
[null,"Summe",null,null,null,null,{"$f":"SUM(G32:G53)","v":0}]
[]
[null,"Erntedatum:",null,{"$f":"IF(VLOOKUP($B$2,Ackerbauplan,58,0)=\"\",\"\",VLOOKUP($B$2,Ackerbauplan,58,0))","v":""},null,"dt/ha",{"$f":"VLOOKUP($B$2,Ackerbauplan,60,0)","v":0},null,null,"€/dt",null,{"$f":"VLOOKUP($B$2,Ackerbauplan,59,0)","v":0}]
[null,"   Hauptleistung ",null,{"$f":"IF(VLOOKUP($B$2,Ackerbauplan,61,0)=\"\",\"\",VLOOKUP($B$2,Ackerbauplan,61,0))","v":""},null,"Saatgut ",null,{"$f":"G11","v":0},"€/ha","Marktleistung -"]
[null,null,"+ Nebenleistung ",{"$f":"IF($B$2=\"\",\"\",VLOOKUP($B$2,Anbauplan,62,0))","v":0},null,"Dünger ",null,{"$f":"SUM(G14:G28)","v":0},"€/ha","Saatgut, Dünger, PSM"]
[null,null,"= Marktleistung ",{"$f":"IF(D57=\"\",\"\",D58+D57)","v":""},null,"Pflanzenschutz ",null,{"$f":"G54","v":0},"€/ha",{"$f":"IF(D59=\"\",\"\",D59-H57-H58-H59)","v":""},null,null,"€/ha"]
[null,{"$f":"IF($B$2=\"\",\"\",VLOOKUP($B$2,Anbauplan,2,0))","v":0}]
[null,"Bearbeitung","Maschine 1",null,"Maschine 2",null,"Maschine 3",null,"Datum",null,"Bemerkung"]

{"sheet":"A28","index":37,"n_rows":61,"n_cols":30,"rows_kept":61,"cut":false,"hidden":true,"merged":[[13,27,13,28],[13,29,16,30],[6,7,6,12],[7,7,7,8],[8,7,8,8],[7,9,7,10],[8,9,8,10],[10,8,10,12],[73,2,73,3],[73,4,73,5],[73,6,73,7],[73,8,73,9],[73,10,73,12],[69,2,69,3],[69,4,69,5],[69,6,69,7],[69,8,69,9],[69,10,69,12],[70,2,70,3],[70,4,70,5],[70,6,70,7],[70,8,70,9],[70,10,70,12],[67,2,67,3],[67,4,67,5],[67,6,67,7],[74,2,74,3],[74,4,74,5],[74,6,74,7],[74,8,74,9],[74,10,74,12],[71,2,71,3],[71,4,71,5],[71,6,71,7],[71,8,71,9],[71,10,71,12],[72,2,72,3],[72,4,72,5],[72,6,72,7],[72,8,72,9],[72,10,72,12],[67,8,67,9],[67,10,67,12],[68,2,68,3],[68,4,68,5],[68,6,68,7],[68,8,68,9],[68,10,68,12],[65,2,65,3],[65,4,65,5],[65,6,65,7],[65,8,65,9],[65,10,65,12],[66,2,66,3],[66,4,66,5],[66,6,66,7],[66,8,66,9],[66,10,66,12],[63,2,63,3],[63,4,63,5],[63,6,63,7],[63,8,63,9],[63,10,63,12],[64,2,64,3],[64,4,64,5],[64,6,64,7],[64,8,64,9],[64,10,64,12],[61,2,61,3],[61,4,61,5],[61,6,61,7],[61,8,61,9],[61,10,61,12],[62,2,62,3],[62,4,62,5],[62,6,62,7],[62,8,62,9],[62,10,62,12],[58,3,58,4],[58,5,58,6],[58,9,58,11],[59,1,59,12],[60,2,60,3],[60,4,60,5],[60,6,60,7],[60,8,60,9],[60,10,60,12],[56,1,56,2],[56,3,56,4],[56,5,56,6],[56,9,56,12],[57,3,57,4],[57,5,57,6],[57,9,57,12],[52,7,52,9],[52,10,52,12],[53,1,53,5],[53,7,53,12],[54,1,54,6],[55,1,55,2],[55,3,55,4],[55,6,55,8],[55,9,55,10],[55,11,55,12],[49,7,49,9],[49,10,49,12],[50,7,50,9],[50,10,50,12],[51,7,51,9],[51,10,51,12],[46,7,46,9],[46,10,46,12],[47,7,47,9],[47,10,47,12],[48,7,48,9],[48,10,48,12],[43,7,43,9],[43,10,43,12],[44,7,44,9],[44,10,44,12],[45,7,45,9],[45,10,45,12],[40,7,40,9],[40,10,40,12],[41,7,41,9],[41,10,41,12],[42,7,42,9],[42,10,42,12],[37,7,37,9],[37,10,37,12],[38,7,38,9],[38,10,38,12],[39,7,39,9],[39,10,39,12],[34,7,34,9],[34,10,34,12],[35,7,35,9],[35,10,35,12],[36,7,36,9],[36,10,36,12],[31,7,31,9],[31,10,31,12],[32,7,32,9],[32,10,32,12],[32,16,32,20],[33,7,33,9],[33,10,33,12],[29,1,29,6],[29,7,29,8],[29,9,29,10],[30,0,30,1],[30,7,30,9],[30,10,30,12],[23,9,23,10],[24,9,24,10],[25,9,25,10],[26,9,26,10],[27,9,27,10],[28,1,28,6],[28,7,28,8],[28,9,28,10],[17,16,17,20],[18,9,18,10],[19,9,19,10],[20,9,20,10],[21,9,21,10],[22,9,22,10],[14,9,14,10],[15,9,15,10],[16,9,16,10],[17,9,17,10],[10,1,10,2],[9,7,9,12],[11,1,11,2],[11,4,11,6],[11,7,11,8],[11,9,11,10],[11,25,12,25],[33,22,33,23],[34,22,34,23],[0,1,0,12],[1,2,1,3],[1,4,1,6],[1,7,1,9],[1,10,1,12],[2,2,2,3],[2,4,2,6],[2,7,2,9],[2,10,2,12],[5,7,5,10],[5,11,5,12],[3,2,3,3],[3,4,3,6],[3,7,3,10],[3,11,3,12],[4,2,4,3],[4,4,4,6],[4,7,4,9],[4,10,4,12],[12,9,12,10],[13,9,13,10]]}
[null,"Ackerland"]
[null,28,"Name:",null,{"$f":"IF(B2=\"\",\"\",VLOOKUP(B2,Anbauplan,2,0))","v":0},null,null,"Jahr:",null,null,{"$f":"IF(Einführung!I8=\"\",\"\",Einführung!I8)","v":""},null,null,{"$f":"IF(OR(B4=\"\",H12=\"\"),\"\",H12*B4)","v":0},"DB kg * Fläche"]
[null,"Hektar ","Hauptfrucht ",null,{"$f":"IF(B2=\"\",\"\",VLOOKUP(B2,Ackerbauplan,4,0))","v":0},null,null,"Nitratkulisse",null,null,{"$f":"IF(B2=\"\",\"\",VLOOKUP(B2,Ackerbauplan,20,0))","v":0},null,null,{"$f":"L4","v":""},"kg/ha org. Dünger für Kontrollgrenze"]
[null,{"$f":"IF(B2=\"\",\"\",VLOOKUP(B2,Ackerbauplan,3,0))","v":0},"Vorfrucht",null,{"$f":"IF(B2=\"\",\"\",VLOOKUP(B2,Ackerbauplan,9,0))","v":0},null,null,"Wirtschaftsdünger zur Berechung\ndes 130 kg N/ha Anteils in kg/ha",null,null,null,{"$f":"IF(K3=\"ja\",W29,\"\")","v":""},null,{"$f":"IF(N3=\"\",\"\",N3*B4)","v":""},"kg Gesamtschlag org Dünger für 170 Kontrollgrenze",null,null,"Gesamt N","NH4-N","P2O5 mineral.","P2O5 organisch"]
[null,"Sorte","VorVorfrucht",null,null,null,null,"Phosphatkulisse",null,null,{"$f":"IF(B2=\"\",\"\",VLOOKUP(B2,Ackerbauplan,21,0))","v":0},null,null,{"$f":"IF(H12=\"\",\"\",IF(K3=\"ja\",N2*0.8,\"\"))","v":""},"Nitrat belastetes Gebiet Düngebedarf Gesamtschlag kg N/ha",null,"N Gesamt minerl.",{"$f":"SUMIF($N$14:$N$28,\"mineralisch\",$H$14:$H$28)*B4","v":0}]
[null,{"$f":"IF(B2=\"\",\"\",VLOOKUP(B2,Ackerbauplan,8,0))","v":0},null,null,null,null,null,"sonstige Auflagen",null,null,null,null,null,{"$f":"IF(K3=\"ja\",X30+Y30,\"\")","v":""},"org +min .anrechenbare N Menge Gesamtschlag  kg N/ha",null,"NH4-N minerlisch",null,{"$f":"SUMIF($N$14:$N$28,\"mineralisch\",$I$14:$I$28)*B4","v":0}]
[null,"Aussaatdatum","Kö./m² ",{"$f":"IF(B2=\"\",\"\",VLOOKUP(B2,Ackerbauplan,52,0))","v":0},null,"Eigen","Zukauf","Versorgungsstufen",null,null,null,null,null,{"$f":"IF(K3=\"ja\",J12*B4,\"\")","v":""},null,null,"N Gesamt organsich",{"$f":"SUMIF($N$14:$N$28,\"organisch\",$H$14:$H$28)*B4","v":0}]
[null,{"$f":"IF(B2=\"0\",\"\",VLOOKUP(B2,Ackerbauplan,51,0))","v":"00:00:00"},"x TKG ",{"$f":"IF(B2=\"\",\"\",VLOOKUP(B2,Ackerbauplan,53,0))","v":0},"dt/ha ",null,null,"Nmin",null,"P2O5",null,"K2O","MgO",null,null,null,"NH4-N organsich",null,{"$f":"SUMIF($N$14:$N$28,\"organisch\",I14:I28)*B4","v":0}]
[null,"Beize","/Kei.fäh.",{"$f":"IF(B2=\"\",\"\",VLOOKUP(B2,Ackerbauplan,54,0))","v":0},"€/dt",null,null,{"$f":"IF(B2=\"\",\"\",VLOOKUP(B2,Ackerbauplan,17,0))","v":0},null,{"$f":"IF(B2=\"\",\"\",VLOOKUP(B2,Ackerbauplan,30,0))","v":"C"},null,{"$f":"IF(B2=\"\",\"\",VLOOKUP(B2,Ackerbauplan,31,0))","v":"C"},{"$f":"IF(B2=\"\",\"\",VLOOKUP(B2,Ackerbauplan,32,0))","v":"C"},null,null,null,"P2O5 mineralisch",null,null,{"$f":"SUMIF($N$14:$N$28,\"mineralisch\",$J$14:$J$28)*B4","v":0}]
[null,null,"= kg/ha",{"$f":"IF(B2=\"\",\"\",VLOOKUP(B2,Ackerbauplan,55,0))","v":""},"€/ha ",{"$f":"F8*F9","v":0},{"$f":"G8*G9","v":0},"Düngebedarf kg/ha (Blatt Ackerfläche)",null,null,null,null,null,null,"Düngebedarf um 20% reduziert",null,"P2O5 organisch",null,null,null,{"$f":"SUMIF($N$14:$N$28,\"organisch\",$J$14:$J$28)*B4","v":0},null,null,null,null,null,null,{"$f":"IF(K3=\"ja\",\"Noch nicht ausgeschöpfter Stickstoff Düngebedarf aller Flächen\",\"\")","v":""}]
[null,"Saatgutkennnummer",null,null,null,"Summe",{"$f":"F10+G10","v":0},{"$f":"IF(H12=\"\",\"\",IF(K3=\"ja\",H12*0.8,\"\"))","v":""},{"$f":"IF(K3=\"ja\",O10,\"\")","v":""},null,null,null,null,null,null,null,"Sonstige organische Düngemittel",{"$f":"SUMIF($N$14:$N$28,Q11,$H$14:$H$28)*B4","v":0},{"$f":"SUMIF($N$14:$N$28,Q11,$I$14:$I$28)*B4","v":0},{"$f":"SUMIF($N$14:$N$28,Q11,$J$14:$J$28)*B4","v":0},null,null,null,null,null,null,null,{"$f":"IF(K3=\"ja\",'Zus. Anlage 5 DüV'!D43,\"\")","v":""},{"$f":"IF(K3=\"ja\",\"kg N Gesamtfläche\",\"\")","v":""}]
[null,null,null,null,"N Bedarf DÜV kg/ha",null,null,{"$f":"IF(B2=\"\",\"\",VLOOKUP(B2,Ackerbauplan,18,0))","v":"0"},null,{"$f":"IF(B2=\"\",\"\",VLOOKUP(B2,Ackerbauplan,37,0))","v":"0"},null,{"$f":"IF(B2=\"\",\"\",VLOOKUP(B2,Ackerbauplan,38,0))","v":"0"},null,null,null,null,"Bodenhilfsstoffe",{"$f":"SUMIF($N$14:$N$28,Q12,$H$14:$H$28)*B4","v":0},null,{"$f":"SUMIF($N$14:$N$28,Q12,$J$14:$J$28)*B4","v":0},null,"Anrechnung","Anrechnung ","Prüfung NH4","mineral","Kontroll\nSumme"]
[null,"Dünger","Datum","EC","m³o.dt/ha","€/dt","€/ha","Ges.-N","NH4-N","P2O5",null,"K2O","S",null,null,null,"Kultursubstrate",{"$f":"SUMIF($N$14:$N$28,Q13,$H$14:$H$28)*B4","v":0},null,{"$f":"SUMIF($N$14:$N$28,Q13,$J$14:$J$28)*B4","v":0},null,"aktuelles Jahr","170 kg GW"," oder Anlage3","Stickstoff"]
[null,null,null,null,null,{"$f":"IF(B14=\"\",\"\",VLOOKUP(B14,Düngemiteldaten,2,0))","v":""},{"$f":"IF(B14=\"\",\"\",E14*F14)","v":""},{"$f":"IF(B14=\"\",\"\",VLOOKUP(B14,Düngemiteldaten,4,0)*E14)","v":""},{"$f":"IF(B14=\"\",\"\",VLOOKUP(B14,Düngemiteldaten,5,0)*E14)","v":""},{"$f":"IF(B14=\"\",\"\",VLOOKUP(B14,Düngemiteldaten,7,0)*E14)","v":""},null,{"$f":"IF(B14=\"\",\"\",VLOOKUP(B14,Düngemiteldaten,8,0)*E14)","v":""},{"$f":"IF(B14=\"\",\"\",VLOOKUP(B14,Düngemiteldaten,10,0)*E14)","v":""},{"$f":"IF(B14=\"\",\"\",VLOOKUP(B14,Düngemiteldaten,20,0))","v":""},null,null,"Pflanzenhilfsmittel",{"$f":"SUMIF($N$14:$N$28,Q14,$H$14:$H$28)*B4","v":0},null,{"$f":"SUMIF($N$14:$N$28,Q14,$J$14:$J$28)*B4","v":0},null,{"$f":"IF(OR(B14=\"\",N14=\"\"),\"\",IF(N14=\"mineralisch\",\"\",VLOOKUP(B14,Düngemiteldaten,17,0)*VLOOKUP(B14,Düngemiteldaten,4,0)*E14))","v":""},{"$f":"IF(N14=\"organisch\",VLOOKUP(B14,Düngemiteldaten,4,0)*E14*VLOOKUP(B14,Düngemiteldaten,19,0),\"\")","v":""},{"$f":"IF(B14=\"\",\"\",IF(V14<I14,I14,V14))","v":""},{"$f":"IF(B14=\"\",\"\",IF(N14=\"organisch\",0,H14))","v":""},{"$f":"IF(SUM(V14:Y14)=0,\"\",SUM(X14:Y14))","v":""},null,{"$f":"IF(K3=\"ja\",\"Summe Gesamtstickstoff\",\"\")","v":""},null,{"$f":"IF(K3=\"ja\",\"Anteil § 13a Prüfung \n160 kg N/ha Gesamt\n80 kg N/ha mineralisch\",\"\")","v":""}]
[null,null,null,null,null,"",{"$f":"IF(B15=\"\",\"\",E15*F15)","v":""},"","","",null,"","","",null,null,"Abfälle zur Beseitigung (§ 28 Absatz 2 odeS 3 KSWG)",{"$f":"SUMIF($N$14:$N$28,Q15,$H$14:$H$28)*B4","v":0},null,{"$f":"SUMIF($N$14:$N$28,Q15,$J$14:$J$28)*B4","v":0},null,"","",{"$f":"IF(B15=\"\",\"\",IF(V15<I15,I15,V15))","v":""},{"$f":"IF(B15=\"\",\"\",IF(N15=\"organisch\",0,H15))","v":""},{"$f":"IF(SUM(V15:Y15)=0,\"\",SUM(X15:Y15))","v":""},null,{"$f":"IF(L4=\"\",\"\",SUMIF($N$14:$N$28,\"mineralisch\",$H$14:$H$28))","v":""},{"$f":"IF(K3=\"ja\",\"mineralisch N kg/ha\",\"\")","v":""}]
[null,null,null,null,null,"","","","","",null,"","","",null,null,null,null,null,null,null,"","","","","",null,{"$f":"IF(L4=\"\",\"\",SUMIF($N$14:$N$28,\"organisch\",$H$14:$H$28)+SUMIF($N$14:$N$28,Q11,$H$14:$H$28))","v":""},{"$f":"IF(K3=\"ja\",\"organisch N kg/ha\",\"\")","v":""}]
[null,null,null,null,null,"","","","","",null,"","","",null,null,null,null,null,null,null,{"$f":"IF(OR(B17=\"\",N17=\"\"),\"\",IF(N17=\"mineralisch\",\"\",VLOOKUP(B17,Düngemiteldaten,17,0)*VLOOKUP(B17,Düngemiteldaten,4,0)*E17))","v":""},"","","","",null,{"$f":"IF(K3=\"ja\",(AB16+AB15),\"\")","v":""},{"$f":"IF(K3=\"ja\",\"Gesamt kg N/ha\",\"\")","v":""}]
[null,null,null,null,null,"","","","","",null,"","","",null,null,"Nährstoffherkunft auf gefährdeten Flächen §13",null,null,null,null,"","","","",""]
[null,null,null,null,null,"","","","","",null,"","","",null,null,null,"Gesamt N","NH4-N","P2O5 mineral.","P2O5 organisch","","","","",""]
[null,null,null,null,null,"","","","","",null,"","","",null,null,"N Gesamt minerl.",{"$f":"IF(K3=\"ja\",SUMIF($N$14:$N$28,\"mineralisch\",$H$14:$H$28),0)*B4","v":0},null,null,null,"","","","",""]
[null,null,null,null,null,"","","","","",null,"","","",null,null,"NH4-N minerlisch",null,{"$f":"IF(K3=\"ja\",SUMIF($N$14:$N$28,\"mineralisch\",$I$14:$I$28),0)*B4","v":0},null,null,"","","","",""]
[null,null,null,null,null,"","","","","",null,"","","",null,null,"N Gesamt organsich",{"$f":"IF(K3=\"ja\",SUMIF($N$14:$N$28,\"organisch\",$H$14:$H$28),0)*B4","v":0},null,null,null,"","","","",""]
[null,null,null,null,null,"","","","","",null,"","","",null,null,"NH4-N organsich",null,{"$f":"IF(K3=\"ja\",SUMIF($N$14:$N$28,\"organisch\",$I$14:$I$28),0)*B4","v":0},null,null,"","","","",""]
[null,null,null,null,null,"","","","","",null,"","","",null,null,"P2O5 mineralisch",null,null,{"$f":"IF(K3=\"ja\",SUMIF($N$14:$N$28,\"mineralisch\",$J$14:$J$28),0)*B4","v":0},null,"","","","",""]
[null,null,null,null,null,"","","","","",null,"","","",null,null,"P2O5 organisch",null,null,null,{"$f":"IF(K3=\"ja\",SUMIF($N$14:$N$28,\"organisch\",$J$14:$J$28),0)*B4","v":0},"","","","",""]
[null,null,null,null,null,"","","","","",null,"","","",null,null,"Sonstige organische Düngemittel",{"$f":"IF(K3=\"ja\",SUMIF($N$14:$N$28,Q26,$H$14:$H$28),0)*B4","v":0},{"$f":"IF(K3=\"ja\",SUMIF($N$14:$N$28,Q26,$I$14:$I$28),0)*B4","v":0},{"$f":"IF(K3=\"ja\",SUMIF($N$14:$N$28,Q26,$J$14:$J$28),0)*B4","v":0},null,"","","","",""]
[null,null,null,null,null,"","","","","",null,"","","",null,null,"Bodenhilfsstoffe",{"$f":"IF(K3=\"ja\",SUMIF($N$14:$N$28,Q27,$H$14:$H$28),0)*B4","v":0},null,{"$f":"IF(K3=\"ja\",SUMIF($N$14:$N$28,Q27,$J$14:$J$28),0)*B4","v":0},null,"","","","",""]
[null,null,null,null,null,"","","","","",null,"","","",null,null,"Kultursubstrate",{"$f":"IF(K3=\"ja\",SUMIF($N$14:$N$28,Q28,$H$14:$H$28),0)*B4","v":0},null,{"$f":"IF(K3=\"ja\",SUMIF($N$14:$N$28,Q28,$J$14:$J$28),0)*B4","v":0},null,"","","","",""]
[null,"anrechenbarer N aus org.Dgg. + min. Dgg. kg N/ha",null,null,null,null,null,{"$f":"X29+Y29","v":0},null,{"$f":"SUM(J14:J28)","v":0},null,{"$f":"SUM(L14:L28)","v":0},{"$f":"SUM(M14:M28)","v":0},null,null,null,"Pflanzenhilfsmittel",{"$f":"IF(K3=\"ja\",SUMIF($N$14:$N$28,Q29,$H$14:$H$28),0)*B4","v":0},null,{"$f":"IF(K3=\"ja\",SUMIF($N$14:$N$28,Q29,$J$14:$J$28),0)*B4","v":0},null,{"$f":"SUM(V14:V28)","v":0},{"$f":"SUM(W14:W28)","v":0},{"$f":"SUM(X14:X28)","v":0},{"$f":"SUM(Y14:Y28)","v":0},"kg/ha"]
[null,{"$f":"IF(K3=\"0\",O31,O30)","v":"Bilanz (anrechenbarer Dgg.- reduzierter Düngebedarf) kg N/ha"},null,null,null,null,null,{"$f":"IF(H12=\"\",0,IF(OR(K3=0,K3=\"nein\"),H29-H12,H29-H11))","v":0},null,{"$f":"IF(J12=\"\",\"\",J29-J12)","v":0},null,{"$f":"IF(L12=\"\",\"\",L29-L12)","v":0},{"$f":"IF(M12=\"\",\"\",M29-M12)","v":""},null,"Bilanz (anrechenbarer Dgg.- reduzierter Düngebedarf) kg N/ha",null,"Abfälle zur Beseitigung (§ 28 Absatz 2 odeS 3 KSWG)",{"$f":"IF(K3=\"ja\",SUMIF($N$14:$N$28,Q30,$H$14:$H$28),0)*B4","v":0},null,{"$f":"IF(K3=\"ja\",SUMIF($N$14:$N$28,Q30,$J$14:$J$28),0)*B4","v":0},null,{"$f":"V29*B4","v":0},{"$f":"W29*B4","v":0},{"$f":"X29*B4","v":0},{"$f":"Y29*B4","v":0},"kg/Schlag",null,{"$f":"IF(H30>0,\"Stickstoffmenge überschreitet den Düngebedarf\",\"\")","v":""}]
["Pflanzenschutzmittel",null,"Datum","EC","E./ha","€/E.","€/ha","Anwender",null,null,"Bemerkungen",null,null,null,"Bilanz (anrechenbarer Dgg.- Düngebedarf) kg N/ha"]
[null,null,null,null,null,{"$f":"IF($B32=\"\",\"\",VLOOKUP($B32,PSMMittel,2,0))","v":""},{"$f":"IF(B32=\"\",\"\",E32*F32)","v":""}]
[null,null,null,null,null,"",{"$f":"IF(B33=\"\",\"\",E33*F33)","v":""},null,null,null,null,null,null,null,null,null,"Stickstoffherkunft nicht gefährdetes Gebiet Gesamtfläche"]
[null,null,null,null,null,"","",null,null,null,null,null,null,null,null,null,null,"Gesamt N","NH4-N","P2O5 mineral.","P2O5 organisch",null,"N Fixierung kg N/ha"]
[null,null,null,null,null,"","",null,null,null,null,null,null,null,null,null,"N Gesamt minerl.",{"$f":"R5-R20","v":0},null,null,null,null,{"$f":"IF(E3=0,\"\",VLOOKUP(E3,AckerbauKulturen,26,0)*G56*B4)","v":""}]
[null,null,null,null,null,"","",null,null,null,null,null,null,null,null,null,"NH4-N minerlisch",null,{"$f":"S6-S21","v":0}]
[null,null,null,null,null,"","",null,null,null,null,null,null,null,null,null,"N Gesamt organsich",{"$f":"R7-R22","v":0}]
[null,null,null,null,null,"","",null,null,null,null,null,null,null,null,null,"NH4-N organsich",null,{"$f":"S8-S23","v":0}]
[null,null,null,null,null,"","",null,null,null,null,null,null,null,null,null,"P2O5 mineralisch",null,null,{"$f":"T9-T24","v":0}]
[null,null,null,null,null,"","",null,null,null,null,null,null,null,null,null,"P2O5 organisch",null,null,null,{"$f":"U10-U25","v":0}]
[null,null,null,null,null,"","",null,null,null,null,null,null,null,null,null,"Sonstige organische Düngemittel",{"$f":"R11-R26","v":0},{"$f":"S11-S26","v":0},{"$f":"T11-T26","v":0}]
[null,null,null,null,null,"","",null,null,null,null,null,null,null,null,null,"Bodenhilfsstoffe",{"$f":"R12-R27","v":0},null,{"$f":"T12-T27","v":0}]
[null,null,null,null,null,"","",null,null,null,null,null,null,null,null,null,"Kultursubstrate",{"$f":"R13-R28","v":0},null,{"$f":"T13-T28","v":0}]
[null,null,null,null,null,"","",null,null,null,null,null,null,null,null,null,"Pflanzenhilfsmittel",{"$f":"R14-R29","v":0},null,{"$f":"T14-T29","v":0}]
[null,null,null,null,null,"","",null,null,null,null,null,null,null,null,null,"Abfälle zur Beseitigung (§ 28 Absatz 2 odeS 3 KSWG)",{"$f":"R15-R30","v":0},null,{"$f":"T15-T30","v":0}]
[null,null,null,null,null,"",""]
[null,null,null,null,null,"",""]
[null,null,null,null,null,"",""]
[null,null,null,null,null,"",""]
[null,null,null,null,null,"",""]
[null,null,null,null,null,"",""]
[null,null,null,null,null,"",""]
[null,null,null,null,null,"",""]
[null,"Summe",null,null,null,null,{"$f":"SUM(G32:G53)","v":0}]
[]
[null,"Erntedatum:",null,{"$f":"IF(VLOOKUP($B$2,Ackerbauplan,58,0)=\"\",\"\",VLOOKUP($B$2,Ackerbauplan,58,0))","v":""},null,"dt/ha",{"$f":"VLOOKUP($B$2,Ackerbauplan,60,0)","v":0},null,null,"€/dt",null,{"$f":"VLOOKUP($B$2,Ackerbauplan,59,0)","v":0}]
[null,"   Hauptleistung ",null,{"$f":"IF(VLOOKUP($B$2,Ackerbauplan,61,0)=\"\",\"\",VLOOKUP($B$2,Ackerbauplan,61,0))","v":""},null,"Saatgut ",null,{"$f":"G11","v":0},"€/ha","Marktleistung -"]
[null,null,"+ Nebenleistung ",{"$f":"IF($B$2=\"\",\"\",VLOOKUP($B$2,Anbauplan,62,0))","v":0},null,"Dünger ",null,{"$f":"SUM(G14:G28)","v":0},"€/ha","Saatgut, Dünger, PSM"]
[null,null,"= Marktleistung ",{"$f":"IF(D57=\"\",\"\",D58+D57)","v":""},null,"Pflanzenschutz ",null,{"$f":"G54","v":0},"€/ha",{"$f":"IF(D59=\"\",\"\",D59-H57-H58-H59)","v":""},null,null,"€/ha"]
[null,{"$f":"IF($B$2=\"\",\"\",VLOOKUP($B$2,Anbauplan,2,0))","v":0}]
[null,"Bearbeitung","Maschine 1",null,"Maschine 2",null,"Maschine 3",null,"Datum",null,"Bemerkung"]

{"sheet":"A29","index":38,"n_rows":61,"n_cols":30,"rows_kept":61,"cut":false,"hidden":true,"merged":[[13,27,13,28],[13,29,16,30],[6,7,6,12],[7,7,7,8],[8,7,8,8],[7,9,7,10],[8,9,8,10],[10,8,10,12],[73,2,73,3],[73,4,73,5],[73,6,73,7],[73,8,73,9],[73,10,73,12],[69,2,69,3],[69,4,69,5],[69,6,69,7],[69,8,69,9],[69,10,69,12],[70,2,70,3],[70,4,70,5],[70,6,70,7],[70,8,70,9],[70,10,70,12],[67,2,67,3],[67,4,67,5],[67,6,67,7],[74,2,74,3],[74,4,74,5],[74,6,74,7],[74,8,74,9],[74,10,74,12],[71,2,71,3],[71,4,71,5],[71,6,71,7],[71,8,71,9],[71,10,71,12],[72,2,72,3],[72,4,72,5],[72,6,72,7],[72,8,72,9],[72,10,72,12],[67,8,67,9],[67,10,67,12],[68,2,68,3],[68,4,68,5],[68,6,68,7],[68,8,68,9],[68,10,68,12],[65,2,65,3],[65,4,65,5],[65,6,65,7],[65,8,65,9],[65,10,65,12],[66,2,66,3],[66,4,66,5],[66,6,66,7],[66,8,66,9],[66,10,66,12],[63,2,63,3],[63,4,63,5],[63,6,63,7],[63,8,63,9],[63,10,63,12],[64,2,64,3],[64,4,64,5],[64,6,64,7],[64,8,64,9],[64,10,64,12],[61,2,61,3],[61,4,61,5],[61,6,61,7],[61,8,61,9],[61,10,61,12],[62,2,62,3],[62,4,62,5],[62,6,62,7],[62,8,62,9],[62,10,62,12],[58,3,58,4],[58,5,58,6],[58,9,58,11],[59,1,59,12],[60,2,60,3],[60,4,60,5],[60,6,60,7],[60,8,60,9],[60,10,60,12],[56,1,56,2],[56,3,56,4],[56,5,56,6],[56,9,56,12],[57,3,57,4],[57,5,57,6],[57,9,57,12],[52,7,52,9],[52,10,52,12],[53,1,53,5],[53,7,53,12],[54,1,54,6],[55,1,55,2],[55,3,55,4],[55,6,55,8],[55,9,55,10],[55,11,55,12],[49,7,49,9],[49,10,49,12],[50,7,50,9],[50,10,50,12],[51,7,51,9],[51,10,51,12],[46,7,46,9],[46,10,46,12],[47,7,47,9],[47,10,47,12],[48,7,48,9],[48,10,48,12],[43,7,43,9],[43,10,43,12],[44,7,44,9],[44,10,44,12],[45,7,45,9],[45,10,45,12],[40,7,40,9],[40,10,40,12],[41,7,41,9],[41,10,41,12],[42,7,42,9],[42,10,42,12],[37,7,37,9],[37,10,37,12],[38,7,38,9],[38,10,38,12],[39,7,39,9],[39,10,39,12],[34,7,34,9],[34,10,34,12],[35,7,35,9],[35,10,35,12],[36,7,36,9],[36,10,36,12],[31,7,31,9],[31,10,31,12],[32,7,32,9],[32,10,32,12],[32,16,32,20],[33,7,33,9],[33,10,33,12],[29,1,29,6],[29,7,29,8],[29,9,29,10],[30,0,30,1],[30,7,30,9],[30,10,30,12],[23,9,23,10],[24,9,24,10],[25,9,25,10],[26,9,26,10],[27,9,27,10],[28,1,28,6],[28,7,28,8],[28,9,28,10],[17,16,17,20],[18,9,18,10],[19,9,19,10],[20,9,20,10],[21,9,21,10],[22,9,22,10],[14,9,14,10],[15,9,15,10],[16,9,16,10],[17,9,17,10],[10,1,10,2],[9,7,9,12],[11,1,11,2],[11,4,11,6],[11,7,11,8],[11,9,11,10],[11,25,12,25],[33,22,33,23],[34,22,34,23],[0,1,0,12],[1,2,1,3],[1,4,1,6],[1,7,1,9],[1,10,1,12],[2,2,2,3],[2,4,2,6],[2,7,2,9],[2,10,2,12],[5,7,5,10],[5,11,5,12],[3,2,3,3],[3,4,3,6],[3,7,3,10],[3,11,3,12],[4,2,4,3],[4,4,4,6],[4,7,4,9],[4,10,4,12],[12,9,12,10],[13,9,13,10]]}
[null,"Ackerland"]
[null,29,"Name:",null,{"$f":"IF(B2=\"\",\"\",VLOOKUP(B2,Anbauplan,2,0))","v":0},null,null,"Jahr:",null,null,{"$f":"IF(Einführung!I8=\"\",\"\",Einführung!I8)","v":""},null,null,{"$f":"IF(OR(B4=\"\",H12=\"\"),\"\",H12*B4)","v":0},"DB kg * Fläche"]
[null,"Hektar ","Hauptfrucht ",null,{"$f":"IF(B2=\"\",\"\",VLOOKUP(B2,Ackerbauplan,4,0))","v":0},null,null,"Nitratkulisse",null,null,{"$f":"IF(B2=\"\",\"\",VLOOKUP(B2,Ackerbauplan,20,0))","v":0},null,null,{"$f":"L4","v":""},"kg/ha org. Dünger für Kontrollgrenze"]
[null,{"$f":"IF(B2=\"\",\"\",VLOOKUP(B2,Ackerbauplan,3,0))","v":0},"Vorfrucht",null,{"$f":"IF(B2=\"\",\"\",VLOOKUP(B2,Ackerbauplan,9,0))","v":0},null,null,"Wirtschaftsdünger zur Berechung\ndes 130 kg N/ha Anteils in kg/ha",null,null,null,{"$f":"IF(K3=\"ja\",W29,\"\")","v":""},null,{"$f":"IF(N3=\"\",\"\",N3*B4)","v":""},"kg Gesamtschlag org Dünger für 170 Kontrollgrenze",null,null,"Gesamt N","NH4-N","P2O5 mineral.","P2O5 organisch"]
[null,"Sorte","VorVorfrucht",null,null,null,null,"Phosphatkulisse",null,null,{"$f":"IF(B2=\"\",\"\",VLOOKUP(B2,Ackerbauplan,21,0))","v":0},null,null,{"$f":"IF(H12=\"\",\"\",IF(K3=\"ja\",N2*0.8,\"\"))","v":""},"Nitrat belastetes Gebiet Düngebedarf Gesamtschlag kg N/ha",null,"N Gesamt minerl.",{"$f":"SUMIF($N$14:$N$28,\"mineralisch\",$H$14:$H$28)*B4","v":0}]
[null,{"$f":"IF(B2=\"\",\"\",VLOOKUP(B2,Ackerbauplan,8,0))","v":0},null,null,null,null,null,"sonstige Auflagen",null,null,null,null,null,{"$f":"IF(K3=\"ja\",X30+Y30,\"\")","v":""},"org +min .anrechenbare N Menge Gesamtschlag  kg N/ha",null,"NH4-N minerlisch",null,{"$f":"SUMIF($N$14:$N$28,\"mineralisch\",$I$14:$I$28)*B4","v":0}]
[null,"Aussaatdatum","Kö./m² ",{"$f":"IF(B2=\"\",\"\",VLOOKUP(B2,Ackerbauplan,52,0))","v":0},null,"Eigen","Zukauf","Versorgungsstufen",null,null,null,null,null,"weizen2020",null,null,"N Gesamt organsich",{"$f":"SUMIF($N$14:$N$28,\"organisch\",$H$14:$H$28)*B4","v":0}]
[null,{"$f":"IF(B2=\"0\",\"\",VLOOKUP(B2,Ackerbauplan,51,0))","v":"00:00:00"},"x TKG ",{"$f":"IF(B2=\"\",\"\",VLOOKUP(B2,Ackerbauplan,53,0))","v":0},"dt/ha ",null,null,"Nmin",null,"P2O5",null,"K2O","MgO",null,null,null,"NH4-N organsich",null,{"$f":"SUMIF($N$14:$N$28,\"organisch\",I14:I28)*B4","v":0}]
[null,"Beize","/Kei.fäh.",{"$f":"IF(B2=\"\",\"\",VLOOKUP(B2,Ackerbauplan,54,0))","v":0},"€/dt",null,null,{"$f":"IF(B2=\"\",\"\",VLOOKUP(B2,Ackerbauplan,17,0))","v":0},null,{"$f":"IF(B2=\"\",\"\",VLOOKUP(B2,Ackerbauplan,30,0))","v":"C"},null,{"$f":"IF(B2=\"\",\"\",VLOOKUP(B2,Ackerbauplan,31,0))","v":"C"},{"$f":"IF(B2=\"\",\"\",VLOOKUP(B2,Ackerbauplan,32,0))","v":"C"},null,null,null,"P2O5 mineralisch",null,null,{"$f":"SUMIF($N$14:$N$28,\"mineralisch\",$J$14:$J$28)*B4","v":0}]
[null,null,"= kg/ha",{"$f":"IF(B2=\"\",\"\",VLOOKUP(B2,Ackerbauplan,55,0))","v":""},"€/ha ",{"$f":"F8*F9","v":0},{"$f":"G8*G9","v":0},"Düngebedarf kg/ha (Blatt Ackerfläche)",null,null,null,null,null,null,"Düngebedarf um 20% reduziert",null,"P2O5 organisch",null,null,null,{"$f":"SUMIF($N$14:$N$28,\"organisch\",$J$14:$J$28)*B4","v":0},null,null,null,null,null,null,{"$f":"IF(K3=\"ja\",\"Noch nicht ausgeschöpfter Stickstoff Düngebedarf aller Flächen\",\"\")","v":""}]
[null,"Saatgutkennnummer",null,null,null,"Summe",{"$f":"F10+G10","v":0},{"$f":"IF(H12=\"\",\"\",IF(K3=\"ja\",H12*0.8,\"\"))","v":""},{"$f":"IF(K3=\"ja\",O10,\"\")","v":""},null,null,null,null,null,null,null,"Sonstige organische Düngemittel",{"$f":"SUMIF($N$14:$N$28,Q11,$H$14:$H$28)*B4","v":0},{"$f":"SUMIF($N$14:$N$28,Q11,$I$14:$I$28)*B4","v":0},{"$f":"SUMIF($N$14:$N$28,Q11,$J$14:$J$28)*B4","v":0},null,null,null,null,null,null,null,{"$f":"IF(K3=\"ja\",'Zus. Anlage 5 DüV'!D43,\"\")","v":""},{"$f":"IF(K3=\"ja\",\"kg N Gesamtfläche\",\"\")","v":""}]
[null,null,null,null,"N Bedarf DÜV kg/ha",null,null,{"$f":"IF(B2=\"\",\"\",VLOOKUP(B2,Ackerbauplan,18,0))","v":"0"},null,{"$f":"IF(B2=\"\",\"\",VLOOKUP(B2,Ackerbauplan,37,0))","v":"0"},null,{"$f":"IF(B2=\"\",\"\",VLOOKUP(B2,Ackerbauplan,38,0))","v":"0"},null,null,null,null,"Bodenhilfsstoffe",{"$f":"SUMIF($N$14:$N$28,Q12,$H$14:$H$28)*B4","v":0},null,{"$f":"SUMIF($N$14:$N$28,Q12,$J$14:$J$28)*B4","v":0},null,"Anrechnung","Anrechnung ","Prüfung NH4","mineral","Kontroll\nSumme"]
[null,"Dünger","Datum","EC","m³o.dt/ha","€/dt","€/ha","Ges.-N","NH4-N","P2O5",null,"K2O","S",null,null,null,"Kultursubstrate",{"$f":"SUMIF($N$14:$N$28,Q13,$H$14:$H$28)*B4","v":0},null,{"$f":"SUMIF($N$14:$N$28,Q13,$J$14:$J$28)*B4","v":0},null,"aktuelles Jahr","170 kg GW"," oder Anlage3","Stickstoff"]
[null,null,null,null,null,{"$f":"IF(B14=\"\",\"\",VLOOKUP(B14,Düngemiteldaten,2,0))","v":""},{"$f":"IF(B14=\"\",\"\",E14*F14)","v":""},{"$f":"IF(B14=\"\",\"\",VLOOKUP(B14,Düngemiteldaten,4,0)*E14)","v":""},{"$f":"IF(B14=\"\",\"\",VLOOKUP(B14,Düngemiteldaten,5,0)*E14)","v":""},{"$f":"IF(B14=\"\",\"\",VLOOKUP(B14,Düngemiteldaten,7,0)*E14)","v":""},null,{"$f":"IF(B14=\"\",\"\",VLOOKUP(B14,Düngemiteldaten,8,0)*E14)","v":""},{"$f":"IF(B14=\"\",\"\",VLOOKUP(B14,Düngemiteldaten,10,0)*E14)","v":""},{"$f":"IF(B14=\"\",\"\",VLOOKUP(B14,Düngemiteldaten,20,0))","v":""},null,null,"Pflanzenhilfsmittel",{"$f":"SUMIF($N$14:$N$28,Q14,$H$14:$H$28)*B4","v":0},null,{"$f":"SUMIF($N$14:$N$28,Q14,$J$14:$J$28)*B4","v":0},null,{"$f":"IF(OR(B14=\"\",N14=\"\"),\"\",IF(N14=\"mineralisch\",\"\",VLOOKUP(B14,Düngemiteldaten,17,0)*VLOOKUP(B14,Düngemiteldaten,4,0)*E14))","v":""},{"$f":"IF(N14=\"organisch\",VLOOKUP(B14,Düngemiteldaten,4,0)*E14*VLOOKUP(B14,Düngemiteldaten,19,0),\"\")","v":""},{"$f":"IF(B14=\"\",\"\",IF(V14<I14,I14,V14))","v":""},{"$f":"IF(B14=\"\",\"\",IF(N14=\"organisch\",0,H14))","v":""},{"$f":"IF(SUM(V14:Y14)=0,\"\",SUM(X14:Y14))","v":""},null,{"$f":"IF(K3=\"ja\",\"Summe Gesamtstickstoff\",\"\")","v":""},null,{"$f":"IF(K3=\"ja\",\"Anteil § 13a Prüfung \n160 kg N/ha Gesamt\n80 kg N/ha mineralisch\",\"\")","v":""}]
[null,null,null,null,null,"",{"$f":"IF(B15=\"\",\"\",E15*F15)","v":""},"","","",null,"","","",null,null,"Abfälle zur Beseitigung (§ 28 Absatz 2 odeS 3 KSWG)",{"$f":"SUMIF($N$14:$N$28,Q15,$H$14:$H$28)*B4","v":0},null,{"$f":"SUMIF($N$14:$N$28,Q15,$J$14:$J$28)*B4","v":0},null,"","",{"$f":"IF(B15=\"\",\"\",IF(V15<I15,I15,V15))","v":""},{"$f":"IF(B15=\"\",\"\",IF(N15=\"organisch\",0,H15))","v":""},{"$f":"IF(SUM(V15:Y15)=0,\"\",SUM(X15:Y15))","v":""},null,{"$f":"IF(L4=\"\",\"\",SUMIF($N$14:$N$28,\"mineralisch\",$H$14:$H$28))","v":""},{"$f":"IF(K3=\"ja\",\"mineralisch N kg/ha\",\"\")","v":""}]
[null,null,null,null,null,"","","","","",null,"","","",null,null,null,null,null,null,null,"","","","","",null,{"$f":"IF(L4=\"\",\"\",SUMIF($N$14:$N$28,\"organisch\",$H$14:$H$28)+SUMIF($N$14:$N$28,Q11,$H$14:$H$28))","v":""},{"$f":"IF(K3=\"ja\",\"organisch N kg/ha\",\"\")","v":""}]
[null,null,null,null,null,"","","","","",null,"","","",null,null,null,null,null,null,null,{"$f":"IF(OR(B17=\"\",N17=\"\"),\"\",IF(N17=\"mineralisch\",\"\",VLOOKUP(B17,Düngemiteldaten,17,0)*VLOOKUP(B17,Düngemiteldaten,4,0)*E17))","v":""},"","","","",null,{"$f":"IF(K3=\"ja\",(AB16+AB15),\"\")","v":""},{"$f":"IF(K3=\"ja\",\"Gesamt kg N/ha\",\"\")","v":""}]
[null,null,null,null,null,"","","","","",null,"","","",null,null,"Nährstoffherkunft auf gefährdeten Flächen §13",null,null,null,null,"","","","",""]
[null,null,null,null,null,"","","","","",null,"","","",null,null,null,"Gesamt N","NH4-N","P2O5 mineral.","P2O5 organisch","","","","",""]
[null,null,null,null,null,"","","","","",null,"","","",null,null,"N Gesamt minerl.",{"$f":"IF(K3=\"ja\",SUMIF($N$14:$N$28,\"mineralisch\",$H$14:$H$28),0)*B4","v":0},null,null,null,"","","","",""]
[null,null,null,null,null,"","","","","",null,"","","",null,null,"NH4-N minerlisch",null,{"$f":"IF(K3=\"ja\",SUMIF($N$14:$N$28,\"mineralisch\",$I$14:$I$28),0)*B4","v":0},null,null,"","","","",""]
[null,null,null,null,null,"","","","","",null,"","","",null,null,"N Gesamt organsich",{"$f":"IF(K3=\"ja\",SUMIF($N$14:$N$28,\"organisch\",$H$14:$H$28),0)*B4","v":0},null,null,null,"","","","",""]
[null,null,null,null,null,"","","","","",null,"","","",null,null,"NH4-N organsich",null,{"$f":"IF(K3=\"ja\",SUMIF($N$14:$N$28,\"organisch\",$I$14:$I$28),0)*B4","v":0},null,null,"","","","",""]
[null,null,null,null,null,"","","","","",null,"","","",null,null,"P2O5 mineralisch",null,null,{"$f":"IF(K3=\"ja\",SUMIF($N$14:$N$28,\"mineralisch\",$J$14:$J$28),0)*B4","v":0},null,"","","","",""]
[null,null,null,null,null,"","","","","",null,"","","",null,null,"P2O5 organisch",null,null,null,{"$f":"IF(K3=\"ja\",SUMIF($N$14:$N$28,\"organisch\",$J$14:$J$28),0)*B4","v":0},"","","","",""]
[null,null,null,null,null,"","","","","",null,"","","",null,null,"Sonstige organische Düngemittel",{"$f":"IF(K3=\"ja\",SUMIF($N$14:$N$28,Q26,$H$14:$H$28),0)*B4","v":0},{"$f":"IF(K3=\"ja\",SUMIF($N$14:$N$28,Q26,$I$14:$I$28),0)*B4","v":0},{"$f":"IF(K3=\"ja\",SUMIF($N$14:$N$28,Q26,$J$14:$J$28),0)*B4","v":0},null,"","","","",""]
[null,null,null,null,null,"","","","","",null,"","","",null,null,"Bodenhilfsstoffe",{"$f":"IF(K3=\"ja\",SUMIF($N$14:$N$28,Q27,$H$14:$H$28),0)*B4","v":0},null,{"$f":"IF(K3=\"ja\",SUMIF($N$14:$N$28,Q27,$J$14:$J$28),0)*B4","v":0},null,"","","","",""]
[null,null,null,null,null,"","","","","",null,"","","",null,null,"Kultursubstrate",{"$f":"IF(K3=\"ja\",SUMIF($N$14:$N$28,Q28,$H$14:$H$28),0)*B4","v":0},null,{"$f":"IF(K3=\"ja\",SUMIF($N$14:$N$28,Q28,$J$14:$J$28),0)*B4","v":0},null,"","","","",""]
[null,"anrechenbarer N aus org.Dgg. + min. Dgg. kg N/ha",null,null,null,null,null,{"$f":"X29+Y29","v":0},null,{"$f":"SUM(J14:J28)","v":0},null,{"$f":"SUM(L14:L28)","v":0},{"$f":"SUM(M14:M28)","v":0},null,null,null,"Pflanzenhilfsmittel",{"$f":"IF(K3=\"ja\",SUMIF($N$14:$N$28,Q29,$H$14:$H$28),0)*B4","v":0},null,{"$f":"IF(K3=\"ja\",SUMIF($N$14:$N$28,Q29,$J$14:$J$28),0)*B4","v":0},null,{"$f":"SUM(V14:V28)","v":0},{"$f":"SUM(W14:W28)","v":0},{"$f":"SUM(X14:X28)","v":0},{"$f":"SUM(Y14:Y28)","v":0},"kg/ha"]
[null,{"$f":"IF(K3=\"0\",O31,O30)","v":"Bilanz (anrechenbarer Dgg.- reduzierter Düngebedarf) kg N/ha"},null,null,null,null,null,{"$f":"IF(H12=\"\",0,IF(OR(K3=0,K3=\"nein\"),H29-H12,H29-H11))","v":0},null,{"$f":"IF(J12=\"\",\"\",J29-J12)","v":0},null,{"$f":"IF(L12=\"\",\"\",L29-L12)","v":0},{"$f":"IF(M12=\"\",\"\",M29-M12)","v":""},null,"Bilanz (anrechenbarer Dgg.- reduzierter Düngebedarf) kg N/ha",null,"Abfälle zur Beseitigung (§ 28 Absatz 2 odeS 3 KSWG)",{"$f":"IF(K3=\"ja\",SUMIF($N$14:$N$28,Q30,$H$14:$H$28),0)*B4","v":0},null,{"$f":"IF(K3=\"ja\",SUMIF($N$14:$N$28,Q30,$J$14:$J$28),0)*B4","v":0},null,{"$f":"V29*B4","v":0},{"$f":"W29*B4","v":0},{"$f":"X29*B4","v":0},{"$f":"Y29*B4","v":0},"kg/Schlag",null,{"$f":"IF(H30>0,\"Stickstoffmenge überschreitet den Düngebedarf\",\"\")","v":""}]
["Pflanzenschutzmittel",null,"Datum","EC","E./ha","€/E.","€/ha","Anwender",null,null,"Bemerkungen",null,null,null,"Bilanz (anrechenbarer Dgg.- Düngebedarf) kg N/ha"]
[null,null,null,null,null,{"$f":"IF($B32=\"\",\"\",VLOOKUP($B32,PSMMittel,2,0))","v":""},{"$f":"IF(B32=\"\",\"\",E32*F32)","v":""}]
[null,null,null,null,null,"",{"$f":"IF(B33=\"\",\"\",E33*F33)","v":""},null,null,null,null,null,null,null,null,null,"Stickstoffherkunft nicht gefährdetes Gebiet Gesamtfläche"]
[null,null,null,null,null,"","",null,null,null,null,null,null,null,null,null,null,"Gesamt N","NH4-N","P2O5 mineral.","P2O5 organisch",null,"N Fixierung kg N/ha"]
[null,null,null,null,null,"","",null,null,null,null,null,null,null,null,null,"N Gesamt minerl.",{"$f":"R5-R20","v":0},null,null,null,null,{"$f":"IF(E3=0,\"\",VLOOKUP(E3,AckerbauKulturen,26,0)*G56*B4)","v":""}]
[null,null,null,null,null,"","",null,null,null,null,null,null,null,null,null,"NH4-N minerlisch",null,{"$f":"S6-S21","v":0}]
[null,null,null,null,null,"","",null,null,null,null,null,null,null,null,null,"N Gesamt organsich",{"$f":"R7-R22","v":0}]
[null,null,null,null,null,"","",null,null,null,null,null,null,null,null,null,"NH4-N organsich",null,{"$f":"S8-S23","v":0}]
[null,null,null,null,null,"","",null,null,null,null,null,null,null,null,null,"P2O5 mineralisch",null,null,{"$f":"T9-T24","v":0}]
[null,null,null,null,null,"","",null,null,null,null,null,null,null,null,null,"P2O5 organisch",null,null,null,{"$f":"U10-U25","v":0}]
[null,null,null,null,null,"","",null,null,null,null,null,null,null,null,null,"Sonstige organische Düngemittel",{"$f":"R11-R26","v":0},{"$f":"S11-S26","v":0},{"$f":"T11-T26","v":0}]
[null,null,null,null,null,"","",null,null,null,null,null,null,null,null,null,"Bodenhilfsstoffe",{"$f":"R12-R27","v":0},null,{"$f":"T12-T27","v":0}]
[null,null,null,null,null,"","",null,null,null,null,null,null,null,null,null,"Kultursubstrate",{"$f":"R13-R28","v":0},null,{"$f":"T13-T28","v":0}]
[null,null,null,null,null,"","",null,null,null,null,null,null,null,null,null,"Pflanzenhilfsmittel",{"$f":"R14-R29","v":0},null,{"$f":"T14-T29","v":0}]
[null,null,null,null,null,"","",null,null,null,null,null,null,null,null,null,"Abfälle zur Beseitigung (§ 28 Absatz 2 odeS 3 KSWG)",{"$f":"R15-R30","v":0},null,{"$f":"T15-T30","v":0}]
[null,null,null,null,null,"",""]
[null,null,null,null,null,"",""]
[null,null,null,null,null,"",""]
[null,null,null,null,null,"",""]
[null,null,null,null,null,"",""]
[null,null,null,null,null,"",""]
[null,null,null,null,null,"",""]
[null,null,null,null,null,"",""]
[null,"Summe",null,null,null,null,{"$f":"SUM(G32:G53)","v":0}]
[]
[null,"Erntedatum:",null,{"$f":"IF(VLOOKUP($B$2,Ackerbauplan,58,0)=\"\",\"\",VLOOKUP($B$2,Ackerbauplan,58,0))","v":""},null,"dt/ha",{"$f":"VLOOKUP($B$2,Ackerbauplan,60,0)","v":0},null,null,"€/dt",null,{"$f":"VLOOKUP($B$2,Ackerbauplan,59,0)","v":0}]
[null,"   Hauptleistung ",null,{"$f":"IF(VLOOKUP($B$2,Ackerbauplan,61,0)=\"\",\"\",VLOOKUP($B$2,Ackerbauplan,61,0))","v":""},null,"Saatgut ",null,{"$f":"G11","v":0},"€/ha","Marktleistung -"]
[null,null,"+ Nebenleistung ",{"$f":"IF($B$2=\"\",\"\",VLOOKUP($B$2,Anbauplan,62,0))","v":0},null,"Dünger ",null,{"$f":"SUM(G14:G28)","v":0},"€/ha","Saatgut, Dünger, PSM"]
[null,null,"= Marktleistung ",{"$f":"IF(D57=\"\",\"\",D58+D57)","v":""},null,"Pflanzenschutz ",null,{"$f":"G54","v":0},"€/ha",{"$f":"IF(D59=\"\",\"\",D59-H57-H58-H59)","v":""},null,null,"€/ha"]
[null,{"$f":"IF($B$2=\"\",\"\",VLOOKUP($B$2,Anbauplan,2,0))","v":0}]
[null,"Bearbeitung","Maschine 1",null,"Maschine 2",null,"Maschine 3",null,"Datum",null,"Bemerkung"]

{"sheet":"A30","index":39,"n_rows":61,"n_cols":30,"rows_kept":61,"cut":false,"hidden":true,"merged":[[13,27,13,28],[13,29,16,30],[6,7,6,12],[7,7,7,8],[8,7,8,8],[7,9,7,10],[8,9,8,10],[10,8,10,12],[73,2,73,3],[73,4,73,5],[73,6,73,7],[73,8,73,9],[73,10,73,12],[69,2,69,3],[69,4,69,5],[69,6,69,7],[69,8,69,9],[69,10,69,12],[70,2,70,3],[70,4,70,5],[70,6,70,7],[70,8,70,9],[70,10,70,12],[67,2,67,3],[67,4,67,5],[67,6,67,7],[74,2,74,3],[74,4,74,5],[74,6,74,7],[74,8,74,9],[74,10,74,12],[71,2,71,3],[71,4,71,5],[71,6,71,7],[71,8,71,9],[71,10,71,12],[72,2,72,3],[72,4,72,5],[72,6,72,7],[72,8,72,9],[72,10,72,12],[67,8,67,9],[67,10,67,12],[68,2,68,3],[68,4,68,5],[68,6,68,7],[68,8,68,9],[68,10,68,12],[65,2,65,3],[65,4,65,5],[65,6,65,7],[65,8,65,9],[65,10,65,12],[66,2,66,3],[66,4,66,5],[66,6,66,7],[66,8,66,9],[66,10,66,12],[63,2,63,3],[63,4,63,5],[63,6,63,7],[63,8,63,9],[63,10,63,12],[64,2,64,3],[64,4,64,5],[64,6,64,7],[64,8,64,9],[64,10,64,12],[61,2,61,3],[61,4,61,5],[61,6,61,7],[61,8,61,9],[61,10,61,12],[62,2,62,3],[62,4,62,5],[62,6,62,7],[62,8,62,9],[62,10,62,12],[58,3,58,4],[58,5,58,6],[58,9,58,11],[59,1,59,12],[60,2,60,3],[60,4,60,5],[60,6,60,7],[60,8,60,9],[60,10,60,12],[56,1,56,2],[56,3,56,4],[56,5,56,6],[56,9,56,12],[57,3,57,4],[57,5,57,6],[57,9,57,12],[52,7,52,9],[52,10,52,12],[53,1,53,5],[53,7,53,12],[54,1,54,6],[55,1,55,2],[55,3,55,4],[55,6,55,8],[55,9,55,10],[55,11,55,12],[49,7,49,9],[49,10,49,12],[50,7,50,9],[50,10,50,12],[51,7,51,9],[51,10,51,12],[46,7,46,9],[46,10,46,12],[47,7,47,9],[47,10,47,12],[48,7,48,9],[48,10,48,12],[43,7,43,9],[43,10,43,12],[44,7,44,9],[44,10,44,12],[45,7,45,9],[45,10,45,12],[40,7,40,9],[40,10,40,12],[41,7,41,9],[41,10,41,12],[42,7,42,9],[42,10,42,12],[37,7,37,9],[37,10,37,12],[38,7,38,9],[38,10,38,12],[39,7,39,9],[39,10,39,12],[34,7,34,9],[34,10,34,12],[35,7,35,9],[35,10,35,12],[36,7,36,9],[36,10,36,12],[31,7,31,9],[31,10,31,12],[32,7,32,9],[32,10,32,12],[32,16,32,20],[33,7,33,9],[33,10,33,12],[29,1,29,6],[29,7,29,8],[29,9,29,10],[30,0,30,1],[30,7,30,9],[30,10,30,12],[23,9,23,10],[24,9,24,10],[25,9,25,10],[26,9,26,10],[27,9,27,10],[28,1,28,6],[28,7,28,8],[28,9,28,10],[17,16,17,20],[18,9,18,10],[19,9,19,10],[20,9,20,10],[21,9,21,10],[22,9,22,10],[14,9,14,10],[15,9,15,10],[16,9,16,10],[17,9,17,10],[10,1,10,2],[9,7,9,12],[11,1,11,2],[11,4,11,6],[11,7,11,8],[11,9,11,10],[11,25,12,25],[33,22,33,23],[34,22,34,23],[0,1,0,12],[1,2,1,3],[1,4,1,6],[1,7,1,9],[1,10,1,12],[2,2,2,3],[2,4,2,6],[2,7,2,9],[2,10,2,12],[5,7,5,10],[5,11,5,12],[3,2,3,3],[3,4,3,6],[3,7,3,10],[3,11,3,12],[4,2,4,3],[4,4,4,6],[4,7,4,9],[4,10,4,12],[12,9,12,10],[13,9,13,10]]}
[null,"Ackerland"]
[null,30,"Name:",null,{"$f":"IF(B2=\"\",\"\",VLOOKUP(B2,Anbauplan,2,0))","v":0},null,null,"Jahr:",null,null,{"$f":"IF(Einführung!I8=\"\",\"\",Einführung!I8)","v":""},null,null,{"$f":"IF(OR(B4=\"\",H12=\"\"),\"\",H12*B4)","v":0},"DB kg * Fläche"]
[null,"Hektar ","Hauptfrucht ",null,{"$f":"IF(B2=\"\",\"\",VLOOKUP(B2,Ackerbauplan,4,0))","v":0},null,null,"Nitratkulisse",null,null,{"$f":"IF(B2=\"\",\"\",VLOOKUP(B2,Ackerbauplan,20,0))","v":0},null,null,{"$f":"L4","v":""},"kg/ha org. Dünger für Kontrollgrenze"]
[null,{"$f":"IF(B2=\"\",\"\",VLOOKUP(B2,Ackerbauplan,3,0))","v":0},"Vorfrucht",null,{"$f":"IF(B2=\"\",\"\",VLOOKUP(B2,Ackerbauplan,9,0))","v":0},null,null,"Wirtschaftsdünger zur Berechung\ndes 130 kg N/ha Anteils in kg/ha",null,null,null,{"$f":"IF(K3=\"ja\",W29,\"\")","v":""},null,{"$f":"IF(N3=\"\",\"\",N3*B4)","v":""},"kg Gesamtschlag org Dünger für 170 Kontrollgrenze",null,null,"Gesamt N","NH4-N","P2O5 mineral.","P2O5 organisch"]
[null,"Sorte","VorVorfrucht",null,null,null,null,"Phosphatkulisse",null,null,{"$f":"IF(B2=\"\",\"\",VLOOKUP(B2,Ackerbauplan,21,0))","v":0},null,null,{"$f":"IF(H12=\"\",\"\",IF(K3=\"ja\",N2*0.8,\"\"))","v":""},"Nitrat belastetes Gebiet Düngebedarf Gesamtschlag kg N/ha",null,"N Gesamt minerl.",{"$f":"SUMIF($N$14:$N$28,\"mineralisch\",$H$14:$H$28)*B4","v":0}]
[null,{"$f":"IF(B2=\"\",\"\",VLOOKUP(B2,Ackerbauplan,8,0))","v":0},null,null,null,null,null,"sonstige Auflagen",null,null,null,null,null,{"$f":"IF(K3=\"ja\",X30+Y30,\"\")","v":""},"org +min .anrechenbare N Menge Gesamtschlag  kg N/ha",null,"NH4-N minerlisch",null,{"$f":"SUMIF($N$14:$N$28,\"mineralisch\",$I$14:$I$28)*B4","v":0}]
[null,"Aussaatdatum","Kö./m² ",{"$f":"IF(B2=\"\",\"\",VLOOKUP(B2,Ackerbauplan,52,0))","v":0},null,"Eigen","Zukauf","Versorgungsstufen",null,null,null,null,null,{"$f":"IF(K3=\"ja\",J12*B4,\"\")","v":""},null,null,"N Gesamt organsich",{"$f":"SUMIF($N$14:$N$28,\"organisch\",$H$14:$H$28)*B4","v":0}]
[null,{"$f":"IF(B2=\"0\",\"\",VLOOKUP(B2,Ackerbauplan,51,0))","v":"00:00:00"},"x TKG ",{"$f":"IF(B2=\"\",\"\",VLOOKUP(B2,Ackerbauplan,53,0))","v":0},"dt/ha ",null,null,"Nmin",null,"P2O5",null,"K2O","MgO",null,null,null,"NH4-N organsich",null,{"$f":"SUMIF($N$14:$N$28,\"organisch\",I14:I28)*B4","v":0}]
[null,"Beize","/Kei.fäh.",{"$f":"IF(B2=\"\",\"\",VLOOKUP(B2,Ackerbauplan,54,0))","v":0},"€/dt",null,null,{"$f":"IF(B2=\"\",\"\",VLOOKUP(B2,Ackerbauplan,17,0))","v":0},null,{"$f":"IF(B2=\"\",\"\",VLOOKUP(B2,Ackerbauplan,30,0))","v":"C"},null,{"$f":"IF(B2=\"\",\"\",VLOOKUP(B2,Ackerbauplan,31,0))","v":"C"},{"$f":"IF(B2=\"\",\"\",VLOOKUP(B2,Ackerbauplan,32,0))","v":"C"},null,null,null,"P2O5 mineralisch",null,null,{"$f":"SUMIF($N$14:$N$28,\"mineralisch\",$J$14:$J$28)*B4","v":0}]
[null,null,"= kg/ha",{"$f":"IF(B2=\"\",\"\",VLOOKUP(B2,Ackerbauplan,55,0))","v":""},"€/ha ",{"$f":"F8*F9","v":0},{"$f":"G8*G9","v":0},"Düngebedarf kg/ha (Blatt Ackerfläche)",null,null,null,null,null,null,"Düngebedarf um 20% reduziert",null,"P2O5 organisch",null,null,null,{"$f":"SUMIF($N$14:$N$28,\"organisch\",$J$14:$J$28)*B4","v":0},null,null,null,null,null,null,{"$f":"IF(K3=\"ja\",\"Noch nicht ausgeschöpfter Stickstoff Düngebedarf aller Flächen\",\"\")","v":""}]
[null,"Saatgutkennnummer",null,null,null,"Summe",{"$f":"F10+G10","v":0},{"$f":"IF(H12=\"\",\"\",IF(K3=\"ja\",H12*0.8,\"\"))","v":""},{"$f":"IF(K3=\"ja\",O10,\"\")","v":""},null,null,null,null,null,null,null,"Sonstige organische Düngemittel",{"$f":"SUMIF($N$14:$N$28,Q11,$H$14:$H$28)*B4","v":0},{"$f":"SUMIF($N$14:$N$28,Q11,$I$14:$I$28)*B4","v":0},{"$f":"SUMIF($N$14:$N$28,Q11,$J$14:$J$28)*B4","v":0},null,null,null,null,null,null,null,{"$f":"IF(K3=\"ja\",'Zus. Anlage 5 DüV'!D43,\"\")","v":""},{"$f":"IF(K3=\"ja\",\"kg N Gesamtfläche\",\"\")","v":""}]
[null,null,null,null,"N Bedarf DÜV kg/ha",null,null,{"$f":"IF(B2=\"\",\"\",VLOOKUP(B2,Ackerbauplan,18,0))","v":"0"},null,{"$f":"IF(B2=\"\",\"\",VLOOKUP(B2,Ackerbauplan,37,0))","v":"0"},null,{"$f":"IF(B2=\"\",\"\",VLOOKUP(B2,Ackerbauplan,38,0))","v":"0"},null,null,null,null,"Bodenhilfsstoffe",{"$f":"SUMIF($N$14:$N$28,Q12,$H$14:$H$28)*B4","v":0},null,{"$f":"SUMIF($N$14:$N$28,Q12,$J$14:$J$28)*B4","v":0},null,"Anrechnung","Anrechnung ","Prüfung NH4","mineral","Kontroll\nSumme"]
[null,"Dünger","Datum","EC","m³o.dt/ha","€/dt","€/ha","Ges.-N","NH4-N","P2O5",null,"K2O","S",null,null,null,"Kultursubstrate",{"$f":"SUMIF($N$14:$N$28,Q13,$H$14:$H$28)*B4","v":0},null,{"$f":"SUMIF($N$14:$N$28,Q13,$J$14:$J$28)*B4","v":0},null,"aktuelles Jahr","170 kg GW"," oder Anlage3","Stickstoff"]
[null,null,null,null,null,{"$f":"IF(B14=\"\",\"\",VLOOKUP(B14,Düngemiteldaten,2,0))","v":""},{"$f":"IF(B14=\"\",\"\",E14*F14)","v":""},{"$f":"IF(B14=\"\",\"\",VLOOKUP(B14,Düngemiteldaten,4,0)*E14)","v":""},{"$f":"IF(B14=\"\",\"\",VLOOKUP(B14,Düngemiteldaten,5,0)*E14)","v":""},{"$f":"IF(B14=\"\",\"\",VLOOKUP(B14,Düngemiteldaten,7,0)*E14)","v":""},null,{"$f":"IF(B14=\"\",\"\",VLOOKUP(B14,Düngemiteldaten,8,0)*E14)","v":""},{"$f":"IF(B14=\"\",\"\",VLOOKUP(B14,Düngemiteldaten,10,0)*E14)","v":""},{"$f":"IF(B14=\"\",\"\",VLOOKUP(B14,Düngemiteldaten,20,0))","v":""},null,null,"Pflanzenhilfsmittel",{"$f":"SUMIF($N$14:$N$28,Q14,$H$14:$H$28)*B4","v":0},null,{"$f":"SUMIF($N$14:$N$28,Q14,$J$14:$J$28)*B4","v":0},null,{"$f":"IF(OR(B14=\"\",N14=\"\"),\"\",IF(N14=\"mineralisch\",\"\",VLOOKUP(B14,Düngemiteldaten,17,0)*VLOOKUP(B14,Düngemiteldaten,4,0)*E14))","v":""},{"$f":"IF(N14=\"organisch\",VLOOKUP(B14,Düngemiteldaten,4,0)*E14*VLOOKUP(B14,Düngemiteldaten,19,0),\"\")","v":""},{"$f":"IF(B14=\"\",\"\",IF(V14<I14,I14,V14))","v":""},{"$f":"IF(B14=\"\",\"\",IF(N14=\"organisch\",0,H14))","v":""},{"$f":"IF(SUM(V14:Y14)=0,\"\",SUM(X14:Y14))","v":""},null,{"$f":"IF(K3=\"ja\",\"Summe Gesamtstickstoff\",\"\")","v":""},null,{"$f":"IF(K3=\"ja\",\"Anteil § 13a Prüfung \n160 kg N/ha Gesamt\n80 kg N/ha mineralisch\",\"\")","v":""}]
[null,null,null,null,null,"",{"$f":"IF(B15=\"\",\"\",E15*F15)","v":""},"","","",null,"","","",null,null,"Abfälle zur Beseitigung (§ 28 Absatz 2 odeS 3 KSWG)",{"$f":"SUMIF($N$14:$N$28,Q15,$H$14:$H$28)*B4","v":0},null,{"$f":"SUMIF($N$14:$N$28,Q15,$J$14:$J$28)*B4","v":0},null,"","",{"$f":"IF(B15=\"\",\"\",IF(V15<I15,I15,V15))","v":""},{"$f":"IF(B15=\"\",\"\",IF(N15=\"organisch\",0,H15))","v":""},{"$f":"IF(SUM(V15:Y15)=0,\"\",SUM(X15:Y15))","v":""},null,{"$f":"IF(L4=\"\",\"\",SUMIF($N$14:$N$28,\"mineralisch\",$H$14:$H$28))","v":""},{"$f":"IF(K3=\"ja\",\"mineralisch N kg/ha\",\"\")","v":""}]
[null,null,null,null,null,"","","","","",null,"","","",null,null,null,null,null,null,null,"","","","","",null,{"$f":"IF(L4=\"\",\"\",SUMIF($N$14:$N$28,\"organisch\",$H$14:$H$28)+SUMIF($N$14:$N$28,Q11,$H$14:$H$28))","v":""},{"$f":"IF(K3=\"ja\",\"organisch N kg/ha\",\"\")","v":""}]
[null,null,null,null,null,"","","","","",null,"","","",null,null,null,null,null,null,null,{"$f":"IF(OR(B17=\"\",N17=\"\"),\"\",IF(N17=\"mineralisch\",\"\",VLOOKUP(B17,Düngemiteldaten,17,0)*VLOOKUP(B17,Düngemiteldaten,4,0)*E17))","v":""},"","","","",null,{"$f":"IF(K3=\"ja\",(AB16+AB15),\"\")","v":""},{"$f":"IF(K3=\"ja\",\"Gesamt kg N/ha\",\"\")","v":""}]
[null,null,null,null,null,"","","","","",null,"","","",null,null,"Nährstoffherkunft auf gefährdeten Flächen §13",null,null,null,null,"","","","",""]
[null,null,null,null,null,"","","","","",null,"","","",null,null,null,"Gesamt N","NH4-N","P2O5 mineral.","P2O5 organisch","","","","",""]
[null,null,null,null,null,"","","","","",null,"","","",null,null,"N Gesamt minerl.",{"$f":"IF(K3=\"ja\",SUMIF($N$14:$N$28,\"mineralisch\",$H$14:$H$28),0)*B4","v":0},null,null,null,"","","","",""]
[null,null,null,null,null,"","","","","",null,"","","",null,null,"NH4-N minerlisch",null,{"$f":"IF(K3=\"ja\",SUMIF($N$14:$N$28,\"mineralisch\",$I$14:$I$28),0)*B4","v":0},null,null,"","","","",""]
[null,null,null,null,null,"","","","","",null,"","","",null,null,"N Gesamt organsich",{"$f":"IF(K3=\"ja\",SUMIF($N$14:$N$28,\"organisch\",$H$14:$H$28),0)*B4","v":0},null,null,null,"","","","",""]
[null,null,null,null,null,"","","","","",null,"","","",null,null,"NH4-N organsich",null,{"$f":"IF(K3=\"ja\",SUMIF($N$14:$N$28,\"organisch\",$I$14:$I$28),0)*B4","v":0},null,null,"","","","",""]
[null,null,null,null,null,"","","","","",null,"","","",null,null,"P2O5 mineralisch",null,null,{"$f":"IF(K3=\"ja\",SUMIF($N$14:$N$28,\"mineralisch\",$J$14:$J$28),0)*B4","v":0},null,"","","","",""]
[null,null,null,null,null,"","","","","",null,"","","",null,null,"P2O5 organisch",null,null,null,{"$f":"IF(K3=\"ja\",SUMIF($N$14:$N$28,\"organisch\",$J$14:$J$28),0)*B4","v":0},"","","","",""]
[null,null,null,null,null,"","","","","",null,"","","",null,null,"Sonstige organische Düngemittel",{"$f":"IF(K3=\"ja\",SUMIF($N$14:$N$28,Q26,$H$14:$H$28),0)*B4","v":0},{"$f":"IF(K3=\"ja\",SUMIF($N$14:$N$28,Q26,$I$14:$I$28),0)*B4","v":0},{"$f":"IF(K3=\"ja\",SUMIF($N$14:$N$28,Q26,$J$14:$J$28),0)*B4","v":0},null,"","","","",""]
[null,null,null,null,null,"","","","","",null,"","","",null,null,"Bodenhilfsstoffe",{"$f":"IF(K3=\"ja\",SUMIF($N$14:$N$28,Q27,$H$14:$H$28),0)*B4","v":0},null,{"$f":"IF(K3=\"ja\",SUMIF($N$14:$N$28,Q27,$J$14:$J$28),0)*B4","v":0},null,"","","","",""]
[null,null,null,null,null,"","","","","",null,"","","",null,null,"Kultursubstrate",{"$f":"IF(K3=\"ja\",SUMIF($N$14:$N$28,Q28,$H$14:$H$28),0)*B4","v":0},null,{"$f":"IF(K3=\"ja\",SUMIF($N$14:$N$28,Q28,$J$14:$J$28),0)*B4","v":0},null,"","","","",""]
[null,"anrechenbarer N aus org.Dgg. + min. Dgg. kg N/ha",null,null,null,null,null,{"$f":"X29+Y29","v":0},null,{"$f":"SUM(J14:J28)","v":0},null,{"$f":"SUM(L14:L28)","v":0},{"$f":"SUM(M14:M28)","v":0},null,null,null,"Pflanzenhilfsmittel",{"$f":"IF(K3=\"ja\",SUMIF($N$14:$N$28,Q29,$H$14:$H$28),0)*B4","v":0},null,{"$f":"IF(K3=\"ja\",SUMIF($N$14:$N$28,Q29,$J$14:$J$28),0)*B4","v":0},null,{"$f":"SUM(V14:V28)","v":0},{"$f":"SUM(W14:W28)","v":0},{"$f":"SUM(X14:X28)","v":0},{"$f":"SUM(Y14:Y28)","v":0},"kg/ha"]
[null,{"$f":"IF(K3=\"0\",O31,O30)","v":"Bilanz (anrechenbarer Dgg.- reduzierter Düngebedarf) kg N/ha"},null,null,null,null,null,{"$f":"IF(H12=\"\",0,IF(OR(K3=0,K3=\"nein\"),H29-H12,H29-H11))","v":0},null,{"$f":"IF(J12=\"\",\"\",J29-J12)","v":0},null,{"$f":"IF(L12=\"\",\"\",L29-L12)","v":0},{"$f":"IF(M12=\"\",\"\",M29-M12)","v":""},null,"Bilanz (anrechenbarer Dgg.- reduzierter Düngebedarf) kg N/ha",null,"Abfälle zur Beseitigung (§ 28 Absatz 2 odeS 3 KSWG)",{"$f":"IF(K3=\"ja\",SUMIF($N$14:$N$28,Q30,$H$14:$H$28),0)*B4","v":0},null,{"$f":"IF(K3=\"ja\",SUMIF($N$14:$N$28,Q30,$J$14:$J$28),0)*B4","v":0},null,{"$f":"V29*B4","v":0},{"$f":"W29*B4","v":0},{"$f":"X29*B4","v":0},{"$f":"Y29*B4","v":0},"kg/Schlag",null,{"$f":"IF(H30>0,\"Stickstoffmenge überschreitet den Düngebedarf\",\"\")","v":""}]
["Pflanzenschutzmittel",null,"Datum","EC","E./ha","€/E.","€/ha","Anwender",null,null,"Bemerkungen",null,null,null,"Bilanz (anrechenbarer Dgg.- Düngebedarf) kg N/ha"]
[null,null,null,null,null,{"$f":"IF($B32=\"\",\"\",VLOOKUP($B32,PSMMittel,2,0))","v":""},{"$f":"IF(B32=\"\",\"\",E32*F32)","v":""}]
[null,null,null,null,null,"",{"$f":"IF(B33=\"\",\"\",E33*F33)","v":""},null,null,null,null,null,null,null,null,null,"Stickstoffherkunft nicht gefährdetes Gebiet Gesamtfläche"]
[null,null,null,null,null,"","",null,null,null,null,null,null,null,null,null,null,"Gesamt N","NH4-N","P2O5 mineral.","P2O5 organisch",null,"N Fixierung kg N/ha"]
[null,null,null,null,null,"","",null,null,null,null,null,null,null,null,null,"N Gesamt minerl.",{"$f":"R5-R20","v":0},null,null,null,null,{"$f":"IF(E3=0,\"\",VLOOKUP(E3,AckerbauKulturen,26,0)*G56*B4)","v":""}]
[null,null,null,null,null,"","",null,null,null,null,null,null,null,null,null,"NH4-N minerlisch",null,{"$f":"S6-S21","v":0}]
[null,null,null,null,null,"","",null,null,null,null,null,null,null,null,null,"N Gesamt organsich",{"$f":"R7-R22","v":0}]
[null,null,null,null,null,"","",null,null,null,null,null,null,null,null,null,"NH4-N organsich",null,{"$f":"S8-S23","v":0}]
[null,null,null,null,null,"","",null,null,null,null,null,null,null,null,null,"P2O5 mineralisch",null,null,{"$f":"T9-T24","v":0}]
[null,null,null,null,null,"","",null,null,null,null,null,null,null,null,null,"P2O5 organisch",null,null,null,{"$f":"U10-U25","v":0}]
[null,null,null,null,null,"","",null,null,null,null,null,null,null,null,null,"Sonstige organische Düngemittel",{"$f":"R11-R26","v":0},{"$f":"S11-S26","v":0},{"$f":"T11-T26","v":0}]
[null,null,null,null,null,"","",null,null,null,null,null,null,null,null,null,"Bodenhilfsstoffe",{"$f":"R12-R27","v":0},null,{"$f":"T12-T27","v":0}]
[null,null,null,null,null,"","",null,null,null,null,null,null,null,null,null,"Kultursubstrate",{"$f":"R13-R28","v":0},null,{"$f":"T13-T28","v":0}]
[null,null,null,null,null,"","",null,null,null,null,null,null,null,null,null,"Pflanzenhilfsmittel",{"$f":"R14-R29","v":0},null,{"$f":"T14-T29","v":0}]
[null,null,null,null,null,"","",null,null,null,null,null,null,null,null,null,"Abfälle zur Beseitigung (§ 28 Absatz 2 odeS 3 KSWG)",{"$f":"R15-R30","v":0},null,{"$f":"T15-T30","v":0}]
[null,null,null,null,null,"",""]
[null,null,null,null,null,"",""]
[null,null,null,null,null,"",""]
[null,null,null,null,null,"",""]
[null,null,null,null,null,"",""]
[null,null,null,null,null,"",""]
[null,null,null,null,null,"",""]
[null,null,null,null,null,"",""]
[null,"Summe",null,null,null,null,{"$f":"SUM(G32:G53)","v":0}]
[]
[null,"Erntedatum:",null,{"$f":"IF(VLOOKUP($B$2,Ackerbauplan,58,0)=\"\",\"\",VLOOKUP($B$2,Ackerbauplan,58,0))","v":""},null,"dt/ha",{"$f":"VLOOKUP($B$2,Ackerbauplan,60,0)","v":0},null,null,"€/dt",null,{"$f":"VLOOKUP($B$2,Ackerbauplan,59,0)","v":0}]
[null,"   Hauptleistung ",null,{"$f":"IF(VLOOKUP($B$2,Ackerbauplan,61,0)=\"\",\"\",VLOOKUP($B$2,Ackerbauplan,61,0))","v":""},null,"Saatgut ",null,{"$f":"G11","v":0},"€/ha","Marktleistung -"]
[null,null,"+ Nebenleistung ",{"$f":"IF($B$2=\"\",\"\",VLOOKUP($B$2,Anbauplan,62,0))","v":0},null,"Dünger ",null,{"$f":"SUM(G14:G28)","v":0},"€/ha","Saatgut, Dünger, PSM"]
[null,null,"= Marktleistung ",{"$f":"IF(D57=\"\",\"\",D58+D57)","v":""},null,"Pflanzenschutz ",null,{"$f":"G54","v":0},"€/ha",{"$f":"IF(D59=\"\",\"\",D59-H57-H58-H59)","v":""},null,null,"€/ha"]
[null,{"$f":"IF($B$2=\"\",\"\",VLOOKUP($B$2,Anbauplan,2,0))","v":0}]
[null,"Bearbeitung","Maschine 1",null,"Maschine 2",null,"Maschine 3",null,"Datum",null,"Bemerkung"]

{"sheet":"A31","index":40,"n_rows":61,"n_cols":30,"rows_kept":61,"cut":false,"hidden":true,"merged":[[13,27,13,28],[13,29,16,30],[6,7,6,12],[7,7,7,8],[8,7,8,8],[7,9,7,10],[8,9,8,10],[10,8,10,12],[73,2,73,3],[73,4,73,5],[73,6,73,7],[73,8,73,9],[73,10,73,12],[69,2,69,3],[69,4,69,5],[69,6,69,7],[69,8,69,9],[69,10,69,12],[70,2,70,3],[70,4,70,5],[70,6,70,7],[70,8,70,9],[70,10,70,12],[67,2,67,3],[67,4,67,5],[67,6,67,7],[74,2,74,3],[74,4,74,5],[74,6,74,7],[74,8,74,9],[74,10,74,12],[71,2,71,3],[71,4,71,5],[71,6,71,7],[71,8,71,9],[71,10,71,12],[72,2,72,3],[72,4,72,5],[72,6,72,7],[72,8,72,9],[72,10,72,12],[67,8,67,9],[67,10,67,12],[68,2,68,3],[68,4,68,5],[68,6,68,7],[68,8,68,9],[68,10,68,12],[65,2,65,3],[65,4,65,5],[65,6,65,7],[65,8,65,9],[65,10,65,12],[66,2,66,3],[66,4,66,5],[66,6,66,7],[66,8,66,9],[66,10,66,12],[63,2,63,3],[63,4,63,5],[63,6,63,7],[63,8,63,9],[63,10,63,12],[64,2,64,3],[64,4,64,5],[64,6,64,7],[64,8,64,9],[64,10,64,12],[61,2,61,3],[61,4,61,5],[61,6,61,7],[61,8,61,9],[61,10,61,12],[62,2,62,3],[62,4,62,5],[62,6,62,7],[62,8,62,9],[62,10,62,12],[58,3,58,4],[58,5,58,6],[58,9,58,11],[59,1,59,12],[60,2,60,3],[60,4,60,5],[60,6,60,7],[60,8,60,9],[60,10,60,12],[56,1,56,2],[56,3,56,4],[56,5,56,6],[56,9,56,12],[57,3,57,4],[57,5,57,6],[57,9,57,12],[52,7,52,9],[52,10,52,12],[53,1,53,5],[53,7,53,12],[54,1,54,6],[55,1,55,2],[55,3,55,4],[55,6,55,8],[55,9,55,10],[55,11,55,12],[49,7,49,9],[49,10,49,12],[50,7,50,9],[50,10,50,12],[51,7,51,9],[51,10,51,12],[46,7,46,9],[46,10,46,12],[47,7,47,9],[47,10,47,12],[48,7,48,9],[48,10,48,12],[43,7,43,9],[43,10,43,12],[44,7,44,9],[44,10,44,12],[45,7,45,9],[45,10,45,12],[40,7,40,9],[40,10,40,12],[41,7,41,9],[41,10,41,12],[42,7,42,9],[42,10,42,12],[37,7,37,9],[37,10,37,12],[38,7,38,9],[38,10,38,12],[39,7,39,9],[39,10,39,12],[34,7,34,9],[34,10,34,12],[35,7,35,9],[35,10,35,12],[36,7,36,9],[36,10,36,12],[31,7,31,9],[31,10,31,12],[32,7,32,9],[32,10,32,12],[32,16,32,20],[33,7,33,9],[33,10,33,12],[29,1,29,6],[29,7,29,8],[29,9,29,10],[30,0,30,1],[30,7,30,9],[30,10,30,12],[23,9,23,10],[24,9,24,10],[25,9,25,10],[26,9,26,10],[27,9,27,10],[28,1,28,6],[28,7,28,8],[28,9,28,10],[17,16,17,20],[18,9,18,10],[19,9,19,10],[20,9,20,10],[21,9,21,10],[22,9,22,10],[14,9,14,10],[15,9,15,10],[16,9,16,10],[17,9,17,10],[10,1,10,2],[9,7,9,12],[11,1,11,2],[11,4,11,6],[11,7,11,8],[11,9,11,10],[11,25,12,25],[33,22,33,23],[34,22,34,23],[0,1,0,12],[1,2,1,3],[1,4,1,6],[1,7,1,9],[1,10,1,12],[2,2,2,3],[2,4,2,6],[2,7,2,9],[2,10,2,12],[5,7,5,10],[5,11,5,12],[3,2,3,3],[3,4,3,6],[3,7,3,10],[3,11,3,12],[4,2,4,3],[4,4,4,6],[4,7,4,9],[4,10,4,12],[12,9,12,10],[13,9,13,10]]}
[null,"Ackerland"]
[null,31,"Name:",null,{"$f":"IF(B2=\"\",\"\",VLOOKUP(B2,Anbauplan,2,0))","v":0},null,null,"Jahr:",null,null,{"$f":"IF(Einführung!I8=\"\",\"\",Einführung!I8)","v":""},null,null,{"$f":"IF(OR(B4=\"\",H12=\"\"),\"\",H12*B4)","v":0},"DB kg * Fläche"]
[null,"Hektar ","Hauptfrucht ",null,{"$f":"IF(B2=\"\",\"\",VLOOKUP(B2,Ackerbauplan,4,0))","v":0},null,null,"Nitratkulisse",null,null,{"$f":"IF(B2=\"\",\"\",VLOOKUP(B2,Ackerbauplan,20,0))","v":0},null,null,{"$f":"L4","v":""},"kg/ha org. Dünger für Kontrollgrenze"]
[null,{"$f":"IF(B2=\"\",\"\",VLOOKUP(B2,Ackerbauplan,3,0))","v":0},"Vorfrucht",null,{"$f":"IF(B2=\"\",\"\",VLOOKUP(B2,Ackerbauplan,9,0))","v":0},null,null,"Wirtschaftsdünger zur Berechung\ndes 130 kg N/ha Anteils in kg/ha",null,null,null,{"$f":"IF(K3=\"ja\",W29,\"\")","v":""},null,{"$f":"IF(N3=\"\",\"\",N3*B4)","v":""},"kg Gesamtschlag org Dünger für 170 Kontrollgrenze",null,null,"Gesamt N","NH4-N","P2O5 mineral.","P2O5 organisch"]
[null,"Sorte","VorVorfrucht",null,null,null,null,"Phosphatkulisse",null,null,{"$f":"IF(B2=\"\",\"\",VLOOKUP(B2,Ackerbauplan,21,0))","v":0},null,null,{"$f":"IF(H12=\"\",\"\",IF(K3=\"ja\",N2*0.8,\"\"))","v":""},"Nitrat belastetes Gebiet Düngebedarf Gesamtschlag kg N/ha",null,"N Gesamt minerl.",{"$f":"SUMIF($N$14:$N$28,\"mineralisch\",$H$14:$H$28)*B4","v":0}]
[null,{"$f":"IF(B2=\"\",\"\",VLOOKUP(B2,Ackerbauplan,8,0))","v":0},null,null,null,null,null,"sonstige Auflagen",null,null,null,null,null,{"$f":"IF(K3=\"ja\",X30+Y30,\"\")","v":""},"org +min .anrechenbare N Menge Gesamtschlag  kg N/ha",null,"NH4-N minerlisch",null,{"$f":"SUMIF($N$14:$N$28,\"mineralisch\",$I$14:$I$28)*B4","v":0}]
[null,"Aussaatdatum","Kö./m² ",{"$f":"IF(B2=\"\",\"\",VLOOKUP(B2,Ackerbauplan,52,0))","v":0},null,"Eigen","Zukauf","Versorgungsstufen",null,null,null,null,null,{"$f":"IF(K3=\"ja\",J12*B4,\"\")","v":""},null,null,"N Gesamt organsich",{"$f":"SUMIF($N$14:$N$28,\"organisch\",$H$14:$H$28)*B4","v":0}]
[null,{"$f":"IF(B2=\"0\",\"\",VLOOKUP(B2,Ackerbauplan,51,0))","v":"00:00:00"},"x TKG ",{"$f":"IF(B2=\"\",\"\",VLOOKUP(B2,Ackerbauplan,53,0))","v":0},"dt/ha ",null,null,"Nmin",null,"P2O5",null,"K2O","MgO",null,null,null,"NH4-N organsich",null,{"$f":"SUMIF($N$14:$N$28,\"organisch\",I14:I28)*B4","v":0}]
[null,"Beize","/Kei.fäh.",{"$f":"IF(B2=\"\",\"\",VLOOKUP(B2,Ackerbauplan,54,0))","v":0},"€/dt",null,null,{"$f":"IF(B2=\"\",\"\",VLOOKUP(B2,Ackerbauplan,17,0))","v":0},null,{"$f":"IF(B2=\"\",\"\",VLOOKUP(B2,Ackerbauplan,30,0))","v":"C"},null,{"$f":"IF(B2=\"\",\"\",VLOOKUP(B2,Ackerbauplan,31,0))","v":"C"},{"$f":"IF(B2=\"\",\"\",VLOOKUP(B2,Ackerbauplan,32,0))","v":"C"},null,null,null,"P2O5 mineralisch",null,null,{"$f":"SUMIF($N$14:$N$28,\"mineralisch\",$J$14:$J$28)*B4","v":0}]
[null,null,"= kg/ha",{"$f":"IF(B2=\"\",\"\",VLOOKUP(B2,Ackerbauplan,55,0))","v":""},"€/ha ",{"$f":"F8*F9","v":0},{"$f":"G8*G9","v":0},"Düngebedarf kg/ha (Blatt Ackerfläche)",null,null,null,null,null,null,"Düngebedarf um 20% reduziert",null,"P2O5 organisch",null,null,null,{"$f":"SUMIF($N$14:$N$28,\"organisch\",$J$14:$J$28)*B4","v":0},null,null,null,null,null,null,{"$f":"IF(K3=\"ja\",\"Noch nicht ausgeschöpfter Stickstoff Düngebedarf aller Flächen\",\"\")","v":""}]
[null,"Saatgutkennnummer",null,null,null,"Summe",{"$f":"F10+G10","v":0},{"$f":"IF(H12=\"\",\"\",IF(K3=\"ja\",H12*0.8,\"\"))","v":""},{"$f":"IF(K3=\"ja\",O10,\"\")","v":""},null,null,null,null,null,null,null,"Sonstige organische Düngemittel",{"$f":"SUMIF($N$14:$N$28,Q11,$H$14:$H$28)*B4","v":0},{"$f":"SUMIF($N$14:$N$28,Q11,$I$14:$I$28)*B4","v":0},{"$f":"SUMIF($N$14:$N$28,Q11,$J$14:$J$28)*B4","v":0},null,null,null,null,null,null,null,{"$f":"IF(K3=\"ja\",'Zus. Anlage 5 DüV'!D43,\"\")","v":""},{"$f":"IF(K3=\"ja\",\"kg N Gesamtfläche\",\"\")","v":""}]
[null,null,null,null,"N Bedarf DÜV kg/ha",null,null,{"$f":"IF(B2=\"\",\"\",VLOOKUP(B2,Ackerbauplan,18,0))","v":"0"},null,{"$f":"IF(B2=\"\",\"\",VLOOKUP(B2,Ackerbauplan,37,0))","v":"0"},null,{"$f":"IF(B2=\"\",\"\",VLOOKUP(B2,Ackerbauplan,38,0))","v":"0"},null,null,null,null,"Bodenhilfsstoffe",{"$f":"SUMIF($N$14:$N$28,Q12,$H$14:$H$28)*B4","v":0},null,{"$f":"SUMIF($N$14:$N$28,Q12,$J$14:$J$28)*B4","v":0},null,"Anrechnung","Anrechnung ","Prüfung NH4","mineral","Kontroll\nSumme"]
[null,"Dünger","Datum","EC","m³o.dt/ha","€/dt","€/ha","Ges.-N","NH4-N","P2O5",null,"K2O","S",null,null,null,"Kultursubstrate",{"$f":"SUMIF($N$14:$N$28,Q13,$H$14:$H$28)*B4","v":0},null,{"$f":"SUMIF($N$14:$N$28,Q13,$J$14:$J$28)*B4","v":0},null,"aktuelles Jahr","170 kg GW"," oder Anlage3","Stickstoff"]
[null,null,null,null,null,{"$f":"IF(B14=\"\",\"\",VLOOKUP(B14,Düngemiteldaten,2,0))","v":""},{"$f":"IF(B14=\"\",\"\",E14*F14)","v":""},{"$f":"IF(B14=\"\",\"\",VLOOKUP(B14,Düngemiteldaten,4,0)*E14)","v":""},{"$f":"IF(B14=\"\",\"\",VLOOKUP(B14,Düngemiteldaten,5,0)*E14)","v":""},{"$f":"IF(B14=\"\",\"\",VLOOKUP(B14,Düngemiteldaten,7,0)*E14)","v":""},null,{"$f":"IF(B14=\"\",\"\",VLOOKUP(B14,Düngemiteldaten,8,0)*E14)","v":""},{"$f":"IF(B14=\"\",\"\",VLOOKUP(B14,Düngemiteldaten,10,0)*E14)","v":""},{"$f":"IF(B14=\"\",\"\",VLOOKUP(B14,Düngemiteldaten,20,0))","v":""},null,null,"Pflanzenhilfsmittel",{"$f":"SUMIF($N$14:$N$28,Q14,$H$14:$H$28)*B4","v":0},null,{"$f":"SUMIF($N$14:$N$28,Q14,$J$14:$J$28)*B4","v":0},null,{"$f":"IF(OR(B14=\"\",N14=\"\"),\"\",IF(N14=\"mineralisch\",\"\",VLOOKUP(B14,Düngemiteldaten,17,0)*VLOOKUP(B14,Düngemiteldaten,4,0)*E14))","v":""},{"$f":"IF(N14=\"organisch\",VLOOKUP(B14,Düngemiteldaten,4,0)*E14*VLOOKUP(B14,Düngemiteldaten,19,0),\"\")","v":""},{"$f":"IF(B14=\"\",\"\",IF(V14<I14,I14,V14))","v":""},{"$f":"IF(B14=\"\",\"\",IF(N14=\"organisch\",0,H14))","v":""},{"$f":"IF(SUM(V14:Y14)=0,\"\",SUM(X14:Y14))","v":""},null,{"$f":"IF(K3=\"ja\",\"Summe Gesamtstickstoff\",\"\")","v":""},null,{"$f":"IF(K3=\"ja\",\"Anteil § 13a Prüfung \n160 kg N/ha Gesamt\n80 kg N/ha mineralisch\",\"\")","v":""}]
[null,null,null,null,null,"",{"$f":"IF(B15=\"\",\"\",E15*F15)","v":""},"","","",null,"","","",null,null,"Abfälle zur Beseitigung (§ 28 Absatz 2 odeS 3 KSWG)",{"$f":"SUMIF($N$14:$N$28,Q15,$H$14:$H$28)*B4","v":0},null,{"$f":"SUMIF($N$14:$N$28,Q15,$J$14:$J$28)*B4","v":0},null,"","",{"$f":"IF(B15=\"\",\"\",IF(V15<I15,I15,V15))","v":""},{"$f":"IF(B15=\"\",\"\",IF(N15=\"organisch\",0,H15))","v":""},{"$f":"IF(SUM(V15:Y15)=0,\"\",SUM(X15:Y15))","v":""},null,{"$f":"IF(L4=\"\",\"\",SUMIF($N$14:$N$28,\"mineralisch\",$H$14:$H$28))","v":""},{"$f":"IF(K3=\"ja\",\"mineralisch N kg/ha\",\"\")","v":""}]
[null,null,null,null,null,"","","","","",null,"","","",null,null,null,null,null,null,null,"","","","","",null,{"$f":"IF(L4=\"\",\"\",SUMIF($N$14:$N$28,\"organisch\",$H$14:$H$28)+SUMIF($N$14:$N$28,Q11,$H$14:$H$28))","v":""},{"$f":"IF(K3=\"ja\",\"organisch N kg/ha\",\"\")","v":""}]
[null,null,null,null,null,"","","","","",null,"","","",null,null,null,null,null,null,null,{"$f":"IF(OR(B17=\"\",N17=\"\"),\"\",IF(N17=\"mineralisch\",\"\",VLOOKUP(B17,Düngemiteldaten,17,0)*VLOOKUP(B17,Düngemiteldaten,4,0)*E17))","v":""},"","","","",null,{"$f":"IF(K3=\"ja\",(AB16+AB15),\"\")","v":""},{"$f":"IF(K3=\"ja\",\"Gesamt kg N/ha\",\"\")","v":""}]
[null,null,null,null,null,"","","","","",null,"","","",null,null,"Nährstoffherkunft auf gefährdeten Flächen §13",null,null,null,null,"","","","",""]
[null,null,null,null,null,"","","","","",null,"","","",null,null,null,"Gesamt N","NH4-N","P2O5 mineral.","P2O5 organisch","","","","",""]
[null,null,null,null,null,"","","","","",null,"","","",null,null,"N Gesamt minerl.",{"$f":"IF(K3=\"ja\",SUMIF($N$14:$N$28,\"mineralisch\",$H$14:$H$28),0)*B4","v":0},null,null,null,"","","","",""]
[null,null,null,null,null,"","","","","",null,"","","",null,null,"NH4-N minerlisch",null,{"$f":"IF(K3=\"ja\",SUMIF($N$14:$N$28,\"mineralisch\",$I$14:$I$28),0)*B4","v":0},null,null,"","","","",""]
[null,null,null,null,null,"","","","","",null,"","","",null,null,"N Gesamt organsich",{"$f":"IF(K3=\"ja\",SUMIF($N$14:$N$28,\"organisch\",$H$14:$H$28),0)*B4","v":0},null,null,null,"","","","",""]
[null,null,null,null,null,"","","","","",null,"","","",null,null,"NH4-N organsich",null,{"$f":"IF(K3=\"ja\",SUMIF($N$14:$N$28,\"organisch\",$I$14:$I$28),0)*B4","v":0},null,null,"","","","",""]
[null,null,null,null,null,"","","","","",null,"","","",null,null,"P2O5 mineralisch",null,null,{"$f":"IF(K3=\"ja\",SUMIF($N$14:$N$28,\"mineralisch\",$J$14:$J$28),0)*B4","v":0},null,"","","","",""]
[null,null,null,null,null,"","","","","",null,"","","",null,null,"P2O5 organisch",null,null,null,{"$f":"IF(K3=\"ja\",SUMIF($N$14:$N$28,\"organisch\",$J$14:$J$28),0)*B4","v":0},"","","","",""]
[null,null,null,null,null,"","","","","",null,"","","",null,null,"Sonstige organische Düngemittel",{"$f":"IF(K3=\"ja\",SUMIF($N$14:$N$28,Q26,$H$14:$H$28),0)*B4","v":0},{"$f":"IF(K3=\"ja\",SUMIF($N$14:$N$28,Q26,$I$14:$I$28),0)*B4","v":0},{"$f":"IF(K3=\"ja\",SUMIF($N$14:$N$28,Q26,$J$14:$J$28),0)*B4","v":0},null,"","","","",""]
[null,null,null,null,null,"","","","","",null,"","","",null,null,"Bodenhilfsstoffe",{"$f":"IF(K3=\"ja\",SUMIF($N$14:$N$28,Q27,$H$14:$H$28),0)*B4","v":0},null,{"$f":"IF(K3=\"ja\",SUMIF($N$14:$N$28,Q27,$J$14:$J$28),0)*B4","v":0},null,"","","","",""]
[null,null,null,null,null,"","","","","",null,"","","",null,null,"Kultursubstrate",{"$f":"IF(K3=\"ja\",SUMIF($N$14:$N$28,Q28,$H$14:$H$28),0)*B4","v":0},null,{"$f":"IF(K3=\"ja\",SUMIF($N$14:$N$28,Q28,$J$14:$J$28),0)*B4","v":0},null,"","","","",""]
[null,"anrechenbarer N aus org.Dgg. + min. Dgg. kg N/ha",null,null,null,null,null,{"$f":"X29+Y29","v":0},null,{"$f":"SUM(J14:J28)","v":0},null,{"$f":"SUM(L14:L28)","v":0},{"$f":"SUM(M14:M28)","v":0},null,null,null,"Pflanzenhilfsmittel",{"$f":"IF(K3=\"ja\",SUMIF($N$14:$N$28,Q29,$H$14:$H$28),0)*B4","v":0},null,{"$f":"IF(K3=\"ja\",SUMIF($N$14:$N$28,Q29,$J$14:$J$28),0)*B4","v":0},null,{"$f":"SUM(V14:V28)","v":0},{"$f":"SUM(W14:W28)","v":0},{"$f":"SUM(X14:X28)","v":0},{"$f":"SUM(Y14:Y28)","v":0},"kg/ha"]
[null,{"$f":"IF(K3=\"0\",O31,O30)","v":"Bilanz (anrechenbarer Dgg.- reduzierter Düngebedarf) kg N/ha"},null,null,null,null,null,{"$f":"IF(H12=\"\",0,IF(OR(K3=0,K3=\"nein\"),H29-H12,H29-H11))","v":0},null,{"$f":"IF(J12=\"\",\"\",J29-J12)","v":0},null,{"$f":"IF(L12=\"\",\"\",L29-L12)","v":0},{"$f":"IF(M12=\"\",\"\",M29-M12)","v":""},null,"Bilanz (anrechenbarer Dgg.- reduzierter Düngebedarf) kg N/ha",null,"Abfälle zur Beseitigung (§ 28 Absatz 2 odeS 3 KSWG)",{"$f":"IF(K3=\"ja\",SUMIF($N$14:$N$28,Q30,$H$14:$H$28),0)*B4","v":0},null,{"$f":"IF(K3=\"ja\",SUMIF($N$14:$N$28,Q30,$J$14:$J$28),0)*B4","v":0},null,{"$f":"V29*B4","v":0},{"$f":"W29*B4","v":0},{"$f":"X29*B4","v":0},{"$f":"Y29*B4","v":0},"kg/Schlag",null,{"$f":"IF(H30>0,\"Stickstoffmenge überschreitet den Düngebedarf\",\"\")","v":""}]
["Pflanzenschutzmittel",null,"Datum","EC","E./ha","€/E.","€/ha","Anwender",null,null,"Bemerkungen",null,null,null,"Bilanz (anrechenbarer Dgg.- Düngebedarf) kg N/ha"]
[null,null,null,null,null,{"$f":"IF($B32=\"\",\"\",VLOOKUP($B32,PSMMittel,2,0))","v":""},{"$f":"IF(B32=\"\",\"\",E32*F32)","v":""}]
[null,null,null,null,null,"",{"$f":"IF(B33=\"\",\"\",E33*F33)","v":""},null,null,null,null,null,null,null,null,null,"Stickstoffherkunft nicht gefährdetes Gebiet Gesamtfläche"]
[null,null,null,null,null,"","",null,null,null,null,null,null,null,null,null,null,"Gesamt N","NH4-N","P2O5 mineral.","P2O5 organisch",null,"N Fixierung kg N/ha"]
[null,null,null,null,null,"","",null,null,null,null,null,null,null,null,null,"N Gesamt minerl.",{"$f":"R5-R20","v":0},null,null,null,null,{"$f":"IF(E3=0,\"\",VLOOKUP(E3,AckerbauKulturen,26,0)*G56*B4)","v":""}]
[null,null,null,null,null,"","",null,null,null,null,null,null,null,null,null,"NH4-N minerlisch",null,{"$f":"S6-S21","v":0}]
[null,null,null,null,null,"","",null,null,null,null,null,null,null,null,null,"N Gesamt organsich",{"$f":"R7-R22","v":0}]
[null,null,null,null,null,"","",null,null,null,null,null,null,null,null,null,"NH4-N organsich",null,{"$f":"S8-S23","v":0}]
[null,null,null,null,null,"","",null,null,null,null,null,null,null,null,null,"P2O5 mineralisch",null,null,{"$f":"T9-T24","v":0}]
[null,null,null,null,null,"","",null,null,null,null,null,null,null,null,null,"P2O5 organisch",null,null,null,{"$f":"U10-U25","v":0}]
[null,null,null,null,null,"","",null,null,null,null,null,null,null,null,null,"Sonstige organische Düngemittel",{"$f":"R11-R26","v":0},{"$f":"S11-S26","v":0},{"$f":"T11-T26","v":0}]
[null,null,null,null,null,"","",null,null,null,null,null,null,null,null,null,"Bodenhilfsstoffe",{"$f":"R12-R27","v":0},null,{"$f":"T12-T27","v":0}]
[null,null,null,null,null,"","",null,null,null,null,null,null,null,null,null,"Kultursubstrate",{"$f":"R13-R28","v":0},null,{"$f":"T13-T28","v":0}]
[null,null,null,null,null,"","",null,null,null,null,null,null,null,null,null,"Pflanzenhilfsmittel",{"$f":"R14-R29","v":0},null,{"$f":"T14-T29","v":0}]
[null,null,null,null,null,"","",null,null,null,null,null,null,null,null,null,"Abfälle zur Beseitigung (§ 28 Absatz 2 odeS 3 KSWG)",{"$f":"R15-R30","v":0},null,{"$f":"T15-T30","v":0}]
[null,null,null,null,null,"",""]
[null,null,null,null,null,"",""]
[null,null,null,null,null,"",""]
[null,null,null,null,null,"",""]
[null,null,null,null,null,"",""]
[null,null,null,null,null,"",""]
[null,null,null,null,null,"",""]
[null,null,null,null,null,"",""]
[null,"Summe",null,null,null,null,{"$f":"SUM(G32:G53)","v":0}]
[]
[null,"Erntedatum:",null,{"$f":"IF(VLOOKUP($B$2,Ackerbauplan,58,0)=\"\",\"\",VLOOKUP($B$2,Ackerbauplan,58,0))","v":""},null,"dt/ha",{"$f":"VLOOKUP($B$2,Ackerbauplan,60,0)","v":0},null,null,"€/dt",null,{"$f":"VLOOKUP($B$2,Ackerbauplan,59,0)","v":0}]
[null,"   Hauptleistung ",null,{"$f":"IF(VLOOKUP($B$2,Ackerbauplan,61,0)=\"\",\"\",VLOOKUP($B$2,Ackerbauplan,61,0))","v":""},null,"Saatgut ",null,{"$f":"G11","v":0},"€/ha","Marktleistung -"]
[null,null,"+ Nebenleistung ",{"$f":"IF($B$2=\"\",\"\",VLOOKUP($B$2,Anbauplan,62,0))","v":0},null,"Dünger ",null,{"$f":"SUM(G14:G28)","v":0},"€/ha","Saatgut, Dünger, PSM"]
[null,null,"= Marktleistung ",{"$f":"IF(D57=\"\",\"\",D58+D57)","v":""},null,"Pflanzenschutz ",null,{"$f":"G54","v":0},"€/ha",{"$f":"IF(D59=\"\",\"\",D59-H57-H58-H59)","v":""},null,null,"€/ha"]
[null,{"$f":"IF($B$2=\"\",\"\",VLOOKUP($B$2,Anbauplan,2,0))","v":0}]
[null,"Bearbeitung","Maschine 1",null,"Maschine 2",null,"Maschine 3",null,"Datum",null,"Bemerkung"]

{"sheet":"A32","index":41,"n_rows":61,"n_cols":30,"rows_kept":61,"cut":false,"hidden":true,"merged":[[13,27,13,28],[13,29,16,30],[6,7,6,12],[7,7,7,8],[8,7,8,8],[7,9,7,10],[8,9,8,10],[10,8,10,12],[73,2,73,3],[73,4,73,5],[73,6,73,7],[73,8,73,9],[73,10,73,12],[69,2,69,3],[69,4,69,5],[69,6,69,7],[69,8,69,9],[69,10,69,12],[70,2,70,3],[70,4,70,5],[70,6,70,7],[70,8,70,9],[70,10,70,12],[67,2,67,3],[67,4,67,5],[67,6,67,7],[74,2,74,3],[74,4,74,5],[74,6,74,7],[74,8,74,9],[74,10,74,12],[71,2,71,3],[71,4,71,5],[71,6,71,7],[71,8,71,9],[71,10,71,12],[72,2,72,3],[72,4,72,5],[72,6,72,7],[72,8,72,9],[72,10,72,12],[67,8,67,9],[67,10,67,12],[68,2,68,3],[68,4,68,5],[68,6,68,7],[68,8,68,9],[68,10,68,12],[65,2,65,3],[65,4,65,5],[65,6,65,7],[65,8,65,9],[65,10,65,12],[66,2,66,3],[66,4,66,5],[66,6,66,7],[66,8,66,9],[66,10,66,12],[63,2,63,3],[63,4,63,5],[63,6,63,7],[63,8,63,9],[63,10,63,12],[64,2,64,3],[64,4,64,5],[64,6,64,7],[64,8,64,9],[64,10,64,12],[61,2,61,3],[61,4,61,5],[61,6,61,7],[61,8,61,9],[61,10,61,12],[62,2,62,3],[62,4,62,5],[62,6,62,7],[62,8,62,9],[62,10,62,12],[58,3,58,4],[58,5,58,6],[58,9,58,11],[59,1,59,12],[60,2,60,3],[60,4,60,5],[60,6,60,7],[60,8,60,9],[60,10,60,12],[56,1,56,2],[56,3,56,4],[56,5,56,6],[56,9,56,12],[57,3,57,4],[57,5,57,6],[57,9,57,12],[52,7,52,9],[52,10,52,12],[53,1,53,5],[53,7,53,12],[54,1,54,6],[55,1,55,2],[55,3,55,4],[55,6,55,8],[55,9,55,10],[55,11,55,12],[49,7,49,9],[49,10,49,12],[50,7,50,9],[50,10,50,12],[51,7,51,9],[51,10,51,12],[46,7,46,9],[46,10,46,12],[47,7,47,9],[47,10,47,12],[48,7,48,9],[48,10,48,12],[43,7,43,9],[43,10,43,12],[44,7,44,9],[44,10,44,12],[45,7,45,9],[45,10,45,12],[40,7,40,9],[40,10,40,12],[41,7,41,9],[41,10,41,12],[42,7,42,9],[42,10,42,12],[37,7,37,9],[37,10,37,12],[38,7,38,9],[38,10,38,12],[39,7,39,9],[39,10,39,12],[34,7,34,9],[34,10,34,12],[35,7,35,9],[35,10,35,12],[36,7,36,9],[36,10,36,12],[31,7,31,9],[31,10,31,12],[32,7,32,9],[32,10,32,12],[32,16,32,20],[33,7,33,9],[33,10,33,12],[29,1,29,6],[29,7,29,8],[29,9,29,10],[30,0,30,1],[30,7,30,9],[30,10,30,12],[23,9,23,10],[24,9,24,10],[25,9,25,10],[26,9,26,10],[27,9,27,10],[28,1,28,6],[28,7,28,8],[28,9,28,10],[17,16,17,20],[18,9,18,10],[19,9,19,10],[20,9,20,10],[21,9,21,10],[22,9,22,10],[14,9,14,10],[15,9,15,10],[16,9,16,10],[17,9,17,10],[10,1,10,2],[9,7,9,12],[11,1,11,2],[11,4,11,6],[11,7,11,8],[11,9,11,10],[11,25,12,25],[33,22,33,23],[34,22,34,23],[0,1,0,12],[1,2,1,3],[1,4,1,6],[1,7,1,9],[1,10,1,12],[2,2,2,3],[2,4,2,6],[2,7,2,9],[2,10,2,12],[5,7,5,10],[5,11,5,12],[3,2,3,3],[3,4,3,6],[3,7,3,10],[3,11,3,12],[4,2,4,3],[4,4,4,6],[4,7,4,9],[4,10,4,12],[12,9,12,10],[13,9,13,10]]}
[null,"Ackerland"]
[null,32,"Name:",null,{"$f":"IF(B2=\"\",\"\",VLOOKUP(B2,Anbauplan,2,0))","v":0},null,null,"Jahr:",null,null,{"$f":"IF(Einführung!I8=\"\",\"\",Einführung!I8)","v":""},null,null,{"$f":"IF(OR(B4=\"\",H12=\"\"),\"\",H12*B4)","v":0},"DB kg * Fläche"]
[null,"Hektar ","Hauptfrucht ",null,{"$f":"IF(B2=\"\",\"\",VLOOKUP(B2,Ackerbauplan,4,0))","v":0},null,null,"Nitratkulisse",null,null,{"$f":"IF(B2=\"\",\"\",VLOOKUP(B2,Ackerbauplan,20,0))","v":0},null,null,{"$f":"L4","v":""},"kg/ha org. Dünger für Kontrollgrenze"]
[null,{"$f":"IF(B2=\"\",\"\",VLOOKUP(B2,Ackerbauplan,3,0))","v":0},"Vorfrucht",null,{"$f":"IF(B2=\"\",\"\",VLOOKUP(B2,Ackerbauplan,9,0))","v":0},null,null,"Wirtschaftsdünger zur Berechung\ndes 130 kg N/ha Anteils in kg/ha",null,null,null,{"$f":"IF(K3=\"ja\",W29,\"\")","v":""},null,{"$f":"IF(N3=\"\",\"\",N3*B4)","v":""},"kg Gesamtschlag org Dünger für 170 Kontrollgrenze",null,null,"Gesamt N","NH4-N","P2O5 mineral.","P2O5 organisch"]
[null,"Sorte","VorVorfrucht",null,null,null,null,"Phosphatkulisse",null,null,{"$f":"IF(B2=\"\",\"\",VLOOKUP(B2,Ackerbauplan,21,0))","v":0},null,null,{"$f":"IF(H12=\"\",\"\",IF(K3=\"ja\",N2*0.8,\"\"))","v":""},"Nitrat belastetes Gebiet Düngebedarf Gesamtschlag kg N/ha",null,"N Gesamt minerl.",{"$f":"SUMIF($N$14:$N$28,\"mineralisch\",$H$14:$H$28)*B4","v":0}]
[null,{"$f":"IF(B2=\"\",\"\",VLOOKUP(B2,Ackerbauplan,8,0))","v":0},null,null,null,null,null,"sonstige Auflagen",null,null,null,null,null,{"$f":"IF(K3=\"ja\",X30+Y30,\"\")","v":""},"org +min .anrechenbare N Menge Gesamtschlag  kg N/ha",null,"NH4-N minerlisch",null,{"$f":"SUMIF($N$14:$N$28,\"mineralisch\",$I$14:$I$28)*B4","v":0}]
[null,"Aussaatdatum","Kö./m² ",{"$f":"IF(B2=\"\",\"\",VLOOKUP(B2,Ackerbauplan,52,0))","v":0},null,"Eigen","Zukauf","Versorgungsstufen",null,null,null,null,null,{"$f":"IF(K3=\"ja\",J12*B4,\"\")","v":""},null,null,"N Gesamt organsich",{"$f":"SUMIF($N$14:$N$28,\"organisch\",$H$14:$H$28)*B4","v":0}]
[null,{"$f":"IF(B2=\"0\",\"\",VLOOKUP(B2,Ackerbauplan,51,0))","v":"00:00:00"},"x TKG ",{"$f":"IF(B2=\"\",\"\",VLOOKUP(B2,Ackerbauplan,53,0))","v":0},"dt/ha ",null,null,"Nmin",null,"P2O5",null,"K2O","MgO",null,null,null,"NH4-N organsich",null,{"$f":"SUMIF($N$14:$N$28,\"organisch\",I14:I28)*B4","v":0}]
[null,"Beize","/Kei.fäh.",{"$f":"IF(B2=\"\",\"\",VLOOKUP(B2,Ackerbauplan,54,0))","v":0},"€/dt",null,null,{"$f":"IF(B2=\"\",\"\",VLOOKUP(B2,Ackerbauplan,17,0))","v":0},null,{"$f":"IF(B2=\"\",\"\",VLOOKUP(B2,Ackerbauplan,30,0))","v":"C"},null,{"$f":"IF(B2=\"\",\"\",VLOOKUP(B2,Ackerbauplan,31,0))","v":"C"},{"$f":"IF(B2=\"\",\"\",VLOOKUP(B2,Ackerbauplan,32,0))","v":"C"},null,null,null,"P2O5 mineralisch",null,null,{"$f":"SUMIF($N$14:$N$28,\"mineralisch\",$J$14:$J$28)*B4","v":0}]
[null,null,"= kg/ha",{"$f":"IF(B2=\"\",\"\",VLOOKUP(B2,Ackerbauplan,55,0))","v":""},"€/ha ",{"$f":"F8*F9","v":0},{"$f":"G8*G9","v":0},"Düngebedarf kg/ha (Blatt Ackerfläche)",null,null,null,null,null,null,"Düngebedarf um 20% reduziert",null,"P2O5 organisch",null,null,null,{"$f":"SUMIF($N$14:$N$28,\"organisch\",$J$14:$J$28)*B4","v":0},null,null,null,null,null,null,{"$f":"IF(K3=\"ja\",\"Noch nicht ausgeschöpfter Stickstoff Düngebedarf aller Flächen\",\"\")","v":""}]
[null,"Saatgutkennnummer",null,null,null,"Summe",{"$f":"F10+G10","v":0},{"$f":"IF(H12=\"\",\"\",IF(K3=\"ja\",H12*0.8,\"\"))","v":""},{"$f":"IF(K3=\"ja\",O10,\"\")","v":""},null,null,null,null,null,null,null,"Sonstige organische Düngemittel",{"$f":"SUMIF($N$14:$N$28,Q11,$H$14:$H$28)*B4","v":0},{"$f":"SUMIF($N$14:$N$28,Q11,$I$14:$I$28)*B4","v":0},{"$f":"SUMIF($N$14:$N$28,Q11,$J$14:$J$28)*B4","v":0},null,null,null,null,null,null,null,{"$f":"IF(K3=\"ja\",'Zus. Anlage 5 DüV'!D43,\"\")","v":""},{"$f":"IF(K3=\"ja\",\"kg N Gesamtfläche\",\"\")","v":""}]
[null,null,null,null,"N Bedarf DÜV kg/ha",null,null,{"$f":"IF(B2=\"\",\"\",VLOOKUP(B2,Ackerbauplan,18,0))","v":"0"},null,{"$f":"IF(B2=\"\",\"\",VLOOKUP(B2,Ackerbauplan,37,0))","v":"0"},null,{"$f":"IF(B2=\"\",\"\",VLOOKUP(B2,Ackerbauplan,38,0))","v":"0"},null,null,null,null,"Bodenhilfsstoffe",{"$f":"SUMIF($N$14:$N$28,Q12,$H$14:$H$28)*B4","v":0},null,{"$f":"SUMIF($N$14:$N$28,Q12,$J$14:$J$28)*B4","v":0},null,"Anrechnung","Anrechnung ","Prüfung NH4","mineral","Kontroll\nSumme"]
[null,"Dünger","Datum","EC","m³o.dt/ha","€/dt","€/ha","Ges.-N","NH4-N","P2O5",null,"K2O","S",null,null,null,"Kultursubstrate",{"$f":"SUMIF($N$14:$N$28,Q13,$H$14:$H$28)*B4","v":0},null,{"$f":"SUMIF($N$14:$N$28,Q13,$J$14:$J$28)*B4","v":0},null,"aktuelles Jahr","170 kg GW"," oder Anlage3","Stickstoff"]
[null,null,null,null,null,{"$f":"IF(B14=\"\",\"\",VLOOKUP(B14,Düngemiteldaten,2,0))","v":""},{"$f":"IF(B14=\"\",\"\",E14*F14)","v":""},{"$f":"IF(B14=\"\",\"\",VLOOKUP(B14,Düngemiteldaten,4,0)*E14)","v":""},{"$f":"IF(B14=\"\",\"\",VLOOKUP(B14,Düngemiteldaten,5,0)*E14)","v":""},{"$f":"IF(B14=\"\",\"\",VLOOKUP(B14,Düngemiteldaten,7,0)*E14)","v":""},null,{"$f":"IF(B14=\"\",\"\",VLOOKUP(B14,Düngemiteldaten,8,0)*E14)","v":""},{"$f":"IF(B14=\"\",\"\",VLOOKUP(B14,Düngemiteldaten,10,0)*E14)","v":""},{"$f":"IF(B14=\"\",\"\",VLOOKUP(B14,Düngemiteldaten,20,0))","v":""},null,null,"Pflanzenhilfsmittel",{"$f":"SUMIF($N$14:$N$28,Q14,$H$14:$H$28)*B4","v":0},null,{"$f":"SUMIF($N$14:$N$28,Q14,$J$14:$J$28)*B4","v":0},null,{"$f":"IF(OR(B14=\"\",N14=\"\"),\"\",IF(N14=\"mineralisch\",\"\",VLOOKUP(B14,Düngemiteldaten,17,0)*VLOOKUP(B14,Düngemiteldaten,4,0)*E14))","v":""},{"$f":"IF(N14=\"organisch\",VLOOKUP(B14,Düngemiteldaten,4,0)*E14*VLOOKUP(B14,Düngemiteldaten,19,0),\"\")","v":""},{"$f":"IF(B14=\"\",\"\",IF(V14<I14,I14,V14))","v":""},{"$f":"IF(B14=\"\",\"\",IF(N14=\"organisch\",0,H14))","v":""},{"$f":"IF(SUM(V14:Y14)=0,\"\",SUM(X14:Y14))","v":""},null,{"$f":"IF(K3=\"ja\",\"Summe Gesamtstickstoff\",\"\")","v":""},null,{"$f":"IF(K3=\"ja\",\"Anteil § 13a Prüfung \n160 kg N/ha Gesamt\n80 kg N/ha mineralisch\",\"\")","v":""}]
[null,null,null,null,null,"",{"$f":"IF(B15=\"\",\"\",E15*F15)","v":""},"","","",null,"","","",null,null,"Abfälle zur Beseitigung (§ 28 Absatz 2 odeS 3 KSWG)",{"$f":"SUMIF($N$14:$N$28,Q15,$H$14:$H$28)*B4","v":0},null,{"$f":"SUMIF($N$14:$N$28,Q15,$J$14:$J$28)*B4","v":0},null,"","",{"$f":"IF(B15=\"\",\"\",IF(V15<I15,I15,V15))","v":""},{"$f":"IF(B15=\"\",\"\",IF(N15=\"organisch\",0,H15))","v":""},{"$f":"IF(SUM(V15:Y15)=0,\"\",SUM(X15:Y15))","v":""},null,{"$f":"IF(L4=\"\",\"\",SUMIF($N$14:$N$28,\"mineralisch\",$H$14:$H$28))","v":""},{"$f":"IF(K3=\"ja\",\"mineralisch N kg/ha\",\"\")","v":""}]
[null,null,null,null,null,"","","","","",null,"","","",null,null,null,null,null,null,null,"","","","","",null,{"$f":"IF(L4=\"\",\"\",SUMIF($N$14:$N$28,\"organisch\",$H$14:$H$28)+SUMIF($N$14:$N$28,Q11,$H$14:$H$28))","v":""},{"$f":"IF(K3=\"ja\",\"organisch N kg/ha\",\"\")","v":""}]
[null,null,null,null,null,"","","","","",null,"","","",null,null,null,null,null,null,null,{"$f":"IF(OR(B17=\"\",N17=\"\"),\"\",IF(N17=\"mineralisch\",\"\",VLOOKUP(B17,Düngemiteldaten,17,0)*VLOOKUP(B17,Düngemiteldaten,4,0)*E17))","v":""},"","","","",null,{"$f":"IF(K3=\"ja\",(AB16+AB15),\"\")","v":""},{"$f":"IF(K3=\"ja\",\"Gesamt kg N/ha\",\"\")","v":""}]
[null,null,null,null,null,"","","","","",null,"","","",null,null,"Nährstoffherkunft auf gefährdeten Flächen §13",null,null,null,null,"","","","",""]
[null,null,null,null,null,"","","","","",null,"","","",null,null,null,"Gesamt N","NH4-N","P2O5 mineral.","P2O5 organisch","","","","",""]
[null,null,null,null,null,"","","","","",null,"","","",null,null,"N Gesamt minerl.",{"$f":"IF(K3=\"ja\",SUMIF($N$14:$N$28,\"mineralisch\",$H$14:$H$28),0)*B4","v":0},null,null,null,"","","","",""]
[null,null,null,null,null,"","","","","",null,"","","",null,null,"NH4-N minerlisch",null,{"$f":"IF(K3=\"ja\",SUMIF($N$14:$N$28,\"mineralisch\",$I$14:$I$28),0)*B4","v":0},null,null,"","","","",""]
[null,null,null,null,null,"","","","","",null,"","","",null,null,"N Gesamt organsich",{"$f":"IF(K3=\"ja\",SUMIF($N$14:$N$28,\"organisch\",$H$14:$H$28),0)*B4","v":0},null,null,null,"","","","",""]
[null,null,null,null,null,"","","","","",null,"","","",null,null,"NH4-N organsich",null,{"$f":"IF(K3=\"ja\",SUMIF($N$14:$N$28,\"organisch\",$I$14:$I$28),0)*B4","v":0},null,null,"","","","",""]
[null,null,null,null,null,"","","","","",null,"","","",null,null,"P2O5 mineralisch",null,null,{"$f":"IF(K3=\"ja\",SUMIF($N$14:$N$28,\"mineralisch\",$J$14:$J$28),0)*B4","v":0},null,"","","","",""]
[null,null,null,null,null,"","","","","",null,"","","",null,null,"P2O5 organisch",null,null,null,{"$f":"IF(K3=\"ja\",SUMIF($N$14:$N$28,\"organisch\",$J$14:$J$28),0)*B4","v":0},"","","","",""]
[null,null,null,null,null,"","","","","",null,"","","",null,null,"Sonstige organische Düngemittel",{"$f":"IF(K3=\"ja\",SUMIF($N$14:$N$28,Q26,$H$14:$H$28),0)*B4","v":0},{"$f":"IF(K3=\"ja\",SUMIF($N$14:$N$28,Q26,$I$14:$I$28),0)*B4","v":0},{"$f":"IF(K3=\"ja\",SUMIF($N$14:$N$28,Q26,$J$14:$J$28),0)*B4","v":0},null,"","","","",""]
[null,null,null,null,null,"","","","","",null,"","","",null,null,"Bodenhilfsstoffe",{"$f":"IF(K3=\"ja\",SUMIF($N$14:$N$28,Q27,$H$14:$H$28),0)*B4","v":0},null,{"$f":"IF(K3=\"ja\",SUMIF($N$14:$N$28,Q27,$J$14:$J$28),0)*B4","v":0},null,"","","","",""]
[null,null,null,null,null,"","","","","",null,"","","",null,null,"Kultursubstrate",{"$f":"IF(K3=\"ja\",SUMIF($N$14:$N$28,Q28,$H$14:$H$28),0)*B4","v":0},null,{"$f":"IF(K3=\"ja\",SUMIF($N$14:$N$28,Q28,$J$14:$J$28),0)*B4","v":0},null,"","","","",""]
[null,"anrechenbarer N aus org.Dgg. + min. Dgg. kg N/ha",null,null,null,null,null,{"$f":"X29+Y29","v":0},null,{"$f":"SUM(J14:J28)","v":0},null,{"$f":"SUM(L14:L28)","v":0},{"$f":"SUM(M14:M28)","v":0},null,null,null,"Pflanzenhilfsmittel",{"$f":"IF(K3=\"ja\",SUMIF($N$14:$N$28,Q29,$H$14:$H$28),0)*B4","v":0},null,{"$f":"IF(K3=\"ja\",SUMIF($N$14:$N$28,Q29,$J$14:$J$28),0)*B4","v":0},null,{"$f":"SUM(V14:V28)","v":0},{"$f":"SUM(W14:W28)","v":0},{"$f":"SUM(X14:X28)","v":0},{"$f":"SUM(Y14:Y28)","v":0},"kg/ha"]
[null,{"$f":"IF(K3=\"0\",O31,O30)","v":"Bilanz (anrechenbarer Dgg.- reduzierter Düngebedarf) kg N/ha"},null,null,null,null,null,{"$f":"IF(H12=\"\",0,IF(OR(K3=0,K3=\"nein\"),H29-H12,H29-H11))","v":0},null,{"$f":"IF(J12=\"\",\"\",J29-J12)","v":0},null,{"$f":"IF(L12=\"\",\"\",L29-L12)","v":0},{"$f":"IF(M12=\"\",\"\",M29-M12)","v":""},null,"Bilanz (anrechenbarer Dgg.- reduzierter Düngebedarf) kg N/ha",null,"Abfälle zur Beseitigung (§ 28 Absatz 2 odeS 3 KSWG)",{"$f":"IF(K3=\"ja\",SUMIF($N$14:$N$28,Q30,$H$14:$H$28),0)*B4","v":0},null,{"$f":"IF(K3=\"ja\",SUMIF($N$14:$N$28,Q30,$J$14:$J$28),0)*B4","v":0},null,{"$f":"V29*B4","v":0},{"$f":"W29*B4","v":0},{"$f":"X29*B4","v":0},{"$f":"Y29*B4","v":0},"kg/Schlag",null,{"$f":"IF(H30>0,\"Stickstoffmenge überschreitet den Düngebedarf\",\"\")","v":""}]
["Pflanzenschutzmittel",null,"Datum","EC","E./ha","€/E.","€/ha","Anwender",null,null,"Bemerkungen",null,null,null,"Bilanz (anrechenbarer Dgg.- Düngebedarf) kg N/ha"]
[null,null,null,null,null,{"$f":"IF($B32=\"\",\"\",VLOOKUP($B32,PSMMittel,2,0))","v":""},{"$f":"IF(B32=\"\",\"\",E32*F32)","v":""}]
[null,null,null,null,null,"",{"$f":"IF(B33=\"\",\"\",E33*F33)","v":""},null,null,null,null,null,null,null,null,null,"Stickstoffherkunft nicht gefährdetes Gebiet Gesamtfläche"]
[null,null,null,null,null,"","",null,null,null,null,null,null,null,null,null,null,"Gesamt N","NH4-N","P2O5 mineral.","P2O5 organisch",null,"N Fixierung kg N/ha"]
[null,null,null,null,null,"","",null,null,null,null,null,null,null,null,null,"N Gesamt minerl.",{"$f":"R5-R20","v":0},null,null,null,null,{"$f":"IF(E3=0,\"\",VLOOKUP(E3,AckerbauKulturen,26,0)*G56*B4)","v":""}]
[null,null,null,null,null,"","",null,null,null,null,null,null,null,null,null,"NH4-N minerlisch",null,{"$f":"S6-S21","v":0}]
[null,null,null,null,null,"","",null,null,null,null,null,null,null,null,null,"N Gesamt organsich",{"$f":"R7-R22","v":0}]
[null,null,null,null,null,"","",null,null,null,null,null,null,null,null,null,"NH4-N organsich",null,{"$f":"S8-S23","v":0}]
[null,null,null,null,null,"","",null,null,null,null,null,null,null,null,null,"P2O5 mineralisch",null,null,{"$f":"T9-T24","v":0}]
[null,null,null,null,null,"","",null,null,null,null,null,null,null,null,null,"P2O5 organisch",null,null,null,{"$f":"U10-U25","v":0}]
[null,null,null,null,null,"","",null,null,null,null,null,null,null,null,null,"Sonstige organische Düngemittel",{"$f":"R11-R26","v":0},{"$f":"S11-S26","v":0},{"$f":"T11-T26","v":0}]
[null,null,null,null,null,"","",null,null,null,null,null,null,null,null,null,"Bodenhilfsstoffe",{"$f":"R12-R27","v":0},null,{"$f":"T12-T27","v":0}]
[null,null,null,null,null,"","",null,null,null,null,null,null,null,null,null,"Kultursubstrate",{"$f":"R13-R28","v":0},null,{"$f":"T13-T28","v":0}]
[null,null,null,null,null,"","",null,null,null,null,null,null,null,null,null,"Pflanzenhilfsmittel",{"$f":"R14-R29","v":0},null,{"$f":"T14-T29","v":0}]
[null,null,null,null,null,"","",null,null,null,null,null,null,null,null,null,"Abfälle zur Beseitigung (§ 28 Absatz 2 odeS 3 KSWG)",{"$f":"R15-R30","v":0},null,{"$f":"T15-T30","v":0}]
[null,null,null,null,null,"",""]
[null,null,null,null,null,"",""]
[null,null,null,null,null,"",""]
[null,null,null,null,null,"",""]
[null,null,null,null,null,"",""]
[null,null,null,null,null,"",""]
[null,null,null,null,null,"",""]
[null,null,null,null,null,"",""]
[null,"Summe",null,null,null,null,{"$f":"SUM(G32:G53)","v":0}]
[]
[null,"Erntedatum:",null,{"$f":"IF(VLOOKUP($B$2,Ackerbauplan,58,0)=\"\",\"\",VLOOKUP($B$2,Ackerbauplan,58,0))","v":""},null,"dt/ha",{"$f":"VLOOKUP($B$2,Ackerbauplan,60,0)","v":0},null,null,"€/dt",null,{"$f":"VLOOKUP($B$2,Ackerbauplan,59,0)","v":0}]
[null,"   Hauptleistung ",null,{"$f":"IF(VLOOKUP($B$2,Ackerbauplan,61,0)=\"\",\"\",VLOOKUP($B$2,Ackerbauplan,61,0))","v":""},null,"Saatgut ",null,{"$f":"G11","v":0},"€/ha","Marktleistung -"]
[null,null,"+ Nebenleistung ",{"$f":"IF($B$2=\"\",\"\",VLOOKUP($B$2,Anbauplan,62,0))","v":0},null,"Dünger ",null,{"$f":"SUM(G14:G28)","v":0},"€/ha","Saatgut, Dünger, PSM"]
[null,null,"= Marktleistung ",{"$f":"IF(D57=\"\",\"\",D58+D57)","v":""},null,"Pflanzenschutz ",null,{"$f":"G54","v":0},"€/ha",{"$f":"IF(D59=\"\",\"\",D59-H57-H58-H59)","v":""},null,null,"€/ha"]
[null,{"$f":"IF($B$2=\"\",\"\",VLOOKUP($B$2,Anbauplan,2,0))","v":0}]
[null,"Bearbeitung","Maschine 1",null,"Maschine 2",null,"Maschine 3",null,"Datum",null,"Bemerkung"]

{"sheet":"A33","index":42,"n_rows":61,"n_cols":30,"rows_kept":61,"cut":false,"hidden":true,"merged":[[13,27,13,28],[13,29,16,30],[6,7,6,12],[7,7,7,8],[8,7,8,8],[7,9,7,10],[8,9,8,10],[10,8,10,12],[73,2,73,3],[73,4,73,5],[73,6,73,7],[73,8,73,9],[73,10,73,12],[69,2,69,3],[69,4,69,5],[69,6,69,7],[69,8,69,9],[69,10,69,12],[70,2,70,3],[70,4,70,5],[70,6,70,7],[70,8,70,9],[70,10,70,12],[67,2,67,3],[67,4,67,5],[67,6,67,7],[74,2,74,3],[74,4,74,5],[74,6,74,7],[74,8,74,9],[74,10,74,12],[71,2,71,3],[71,4,71,5],[71,6,71,7],[71,8,71,9],[71,10,71,12],[72,2,72,3],[72,4,72,5],[72,6,72,7],[72,8,72,9],[72,10,72,12],[67,8,67,9],[67,10,67,12],[68,2,68,3],[68,4,68,5],[68,6,68,7],[68,8,68,9],[68,10,68,12],[65,2,65,3],[65,4,65,5],[65,6,65,7],[65,8,65,9],[65,10,65,12],[66,2,66,3],[66,4,66,5],[66,6,66,7],[66,8,66,9],[66,10,66,12],[63,2,63,3],[63,4,63,5],[63,6,63,7],[63,8,63,9],[63,10,63,12],[64,2,64,3],[64,4,64,5],[64,6,64,7],[64,8,64,9],[64,10,64,12],[61,2,61,3],[61,4,61,5],[61,6,61,7],[61,8,61,9],[61,10,61,12],[62,2,62,3],[62,4,62,5],[62,6,62,7],[62,8,62,9],[62,10,62,12],[58,3,58,4],[58,5,58,6],[58,9,58,11],[59,1,59,12],[60,2,60,3],[60,4,60,5],[60,6,60,7],[60,8,60,9],[60,10,60,12],[56,1,56,2],[56,3,56,4],[56,5,56,6],[56,9,56,12],[57,3,57,4],[57,5,57,6],[57,9,57,12],[52,7,52,9],[52,10,52,12],[53,1,53,5],[53,7,53,12],[54,1,54,6],[55,1,55,2],[55,3,55,4],[55,6,55,8],[55,9,55,10],[55,11,55,12],[49,7,49,9],[49,10,49,12],[50,7,50,9],[50,10,50,12],[51,7,51,9],[51,10,51,12],[46,7,46,9],[46,10,46,12],[47,7,47,9],[47,10,47,12],[48,7,48,9],[48,10,48,12],[43,7,43,9],[43,10,43,12],[44,7,44,9],[44,10,44,12],[45,7,45,9],[45,10,45,12],[40,7,40,9],[40,10,40,12],[41,7,41,9],[41,10,41,12],[42,7,42,9],[42,10,42,12],[37,7,37,9],[37,10,37,12],[38,7,38,9],[38,10,38,12],[39,7,39,9],[39,10,39,12],[34,7,34,9],[34,10,34,12],[35,7,35,9],[35,10,35,12],[36,7,36,9],[36,10,36,12],[31,7,31,9],[31,10,31,12],[32,7,32,9],[32,10,32,12],[32,16,32,20],[33,7,33,9],[33,10,33,12],[29,1,29,6],[29,7,29,8],[29,9,29,10],[30,0,30,1],[30,7,30,9],[30,10,30,12],[23,9,23,10],[24,9,24,10],[25,9,25,10],[26,9,26,10],[27,9,27,10],[28,1,28,6],[28,7,28,8],[28,9,28,10],[17,16,17,20],[18,9,18,10],[19,9,19,10],[20,9,20,10],[21,9,21,10],[22,9,22,10],[14,9,14,10],[15,9,15,10],[16,9,16,10],[17,9,17,10],[10,1,10,2],[9,7,9,12],[11,1,11,2],[11,4,11,6],[11,7,11,8],[11,9,11,10],[11,25,12,25],[33,22,33,23],[34,22,34,23],[0,1,0,12],[1,2,1,3],[1,4,1,6],[1,7,1,9],[1,10,1,12],[2,2,2,3],[2,4,2,6],[2,7,2,9],[2,10,2,12],[5,7,5,10],[5,11,5,12],[3,2,3,3],[3,4,3,6],[3,7,3,10],[3,11,3,12],[4,2,4,3],[4,4,4,6],[4,7,4,9],[4,10,4,12],[12,9,12,10],[13,9,13,10]]}
[null,"Ackerland"]
[null,33,"Name:",null,{"$f":"IF(B2=\"\",\"\",VLOOKUP(B2,Anbauplan,2,0))","v":0},null,null,"Jahr:",null,null,{"$f":"IF(Einführung!I8=\"\",\"\",Einführung!I8)","v":""},null,null,{"$f":"IF(OR(B4=\"\",H12=\"\"),\"\",H12*B4)","v":0},"DB kg * Fläche"]
[null,"Hektar ","Hauptfrucht ",null,{"$f":"IF(B2=\"\",\"\",VLOOKUP(B2,Ackerbauplan,4,0))","v":0},null,null,"Nitratkulisse",null,null,{"$f":"IF(B2=\"\",\"\",VLOOKUP(B2,Ackerbauplan,20,0))","v":0},null,null,{"$f":"L4","v":""},"kg/ha org. Dünger für Kontrollgrenze"]
[null,{"$f":"IF(B2=\"\",\"\",VLOOKUP(B2,Ackerbauplan,3,0))","v":0},"Vorfrucht",null,{"$f":"IF(B2=\"\",\"\",VLOOKUP(B2,Ackerbauplan,9,0))","v":0},null,null,"Wirtschaftsdünger zur Berechung\ndes 130 kg N/ha Anteils in kg/ha",null,null,null,{"$f":"IF(K3=\"ja\",W29,\"\")","v":""},null,{"$f":"IF(N3=\"\",\"\",N3*B4)","v":""},"kg Gesamtschlag org Dünger für 170 Kontrollgrenze",null,null,"Gesamt N","NH4-N","P2O5 mineral.","P2O5 organisch"]
[null,"Sorte","VorVorfrucht",null,null,null,null,"Phosphatkulisse",null,null,{"$f":"IF(B2=\"\",\"\",VLOOKUP(B2,Ackerbauplan,21,0))","v":0},null,null,{"$f":"IF(H12=\"\",\"\",IF(K3=\"ja\",N2*0.8,\"\"))","v":""},"Nitrat belastetes Gebiet Düngebedarf Gesamtschlag kg N/ha",null,"N Gesamt minerl.",{"$f":"SUMIF($N$14:$N$28,\"mineralisch\",$H$14:$H$28)*B4","v":0}]
[null,{"$f":"IF(B2=\"\",\"\",VLOOKUP(B2,Ackerbauplan,8,0))","v":0},null,null,null,null,null,"sonstige Auflagen",null,null,null,null,null,{"$f":"IF(K3=\"ja\",X30+Y30,\"\")","v":""},"org +min .anrechenbare N Menge Gesamtschlag  kg N/ha",null,"NH4-N minerlisch",null,{"$f":"SUMIF($N$14:$N$28,\"mineralisch\",$I$14:$I$28)*B4","v":0}]
[null,"Aussaatdatum","Kö./m² ",{"$f":"IF(B2=\"\",\"\",VLOOKUP(B2,Ackerbauplan,52,0))","v":0},null,"Eigen","Zukauf","Versorgungsstufen",null,null,null,null,null,{"$f":"IF(K3=\"ja\",J12*B4,\"\")","v":""},null,null,"N Gesamt organsich",{"$f":"SUMIF($N$14:$N$28,\"organisch\",$H$14:$H$28)*B4","v":0}]
[null,{"$f":"IF(B2=\"0\",\"\",VLOOKUP(B2,Ackerbauplan,51,0))","v":"00:00:00"},"x TKG ",{"$f":"IF(B2=\"\",\"\",VLOOKUP(B2,Ackerbauplan,53,0))","v":0},"dt/ha ",null,null,"Nmin",null,"P2O5",null,"K2O","MgO",null,null,null,"NH4-N organsich",null,{"$f":"SUMIF($N$14:$N$28,\"organisch\",I14:I28)*B4","v":0}]
[null,"Beize","/Kei.fäh.",{"$f":"IF(B2=\"\",\"\",VLOOKUP(B2,Ackerbauplan,54,0))","v":0},"€/dt",null,null,{"$f":"IF(B2=\"\",\"\",VLOOKUP(B2,Ackerbauplan,17,0))","v":0},null,{"$f":"IF(B2=\"\",\"\",VLOOKUP(B2,Ackerbauplan,30,0))","v":"C"},null,{"$f":"IF(B2=\"\",\"\",VLOOKUP(B2,Ackerbauplan,31,0))","v":"C"},{"$f":"IF(B2=\"\",\"\",VLOOKUP(B2,Ackerbauplan,32,0))","v":"C"},null,null,null,"P2O5 mineralisch",null,null,{"$f":"SUMIF($N$14:$N$28,\"mineralisch\",$J$14:$J$28)*B4","v":0}]
[null,null,"= kg/ha",{"$f":"IF(B2=\"\",\"\",VLOOKUP(B2,Ackerbauplan,55,0))","v":""},"€/ha ",{"$f":"F8*F9","v":0},{"$f":"G8*G9","v":0},"Düngebedarf kg/ha (Blatt Ackerfläche)",null,null,null,null,null,null,"Düngebedarf um 20% reduziert",null,"P2O5 organisch",null,null,null,{"$f":"SUMIF($N$14:$N$28,\"organisch\",$J$14:$J$28)*B4","v":0},null,null,null,null,null,null,{"$f":"IF(K3=\"ja\",\"Noch nicht ausgeschöpfter Stickstoff Düngebedarf aller Flächen\",\"\")","v":""}]
[null,"Saatgutkennnummer",null,null,null,"Summe",{"$f":"F10+G10","v":0},{"$f":"IF(H12=\"\",\"\",IF(K3=\"ja\",H12*0.8,\"\"))","v":""},{"$f":"IF(K3=\"ja\",O10,\"\")","v":""},null,null,null,null,null,null,null,"Sonstige organische Düngemittel",{"$f":"SUMIF($N$14:$N$28,Q11,$H$14:$H$28)*B4","v":0},{"$f":"SUMIF($N$14:$N$28,Q11,$I$14:$I$28)*B4","v":0},{"$f":"SUMIF($N$14:$N$28,Q11,$J$14:$J$28)*B4","v":0},null,null,null,null,null,null,null,{"$f":"IF(K3=\"ja\",'Zus. Anlage 5 DüV'!D43,\"\")","v":""},{"$f":"IF(K3=\"ja\",\"kg N Gesamtfläche\",\"\")","v":""}]
[null,null,null,null,"N Bedarf DÜV kg/ha",null,null,{"$f":"IF(B2=\"\",\"\",VLOOKUP(B2,Ackerbauplan,18,0))","v":"0"},null,{"$f":"IF(B2=\"\",\"\",VLOOKUP(B2,Ackerbauplan,37,0))","v":"0"},null,{"$f":"IF(B2=\"\",\"\",VLOOKUP(B2,Ackerbauplan,38,0))","v":"0"},null,null,null,null,"Bodenhilfsstoffe",{"$f":"SUMIF($N$14:$N$28,Q12,$H$14:$H$28)*B4","v":0},null,{"$f":"SUMIF($N$14:$N$28,Q12,$J$14:$J$28)*B4","v":0},null,"Anrechnung","Anrechnung ","Prüfung NH4","mineral","Kontroll\nSumme"]
[null,"Dünger","Datum","EC","m³o.dt/ha","€/dt","€/ha","Ges.-N","NH4-N","P2O5",null,"K2O","S",null,null,null,"Kultursubstrate",{"$f":"SUMIF($N$14:$N$28,Q13,$H$14:$H$28)*B4","v":0},null,{"$f":"SUMIF($N$14:$N$28,Q13,$J$14:$J$28)*B4","v":0},null,"aktuelles Jahr","170 kg GW"," oder Anlage3","Stickstoff"]
[null,null,null,null,null,{"$f":"IF(B14=\"\",\"\",VLOOKUP(B14,Düngemiteldaten,2,0))","v":""},{"$f":"IF(B14=\"\",\"\",E14*F14)","v":""},{"$f":"IF(B14=\"\",\"\",VLOOKUP(B14,Düngemiteldaten,4,0)*E14)","v":""},{"$f":"IF(B14=\"\",\"\",VLOOKUP(B14,Düngemiteldaten,5,0)*E14)","v":""},{"$f":"IF(B14=\"\",\"\",VLOOKUP(B14,Düngemiteldaten,7,0)*E14)","v":""},null,{"$f":"IF(B14=\"\",\"\",VLOOKUP(B14,Düngemiteldaten,8,0)*E14)","v":""},{"$f":"IF(B14=\"\",\"\",VLOOKUP(B14,Düngemiteldaten,10,0)*E14)","v":""},{"$f":"IF(B14=\"\",\"\",VLOOKUP(B14,Düngemiteldaten,20,0))","v":""},null,null,"Pflanzenhilfsmittel",{"$f":"SUMIF($N$14:$N$28,Q14,$H$14:$H$28)*B4","v":0},null,{"$f":"SUMIF($N$14:$N$28,Q14,$J$14:$J$28)*B4","v":0},null,{"$f":"IF(OR(B14=\"\",N14=\"\"),\"\",IF(N14=\"mineralisch\",\"\",VLOOKUP(B14,Düngemiteldaten,17,0)*VLOOKUP(B14,Düngemiteldaten,4,0)*E14))","v":""},{"$f":"IF(N14=\"organisch\",VLOOKUP(B14,Düngemiteldaten,4,0)*E14*VLOOKUP(B14,Düngemiteldaten,19,0),\"\")","v":""},{"$f":"IF(B14=\"\",\"\",IF(V14<I14,I14,V14))","v":""},{"$f":"IF(B14=\"\",\"\",IF(N14=\"organisch\",0,H14))","v":""},{"$f":"IF(SUM(V14:Y14)=0,\"\",SUM(X14:Y14))","v":""},null,{"$f":"IF(K3=\"ja\",\"Summe Gesamtstickstoff\",\"\")","v":""},null,{"$f":"IF(K3=\"ja\",\"Anteil § 13a Prüfung \n160 kg N/ha Gesamt\n80 kg N/ha mineralisch\",\"\")","v":""}]
[null,null,null,null,null,"",{"$f":"IF(B15=\"\",\"\",E15*F15)","v":""},"","","",null,"","","",null,null,"Abfälle zur Beseitigung (§ 28 Absatz 2 odeS 3 KSWG)",{"$f":"SUMIF($N$14:$N$28,Q15,$H$14:$H$28)*B4","v":0},null,{"$f":"SUMIF($N$14:$N$28,Q15,$J$14:$J$28)*B4","v":0},null,"","",{"$f":"IF(B15=\"\",\"\",IF(V15<I15,I15,V15))","v":""},{"$f":"IF(B15=\"\",\"\",IF(N15=\"organisch\",0,H15))","v":""},{"$f":"IF(SUM(V15:Y15)=0,\"\",SUM(X15:Y15))","v":""},null,{"$f":"IF(L4=\"\",\"\",SUMIF($N$14:$N$28,\"mineralisch\",$H$14:$H$28))","v":""},{"$f":"IF(K3=\"ja\",\"mineralisch N kg/ha\",\"\")","v":""}]
[null,null,null,null,null,"","","","","",null,"","","",null,null,null,null,null,null,null,"","","","","",null,{"$f":"IF(L4=\"\",\"\",SUMIF($N$14:$N$28,\"organisch\",$H$14:$H$28)+SUMIF($N$14:$N$28,Q11,$H$14:$H$28))","v":""},{"$f":"IF(K3=\"ja\",\"organisch N kg/ha\",\"\")","v":""}]
[null,null,null,null,null,"","","","","",null,"","","",null,null,null,null,null,null,null,{"$f":"IF(OR(B17=\"\",N17=\"\"),\"\",IF(N17=\"mineralisch\",\"\",VLOOKUP(B17,Düngemiteldaten,17,0)*VLOOKUP(B17,Düngemiteldaten,4,0)*E17))","v":""},"","","","",null,{"$f":"IF(K3=\"ja\",(AB16+AB15),\"\")","v":""},{"$f":"IF(K3=\"ja\",\"Gesamt kg N/ha\",\"\")","v":""}]
[null,null,null,null,null,"","","","","",null,"","","",null,null,"Nährstoffherkunft auf gefährdeten Flächen §13",null,null,null,null,"","","","",""]
[null,null,null,null,null,"","","","","",null,"","","",null,null,null,"Gesamt N","NH4-N","P2O5 mineral.","P2O5 organisch","","","","",""]
[null,null,null,null,null,"","","","","",null,"","","",null,null,"N Gesamt minerl.",{"$f":"IF(K3=\"ja\",SUMIF($N$14:$N$28,\"mineralisch\",$H$14:$H$28),0)*B4","v":0},null,null,null,"","","","",""]
[null,null,null,null,null,"","","","","",null,"","","",null,null,"NH4-N minerlisch",null,{"$f":"IF(K3=\"ja\",SUMIF($N$14:$N$28,\"mineralisch\",$I$14:$I$28),0)*B4","v":0},null,null,"","","","",""]
[null,null,null,null,null,"","","","","",null,"","","",null,null,"N Gesamt organsich",{"$f":"IF(K3=\"ja\",SUMIF($N$14:$N$28,\"organisch\",$H$14:$H$28),0)*B4","v":0},null,null,null,"","","","",""]
[null,null,null,null,null,"","","","","",null,"","","",null,null,"NH4-N organsich",null,{"$f":"IF(K3=\"ja\",SUMIF($N$14:$N$28,\"organisch\",$I$14:$I$28),0)*B4","v":0},null,null,"","","","",""]
[null,null,null,null,null,"","","","","",null,"","","",null,null,"P2O5 mineralisch",null,null,{"$f":"IF(K3=\"ja\",SUMIF($N$14:$N$28,\"mineralisch\",$J$14:$J$28),0)*B4","v":0},null,"","","","",""]
[null,null,null,null,null,"","","","","",null,"","","",null,null,"P2O5 organisch",null,null,null,{"$f":"IF(K3=\"ja\",SUMIF($N$14:$N$28,\"organisch\",$J$14:$J$28),0)*B4","v":0},"","","","",""]
[null,null,null,null,null,"","","","","",null,"","","",null,null,"Sonstige organische Düngemittel",{"$f":"IF(K3=\"ja\",SUMIF($N$14:$N$28,Q26,$H$14:$H$28),0)*B4","v":0},{"$f":"IF(K3=\"ja\",SUMIF($N$14:$N$28,Q26,$I$14:$I$28),0)*B4","v":0},{"$f":"IF(K3=\"ja\",SUMIF($N$14:$N$28,Q26,$J$14:$J$28),0)*B4","v":0},null,"","","","",""]
[null,null,null,null,null,"","","","","",null,"","","",null,null,"Bodenhilfsstoffe",{"$f":"IF(K3=\"ja\",SUMIF($N$14:$N$28,Q27,$H$14:$H$28),0)*B4","v":0},null,{"$f":"IF(K3=\"ja\",SUMIF($N$14:$N$28,Q27,$J$14:$J$28),0)*B4","v":0},null,"","","","",""]
[null,null,null,null,null,"","","","","",null,"","","",null,null,"Kultursubstrate",{"$f":"IF(K3=\"ja\",SUMIF($N$14:$N$28,Q28,$H$14:$H$28),0)*B4","v":0},null,{"$f":"IF(K3=\"ja\",SUMIF($N$14:$N$28,Q28,$J$14:$J$28),0)*B4","v":0},null,"","","","",""]
[null,"anrechenbarer N aus org.Dgg. + min. Dgg. kg N/ha",null,null,null,null,null,{"$f":"X29+Y29","v":0},null,{"$f":"SUM(J14:J28)","v":0},null,{"$f":"SUM(L14:L28)","v":0},{"$f":"SUM(M14:M28)","v":0},null,null,null,"Pflanzenhilfsmittel",{"$f":"IF(K3=\"ja\",SUMIF($N$14:$N$28,Q29,$H$14:$H$28),0)*B4","v":0},null,{"$f":"IF(K3=\"ja\",SUMIF($N$14:$N$28,Q29,$J$14:$J$28),0)*B4","v":0},null,{"$f":"SUM(V14:V28)","v":0},{"$f":"SUM(W14:W28)","v":0},{"$f":"SUM(X14:X28)","v":0},{"$f":"SUM(Y14:Y28)","v":0},"kg/ha"]
[null,{"$f":"IF(K3=\"0\",O31,O30)","v":"Bilanz (anrechenbarer Dgg.- reduzierter Düngebedarf) kg N/ha"},null,null,null,null,null,{"$f":"IF(H12=\"\",0,IF(OR(K3=0,K3=\"nein\"),H29-H12,H29-H11))","v":0},null,{"$f":"IF(J12=\"\",\"\",J29-J12)","v":0},null,{"$f":"IF(L12=\"\",\"\",L29-L12)","v":0},{"$f":"IF(M12=\"\",\"\",M29-M12)","v":""},null,"Bilanz (anrechenbarer Dgg.- reduzierter Düngebedarf) kg N/ha",null,"Abfälle zur Beseitigung (§ 28 Absatz 2 odeS 3 KSWG)",{"$f":"IF(K3=\"ja\",SUMIF($N$14:$N$28,Q30,$H$14:$H$28),0)*B4","v":0},null,{"$f":"IF(K3=\"ja\",SUMIF($N$14:$N$28,Q30,$J$14:$J$28),0)*B4","v":0},null,{"$f":"V29*B4","v":0},{"$f":"W29*B4","v":0},{"$f":"X29*B4","v":0},{"$f":"Y29*B4","v":0},"kg/Schlag",null,{"$f":"IF(H30>0,\"Stickstoffmenge überschreitet den Düngebedarf\",\"\")","v":""}]
["Pflanzenschutzmittel",null,"Datum","EC","E./ha","€/E.","€/ha","Anwender",null,null,"Bemerkungen",null,null,null,"Bilanz (anrechenbarer Dgg.- Düngebedarf) kg N/ha"]
[null,null,null,null,null,{"$f":"IF($B32=\"\",\"\",VLOOKUP($B32,PSMMittel,2,0))","v":""},{"$f":"IF(B32=\"\",\"\",E32*F32)","v":""}]
[null,null,null,null,null,"",{"$f":"IF(B33=\"\",\"\",E33*F33)","v":""},null,null,null,null,null,null,null,null,null,"Stickstoffherkunft nicht gefährdetes Gebiet Gesamtfläche"]
[null,null,null,null,null,"","",null,null,null,null,null,null,null,null,null,null,"Gesamt N","NH4-N","P2O5 mineral.","P2O5 organisch",null,"N Fixierung kg N/ha"]
[null,null,null,null,null,"","",null,null,null,null,null,null,null,null,null,"N Gesamt minerl.",{"$f":"R5-R20","v":0},null,null,null,null,{"$f":"IF(E3=0,\"\",VLOOKUP(E3,AckerbauKulturen,26,0)*G56*B4)","v":""}]
[null,null,null,null,null,"","",null,null,null,null,null,null,null,null,null,"NH4-N minerlisch",null,{"$f":"S6-S21","v":0}]
[null,null,null,null,null,"","",null,null,null,null,null,null,null,null,null,"N Gesamt organsich",{"$f":"R7-R22","v":0}]
[null,null,null,null,null,"","",null,null,null,null,null,null,null,null,null,"NH4-N organsich",null,{"$f":"S8-S23","v":0}]
[null,null,null,null,null,"","",null,null,null,null,null,null,null,null,null,"P2O5 mineralisch",null,null,{"$f":"T9-T24","v":0}]
[null,null,null,null,null,"","",null,null,null,null,null,null,null,null,null,"P2O5 organisch",null,null,null,{"$f":"U10-U25","v":0}]
[null,null,null,null,null,"","",null,null,null,null,null,null,null,null,null,"Sonstige organische Düngemittel",{"$f":"R11-R26","v":0},{"$f":"S11-S26","v":0},{"$f":"T11-T26","v":0}]
[null,null,null,null,null,"","",null,null,null,null,null,null,null,null,null,"Bodenhilfsstoffe",{"$f":"R12-R27","v":0},null,{"$f":"T12-T27","v":0}]
[null,null,null,null,null,"","",null,null,null,null,null,null,null,null,null,"Kultursubstrate",{"$f":"R13-R28","v":0},null,{"$f":"T13-T28","v":0}]
[null,null,null,null,null,"","",null,null,null,null,null,null,null,null,null,"Pflanzenhilfsmittel",{"$f":"R14-R29","v":0},null,{"$f":"T14-T29","v":0}]
[null,null,null,null,null,"","",null,null,null,null,null,null,null,null,null,"Abfälle zur Beseitigung (§ 28 Absatz 2 odeS 3 KSWG)",{"$f":"R15-R30","v":0},null,{"$f":"T15-T30","v":0}]
[null,null,null,null,null,"",""]
[null,null,null,null,null,"",""]
[null,null,null,null,null,"",""]
[null,null,null,null,null,"",""]
[null,null,null,null,null,"",""]
[null,null,null,null,null,"",""]
[null,null,null,null,null,"",""]
[null,null,null,null,null,"",""]
[null,"Summe",null,null,null,null,{"$f":"SUM(G32:G53)","v":0}]
[]
[null,"Erntedatum:",null,{"$f":"IF(VLOOKUP($B$2,Ackerbauplan,58,0)=\"\",\"\",VLOOKUP($B$2,Ackerbauplan,58,0))","v":""},null,"dt/ha",{"$f":"VLOOKUP($B$2,Ackerbauplan,60,0)","v":0},null,null,"€/dt",null,{"$f":"VLOOKUP($B$2,Ackerbauplan,59,0)","v":0}]
[null,"   Hauptleistung ",null,{"$f":"IF(VLOOKUP($B$2,Ackerbauplan,61,0)=\"\",\"\",VLOOKUP($B$2,Ackerbauplan,61,0))","v":""},null,"Saatgut ",null,{"$f":"G11","v":0},"€/ha","Marktleistung -"]
[null,null,"+ Nebenleistung ",{"$f":"IF($B$2=\"\",\"\",VLOOKUP($B$2,Anbauplan,62,0))","v":0},null,"Dünger ",null,{"$f":"SUM(G14:G28)","v":0},"€/ha","Saatgut, Dünger, PSM"]
[null,null,"= Marktleistung ",{"$f":"IF(D57=\"\",\"\",D58+D57)","v":""},null,"Pflanzenschutz ",null,{"$f":"G54","v":0},"€/ha",{"$f":"IF(D59=\"\",\"\",D59-H57-H58-H59)","v":""},null,null,"€/ha"]
[null,{"$f":"IF($B$2=\"\",\"\",VLOOKUP($B$2,Anbauplan,2,0))","v":0}]
[null,"Bearbeitung","Maschine 1",null,"Maschine 2",null,"Maschine 3",null,"Datum",null,"Bemerkung"]

{"sheet":"A34","index":43,"n_rows":61,"n_cols":30,"rows_kept":61,"cut":false,"hidden":true,"merged":[[13,27,13,28],[13,29,16,30],[6,7,6,12],[7,7,7,8],[8,7,8,8],[7,9,7,10],[8,9,8,10],[10,8,10,12],[73,2,73,3],[73,4,73,5],[73,6,73,7],[73,8,73,9],[73,10,73,12],[69,2,69,3],[69,4,69,5],[69,6,69,7],[69,8,69,9],[69,10,69,12],[70,2,70,3],[70,4,70,5],[70,6,70,7],[70,8,70,9],[70,10,70,12],[67,2,67,3],[67,4,67,5],[67,6,67,7],[74,2,74,3],[74,4,74,5],[74,6,74,7],[74,8,74,9],[74,10,74,12],[71,2,71,3],[71,4,71,5],[71,6,71,7],[71,8,71,9],[71,10,71,12],[72,2,72,3],[72,4,72,5],[72,6,72,7],[72,8,72,9],[72,10,72,12],[67,8,67,9],[67,10,67,12],[68,2,68,3],[68,4,68,5],[68,6,68,7],[68,8,68,9],[68,10,68,12],[65,2,65,3],[65,4,65,5],[65,6,65,7],[65,8,65,9],[65,10,65,12],[66,2,66,3],[66,4,66,5],[66,6,66,7],[66,8,66,9],[66,10,66,12],[63,2,63,3],[63,4,63,5],[63,6,63,7],[63,8,63,9],[63,10,63,12],[64,2,64,3],[64,4,64,5],[64,6,64,7],[64,8,64,9],[64,10,64,12],[61,2,61,3],[61,4,61,5],[61,6,61,7],[61,8,61,9],[61,10,61,12],[62,2,62,3],[62,4,62,5],[62,6,62,7],[62,8,62,9],[62,10,62,12],[58,3,58,4],[58,5,58,6],[58,9,58,11],[59,1,59,12],[60,2,60,3],[60,4,60,5],[60,6,60,7],[60,8,60,9],[60,10,60,12],[56,1,56,2],[56,3,56,4],[56,5,56,6],[56,9,56,12],[57,3,57,4],[57,5,57,6],[57,9,57,12],[52,7,52,9],[52,10,52,12],[53,1,53,5],[53,7,53,12],[54,1,54,6],[55,1,55,2],[55,3,55,4],[55,6,55,8],[55,9,55,10],[55,11,55,12],[49,7,49,9],[49,10,49,12],[50,7,50,9],[50,10,50,12],[51,7,51,9],[51,10,51,12],[46,7,46,9],[46,10,46,12],[47,7,47,9],[47,10,47,12],[48,7,48,9],[48,10,48,12],[43,7,43,9],[43,10,43,12],[44,7,44,9],[44,10,44,12],[45,7,45,9],[45,10,45,12],[40,7,40,9],[40,10,40,12],[41,7,41,9],[41,10,41,12],[42,7,42,9],[42,10,42,12],[37,7,37,9],[37,10,37,12],[38,7,38,9],[38,10,38,12],[39,7,39,9],[39,10,39,12],[34,7,34,9],[34,10,34,12],[35,7,35,9],[35,10,35,12],[36,7,36,9],[36,10,36,12],[31,7,31,9],[31,10,31,12],[32,7,32,9],[32,10,32,12],[32,16,32,20],[33,7,33,9],[33,10,33,12],[29,1,29,6],[29,7,29,8],[29,9,29,10],[30,0,30,1],[30,7,30,9],[30,10,30,12],[23,9,23,10],[24,9,24,10],[25,9,25,10],[26,9,26,10],[27,9,27,10],[28,1,28,6],[28,7,28,8],[28,9,28,10],[17,16,17,20],[18,9,18,10],[19,9,19,10],[20,9,20,10],[21,9,21,10],[22,9,22,10],[14,9,14,10],[15,9,15,10],[16,9,16,10],[17,9,17,10],[10,1,10,2],[9,7,9,12],[11,1,11,2],[11,4,11,6],[11,7,11,8],[11,9,11,10],[11,25,12,25],[33,22,33,23],[34,22,34,23],[0,1,0,12],[1,2,1,3],[1,4,1,6],[1,7,1,9],[1,10,1,12],[2,2,2,3],[2,4,2,6],[2,7,2,9],[2,10,2,12],[5,7,5,10],[5,11,5,12],[3,2,3,3],[3,4,3,6],[3,7,3,10],[3,11,3,12],[4,2,4,3],[4,4,4,6],[4,7,4,9],[4,10,4,12],[12,9,12,10],[13,9,13,10]]}
[null,"Ackerland"]
[null,34,"Name:",null,{"$f":"IF(B2=\"\",\"\",VLOOKUP(B2,Anbauplan,2,0))","v":0},null,null,"Jahr:",null,null,{"$f":"IF(Einführung!I8=\"\",\"\",Einführung!I8)","v":""},null,null,{"$f":"IF(OR(B4=\"\",H12=\"\"),\"\",H12*B4)","v":0},"DB kg * Fläche"]
[null,"Hektar ","Hauptfrucht ",null,{"$f":"IF(B2=\"\",\"\",VLOOKUP(B2,Ackerbauplan,4,0))","v":0},null,null,"Nitratkulisse",null,null,{"$f":"IF(B2=\"\",\"\",VLOOKUP(B2,Ackerbauplan,20,0))","v":0},null,null,{"$f":"L4","v":""},"kg/ha org. Dünger für Kontrollgrenze"]
[null,{"$f":"IF(B2=\"\",\"\",VLOOKUP(B2,Ackerbauplan,3,0))","v":0},"Vorfrucht",null,{"$f":"IF(B2=\"\",\"\",VLOOKUP(B2,Ackerbauplan,9,0))","v":0},null,null,"Wirtschaftsdünger zur Berechung\ndes 130 kg N/ha Anteils in kg/ha",null,null,null,{"$f":"IF(K3=\"ja\",W29,\"\")","v":""},null,{"$f":"IF(N3=\"\",\"\",N3*B4)","v":""},"kg Gesamtschlag org Dünger für 170 Kontrollgrenze",null,null,"Gesamt N","NH4-N","P2O5 mineral.","P2O5 organisch"]
[null,"Sorte","VorVorfrucht",null,null,null,null,"Phosphatkulisse",null,null,{"$f":"IF(B2=\"\",\"\",VLOOKUP(B2,Ackerbauplan,21,0))","v":0},null,null,{"$f":"IF(H12=\"\",\"\",IF(K3=\"ja\",N2*0.8,\"\"))","v":""},"Nitrat belastetes Gebiet Düngebedarf Gesamtschlag kg N/ha",null,"N Gesamt minerl.",{"$f":"SUMIF($N$14:$N$28,\"mineralisch\",$H$14:$H$28)*B4","v":0}]
[null,{"$f":"IF(B2=\"\",\"\",VLOOKUP(B2,Ackerbauplan,8,0))","v":0},null,null,null,null,null,"sonstige Auflagen",null,null,null,null,null,{"$f":"IF(K3=\"ja\",X30+Y30,\"\")","v":""},"org +min .anrechenbare N Menge Gesamtschlag  kg N/ha",null,"NH4-N minerlisch",null,{"$f":"SUMIF($N$14:$N$28,\"mineralisch\",$I$14:$I$28)*B4","v":0}]
[null,"Aussaatdatum","Kö./m² ",{"$f":"IF(B2=\"\",\"\",VLOOKUP(B2,Ackerbauplan,52,0))","v":0},null,"Eigen","Zukauf","Versorgungsstufen",null,null,null,null,null,{"$f":"IF(K3=\"ja\",J12*B4,\"\")","v":""},null,null,"N Gesamt organsich",{"$f":"SUMIF($N$14:$N$28,\"organisch\",$H$14:$H$28)*B4","v":0}]
[null,{"$f":"IF(B2=\"0\",\"\",VLOOKUP(B2,Ackerbauplan,51,0))","v":"00:00:00"},"x TKG ",{"$f":"IF(B2=\"\",\"\",VLOOKUP(B2,Ackerbauplan,53,0))","v":0},"dt/ha ",null,null,"Nmin",null,"P2O5",null,"K2O","MgO",null,null,null,"NH4-N organsich",null,{"$f":"SUMIF($N$14:$N$28,\"organisch\",I14:I28)*B4","v":0}]
[null,"Beize","/Kei.fäh.",{"$f":"IF(B2=\"\",\"\",VLOOKUP(B2,Ackerbauplan,54,0))","v":0},"€/dt",null,null,{"$f":"IF(B2=\"\",\"\",VLOOKUP(B2,Ackerbauplan,17,0))","v":0},null,{"$f":"IF(B2=\"\",\"\",VLOOKUP(B2,Ackerbauplan,30,0))","v":"C"},null,{"$f":"IF(B2=\"\",\"\",VLOOKUP(B2,Ackerbauplan,31,0))","v":"C"},{"$f":"IF(B2=\"\",\"\",VLOOKUP(B2,Ackerbauplan,32,0))","v":"C"},null,null,null,"P2O5 mineralisch",null,null,{"$f":"SUMIF($N$14:$N$28,\"mineralisch\",$J$14:$J$28)*B4","v":0}]
[null,null,"= kg/ha",{"$f":"IF(B2=\"\",\"\",VLOOKUP(B2,Ackerbauplan,55,0))","v":""},"€/ha ",{"$f":"F8*F9","v":0},{"$f":"G8*G9","v":0},"Düngebedarf kg/ha (Blatt Ackerfläche)",null,null,null,null,null,null,"Düngebedarf um 20% reduziert",null,"P2O5 organisch",null,null,null,{"$f":"SUMIF($N$14:$N$28,\"organisch\",$J$14:$J$28)*B4","v":0},null,null,null,null,null,null,{"$f":"IF(K3=\"ja\",\"Noch nicht ausgeschöpfter Stickstoff Düngebedarf aller Flächen\",\"\")","v":""}]
[null,"Saatgutkennnummer",null,null,null,"Summe",{"$f":"F10+G10","v":0},{"$f":"IF(H12=\"\",\"\",IF(K3=\"ja\",H12*0.8,\"\"))","v":""},{"$f":"IF(K3=\"ja\",O10,\"\")","v":""},null,null,null,null,null,null,null,"Sonstige organische Düngemittel",{"$f":"SUMIF($N$14:$N$28,Q11,$H$14:$H$28)*B4","v":0},{"$f":"SUMIF($N$14:$N$28,Q11,$I$14:$I$28)*B4","v":0},{"$f":"SUMIF($N$14:$N$28,Q11,$J$14:$J$28)*B4","v":0},null,null,null,null,null,null,null,{"$f":"IF(K3=\"ja\",'Zus. Anlage 5 DüV'!D43,\"\")","v":""},{"$f":"IF(K3=\"ja\",\"kg N Gesamtfläche\",\"\")","v":""}]
[null,null,null,null,"N Bedarf DÜV kg/ha",null,null,{"$f":"IF(B2=\"\",\"\",VLOOKUP(B2,Ackerbauplan,18,0))","v":"0"},null,{"$f":"IF(B2=\"\",\"\",VLOOKUP(B2,Ackerbauplan,37,0))","v":"0"},null,{"$f":"IF(B2=\"\",\"\",VLOOKUP(B2,Ackerbauplan,38,0))","v":"0"},null,null,null,null,"Bodenhilfsstoffe",{"$f":"SUMIF($N$14:$N$28,Q12,$H$14:$H$28)*B4","v":0},null,{"$f":"SUMIF($N$14:$N$28,Q12,$J$14:$J$28)*B4","v":0},null,"Anrechnung","Anrechnung ","Prüfung NH4","mineral","Kontroll\nSumme"]
[null,"Dünger","Datum","EC","m³o.dt/ha","€/dt","€/ha","Ges.-N","NH4-N","P2O5",null,"K2O","S",null,null,null,"Kultursubstrate",{"$f":"SUMIF($N$14:$N$28,Q13,$H$14:$H$28)*B4","v":0},null,{"$f":"SUMIF($N$14:$N$28,Q13,$J$14:$J$28)*B4","v":0},null,"aktuelles Jahr","170 kg GW"," oder Anlage3","Stickstoff"]
[null,null,null,null,null,{"$f":"IF(B14=\"\",\"\",VLOOKUP(B14,Düngemiteldaten,2,0))","v":""},{"$f":"IF(B14=\"\",\"\",E14*F14)","v":""},{"$f":"IF(B14=\"\",\"\",VLOOKUP(B14,Düngemiteldaten,4,0)*E14)","v":""},{"$f":"IF(B14=\"\",\"\",VLOOKUP(B14,Düngemiteldaten,5,0)*E14)","v":""},{"$f":"IF(B14=\"\",\"\",VLOOKUP(B14,Düngemiteldaten,7,0)*E14)","v":""},null,{"$f":"IF(B14=\"\",\"\",VLOOKUP(B14,Düngemiteldaten,8,0)*E14)","v":""},{"$f":"IF(B14=\"\",\"\",VLOOKUP(B14,Düngemiteldaten,10,0)*E14)","v":""},{"$f":"IF(B14=\"\",\"\",VLOOKUP(B14,Düngemiteldaten,20,0))","v":""},null,null,"Pflanzenhilfsmittel",{"$f":"SUMIF($N$14:$N$28,Q14,$H$14:$H$28)*B4","v":0},null,{"$f":"SUMIF($N$14:$N$28,Q14,$J$14:$J$28)*B4","v":0},null,{"$f":"IF(OR(B14=\"\",N14=\"\"),\"\",IF(N14=\"mineralisch\",\"\",VLOOKUP(B14,Düngemiteldaten,17,0)*VLOOKUP(B14,Düngemiteldaten,4,0)*E14))","v":""},{"$f":"IF(N14=\"organisch\",VLOOKUP(B14,Düngemiteldaten,4,0)*E14*VLOOKUP(B14,Düngemiteldaten,19,0),\"\")","v":""},{"$f":"IF(B14=\"\",\"\",IF(V14<I14,I14,V14))","v":""},{"$f":"IF(B14=\"\",\"\",IF(N14=\"organisch\",0,H14))","v":""},{"$f":"IF(SUM(V14:Y14)=0,\"\",SUM(X14:Y14))","v":""},null,{"$f":"IF(K3=\"ja\",\"Summe Gesamtstickstoff\",\"\")","v":""},null,{"$f":"IF(K3=\"ja\",\"Anteil § 13a Prüfung \n160 kg N/ha Gesamt\n80 kg N/ha mineralisch\",\"\")","v":""}]
[null,null,null,null,null,"",{"$f":"IF(B15=\"\",\"\",E15*F15)","v":""},"","","",null,"","","",null,null,"Abfälle zur Beseitigung (§ 28 Absatz 2 odeS 3 KSWG)",{"$f":"SUMIF($N$14:$N$28,Q15,$H$14:$H$28)*B4","v":0},null,{"$f":"SUMIF($N$14:$N$28,Q15,$J$14:$J$28)*B4","v":0},null,"","",{"$f":"IF(B15=\"\",\"\",IF(V15<I15,I15,V15))","v":""},{"$f":"IF(B15=\"\",\"\",IF(N15=\"organisch\",0,H15))","v":""},{"$f":"IF(SUM(V15:Y15)=0,\"\",SUM(X15:Y15))","v":""},null,{"$f":"IF(L4=\"\",\"\",SUMIF($N$14:$N$28,\"mineralisch\",$H$14:$H$28))","v":""},{"$f":"IF(K3=\"ja\",\"mineralisch N kg/ha\",\"\")","v":""}]
[null,null,null,null,null,"","","","","",null,"","","",null,null,null,null,null,null,null,"","","","","",null,{"$f":"IF(L4=\"\",\"\",SUMIF($N$14:$N$28,\"organisch\",$H$14:$H$28)+SUMIF($N$14:$N$28,Q11,$H$14:$H$28))","v":""},{"$f":"IF(K3=\"ja\",\"organisch N kg/ha\",\"\")","v":""}]
[null,null,null,null,null,"","","","","",null,"","","",null,null,null,null,null,null,null,{"$f":"IF(OR(B17=\"\",N17=\"\"),\"\",IF(N17=\"mineralisch\",\"\",VLOOKUP(B17,Düngemiteldaten,17,0)*VLOOKUP(B17,Düngemiteldaten,4,0)*E17))","v":""},"","","","",null,{"$f":"IF(K3=\"ja\",(AB16+AB15),\"\")","v":""},{"$f":"IF(K3=\"ja\",\"Gesamt kg N/ha\",\"\")","v":""}]
[null,null,null,null,null,"","","","","",null,"","","",null,null,"Nährstoffherkunft auf gefährdeten Flächen §13",null,null,null,null,"","","","",""]
[null,null,null,null,null,"","","","","",null,"","","",null,null,null,"Gesamt N","NH4-N","P2O5 mineral.","P2O5 organisch","","","","",""]
[null,null,null,null,null,"","","","","",null,"","","",null,null,"N Gesamt minerl.",{"$f":"IF(K3=\"ja\",SUMIF($N$14:$N$28,\"mineralisch\",$H$14:$H$28),0)*B4","v":0},null,null,null,"","","","",""]
[null,null,null,null,null,"","","","","",null,"","","",null,null,"NH4-N minerlisch",null,{"$f":"IF(K3=\"ja\",SUMIF($N$14:$N$28,\"mineralisch\",$I$14:$I$28),0)*B4","v":0},null,null,"","","","",""]
[null,null,null,null,null,"","","","","",null,"","","",null,null,"N Gesamt organsich",{"$f":"IF(K3=\"ja\",SUMIF($N$14:$N$28,\"organisch\",$H$14:$H$28),0)*B4","v":0},null,null,null,"","","","",""]
[null,null,null,null,null,"","","","","",null,"","","",null,null,"NH4-N organsich",null,{"$f":"IF(K3=\"ja\",SUMIF($N$14:$N$28,\"organisch\",$I$14:$I$28),0)*B4","v":0},null,null,"","","","",""]
[null,null,null,null,null,"","","","","",null,"","","",null,null,"P2O5 mineralisch",null,null,{"$f":"IF(K3=\"ja\",SUMIF($N$14:$N$28,\"mineralisch\",$J$14:$J$28),0)*B4","v":0},null,"","","","",""]
[null,null,null,null,null,"","","","","",null,"","","",null,null,"P2O5 organisch",null,null,null,{"$f":"IF(K3=\"ja\",SUMIF($N$14:$N$28,\"organisch\",$J$14:$J$28),0)*B4","v":0},"","","","",""]
[null,null,null,null,null,"","","","","",null,"","","",null,null,"Sonstige organische Düngemittel",{"$f":"IF(K3=\"ja\",SUMIF($N$14:$N$28,Q26,$H$14:$H$28),0)*B4","v":0},{"$f":"IF(K3=\"ja\",SUMIF($N$14:$N$28,Q26,$I$14:$I$28),0)*B4","v":0},{"$f":"IF(K3=\"ja\",SUMIF($N$14:$N$28,Q26,$J$14:$J$28),0)*B4","v":0},null,"","","","",""]
[null,null,null,null,null,"","","","","",null,"","","",null,null,"Bodenhilfsstoffe",{"$f":"IF(K3=\"ja\",SUMIF($N$14:$N$28,Q27,$H$14:$H$28),0)*B4","v":0},null,{"$f":"IF(K3=\"ja\",SUMIF($N$14:$N$28,Q27,$J$14:$J$28),0)*B4","v":0},null,"","","","",""]
[null,null,null,null,null,"","","","","",null,"","","",null,null,"Kultursubstrate",{"$f":"IF(K3=\"ja\",SUMIF($N$14:$N$28,Q28,$H$14:$H$28),0)*B4","v":0},null,{"$f":"IF(K3=\"ja\",SUMIF($N$14:$N$28,Q28,$J$14:$J$28),0)*B4","v":0},null,"","","","",""]
[null,"anrechenbarer N aus org.Dgg. + min. Dgg. kg N/ha",null,null,null,null,null,{"$f":"X29+Y29","v":0},null,{"$f":"SUM(J14:J28)","v":0},null,{"$f":"SUM(L14:L28)","v":0},{"$f":"SUM(M14:M28)","v":0},null,null,null,"Pflanzenhilfsmittel",{"$f":"IF(K3=\"ja\",SUMIF($N$14:$N$28,Q29,$H$14:$H$28),0)*B4","v":0},null,{"$f":"IF(K3=\"ja\",SUMIF($N$14:$N$28,Q29,$J$14:$J$28),0)*B4","v":0},null,{"$f":"SUM(V14:V28)","v":0},{"$f":"SUM(W14:W28)","v":0},{"$f":"SUM(X14:X28)","v":0},{"$f":"SUM(Y14:Y28)","v":0},"kg/ha"]
[null,{"$f":"IF(K3=\"0\",O31,O30)","v":"Bilanz (anrechenbarer Dgg.- reduzierter Düngebedarf) kg N/ha"},null,null,null,null,null,{"$f":"IF(H12=\"\",0,IF(OR(K3=0,K3=\"nein\"),H29-H12,H29-H11))","v":0},null,{"$f":"IF(J12=\"\",\"\",J29-J12)","v":0},null,{"$f":"IF(L12=\"\",\"\",L29-L12)","v":0},{"$f":"IF(M12=\"\",\"\",M29-M12)","v":""},null,"Bilanz (anrechenbarer Dgg.- reduzierter Düngebedarf) kg N/ha",null,"Abfälle zur Beseitigung (§ 28 Absatz 2 odeS 3 KSWG)",{"$f":"IF(K3=\"ja\",SUMIF($N$14:$N$28,Q30,$H$14:$H$28),0)*B4","v":0},null,{"$f":"IF(K3=\"ja\",SUMIF($N$14:$N$28,Q30,$J$14:$J$28),0)*B4","v":0},null,{"$f":"V29*B4","v":0},{"$f":"W29*B4","v":0},{"$f":"X29*B4","v":0},{"$f":"Y29*B4","v":0},"kg/Schlag",null,{"$f":"IF(H30>0,\"Stickstoffmenge überschreitet den Düngebedarf\",\"\")","v":""}]
["Pflanzenschutzmittel",null,"Datum","EC","E./ha","€/E.","€/ha","Anwender",null,null,"Bemerkungen",null,null,null,"Bilanz (anrechenbarer Dgg.- Düngebedarf) kg N/ha"]
[null,null,null,null,null,{"$f":"IF($B32=\"\",\"\",VLOOKUP($B32,PSMMittel,2,0))","v":""},{"$f":"IF(B32=\"\",\"\",E32*F32)","v":""}]
[null,null,null,null,null,"",{"$f":"IF(B33=\"\",\"\",E33*F33)","v":""},null,null,null,null,null,null,null,null,null,"Stickstoffherkunft nicht gefährdetes Gebiet Gesamtfläche"]
[null,null,null,null,null,"","",null,null,null,null,null,null,null,null,null,null,"Gesamt N","NH4-N","P2O5 mineral.","P2O5 organisch",null,"N Fixierung kg N/ha"]
[null,null,null,null,null,"","",null,null,null,null,null,null,null,null,null,"N Gesamt minerl.",{"$f":"R5-R20","v":0},null,null,null,null,{"$f":"IF(E3=0,\"\",VLOOKUP(E3,AckerbauKulturen,26,0)*G56*B4)","v":""}]
[null,null,null,null,null,"","",null,null,null,null,null,null,null,null,null,"NH4-N minerlisch",null,{"$f":"S6-S21","v":0}]
[null,null,null,null,null,"","",null,null,null,null,null,null,null,null,null,"N Gesamt organsich",{"$f":"R7-R22","v":0}]
[null,null,null,null,null,"","",null,null,null,null,null,null,null,null,null,"NH4-N organsich",null,{"$f":"S8-S23","v":0}]
[null,null,null,null,null,"","",null,null,null,null,null,null,null,null,null,"P2O5 mineralisch",null,null,{"$f":"T9-T24","v":0}]
[null,null,null,null,null,"","",null,null,null,null,null,null,null,null,null,"P2O5 organisch",null,null,null,{"$f":"U10-U25","v":0}]
[null,null,null,null,null,"","",null,null,null,null,null,null,null,null,null,"Sonstige organische Düngemittel",{"$f":"R11-R26","v":0},{"$f":"S11-S26","v":0},{"$f":"T11-T26","v":0}]
[null,null,null,null,null,"","",null,null,null,null,null,null,null,null,null,"Bodenhilfsstoffe",{"$f":"R12-R27","v":0},null,{"$f":"T12-T27","v":0}]
[null,null,null,null,null,"","",null,null,null,null,null,null,null,null,null,"Kultursubstrate",{"$f":"R13-R28","v":0},null,{"$f":"T13-T28","v":0}]
[null,null,null,null,null,"","",null,null,null,null,null,null,null,null,null,"Pflanzenhilfsmittel",{"$f":"R14-R29","v":0},null,{"$f":"T14-T29","v":0}]
[null,null,null,null,null,"","",null,null,null,null,null,null,null,null,null,"Abfälle zur Beseitigung (§ 28 Absatz 2 odeS 3 KSWG)",{"$f":"R15-R30","v":0},null,{"$f":"T15-T30","v":0}]
[null,null,null,null,null,"",""]
[null,null,null,null,null,"",""]
[null,null,null,null,null,"",""]
[null,null,null,null,null,"",""]
[null,null,null,null,null,"",""]
[null,null,null,null,null,"",""]
[null,null,null,null,null,"",""]
[null,null,null,null,null,"",""]
[null,"Summe",null,null,null,null,{"$f":"SUM(G32:G53)","v":0}]
[]
[null,"Erntedatum:",null,{"$f":"IF(VLOOKUP($B$2,Ackerbauplan,58,0)=\"\",\"\",VLOOKUP($B$2,Ackerbauplan,58,0))","v":""},null,"dt/ha",{"$f":"VLOOKUP($B$2,Ackerbauplan,60,0)","v":0},null,null,"€/dt",null,{"$f":"VLOOKUP($B$2,Ackerbauplan,59,0)","v":0}]
[null,"   Hauptleistung ",null,{"$f":"IF(VLOOKUP($B$2,Ackerbauplan,61,0)=\"\",\"\",VLOOKUP($B$2,Ackerbauplan,61,0))","v":""},null,"Saatgut ",null,{"$f":"G11","v":0},"€/ha","Marktleistung -"]
[null,null,"+ Nebenleistung ",{"$f":"IF($B$2=\"\",\"\",VLOOKUP($B$2,Anbauplan,62,0))","v":0},null,"Dünger ",null,{"$f":"SUM(G14:G28)","v":0},"€/ha","Saatgut, Dünger, PSM"]
[null,null,"= Marktleistung ",{"$f":"IF(D57=\"\",\"\",D58+D57)","v":""},null,"Pflanzenschutz ",null,{"$f":"G54","v":0},"€/ha",{"$f":"IF(D59=\"\",\"\",D59-H57-H58-H59)","v":""},null,null,"€/ha"]
[null,{"$f":"IF($B$2=\"\",\"\",VLOOKUP($B$2,Anbauplan,2,0))","v":0}]
[null,"Bearbeitung","Maschine 1",null,"Maschine 2",null,"Maschine 3",null,"Datum",null,"Bemerkung"]

{"sheet":"A35","index":44,"n_rows":61,"n_cols":30,"rows_kept":61,"cut":false,"hidden":true,"merged":[[13,27,13,28],[13,29,16,30],[6,7,6,12],[7,7,7,8],[8,7,8,8],[7,9,7,10],[8,9,8,10],[10,8,10,12],[73,2,73,3],[73,4,73,5],[73,6,73,7],[73,8,73,9],[73,10,73,12],[69,2,69,3],[69,4,69,5],[69,6,69,7],[69,8,69,9],[69,10,69,12],[70,2,70,3],[70,4,70,5],[70,6,70,7],[70,8,70,9],[70,10,70,12],[67,2,67,3],[67,4,67,5],[67,6,67,7],[74,2,74,3],[74,4,74,5],[74,6,74,7],[74,8,74,9],[74,10,74,12],[71,2,71,3],[71,4,71,5],[71,6,71,7],[71,8,71,9],[71,10,71,12],[72,2,72,3],[72,4,72,5],[72,6,72,7],[72,8,72,9],[72,10,72,12],[67,8,67,9],[67,10,67,12],[68,2,68,3],[68,4,68,5],[68,6,68,7],[68,8,68,9],[68,10,68,12],[65,2,65,3],[65,4,65,5],[65,6,65,7],[65,8,65,9],[65,10,65,12],[66,2,66,3],[66,4,66,5],[66,6,66,7],[66,8,66,9],[66,10,66,12],[63,2,63,3],[63,4,63,5],[63,6,63,7],[63,8,63,9],[63,10,63,12],[64,2,64,3],[64,4,64,5],[64,6,64,7],[64,8,64,9],[64,10,64,12],[61,2,61,3],[61,4,61,5],[61,6,61,7],[61,8,61,9],[61,10,61,12],[62,2,62,3],[62,4,62,5],[62,6,62,7],[62,8,62,9],[62,10,62,12],[58,3,58,4],[58,5,58,6],[58,9,58,11],[59,1,59,12],[60,2,60,3],[60,4,60,5],[60,6,60,7],[60,8,60,9],[60,10,60,12],[56,1,56,2],[56,3,56,4],[56,5,56,6],[56,9,56,12],[57,3,57,4],[57,5,57,6],[57,9,57,12],[52,7,52,9],[52,10,52,12],[53,1,53,5],[53,7,53,12],[54,1,54,6],[55,1,55,2],[55,3,55,4],[55,6,55,8],[55,9,55,10],[55,11,55,12],[49,7,49,9],[49,10,49,12],[50,7,50,9],[50,10,50,12],[51,7,51,9],[51,10,51,12],[46,7,46,9],[46,10,46,12],[47,7,47,9],[47,10,47,12],[48,7,48,9],[48,10,48,12],[43,7,43,9],[43,10,43,12],[44,7,44,9],[44,10,44,12],[45,7,45,9],[45,10,45,12],[40,7,40,9],[40,10,40,12],[41,7,41,9],[41,10,41,12],[42,7,42,9],[42,10,42,12],[37,7,37,9],[37,10,37,12],[38,7,38,9],[38,10,38,12],[39,7,39,9],[39,10,39,12],[34,7,34,9],[34,10,34,12],[35,7,35,9],[35,10,35,12],[36,7,36,9],[36,10,36,12],[31,7,31,9],[31,10,31,12],[32,7,32,9],[32,10,32,12],[32,16,32,20],[33,7,33,9],[33,10,33,12],[29,1,29,6],[29,7,29,8],[29,9,29,10],[30,0,30,1],[30,7,30,9],[30,10,30,12],[23,9,23,10],[24,9,24,10],[25,9,25,10],[26,9,26,10],[27,9,27,10],[28,1,28,6],[28,7,28,8],[28,9,28,10],[17,16,17,20],[18,9,18,10],[19,9,19,10],[20,9,20,10],[21,9,21,10],[22,9,22,10],[14,9,14,10],[15,9,15,10],[16,9,16,10],[17,9,17,10],[10,1,10,2],[9,7,9,12],[11,1,11,2],[11,4,11,6],[11,7,11,8],[11,9,11,10],[11,25,12,25],[33,22,33,23],[34,22,34,23],[0,1,0,12],[1,2,1,3],[1,4,1,6],[1,7,1,9],[1,10,1,12],[2,2,2,3],[2,4,2,6],[2,7,2,9],[2,10,2,12],[5,7,5,10],[5,11,5,12],[3,2,3,3],[3,4,3,6],[3,7,3,10],[3,11,3,12],[4,2,4,3],[4,4,4,6],[4,7,4,9],[4,10,4,12],[12,9,12,10],[13,9,13,10]]}
[null,"Ackerland"]
[null,35,"Name:",null,{"$f":"IF(B2=\"\",\"\",VLOOKUP(B2,Anbauplan,2,0))","v":0},null,null,"Jahr:",null,null,{"$f":"IF(Einführung!I8=\"\",\"\",Einführung!I8)","v":""},null,null,{"$f":"IF(OR(B4=\"\",H12=\"\"),\"\",H12*B4)","v":0},"DB kg * Fläche"]
[null,"Hektar ","Hauptfrucht ",null,{"$f":"IF(B2=\"\",\"\",VLOOKUP(B2,Ackerbauplan,4,0))","v":0},null,null,"Nitratkulisse",null,null,{"$f":"IF(B2=\"\",\"\",VLOOKUP(B2,Ackerbauplan,20,0))","v":0},null,null,{"$f":"L4","v":""},"kg/ha org. Dünger für Kontrollgrenze"]
[null,{"$f":"IF(B2=\"\",\"\",VLOOKUP(B2,Ackerbauplan,3,0))","v":0},"Vorfrucht",null,{"$f":"IF(B2=\"\",\"\",VLOOKUP(B2,Ackerbauplan,9,0))","v":0},null,null,"Wirtschaftsdünger zur Berechung\ndes 130 kg N/ha Anteils in kg/ha",null,null,null,{"$f":"IF(K3=\"ja\",W29,\"\")","v":""},null,{"$f":"IF(N3=\"\",\"\",N3*B4)","v":""},"kg Gesamtschlag org Dünger für 170 Kontrollgrenze",null,null,"Gesamt N","NH4-N","P2O5 mineral.","P2O5 organisch"]
[null,"Sorte","VorVorfrucht",null,null,null,null,"Phosphatkulisse",null,null,{"$f":"IF(B2=\"\",\"\",VLOOKUP(B2,Ackerbauplan,21,0))","v":0},null,null,{"$f":"IF(H12=\"\",\"\",IF(K3=\"ja\",N2*0.8,\"\"))","v":""},"Nitrat belastetes Gebiet Düngebedarf Gesamtschlag kg N/ha",null,"N Gesamt minerl.",{"$f":"SUMIF($N$14:$N$28,\"mineralisch\",$H$14:$H$28)*B4","v":0}]
[null,{"$f":"IF(B2=\"\",\"\",VLOOKUP(B2,Ackerbauplan,8,0))","v":0},null,null,null,null,null,"sonstige Auflagen",null,null,null,null,null,{"$f":"IF(K3=\"ja\",X30+Y30,\"\")","v":""},"org +min .anrechenbare N Menge Gesamtschlag  kg N/ha",null,"NH4-N minerlisch",null,{"$f":"SUMIF($N$14:$N$28,\"mineralisch\",$I$14:$I$28)*B4","v":0}]
[null,"Aussaatdatum","Kö./m² ",{"$f":"IF(B2=\"\",\"\",VLOOKUP(B2,Ackerbauplan,52,0))","v":0},null,"Eigen","Zukauf","Versorgungsstufen",null,null,null,null,null,{"$f":"IF(K3=\"ja\",J12*B4,\"\")","v":""},null,null,"N Gesamt organsich",{"$f":"SUMIF($N$14:$N$28,\"organisch\",$H$14:$H$28)*B4","v":0}]
[null,{"$f":"IF(B2=\"0\",\"\",VLOOKUP(B2,Ackerbauplan,51,0))","v":"00:00:00"},"x TKG ",{"$f":"IF(B2=\"\",\"\",VLOOKUP(B2,Ackerbauplan,53,0))","v":0},"dt/ha ",null,null,"Nmin",null,"P2O5",null,"K2O","MgO",null,null,null,"NH4-N organsich",null,{"$f":"SUMIF($N$14:$N$28,\"organisch\",I14:I28)*B4","v":0}]
[null,"Beize","/Kei.fäh.",{"$f":"IF(B2=\"\",\"\",VLOOKUP(B2,Ackerbauplan,54,0))","v":0},"€/dt",null,null,{"$f":"IF(B2=\"\",\"\",VLOOKUP(B2,Ackerbauplan,17,0))","v":0},null,{"$f":"IF(B2=\"\",\"\",VLOOKUP(B2,Ackerbauplan,30,0))","v":"C"},null,{"$f":"IF(B2=\"\",\"\",VLOOKUP(B2,Ackerbauplan,31,0))","v":"C"},{"$f":"IF(B2=\"\",\"\",VLOOKUP(B2,Ackerbauplan,32,0))","v":"C"},null,null,null,"P2O5 mineralisch",null,null,{"$f":"SUMIF($N$14:$N$28,\"mineralisch\",$J$14:$J$28)*B4","v":0}]
[null,null,"= kg/ha",{"$f":"IF(B2=\"\",\"\",VLOOKUP(B2,Ackerbauplan,55,0))","v":""},"€/ha ",{"$f":"F8*F9","v":0},{"$f":"G8*G9","v":0},"Düngebedarf kg/ha (Blatt Ackerfläche)",null,null,null,null,null,null,"Düngebedarf um 20% reduziert",null,"P2O5 organisch",null,null,null,{"$f":"SUMIF($N$14:$N$28,\"organisch\",$J$14:$J$28)*B4","v":0},null,null,null,null,null,null,{"$f":"IF(K3=\"ja\",\"Noch nicht ausgeschöpfter Stickstoff Düngebedarf aller Flächen\",\"\")","v":""}]
[null,"Saatgutkennnummer",null,null,null,"Summe",{"$f":"F10+G10","v":0},{"$f":"IF(H12=\"\",\"\",IF(K3=\"ja\",H12*0.8,\"\"))","v":""},{"$f":"IF(K3=\"ja\",O10,\"\")","v":""},null,null,null,null,null,null,null,"Sonstige organische Düngemittel",{"$f":"SUMIF($N$14:$N$28,Q11,$H$14:$H$28)*B4","v":0},{"$f":"SUMIF($N$14:$N$28,Q11,$I$14:$I$28)*B4","v":0},{"$f":"SUMIF($N$14:$N$28,Q11,$J$14:$J$28)*B4","v":0},null,null,null,null,null,null,null,{"$f":"IF(K3=\"ja\",'Zus. Anlage 5 DüV'!D43,\"\")","v":""},{"$f":"IF(K3=\"ja\",\"kg N Gesamtfläche\",\"\")","v":""}]
[null,null,null,null,"N Bedarf DÜV kg/ha",null,null,{"$f":"IF(B2=\"\",\"\",VLOOKUP(B2,Ackerbauplan,18,0))","v":"0"},null,{"$f":"IF(B2=\"\",\"\",VLOOKUP(B2,Ackerbauplan,37,0))","v":"0"},null,{"$f":"IF(B2=\"\",\"\",VLOOKUP(B2,Ackerbauplan,38,0))","v":"0"},null,null,null,null,"Bodenhilfsstoffe",{"$f":"SUMIF($N$14:$N$28,Q12,$H$14:$H$28)*B4","v":0},null,{"$f":"SUMIF($N$14:$N$28,Q12,$J$14:$J$28)*B4","v":0},null,"Anrechnung","Anrechnung ","Prüfung NH4","mineral","Kontroll\nSumme"]
[null,"Dünger","Datum","EC","m³o.dt/ha","€/dt","€/ha","Ges.-N","NH4-N","P2O5",null,"K2O","S",null,null,null,"Kultursubstrate",{"$f":"SUMIF($N$14:$N$28,Q13,$H$14:$H$28)*B4","v":0},null,{"$f":"SUMIF($N$14:$N$28,Q13,$J$14:$J$28)*B4","v":0},null,"aktuelles Jahr","170 kg GW"," oder Anlage3","Stickstoff"]
[null,null,null,null,null,{"$f":"IF(B14=\"\",\"\",VLOOKUP(B14,Düngemiteldaten,2,0))","v":""},{"$f":"IF(B14=\"\",\"\",E14*F14)","v":""},{"$f":"IF(B14=\"\",\"\",VLOOKUP(B14,Düngemiteldaten,4,0)*E14)","v":""},{"$f":"IF(B14=\"\",\"\",VLOOKUP(B14,Düngemiteldaten,5,0)*E14)","v":""},{"$f":"IF(B14=\"\",\"\",VLOOKUP(B14,Düngemiteldaten,7,0)*E14)","v":""},null,{"$f":"IF(B14=\"\",\"\",VLOOKUP(B14,Düngemiteldaten,8,0)*E14)","v":""},{"$f":"IF(B14=\"\",\"\",VLOOKUP(B14,Düngemiteldaten,10,0)*E14)","v":""},{"$f":"IF(B14=\"\",\"\",VLOOKUP(B14,Düngemiteldaten,20,0))","v":""},null,null,"Pflanzenhilfsmittel",{"$f":"SUMIF($N$14:$N$28,Q14,$H$14:$H$28)*B4","v":0},null,{"$f":"SUMIF($N$14:$N$28,Q14,$J$14:$J$28)*B4","v":0},null,{"$f":"IF(OR(B14=\"\",N14=\"\"),\"\",IF(N14=\"mineralisch\",\"\",VLOOKUP(B14,Düngemiteldaten,17,0)*VLOOKUP(B14,Düngemiteldaten,4,0)*E14))","v":""},{"$f":"IF(N14=\"organisch\",VLOOKUP(B14,Düngemiteldaten,4,0)*E14*VLOOKUP(B14,Düngemiteldaten,19,0),\"\")","v":""},{"$f":"IF(B14=\"\",\"\",IF(V14<I14,I14,V14))","v":""},{"$f":"IF(B14=\"\",\"\",IF(N14=\"organisch\",0,H14))","v":""},{"$f":"IF(SUM(V14:Y14)=0,\"\",SUM(X14:Y14))","v":""},null,{"$f":"IF(K3=\"ja\",\"Summe Gesamtstickstoff\",\"\")","v":""},null,{"$f":"IF(K3=\"ja\",\"Anteil § 13a Prüfung \n160 kg N/ha Gesamt\n80 kg N/ha mineralisch\",\"\")","v":""}]
[null,null,null,null,null,"",{"$f":"IF(B15=\"\",\"\",E15*F15)","v":""},"","","",null,"","","",null,null,"Abfälle zur Beseitigung (§ 28 Absatz 2 odeS 3 KSWG)",{"$f":"SUMIF($N$14:$N$28,Q15,$H$14:$H$28)*B4","v":0},null,{"$f":"SUMIF($N$14:$N$28,Q15,$J$14:$J$28)*B4","v":0},null,"","",{"$f":"IF(B15=\"\",\"\",IF(V15<I15,I15,V15))","v":""},{"$f":"IF(B15=\"\",\"\",IF(N15=\"organisch\",0,H15))","v":""},{"$f":"IF(SUM(V15:Y15)=0,\"\",SUM(X15:Y15))","v":""},null,{"$f":"IF(L4=\"\",\"\",SUMIF($N$14:$N$28,\"mineralisch\",$H$14:$H$28))","v":""},{"$f":"IF(K3=\"ja\",\"mineralisch N kg/ha\",\"\")","v":""}]
[null,null,null,null,null,"","","","","",null,"","","",null,null,null,null,null,null,null,"","","","","",null,{"$f":"IF(L4=\"\",\"\",SUMIF($N$14:$N$28,\"organisch\",$H$14:$H$28)+SUMIF($N$14:$N$28,Q11,$H$14:$H$28))","v":""},{"$f":"IF(K3=\"ja\",\"organisch N kg/ha\",\"\")","v":""}]
[null,null,null,null,null,"","","","","",null,"","","",null,null,null,null,null,null,null,{"$f":"IF(OR(B17=\"\",N17=\"\"),\"\",IF(N17=\"mineralisch\",\"\",VLOOKUP(B17,Düngemiteldaten,17,0)*VLOOKUP(B17,Düngemiteldaten,4,0)*E17))","v":""},"","","","",null,{"$f":"IF(K3=\"ja\",(AB16+AB15),\"\")","v":""},{"$f":"IF(K3=\"ja\",\"Gesamt kg N/ha\",\"\")","v":""}]
[null,null,null,null,null,"","","","","",null,"","","",null,null,"Nährstoffherkunft auf gefährdeten Flächen §13",null,null,null,null,"","","","",""]
[null,null,null,null,null,"","","","","",null,"","","",null,null,null,"Gesamt N","NH4-N","P2O5 mineral.","P2O5 organisch","","","","",""]
[null,null,null,null,null,"","","","","",null,"","","",null,null,"N Gesamt minerl.",{"$f":"IF(K3=\"ja\",SUMIF($N$14:$N$28,\"mineralisch\",$H$14:$H$28),0)*B4","v":0},null,null,null,"","","","",""]
[null,null,null,null,null,"","","","","",null,"","","",null,null,"NH4-N minerlisch",null,{"$f":"IF(K3=\"ja\",SUMIF($N$14:$N$28,\"mineralisch\",$I$14:$I$28),0)*B4","v":0},null,null,"","","","",""]
[null,null,null,null,null,"","","","","",null,"","","",null,null,"N Gesamt organsich",{"$f":"IF(K3=\"ja\",SUMIF($N$14:$N$28,\"organisch\",$H$14:$H$28),0)*B4","v":0},null,null,null,"","","","",""]
[null,null,null,null,null,"","","","","",null,"","","",null,null,"NH4-N organsich",null,{"$f":"IF(K3=\"ja\",SUMIF($N$14:$N$28,\"organisch\",$I$14:$I$28),0)*B4","v":0},null,null,"","","","",""]
[null,null,null,null,null,"","","","","",null,"","","",null,null,"P2O5 mineralisch",null,null,{"$f":"IF(K3=\"ja\",SUMIF($N$14:$N$28,\"mineralisch\",$J$14:$J$28),0)*B4","v":0},null,"","","","",""]
[null,null,null,null,null,"","","","","",null,"","","",null,null,"P2O5 organisch",null,null,null,{"$f":"IF(K3=\"ja\",SUMIF($N$14:$N$28,\"organisch\",$J$14:$J$28),0)*B4","v":0},"","","","",""]
[null,null,null,null,null,"","","","","",null,"","","",null,null,"Sonstige organische Düngemittel",{"$f":"IF(K3=\"ja\",SUMIF($N$14:$N$28,Q26,$H$14:$H$28),0)*B4","v":0},{"$f":"IF(K3=\"ja\",SUMIF($N$14:$N$28,Q26,$I$14:$I$28),0)*B4","v":0},{"$f":"IF(K3=\"ja\",SUMIF($N$14:$N$28,Q26,$J$14:$J$28),0)*B4","v":0},null,"","","","",""]
[null,null,null,null,null,"","","","","",null,"","","",null,null,"Bodenhilfsstoffe",{"$f":"IF(K3=\"ja\",SUMIF($N$14:$N$28,Q27,$H$14:$H$28),0)*B4","v":0},null,{"$f":"IF(K3=\"ja\",SUMIF($N$14:$N$28,Q27,$J$14:$J$28),0)*B4","v":0},null,"","","","",""]
[null,null,null,null,null,"","","","","",null,"","","",null,null,"Kultursubstrate",{"$f":"IF(K3=\"ja\",SUMIF($N$14:$N$28,Q28,$H$14:$H$28),0)*B4","v":0},null,{"$f":"IF(K3=\"ja\",SUMIF($N$14:$N$28,Q28,$J$14:$J$28),0)*B4","v":0},null,"","","","",""]
[null,"anrechenbarer N aus org.Dgg. + min. Dgg. kg N/ha",null,null,null,null,null,{"$f":"X29+Y29","v":0},null,{"$f":"SUM(J14:J28)","v":0},null,{"$f":"SUM(L14:L28)","v":0},{"$f":"SUM(M14:M28)","v":0},null,null,null,"Pflanzenhilfsmittel",{"$f":"IF(K3=\"ja\",SUMIF($N$14:$N$28,Q29,$H$14:$H$28),0)*B4","v":0},null,{"$f":"IF(K3=\"ja\",SUMIF($N$14:$N$28,Q29,$J$14:$J$28),0)*B4","v":0},null,{"$f":"SUM(V14:V28)","v":0},{"$f":"SUM(W14:W28)","v":0},{"$f":"SUM(X14:X28)","v":0},{"$f":"SUM(Y14:Y28)","v":0},"kg/ha"]
[null,{"$f":"IF(K3=\"0\",O31,O30)","v":"Bilanz (anrechenbarer Dgg.- reduzierter Düngebedarf) kg N/ha"},null,null,null,null,null,{"$f":"IF(H12=\"\",0,IF(OR(K3=0,K3=\"nein\"),H29-H12,H29-H11))","v":0},null,{"$f":"IF(J12=\"\",\"\",J29-J12)","v":0},null,{"$f":"IF(L12=\"\",\"\",L29-L12)","v":0},{"$f":"IF(M12=\"\",\"\",M29-M12)","v":""},null,"Bilanz (anrechenbarer Dgg.- reduzierter Düngebedarf) kg N/ha",null,"Abfälle zur Beseitigung (§ 28 Absatz 2 odeS 3 KSWG)",{"$f":"IF(K3=\"ja\",SUMIF($N$14:$N$28,Q30,$H$14:$H$28),0)*B4","v":0},null,{"$f":"IF(K3=\"ja\",SUMIF($N$14:$N$28,Q30,$J$14:$J$28),0)*B4","v":0},null,{"$f":"V29*B4","v":0},{"$f":"W29*B4","v":0},{"$f":"X29*B4","v":0},{"$f":"Y29*B4","v":0},"kg/Schlag",null,{"$f":"IF(H30>0,\"Stickstoffmenge überschreitet den Düngebedarf\",\"\")","v":""}]
["Pflanzenschutzmittel",null,"Datum","EC","E./ha","€/E.","€/ha","Anwender",null,null,"Bemerkungen",null,null,null,"Bilanz (anrechenbarer Dgg.- Düngebedarf) kg N/ha"]
[null,null,null,null,null,{"$f":"IF($B32=\"\",\"\",VLOOKUP($B32,PSMMittel,2,0))","v":""},{"$f":"IF(B32=\"\",\"\",E32*F32)","v":""}]
[null,null,null,null,null,"",{"$f":"IF(B33=\"\",\"\",E33*F33)","v":""},null,null,null,null,null,null,null,null,null,"Stickstoffherkunft nicht gefährdetes Gebiet Gesamtfläche"]
[null,null,null,null,null,"","",null,null,null,null,null,null,null,null,null,null,"Gesamt N","NH4-N","P2O5 mineral.","P2O5 organisch",null,"N Fixierung kg N/ha"]
[null,null,null,null,null,"","",null,null,null,null,null,null,null,null,null,"N Gesamt minerl.",{"$f":"R5-R20","v":0},null,null,null,null,{"$f":"IF(E3=0,\"\",VLOOKUP(E3,AckerbauKulturen,26,0)*G56*B4)","v":""}]
[null,null,null,null,null,"","",null,null,null,null,null,null,null,null,null,"NH4-N minerlisch",null,{"$f":"S6-S21","v":0}]
[null,null,null,null,null,"","",null,null,null,null,null,null,null,null,null,"N Gesamt organsich",{"$f":"R7-R22","v":0}]
[null,null,null,null,null,"","",null,null,null,null,null,null,null,null,null,"NH4-N organsich",null,{"$f":"S8-S23","v":0}]
[null,null,null,null,null,"","",null,null,null,null,null,null,null,null,null,"P2O5 mineralisch",null,null,{"$f":"T9-T24","v":0}]
[null,null,null,null,null,"","",null,null,null,null,null,null,null,null,null,"P2O5 organisch",null,null,null,{"$f":"U10-U25","v":0}]
[null,null,null,null,null,"","",null,null,null,null,null,null,null,null,null,"Sonstige organische Düngemittel",{"$f":"R11-R26","v":0},{"$f":"S11-S26","v":0},{"$f":"T11-T26","v":0}]
[null,null,null,null,null,"","",null,null,null,null,null,null,null,null,null,"Bodenhilfsstoffe",{"$f":"R12-R27","v":0},null,{"$f":"T12-T27","v":0}]
[null,null,null,null,null,"","",null,null,null,null,null,null,null,null,null,"Kultursubstrate",{"$f":"R13-R28","v":0},null,{"$f":"T13-T28","v":0}]
[null,null,null,null,null,"","",null,null,null,null,null,null,null,null,null,"Pflanzenhilfsmittel",{"$f":"R14-R29","v":0},null,{"$f":"T14-T29","v":0}]
[null,null,null,null,null,"","",null,null,null,null,null,null,null,null,null,"Abfälle zur Beseitigung (§ 28 Absatz 2 odeS 3 KSWG)",{"$f":"R15-R30","v":0},null,{"$f":"T15-T30","v":0}]
[null,null,null,null,null,"",""]
[null,null,null,null,null,"",""]
[null,null,null,null,null,"",""]
[null,null,null,null,null,"",""]
[null,null,null,null,null,"",""]
[null,null,null,null,null,"",""]
[null,null,null,null,null,"",""]
[null,null,null,null,null,"",""]
[null,"Summe",null,null,null,null,{"$f":"SUM(G32:G53)","v":0}]
[]
[null,"Erntedatum:",null,{"$f":"IF(VLOOKUP($B$2,Ackerbauplan,58,0)=\"\",\"\",VLOOKUP($B$2,Ackerbauplan,58,0))","v":""},null,"dt/ha",{"$f":"VLOOKUP($B$2,Ackerbauplan,60,0)","v":0},null,null,"€/dt",null,{"$f":"VLOOKUP($B$2,Ackerbauplan,59,0)","v":0}]
[null,"   Hauptleistung ",null,{"$f":"IF(VLOOKUP($B$2,Ackerbauplan,61,0)=\"\",\"\",VLOOKUP($B$2,Ackerbauplan,61,0))","v":""},null,"Saatgut ",null,{"$f":"G11","v":0},"€/ha","Marktleistung -"]
[null,null,"+ Nebenleistung ",{"$f":"IF($B$2=\"\",\"\",VLOOKUP($B$2,Anbauplan,62,0))","v":0},null,"Dünger ",null,{"$f":"SUM(G14:G28)","v":0},"€/ha","Saatgut, Dünger, PSM"]
[null,null,"= Marktleistung ",{"$f":"IF(D57=\"\",\"\",D58+D57)","v":""},null,"Pflanzenschutz ",null,{"$f":"G54","v":0},"€/ha",{"$f":"IF(D59=\"\",\"\",D59-H57-H58-H59)","v":""},null,null,"€/ha"]
[null,{"$f":"IF($B$2=\"\",\"\",VLOOKUP($B$2,Anbauplan,2,0))","v":0}]
[null,"Bearbeitung","Maschine 1",null,"Maschine 2",null,"Maschine 3",null,"Datum",null,"Bemerkung"]

{"sheet":"A36","index":45,"n_rows":61,"n_cols":30,"rows_kept":61,"cut":false,"hidden":true,"merged":[[13,27,13,28],[13,29,16,30],[6,7,6,12],[7,7,7,8],[8,7,8,8],[7,9,7,10],[8,9,8,10],[10,8,10,12],[73,2,73,3],[73,4,73,5],[73,6,73,7],[73,8,73,9],[73,10,73,12],[69,2,69,3],[69,4,69,5],[69,6,69,7],[69,8,69,9],[69,10,69,12],[70,2,70,3],[70,4,70,5],[70,6,70,7],[70,8,70,9],[70,10,70,12],[67,2,67,3],[67,4,67,5],[67,6,67,7],[74,2,74,3],[74,4,74,5],[74,6,74,7],[74,8,74,9],[74,10,74,12],[71,2,71,3],[71,4,71,5],[71,6,71,7],[71,8,71,9],[71,10,71,12],[72,2,72,3],[72,4,72,5],[72,6,72,7],[72,8,72,9],[72,10,72,12],[67,8,67,9],[67,10,67,12],[68,2,68,3],[68,4,68,5],[68,6,68,7],[68,8,68,9],[68,10,68,12],[65,2,65,3],[65,4,65,5],[65,6,65,7],[65,8,65,9],[65,10,65,12],[66,2,66,3],[66,4,66,5],[66,6,66,7],[66,8,66,9],[66,10,66,12],[63,2,63,3],[63,4,63,5],[63,6,63,7],[63,8,63,9],[63,10,63,12],[64,2,64,3],[64,4,64,5],[64,6,64,7],[64,8,64,9],[64,10,64,12],[61,2,61,3],[61,4,61,5],[61,6,61,7],[61,8,61,9],[61,10,61,12],[62,2,62,3],[62,4,62,5],[62,6,62,7],[62,8,62,9],[62,10,62,12],[58,3,58,4],[58,5,58,6],[58,9,58,11],[59,1,59,12],[60,2,60,3],[60,4,60,5],[60,6,60,7],[60,8,60,9],[60,10,60,12],[56,1,56,2],[56,3,56,4],[56,5,56,6],[56,9,56,12],[57,3,57,4],[57,5,57,6],[57,9,57,12],[52,7,52,9],[52,10,52,12],[53,1,53,5],[53,7,53,12],[54,1,54,6],[55,1,55,2],[55,3,55,4],[55,6,55,8],[55,9,55,10],[55,11,55,12],[49,7,49,9],[49,10,49,12],[50,7,50,9],[50,10,50,12],[51,7,51,9],[51,10,51,12],[46,7,46,9],[46,10,46,12],[47,7,47,9],[47,10,47,12],[48,7,48,9],[48,10,48,12],[43,7,43,9],[43,10,43,12],[44,7,44,9],[44,10,44,12],[45,7,45,9],[45,10,45,12],[40,7,40,9],[40,10,40,12],[41,7,41,9],[41,10,41,12],[42,7,42,9],[42,10,42,12],[37,7,37,9],[37,10,37,12],[38,7,38,9],[38,10,38,12],[39,7,39,9],[39,10,39,12],[34,7,34,9],[34,10,34,12],[35,7,35,9],[35,10,35,12],[36,7,36,9],[36,10,36,12],[31,7,31,9],[31,10,31,12],[32,7,32,9],[32,10,32,12],[32,16,32,20],[33,7,33,9],[33,10,33,12],[29,1,29,6],[29,7,29,8],[29,9,29,10],[30,0,30,1],[30,7,30,9],[30,10,30,12],[23,9,23,10],[24,9,24,10],[25,9,25,10],[26,9,26,10],[27,9,27,10],[28,1,28,6],[28,7,28,8],[28,9,28,10],[17,16,17,20],[18,9,18,10],[19,9,19,10],[20,9,20,10],[21,9,21,10],[22,9,22,10],[14,9,14,10],[15,9,15,10],[16,9,16,10],[17,9,17,10],[10,1,10,2],[9,7,9,12],[11,1,11,2],[11,4,11,6],[11,7,11,8],[11,9,11,10],[11,25,12,25],[33,22,33,23],[34,22,34,23],[0,1,0,12],[1,2,1,3],[1,4,1,6],[1,7,1,9],[1,10,1,12],[2,2,2,3],[2,4,2,6],[2,7,2,9],[2,10,2,12],[5,7,5,10],[5,11,5,12],[3,2,3,3],[3,4,3,6],[3,7,3,10],[3,11,3,12],[4,2,4,3],[4,4,4,6],[4,7,4,9],[4,10,4,12],[12,9,12,10],[13,9,13,10]]}
[null,"Ackerland"]
[null,36,"Name:",null,{"$f":"IF(B2=\"\",\"\",VLOOKUP(B2,Anbauplan,2,0))","v":0},null,null,"Jahr:",null,null,{"$f":"IF(Einführung!I8=\"\",\"\",Einführung!I8)","v":""},null,null,{"$f":"IF(OR(B4=\"\",H12=\"\"),\"\",H12*B4)","v":0},"DB kg * Fläche"]
[null,"Hektar ","Hauptfrucht ",null,{"$f":"IF(B2=\"\",\"\",VLOOKUP(B2,Ackerbauplan,4,0))","v":0},null,null,"Nitratkulisse",null,null,{"$f":"IF(B2=\"\",\"\",VLOOKUP(B2,Ackerbauplan,20,0))","v":0},null,null,{"$f":"L4","v":""},"kg/ha org. Dünger für Kontrollgrenze"]
[null,{"$f":"IF(B2=\"\",\"\",VLOOKUP(B2,Ackerbauplan,3,0))","v":0},"Vorfrucht",null,{"$f":"IF(B2=\"\",\"\",VLOOKUP(B2,Ackerbauplan,9,0))","v":0},null,null,"Wirtschaftsdünger zur Berechung\ndes 130 kg N/ha Anteils in kg/ha",null,null,null,{"$f":"IF(K3=\"ja\",W29,\"\")","v":""},null,{"$f":"IF(N3=\"\",\"\",N3*B4)","v":""},"kg Gesamtschlag org Dünger für 170 Kontrollgrenze",null,null,"Gesamt N","NH4-N","P2O5 mineral.","P2O5 organisch"]
[null,"Sorte","VorVorfrucht",null,null,null,null,"Phosphatkulisse",null,null,{"$f":"IF(B2=\"\",\"\",VLOOKUP(B2,Ackerbauplan,21,0))","v":0},null,null,{"$f":"IF(H12=\"\",\"\",IF(K3=\"ja\",N2*0.8,\"\"))","v":""},"Nitrat belastetes Gebiet Düngebedarf Gesamtschlag kg N/ha",null,"N Gesamt minerl.",{"$f":"SUMIF($N$14:$N$28,\"mineralisch\",$H$14:$H$28)*B4","v":0}]
[null,{"$f":"IF(B2=\"\",\"\",VLOOKUP(B2,Ackerbauplan,8,0))","v":0},null,null,null,null,null,"sonstige Auflagen",null,null,null,null,null,{"$f":"IF(K3=\"ja\",X30+Y30,\"\")","v":""},"org +min .anrechenbare N Menge Gesamtschlag  kg N/ha",null,"NH4-N minerlisch",null,{"$f":"SUMIF($N$14:$N$28,\"mineralisch\",$I$14:$I$28)*B4","v":0}]
[null,"Aussaatdatum","Kö./m² ",{"$f":"IF(B2=\"\",\"\",VLOOKUP(B2,Ackerbauplan,52,0))","v":0},null,"Eigen","Zukauf","Versorgungsstufen",null,null,null,null,null,{"$f":"IF(K3=\"ja\",J12*B4,\"\")","v":""},null,null,"N Gesamt organsich",{"$f":"SUMIF($N$14:$N$28,\"organisch\",$H$14:$H$28)*B4","v":0}]
[null,{"$f":"IF(B2=\"0\",\"\",VLOOKUP(B2,Ackerbauplan,51,0))","v":"00:00:00"},"x TKG ",{"$f":"IF(B2=\"\",\"\",VLOOKUP(B2,Ackerbauplan,53,0))","v":0},"dt/ha ",null,null,"Nmin",null,"P2O5",null,"K2O","MgO",null,null,null,"NH4-N organsich",null,{"$f":"SUMIF($N$14:$N$28,\"organisch\",I14:I28)*B4","v":0}]
[null,"Beize","/Kei.fäh.",{"$f":"IF(B2=\"\",\"\",VLOOKUP(B2,Ackerbauplan,54,0))","v":0},"€/dt",null,null,{"$f":"IF(B2=\"\",\"\",VLOOKUP(B2,Ackerbauplan,17,0))","v":0},null,{"$f":"IF(B2=\"\",\"\",VLOOKUP(B2,Ackerbauplan,30,0))","v":"C"},null,{"$f":"IF(B2=\"\",\"\",VLOOKUP(B2,Ackerbauplan,31,0))","v":"C"},{"$f":"IF(B2=\"\",\"\",VLOOKUP(B2,Ackerbauplan,32,0))","v":"C"},null,null,null,"P2O5 mineralisch",null,null,{"$f":"SUMIF($N$14:$N$28,\"mineralisch\",$J$14:$J$28)*B4","v":0}]
[null,null,"= kg/ha",{"$f":"IF(B2=\"\",\"\",VLOOKUP(B2,Ackerbauplan,55,0))","v":""},"€/ha ",{"$f":"F8*F9","v":0},{"$f":"G8*G9","v":0},"Düngebedarf kg/ha (Blatt Ackerfläche)",null,null,null,null,null,null,"Düngebedarf um 20% reduziert",null,"P2O5 organisch",null,null,null,{"$f":"SUMIF($N$14:$N$28,\"organisch\",$J$14:$J$28)*B4","v":0},null,null,null,null,null,null,{"$f":"IF(K3=\"ja\",\"Noch nicht ausgeschöpfter Stickstoff Düngebedarf aller Flächen\",\"\")","v":""}]
[null,"Saatgutkennnummer",null,null,null,"Summe",{"$f":"F10+G10","v":0},{"$f":"IF(H12=\"\",\"\",IF(K3=\"ja\",H12*0.8,\"\"))","v":""},{"$f":"IF(K3=\"ja\",O10,\"\")","v":""},null,null,null,null,null,null,null,"Sonstige organische Düngemittel",{"$f":"SUMIF($N$14:$N$28,Q11,$H$14:$H$28)*B4","v":0},{"$f":"SUMIF($N$14:$N$28,Q11,$I$14:$I$28)*B4","v":0},{"$f":"SUMIF($N$14:$N$28,Q11,$J$14:$J$28)*B4","v":0},null,null,null,null,null,null,null,{"$f":"IF(K3=\"ja\",'Zus. Anlage 5 DüV'!D43,\"\")","v":""},{"$f":"IF(K3=\"ja\",\"kg N Gesamtfläche\",\"\")","v":""}]
[null,null,null,null,"N Bedarf DÜV kg/ha",null,null,{"$f":"IF(B2=\"\",\"\",VLOOKUP(B2,Ackerbauplan,18,0))","v":"0"},null,{"$f":"IF(B2=\"\",\"\",VLOOKUP(B2,Ackerbauplan,37,0))","v":"0"},null,{"$f":"IF(B2=\"\",\"\",VLOOKUP(B2,Ackerbauplan,38,0))","v":"0"},null,null,null,null,"Bodenhilfsstoffe",{"$f":"SUMIF($N$14:$N$28,Q12,$H$14:$H$28)*B4","v":0},null,{"$f":"SUMIF($N$14:$N$28,Q12,$J$14:$J$28)*B4","v":0},null,"Anrechnung","Anrechnung ","Prüfung NH4","mineral","Kontroll\nSumme"]
[null,"Dünger","Datum","EC","m³o.dt/ha","€/dt","€/ha","Ges.-N","NH4-N","P2O5",null,"K2O","S",null,null,null,"Kultursubstrate",{"$f":"SUMIF($N$14:$N$28,Q13,$H$14:$H$28)*B4","v":0},null,{"$f":"SUMIF($N$14:$N$28,Q13,$J$14:$J$28)*B4","v":0},null,"aktuelles Jahr","170 kg GW"," oder Anlage3","Stickstoff"]
[null,null,null,null,null,{"$f":"IF(B14=\"\",\"\",VLOOKUP(B14,Düngemiteldaten,2,0))","v":""},{"$f":"IF(B14=\"\",\"\",E14*F14)","v":""},{"$f":"IF(B14=\"\",\"\",VLOOKUP(B14,Düngemiteldaten,4,0)*E14)","v":""},{"$f":"IF(B14=\"\",\"\",VLOOKUP(B14,Düngemiteldaten,5,0)*E14)","v":""},{"$f":"IF(B14=\"\",\"\",VLOOKUP(B14,Düngemiteldaten,7,0)*E14)","v":""},null,{"$f":"IF(B14=\"\",\"\",VLOOKUP(B14,Düngemiteldaten,8,0)*E14)","v":""},{"$f":"IF(B14=\"\",\"\",VLOOKUP(B14,Düngemiteldaten,10,0)*E14)","v":""},{"$f":"IF(B14=\"\",\"\",VLOOKUP(B14,Düngemiteldaten,20,0))","v":""},null,null,"Pflanzenhilfsmittel",{"$f":"SUMIF($N$14:$N$28,Q14,$H$14:$H$28)*B4","v":0},null,{"$f":"SUMIF($N$14:$N$28,Q14,$J$14:$J$28)*B4","v":0},null,{"$f":"IF(OR(B14=\"\",N14=\"\"),\"\",IF(N14=\"mineralisch\",\"\",VLOOKUP(B14,Düngemiteldaten,17,0)*VLOOKUP(B14,Düngemiteldaten,4,0)*E14))","v":""},{"$f":"IF(N14=\"organisch\",VLOOKUP(B14,Düngemiteldaten,4,0)*E14*VLOOKUP(B14,Düngemiteldaten,19,0),\"\")","v":""},{"$f":"IF(B14=\"\",\"\",IF(V14<I14,I14,V14))","v":""},{"$f":"IF(B14=\"\",\"\",IF(N14=\"organisch\",0,H14))","v":""},{"$f":"IF(SUM(V14:Y14)=0,\"\",SUM(X14:Y14))","v":""},null,{"$f":"IF(K3=\"ja\",\"Summe Gesamtstickstoff\",\"\")","v":""},null,{"$f":"IF(K3=\"ja\",\"Anteil § 13a Prüfung \n160 kg N/ha Gesamt\n80 kg N/ha mineralisch\",\"\")","v":""}]
[null,null,null,null,null,"",{"$f":"IF(B15=\"\",\"\",E15*F15)","v":""},"","","",null,"","","",null,null,"Abfälle zur Beseitigung (§ 28 Absatz 2 odeS 3 KSWG)",{"$f":"SUMIF($N$14:$N$28,Q15,$H$14:$H$28)*B4","v":0},null,{"$f":"SUMIF($N$14:$N$28,Q15,$J$14:$J$28)*B4","v":0},null,"","",{"$f":"IF(B15=\"\",\"\",IF(V15<I15,I15,V15))","v":""},{"$f":"IF(B15=\"\",\"\",IF(N15=\"organisch\",0,H15))","v":""},{"$f":"IF(SUM(V15:Y15)=0,\"\",SUM(X15:Y15))","v":""},null,{"$f":"IF(L4=\"\",\"\",SUMIF($N$14:$N$28,\"mineralisch\",$H$14:$H$28))","v":""},{"$f":"IF(K3=\"ja\",\"mineralisch N kg/ha\",\"\")","v":""}]
[null,null,null,null,null,"","","","","",null,"","","",null,null,null,null,null,null,null,"","","","","",null,{"$f":"IF(L4=\"\",\"\",SUMIF($N$14:$N$28,\"organisch\",$H$14:$H$28)+SUMIF($N$14:$N$28,Q11,$H$14:$H$28))","v":""},{"$f":"IF(K3=\"ja\",\"organisch N kg/ha\",\"\")","v":""}]
[null,null,null,null,null,"","","","","",null,"","","",null,null,null,null,null,null,null,{"$f":"IF(OR(B17=\"\",N17=\"\"),\"\",IF(N17=\"mineralisch\",\"\",VLOOKUP(B17,Düngemiteldaten,17,0)*VLOOKUP(B17,Düngemiteldaten,4,0)*E17))","v":""},"","","","",null,{"$f":"IF(K3=\"ja\",(AB16+AB15),\"\")","v":""},{"$f":"IF(K3=\"ja\",\"Gesamt kg N/ha\",\"\")","v":""}]
[null,null,null,null,null,"","","","","",null,"","","",null,null,"Nährstoffherkunft auf gefährdeten Flächen §13",null,null,null,null,"","","","",""]
[null,null,null,null,null,"","","","","",null,"","","",null,null,null,"Gesamt N","NH4-N","P2O5 mineral.","P2O5 organisch","","","","",""]
[null,null,null,null,null,"","","","","",null,"","","",null,null,"N Gesamt minerl.",{"$f":"IF(K3=\"ja\",SUMIF($N$14:$N$28,\"mineralisch\",$H$14:$H$28),0)*B4","v":0},null,null,null,"","","","",""]
[null,null,null,null,null,"","","","","",null,"","","",null,null,"NH4-N minerlisch",null,{"$f":"IF(K3=\"ja\",SUMIF($N$14:$N$28,\"mineralisch\",$I$14:$I$28),0)*B4","v":0},null,null,"","","","",""]
[null,null,null,null,null,"","","","","",null,"","","",null,null,"N Gesamt organsich",{"$f":"IF(K3=\"ja\",SUMIF($N$14:$N$28,\"organisch\",$H$14:$H$28),0)*B4","v":0},null,null,null,"","","","",""]
[null,null,null,null,null,"","","","","",null,"","","",null,null,"NH4-N organsich",null,{"$f":"IF(K3=\"ja\",SUMIF($N$14:$N$28,\"organisch\",$I$14:$I$28),0)*B4","v":0},null,null,"","","","",""]
[null,null,null,null,null,"","","","","",null,"","","",null,null,"P2O5 mineralisch",null,null,{"$f":"IF(K3=\"ja\",SUMIF($N$14:$N$28,\"mineralisch\",$J$14:$J$28),0)*B4","v":0},null,"","","","",""]
[null,null,null,null,null,"","","","","",null,"","","",null,null,"P2O5 organisch",null,null,null,{"$f":"IF(K3=\"ja\",SUMIF($N$14:$N$28,\"organisch\",$J$14:$J$28),0)*B4","v":0},"","","","",""]
[null,null,null,null,null,"","","","","",null,"","","",null,null,"Sonstige organische Düngemittel",{"$f":"IF(K3=\"ja\",SUMIF($N$14:$N$28,Q26,$H$14:$H$28),0)*B4","v":0},{"$f":"IF(K3=\"ja\",SUMIF($N$14:$N$28,Q26,$I$14:$I$28),0)*B4","v":0},{"$f":"IF(K3=\"ja\",SUMIF($N$14:$N$28,Q26,$J$14:$J$28),0)*B4","v":0},null,"","","","",""]
[null,null,null,null,null,"","","","","",null,"","","",null,null,"Bodenhilfsstoffe",{"$f":"IF(K3=\"ja\",SUMIF($N$14:$N$28,Q27,$H$14:$H$28),0)*B4","v":0},null,{"$f":"IF(K3=\"ja\",SUMIF($N$14:$N$28,Q27,$J$14:$J$28),0)*B4","v":0},null,"","","","",""]
[null,null,null,null,null,"","","","","",null,"","","",null,null,"Kultursubstrate",{"$f":"IF(K3=\"ja\",SUMIF($N$14:$N$28,Q28,$H$14:$H$28),0)*B4","v":0},null,{"$f":"IF(K3=\"ja\",SUMIF($N$14:$N$28,Q28,$J$14:$J$28),0)*B4","v":0},null,"","","","",""]
[null,"anrechenbarer N aus org.Dgg. + min. Dgg. kg N/ha",null,null,null,null,null,{"$f":"X29+Y29","v":0},null,{"$f":"SUM(J14:J28)","v":0},null,{"$f":"SUM(L14:L28)","v":0},{"$f":"SUM(M14:M28)","v":0},null,null,null,"Pflanzenhilfsmittel",{"$f":"IF(K3=\"ja\",SUMIF($N$14:$N$28,Q29,$H$14:$H$28),0)*B4","v":0},null,{"$f":"IF(K3=\"ja\",SUMIF($N$14:$N$28,Q29,$J$14:$J$28),0)*B4","v":0},null,{"$f":"SUM(V14:V28)","v":0},{"$f":"SUM(W14:W28)","v":0},{"$f":"SUM(X14:X28)","v":0},{"$f":"SUM(Y14:Y28)","v":0},"kg/ha"]
[null,{"$f":"IF(K3=\"0\",O31,O30)","v":"Bilanz (anrechenbarer Dgg.- reduzierter Düngebedarf) kg N/ha"},null,null,null,null,null,{"$f":"IF(H12=\"\",0,IF(OR(K3=0,K3=\"nein\"),H29-H12,H29-H11))","v":0},null,{"$f":"IF(J12=\"\",\"\",J29-J12)","v":0},null,{"$f":"IF(L12=\"\",\"\",L29-L12)","v":0},{"$f":"IF(M12=\"\",\"\",M29-M12)","v":""},null,"Bilanz (anrechenbarer Dgg.- reduzierter Düngebedarf) kg N/ha",null,"Abfälle zur Beseitigung (§ 28 Absatz 2 odeS 3 KSWG)",{"$f":"IF(K3=\"ja\",SUMIF($N$14:$N$28,Q30,$H$14:$H$28),0)*B4","v":0},null,{"$f":"IF(K3=\"ja\",SUMIF($N$14:$N$28,Q30,$J$14:$J$28),0)*B4","v":0},null,{"$f":"V29*B4","v":0},{"$f":"W29*B4","v":0},{"$f":"X29*B4","v":0},{"$f":"Y29*B4","v":0},"kg/Schlag",null,{"$f":"IF(H30>0,\"Stickstoffmenge überschreitet den Düngebedarf\",\"\")","v":""}]
["Pflanzenschutzmittel",null,"Datum","EC","E./ha","€/E.","€/ha","Anwender",null,null,"Bemerkungen",null,null,null,"Bilanz (anrechenbarer Dgg.- Düngebedarf) kg N/ha"]
[null,null,null,null,null,{"$f":"IF($B32=\"\",\"\",VLOOKUP($B32,PSMMittel,2,0))","v":""},{"$f":"IF(B32=\"\",\"\",E32*F32)","v":""}]
[null,null,null,null,null,"",{"$f":"IF(B33=\"\",\"\",E33*F33)","v":""},null,null,null,null,null,null,null,null,null,"Stickstoffherkunft nicht gefährdetes Gebiet Gesamtfläche"]
[null,null,null,null,null,"","",null,null,null,null,null,null,null,null,null,null,"Gesamt N","NH4-N","P2O5 mineral.","P2O5 organisch",null,"N Fixierung kg N/ha"]
[null,null,null,null,null,"","",null,null,null,null,null,null,null,null,null,"N Gesamt minerl.",{"$f":"R5-R20","v":0},null,null,null,null,{"$f":"IF(E3=0,\"\",VLOOKUP(E3,AckerbauKulturen,26,0)*G56*B4)","v":""}]
[null,null,null,null,null,"","",null,null,null,null,null,null,null,null,null,"NH4-N minerlisch",null,{"$f":"S6-S21","v":0}]
[null,null,null,null,null,"","",null,null,null,null,null,null,null,null,null,"N Gesamt organsich",{"$f":"R7-R22","v":0}]
[null,null,null,null,null,"","",null,null,null,null,null,null,null,null,null,"NH4-N organsich",null,{"$f":"S8-S23","v":0}]
[null,null,null,null,null,"","",null,null,null,null,null,null,null,null,null,"P2O5 mineralisch",null,null,{"$f":"T9-T24","v":0}]
[null,null,null,null,null,"","",null,null,null,null,null,null,null,null,null,"P2O5 organisch",null,null,null,{"$f":"U10-U25","v":0}]
[null,null,null,null,null,"","",null,null,null,null,null,null,null,null,null,"Sonstige organische Düngemittel",{"$f":"R11-R26","v":0},{"$f":"S11-S26","v":0},{"$f":"T11-T26","v":0}]
[null,null,null,null,null,"","",null,null,null,null,null,null,null,null,null,"Bodenhilfsstoffe",{"$f":"R12-R27","v":0},null,{"$f":"T12-T27","v":0}]
[null,null,null,null,null,"","",null,null,null,null,null,null,null,null,null,"Kultursubstrate",{"$f":"R13-R28","v":0},null,{"$f":"T13-T28","v":0}]
[null,null,null,null,null,"","",null,null,null,null,null,null,null,null,null,"Pflanzenhilfsmittel",{"$f":"R14-R29","v":0},null,{"$f":"T14-T29","v":0}]
[null,null,null,null,null,"","",null,null,null,null,null,null,null,null,null,"Abfälle zur Beseitigung (§ 28 Absatz 2 odeS 3 KSWG)",{"$f":"R15-R30","v":0},null,{"$f":"T15-T30","v":0}]
[null,null,null,null,null,"",""]
[null,null,null,null,null,"",""]
[null,null,null,null,null,"",""]
[null,null,null,null,null,"",""]
[null,null,null,null,null,"",""]
[null,null,null,null,null,"",""]
[null,null,null,null,null,"",""]
[null,null,null,null,null,"",""]
[null,"Summe",null,null,null,null,{"$f":"SUM(G32:G53)","v":0}]
[]
[null,"Erntedatum:",null,{"$f":"IF(VLOOKUP($B$2,Ackerbauplan,58,0)=\"\",\"\",VLOOKUP($B$2,Ackerbauplan,58,0))","v":""},null,"dt/ha",{"$f":"VLOOKUP($B$2,Ackerbauplan,60,0)","v":0},null,null,"€/dt",null,{"$f":"VLOOKUP($B$2,Ackerbauplan,59,0)","v":0}]
[null,"   Hauptleistung ",null,{"$f":"IF(VLOOKUP($B$2,Ackerbauplan,61,0)=\"\",\"\",VLOOKUP($B$2,Ackerbauplan,61,0))","v":""},null,"Saatgut ",null,{"$f":"G11","v":0},"€/ha","Marktleistung -"]
[null,null,"+ Nebenleistung ",{"$f":"IF($B$2=\"\",\"\",VLOOKUP($B$2,Anbauplan,62,0))","v":0},null,"Dünger ",null,{"$f":"SUM(G14:G28)","v":0},"€/ha","Saatgut, Dünger, PSM"]
[null,null,"= Marktleistung ",{"$f":"IF(D57=\"\",\"\",D58+D57)","v":""},null,"Pflanzenschutz ",null,{"$f":"G54","v":0},"€/ha",{"$f":"IF(D59=\"\",\"\",D59-H57-H58-H59)","v":""},null,null,"€/ha"]
[null,{"$f":"IF($B$2=\"\",\"\",VLOOKUP($B$2,Anbauplan,2,0))","v":0}]
[null,"Bearbeitung","Maschine 1",null,"Maschine 2",null,"Maschine 3",null,"Datum",null,"Bemerkung"]

{"sheet":"A37","index":46,"n_rows":61,"n_cols":30,"rows_kept":61,"cut":false,"hidden":true,"merged":[[13,27,13,28],[13,29,16,30],[6,7,6,12],[7,7,7,8],[8,7,8,8],[7,9,7,10],[8,9,8,10],[10,8,10,12],[73,2,73,3],[73,4,73,5],[73,6,73,7],[73,8,73,9],[73,10,73,12],[69,2,69,3],[69,4,69,5],[69,6,69,7],[69,8,69,9],[69,10,69,12],[70,2,70,3],[70,4,70,5],[70,6,70,7],[70,8,70,9],[70,10,70,12],[67,2,67,3],[67,4,67,5],[67,6,67,7],[74,2,74,3],[74,4,74,5],[74,6,74,7],[74,8,74,9],[74,10,74,12],[71,2,71,3],[71,4,71,5],[71,6,71,7],[71,8,71,9],[71,10,71,12],[72,2,72,3],[72,4,72,5],[72,6,72,7],[72,8,72,9],[72,10,72,12],[67,8,67,9],[67,10,67,12],[68,2,68,3],[68,4,68,5],[68,6,68,7],[68,8,68,9],[68,10,68,12],[65,2,65,3],[65,4,65,5],[65,6,65,7],[65,8,65,9],[65,10,65,12],[66,2,66,3],[66,4,66,5],[66,6,66,7],[66,8,66,9],[66,10,66,12],[63,2,63,3],[63,4,63,5],[63,6,63,7],[63,8,63,9],[63,10,63,12],[64,2,64,3],[64,4,64,5],[64,6,64,7],[64,8,64,9],[64,10,64,12],[61,2,61,3],[61,4,61,5],[61,6,61,7],[61,8,61,9],[61,10,61,12],[62,2,62,3],[62,4,62,5],[62,6,62,7],[62,8,62,9],[62,10,62,12],[58,3,58,4],[58,5,58,6],[58,9,58,11],[59,1,59,12],[60,2,60,3],[60,4,60,5],[60,6,60,7],[60,8,60,9],[60,10,60,12],[56,1,56,2],[56,3,56,4],[56,5,56,6],[56,9,56,12],[57,3,57,4],[57,5,57,6],[57,9,57,12],[52,7,52,9],[52,10,52,12],[53,1,53,5],[53,7,53,12],[54,1,54,6],[55,1,55,2],[55,3,55,4],[55,6,55,8],[55,9,55,10],[55,11,55,12],[49,7,49,9],[49,10,49,12],[50,7,50,9],[50,10,50,12],[51,7,51,9],[51,10,51,12],[46,7,46,9],[46,10,46,12],[47,7,47,9],[47,10,47,12],[48,7,48,9],[48,10,48,12],[43,7,43,9],[43,10,43,12],[44,7,44,9],[44,10,44,12],[45,7,45,9],[45,10,45,12],[40,7,40,9],[40,10,40,12],[41,7,41,9],[41,10,41,12],[42,7,42,9],[42,10,42,12],[37,7,37,9],[37,10,37,12],[38,7,38,9],[38,10,38,12],[39,7,39,9],[39,10,39,12],[34,7,34,9],[34,10,34,12],[35,7,35,9],[35,10,35,12],[36,7,36,9],[36,10,36,12],[31,7,31,9],[31,10,31,12],[32,7,32,9],[32,10,32,12],[32,16,32,20],[33,7,33,9],[33,10,33,12],[29,1,29,6],[29,7,29,8],[29,9,29,10],[30,0,30,1],[30,7,30,9],[30,10,30,12],[23,9,23,10],[24,9,24,10],[25,9,25,10],[26,9,26,10],[27,9,27,10],[28,1,28,6],[28,7,28,8],[28,9,28,10],[17,16,17,20],[18,9,18,10],[19,9,19,10],[20,9,20,10],[21,9,21,10],[22,9,22,10],[14,9,14,10],[15,9,15,10],[16,9,16,10],[17,9,17,10],[10,1,10,2],[9,7,9,12],[11,1,11,2],[11,4,11,6],[11,7,11,8],[11,9,11,10],[11,25,12,25],[33,22,33,23],[34,22,34,23],[0,1,0,12],[1,2,1,3],[1,4,1,6],[1,7,1,9],[1,10,1,12],[2,2,2,3],[2,4,2,6],[2,7,2,9],[2,10,2,12],[5,7,5,10],[5,11,5,12],[3,2,3,3],[3,4,3,6],[3,7,3,10],[3,11,3,12],[4,2,4,3],[4,4,4,6],[4,7,4,9],[4,10,4,12],[12,9,12,10],[13,9,13,10]]}
[null,"Ackerland"]
[null,37,"Name:",null,{"$f":"IF(B2=\"\",\"\",VLOOKUP(B2,Anbauplan,2,0))","v":0},null,null,"Jahr:",null,null,{"$f":"IF(Einführung!I8=\"\",\"\",Einführung!I8)","v":""},null,null,{"$f":"IF(OR(B4=\"\",H12=\"\"),\"\",H12*B4)","v":0},"DB kg * Fläche"]
[null,"Hektar ","Hauptfrucht ",null,{"$f":"IF(B2=\"\",\"\",VLOOKUP(B2,Ackerbauplan,4,0))","v":0},null,null,"Nitratkulisse",null,null,{"$f":"IF(B2=\"\",\"\",VLOOKUP(B2,Ackerbauplan,20,0))","v":0},null,null,{"$f":"L4","v":""},"kg/ha org. Dünger für Kontrollgrenze"]
[null,{"$f":"IF(B2=\"\",\"\",VLOOKUP(B2,Ackerbauplan,3,0))","v":0},"Vorfrucht",null,{"$f":"IF(B2=\"\",\"\",VLOOKUP(B2,Ackerbauplan,9,0))","v":0},null,null,"Wirtschaftsdünger zur Berechung\ndes 130 kg N/ha Anteils in kg/ha",null,null,null,{"$f":"IF(K3=\"ja\",W29,\"\")","v":""},null,{"$f":"IF(N3=\"\",\"\",N3*B4)","v":""},"kg Gesamtschlag org Dünger für 170 Kontrollgrenze",null,null,"Gesamt N","NH4-N","P2O5 mineral.","P2O5 organisch"]
[null,"Sorte","VorVorfrucht",null,null,null,null,"Phosphatkulisse",null,null,{"$f":"IF(B2=\"\",\"\",VLOOKUP(B2,Ackerbauplan,21,0))","v":0},null,null,{"$f":"IF(H12=\"\",\"\",IF(K3=\"ja\",N2*0.8,\"\"))","v":""},"Nitrat belastetes Gebiet Düngebedarf Gesamtschlag kg N/ha",null,"N Gesamt minerl.",{"$f":"SUMIF($N$14:$N$28,\"mineralisch\",$H$14:$H$28)*B4","v":0}]
[null,{"$f":"IF(B2=\"\",\"\",VLOOKUP(B2,Ackerbauplan,8,0))","v":0},null,null,null,null,null,"sonstige Auflagen",null,null,null,null,null,{"$f":"IF(K3=\"ja\",X30+Y30,\"\")","v":""},"org +min .anrechenbare N Menge Gesamtschlag  kg N/ha",null,"NH4-N minerlisch",null,{"$f":"SUMIF($N$14:$N$28,\"mineralisch\",$I$14:$I$28)*B4","v":0}]
[null,"Aussaatdatum","Kö./m² ",{"$f":"IF(B2=\"\",\"\",VLOOKUP(B2,Ackerbauplan,52,0))","v":0},null,"Eigen","Zukauf","Versorgungsstufen",null,null,null,null,null,{"$f":"IF(K3=\"ja\",J12*B4,\"\")","v":""},null,null,"N Gesamt organsich",{"$f":"SUMIF($N$14:$N$28,\"organisch\",$H$14:$H$28)*B4","v":0}]
[null,{"$f":"IF(B2=\"0\",\"\",VLOOKUP(B2,Ackerbauplan,51,0))","v":"00:00:00"},"x TKG ",{"$f":"IF(B2=\"\",\"\",VLOOKUP(B2,Ackerbauplan,53,0))","v":0},"dt/ha ",null,null,"Nmin",null,"P2O5",null,"K2O","MgO",null,null,null,"NH4-N organsich",null,{"$f":"SUMIF($N$14:$N$28,\"organisch\",I14:I28)*B4","v":0}]
[null,"Beize","/Kei.fäh.",{"$f":"IF(B2=\"\",\"\",VLOOKUP(B2,Ackerbauplan,54,0))","v":0},"€/dt",null,null,{"$f":"IF(B2=\"\",\"\",VLOOKUP(B2,Ackerbauplan,17,0))","v":0},null,{"$f":"IF(B2=\"\",\"\",VLOOKUP(B2,Ackerbauplan,30,0))","v":"C"},null,{"$f":"IF(B2=\"\",\"\",VLOOKUP(B2,Ackerbauplan,31,0))","v":"C"},{"$f":"IF(B2=\"\",\"\",VLOOKUP(B2,Ackerbauplan,32,0))","v":"C"},null,null,null,"P2O5 mineralisch",null,null,{"$f":"SUMIF($N$14:$N$28,\"mineralisch\",$J$14:$J$28)*B4","v":0}]
[null,null,"= kg/ha",{"$f":"IF(B2=\"\",\"\",VLOOKUP(B2,Ackerbauplan,55,0))","v":""},"€/ha ",{"$f":"F8*F9","v":0},{"$f":"G8*G9","v":0},"Düngebedarf kg/ha (Blatt Ackerfläche)",null,null,null,null,null,null,"Düngebedarf um 20% reduziert",null,"P2O5 organisch",null,null,null,{"$f":"SUMIF($N$14:$N$28,\"organisch\",$J$14:$J$28)*B4","v":0},null,null,null,null,null,null,{"$f":"IF(K3=\"ja\",\"Noch nicht ausgeschöpfter Stickstoff Düngebedarf aller Flächen\",\"\")","v":""}]
[null,"Saatgutkennnummer",null,null,null,"Summe",{"$f":"F10+G10","v":0},{"$f":"IF(H12=\"\",\"\",IF(K3=\"ja\",H12*0.8,\"\"))","v":""},{"$f":"IF(K3=\"ja\",O10,\"\")","v":""},null,null,null,null,null,null,null,"Sonstige organische Düngemittel",{"$f":"SUMIF($N$14:$N$28,Q11,$H$14:$H$28)*B4","v":0},{"$f":"SUMIF($N$14:$N$28,Q11,$I$14:$I$28)*B4","v":0},{"$f":"SUMIF($N$14:$N$28,Q11,$J$14:$J$28)*B4","v":0},null,null,null,null,null,null,null,{"$f":"IF(K3=\"ja\",'Zus. Anlage 5 DüV'!D43,\"\")","v":""},{"$f":"IF(K3=\"ja\",\"kg N Gesamtfläche\",\"\")","v":""}]
[null,null,null,null,"N Bedarf DÜV kg/ha",null,null,{"$f":"IF(B2=\"\",\"\",VLOOKUP(B2,Ackerbauplan,18,0))","v":"0"},null,{"$f":"IF(B2=\"\",\"\",VLOOKUP(B2,Ackerbauplan,37,0))","v":"0"},null,{"$f":"IF(B2=\"\",\"\",VLOOKUP(B2,Ackerbauplan,38,0))","v":"0"},null,null,null,null,"Bodenhilfsstoffe",{"$f":"SUMIF($N$14:$N$28,Q12,$H$14:$H$28)*B4","v":0},null,{"$f":"SUMIF($N$14:$N$28,Q12,$J$14:$J$28)*B4","v":0},null,"Anrechnung","Anrechnung ","Prüfung NH4","mineral","Kontroll\nSumme"]
[null,"Dünger","Datum","EC","m³o.dt/ha","€/dt","€/ha","Ges.-N","NH4-N","P2O5",null,"K2O","S",null,null,null,"Kultursubstrate",{"$f":"SUMIF($N$14:$N$28,Q13,$H$14:$H$28)*B4","v":0},null,{"$f":"SUMIF($N$14:$N$28,Q13,$J$14:$J$28)*B4","v":0},null,"aktuelles Jahr","170 kg GW"," oder Anlage3","Stickstoff"]
[null,null,null,null,null,{"$f":"IF(B14=\"\",\"\",VLOOKUP(B14,Düngemiteldaten,2,0))","v":""},{"$f":"IF(B14=\"\",\"\",E14*F14)","v":""},{"$f":"IF(B14=\"\",\"\",VLOOKUP(B14,Düngemiteldaten,4,0)*E14)","v":""},{"$f":"IF(B14=\"\",\"\",VLOOKUP(B14,Düngemiteldaten,5,0)*E14)","v":""},{"$f":"IF(B14=\"\",\"\",VLOOKUP(B14,Düngemiteldaten,7,0)*E14)","v":""},null,{"$f":"IF(B14=\"\",\"\",VLOOKUP(B14,Düngemiteldaten,8,0)*E14)","v":""},{"$f":"IF(B14=\"\",\"\",VLOOKUP(B14,Düngemiteldaten,10,0)*E14)","v":""},{"$f":"IF(B14=\"\",\"\",VLOOKUP(B14,Düngemiteldaten,20,0))","v":""},null,null,"Pflanzenhilfsmittel",{"$f":"SUMIF($N$14:$N$28,Q14,$H$14:$H$28)*B4","v":0},null,{"$f":"SUMIF($N$14:$N$28,Q14,$J$14:$J$28)*B4","v":0},null,{"$f":"IF(OR(B14=\"\",N14=\"\"),\"\",IF(N14=\"mineralisch\",\"\",VLOOKUP(B14,Düngemiteldaten,17,0)*VLOOKUP(B14,Düngemiteldaten,4,0)*E14))","v":""},{"$f":"IF(N14=\"organisch\",VLOOKUP(B14,Düngemiteldaten,4,0)*E14*VLOOKUP(B14,Düngemiteldaten,19,0),\"\")","v":""},{"$f":"IF(B14=\"\",\"\",IF(V14<I14,I14,V14))","v":""},{"$f":"IF(B14=\"\",\"\",IF(N14=\"organisch\",0,H14))","v":""},{"$f":"IF(SUM(V14:Y14)=0,\"\",SUM(X14:Y14))","v":""},null,{"$f":"IF(K3=\"ja\",\"Summe Gesamtstickstoff\",\"\")","v":""},null,{"$f":"IF(K3=\"ja\",\"Anteil § 13a Prüfung \n160 kg N/ha Gesamt\n80 kg N/ha mineralisch\",\"\")","v":""}]
[null,null,null,null,null,"",{"$f":"IF(B15=\"\",\"\",E15*F15)","v":""},"","","",null,"","","",null,null,"Abfälle zur Beseitigung (§ 28 Absatz 2 odeS 3 KSWG)",{"$f":"SUMIF($N$14:$N$28,Q15,$H$14:$H$28)*B4","v":0},null,{"$f":"SUMIF($N$14:$N$28,Q15,$J$14:$J$28)*B4","v":0},null,"","",{"$f":"IF(B15=\"\",\"\",IF(V15<I15,I15,V15))","v":""},{"$f":"IF(B15=\"\",\"\",IF(N15=\"organisch\",0,H15))","v":""},{"$f":"IF(SUM(V15:Y15)=0,\"\",SUM(X15:Y15))","v":""},null,{"$f":"IF(L4=\"\",\"\",SUMIF($N$14:$N$28,\"mineralisch\",$H$14:$H$28))","v":""},{"$f":"IF(K3=\"ja\",\"mineralisch N kg/ha\",\"\")","v":""}]
[null,null,null,null,null,"","","","","",null,"","","",null,null,null,null,null,null,null,"","","","","",null,{"$f":"IF(L4=\"\",\"\",SUMIF($N$14:$N$28,\"organisch\",$H$14:$H$28)+SUMIF($N$14:$N$28,Q11,$H$14:$H$28))","v":""},{"$f":"IF(K3=\"ja\",\"organisch N kg/ha\",\"\")","v":""}]
[null,null,null,null,null,"","","","","",null,"","","",null,null,null,null,null,null,null,{"$f":"IF(OR(B17=\"\",N17=\"\"),\"\",IF(N17=\"mineralisch\",\"\",VLOOKUP(B17,Düngemiteldaten,17,0)*VLOOKUP(B17,Düngemiteldaten,4,0)*E17))","v":""},"","","","",null,{"$f":"IF(K3=\"ja\",(AB16+AB15),\"\")","v":""},{"$f":"IF(K3=\"ja\",\"Gesamt kg N/ha\",\"\")","v":""}]
[null,null,null,null,null,"","","","","",null,"","","",null,null,"Nährstoffherkunft auf gefährdeten Flächen §13",null,null,null,null,"","","","",""]
[null,null,null,null,null,"","","","","",null,"","","",null,null,null,"Gesamt N","NH4-N","P2O5 mineral.","P2O5 organisch","","","","",""]
[null,null,null,null,null,"","","","","",null,"","","",null,null,"N Gesamt minerl.",{"$f":"IF(K3=\"ja\",SUMIF($N$14:$N$28,\"mineralisch\",$H$14:$H$28),0)*B4","v":0},null,null,null,"","","","",""]
[null,null,null,null,null,"","","","","",null,"","","",null,null,"NH4-N minerlisch",null,{"$f":"IF(K3=\"ja\",SUMIF($N$14:$N$28,\"mineralisch\",$I$14:$I$28),0)*B4","v":0},null,null,"","","","",""]
[null,null,null,null,null,"","","","","",null,"","","",null,null,"N Gesamt organsich",{"$f":"IF(K3=\"ja\",SUMIF($N$14:$N$28,\"organisch\",$H$14:$H$28),0)*B4","v":0},null,null,null,"","","","",""]
[null,null,null,null,null,"","","","","",null,"","","",null,null,"NH4-N organsich",null,{"$f":"IF(K3=\"ja\",SUMIF($N$14:$N$28,\"organisch\",$I$14:$I$28),0)*B4","v":0},null,null,"","","","",""]
[null,null,null,null,null,"","","","","",null,"","","",null,null,"P2O5 mineralisch",null,null,{"$f":"IF(K3=\"ja\",SUMIF($N$14:$N$28,\"mineralisch\",$J$14:$J$28),0)*B4","v":0},null,"","","","",""]
[null,null,null,null,null,"","","","","",null,"","","",null,null,"P2O5 organisch",null,null,null,{"$f":"IF(K3=\"ja\",SUMIF($N$14:$N$28,\"organisch\",$J$14:$J$28),0)*B4","v":0},"","","","",""]
[null,null,null,null,null,"","","","","",null,"","","",null,null,"Sonstige organische Düngemittel",{"$f":"IF(K3=\"ja\",SUMIF($N$14:$N$28,Q26,$H$14:$H$28),0)*B4","v":0},{"$f":"IF(K3=\"ja\",SUMIF($N$14:$N$28,Q26,$I$14:$I$28),0)*B4","v":0},{"$f":"IF(K3=\"ja\",SUMIF($N$14:$N$28,Q26,$J$14:$J$28),0)*B4","v":0},null,"","","","",""]
[null,null,null,null,null,"","","","","",null,"","","",null,null,"Bodenhilfsstoffe",{"$f":"IF(K3=\"ja\",SUMIF($N$14:$N$28,Q27,$H$14:$H$28),0)*B4","v":0},null,{"$f":"IF(K3=\"ja\",SUMIF($N$14:$N$28,Q27,$J$14:$J$28),0)*B4","v":0},null,"","","","",""]
[null,null,null,null,null,"","","","","",null,"","","",null,null,"Kultursubstrate",{"$f":"IF(K3=\"ja\",SUMIF($N$14:$N$28,Q28,$H$14:$H$28),0)*B4","v":0},null,{"$f":"IF(K3=\"ja\",SUMIF($N$14:$N$28,Q28,$J$14:$J$28),0)*B4","v":0},null,"","","","",""]
[null,"anrechenbarer N aus org.Dgg. + min. Dgg. kg N/ha",null,null,null,null,null,{"$f":"X29+Y29","v":0},null,{"$f":"SUM(J14:J28)","v":0},null,{"$f":"SUM(L14:L28)","v":0},{"$f":"SUM(M14:M28)","v":0},null,null,null,"Pflanzenhilfsmittel",{"$f":"IF(K3=\"ja\",SUMIF($N$14:$N$28,Q29,$H$14:$H$28),0)*B4","v":0},null,{"$f":"IF(K3=\"ja\",SUMIF($N$14:$N$28,Q29,$J$14:$J$28),0)*B4","v":0},null,{"$f":"SUM(V14:V28)","v":0},{"$f":"SUM(W14:W28)","v":0},{"$f":"SUM(X14:X28)","v":0},{"$f":"SUM(Y14:Y28)","v":0},"kg/ha"]
[null,{"$f":"IF(K3=\"0\",O31,O30)","v":"Bilanz (anrechenbarer Dgg.- reduzierter Düngebedarf) kg N/ha"},null,null,null,null,null,{"$f":"IF(H12=\"\",0,IF(OR(K3=0,K3=\"nein\"),H29-H12,H29-H11))","v":0},null,{"$f":"IF(J12=\"\",\"\",J29-J12)","v":0},null,{"$f":"IF(L12=\"\",\"\",L29-L12)","v":0},{"$f":"IF(M12=\"\",\"\",M29-M12)","v":""},null,"Bilanz (anrechenbarer Dgg.- reduzierter Düngebedarf) kg N/ha",null,"Abfälle zur Beseitigung (§ 28 Absatz 2 odeS 3 KSWG)",{"$f":"IF(K3=\"ja\",SUMIF($N$14:$N$28,Q30,$H$14:$H$28),0)*B4","v":0},null,{"$f":"IF(K3=\"ja\",SUMIF($N$14:$N$28,Q30,$J$14:$J$28),0)*B4","v":0},null,{"$f":"V29*B4","v":0},{"$f":"W29*B4","v":0},{"$f":"X29*B4","v":0},{"$f":"Y29*B4","v":0},"kg/Schlag",null,{"$f":"IF(H30>0,\"Stickstoffmenge überschreitet den Düngebedarf\",\"\")","v":""}]
["Pflanzenschutzmittel",null,"Datum","EC","E./ha","€/E.","€/ha","Anwender",null,null,"Bemerkungen",null,null,null,"Bilanz (anrechenbarer Dgg.- Düngebedarf) kg N/ha"]
[null,null,null,null,null,{"$f":"IF($B32=\"\",\"\",VLOOKUP($B32,PSMMittel,2,0))","v":""},{"$f":"IF(B32=\"\",\"\",E32*F32)","v":""}]
[null,null,null,null,null,"",{"$f":"IF(B33=\"\",\"\",E33*F33)","v":""},null,null,null,null,null,null,null,null,null,"Stickstoffherkunft nicht gefährdetes Gebiet Gesamtfläche"]
[null,null,null,null,null,"","",null,null,null,null,null,null,null,null,null,null,"Gesamt N","NH4-N","P2O5 mineral.","P2O5 organisch",null,"N Fixierung kg N/ha"]
[null,null,null,null,null,"","",null,null,null,null,null,null,null,null,null,"N Gesamt minerl.",{"$f":"R5-R20","v":0},null,null,null,null,{"$f":"IF(E3=0,\"\",VLOOKUP(E3,AckerbauKulturen,26,0)*G56*B4)","v":""}]
[null,null,null,null,null,"","",null,null,null,null,null,null,null,null,null,"NH4-N minerlisch",null,{"$f":"S6-S21","v":0}]
[null,null,null,null,null,"","",null,null,null,null,null,null,null,null,null,"N Gesamt organsich",{"$f":"R7-R22","v":0}]
[null,null,null,null,null,"","",null,null,null,null,null,null,null,null,null,"NH4-N organsich",null,{"$f":"S8-S23","v":0}]
[null,null,null,null,null,"","",null,null,null,null,null,null,null,null,null,"P2O5 mineralisch",null,null,{"$f":"T9-T24","v":0}]
[null,null,null,null,null,"","",null,null,null,null,null,null,null,null,null,"P2O5 organisch",null,null,null,{"$f":"U10-U25","v":0}]
[null,null,null,null,null,"","",null,null,null,null,null,null,null,null,null,"Sonstige organische Düngemittel",{"$f":"R11-R26","v":0},{"$f":"S11-S26","v":0},{"$f":"T11-T26","v":0}]
[null,null,null,null,null,"","",null,null,null,null,null,null,null,null,null,"Bodenhilfsstoffe",{"$f":"R12-R27","v":0},null,{"$f":"T12-T27","v":0}]
[null,null,null,null,null,"","",null,null,null,null,null,null,null,null,null,"Kultursubstrate",{"$f":"R13-R28","v":0},null,{"$f":"T13-T28","v":0}]
[null,null,null,null,null,"","",null,null,null,null,null,null,null,null,null,"Pflanzenhilfsmittel",{"$f":"R14-R29","v":0},null,{"$f":"T14-T29","v":0}]
[null,null,null,null,null,"","",null,null,null,null,null,null,null,null,null,"Abfälle zur Beseitigung (§ 28 Absatz 2 odeS 3 KSWG)",{"$f":"R15-R30","v":0},null,{"$f":"T15-T30","v":0}]
[null,null,null,null,null,"",""]
[null,null,null,null,null,"",""]
[null,null,null,null,null,"",""]
[null,null,null,null,null,"",""]
[null,null,null,null,null,"",""]
[null,null,null,null,null,"",""]
[null,null,null,null,null,"",""]
[null,null,null,null,null,"",""]
[null,"Summe",null,null,null,null,{"$f":"SUM(G32:G53)","v":0}]
[]
[null,"Erntedatum:",null,{"$f":"IF(VLOOKUP($B$2,Ackerbauplan,58,0)=\"\",\"\",VLOOKUP($B$2,Ackerbauplan,58,0))","v":""},null,"dt/ha",{"$f":"VLOOKUP($B$2,Ackerbauplan,60,0)","v":0},null,null,"€/dt",null,{"$f":"VLOOKUP($B$2,Ackerbauplan,59,0)","v":0}]
[null,"   Hauptleistung ",null,{"$f":"IF(VLOOKUP($B$2,Ackerbauplan,61,0)=\"\",\"\",VLOOKUP($B$2,Ackerbauplan,61,0))","v":""},null,"Saatgut ",null,{"$f":"G11","v":0},"€/ha","Marktleistung -"]
[null,null,"+ Nebenleistung ",{"$f":"IF($B$2=\"\",\"\",VLOOKUP($B$2,Anbauplan,62,0))","v":0},null,"Dünger ",null,{"$f":"SUM(G14:G28)","v":0},"€/ha","Saatgut, Dünger, PSM"]
[null,null,"= Marktleistung ",{"$f":"IF(D57=\"\",\"\",D58+D57)","v":""},null,"Pflanzenschutz ",null,{"$f":"G54","v":0},"€/ha",{"$f":"IF(D59=\"\",\"\",D59-H57-H58-H59)","v":""},null,null,"€/ha"]
[null,{"$f":"IF($B$2=\"\",\"\",VLOOKUP($B$2,Anbauplan,2,0))","v":0}]
[null,"Bearbeitung","Maschine 1",null,"Maschine 2",null,"Maschine 3",null,"Datum",null,"Bemerkung"]

{"sheet":"A38","index":47,"n_rows":61,"n_cols":30,"rows_kept":61,"cut":false,"hidden":true,"merged":[[13,27,13,28],[13,29,16,30],[6,7,6,12],[7,7,7,8],[8,7,8,8],[7,9,7,10],[8,9,8,10],[10,8,10,12],[73,2,73,3],[73,4,73,5],[73,6,73,7],[73,8,73,9],[73,10,73,12],[69,2,69,3],[69,4,69,5],[69,6,69,7],[69,8,69,9],[69,10,69,12],[70,2,70,3],[70,4,70,5],[70,6,70,7],[70,8,70,9],[70,10,70,12],[67,2,67,3],[67,4,67,5],[67,6,67,7],[74,2,74,3],[74,4,74,5],[74,6,74,7],[74,8,74,9],[74,10,74,12],[71,2,71,3],[71,4,71,5],[71,6,71,7],[71,8,71,9],[71,10,71,12],[72,2,72,3],[72,4,72,5],[72,6,72,7],[72,8,72,9],[72,10,72,12],[67,8,67,9],[67,10,67,12],[68,2,68,3],[68,4,68,5],[68,6,68,7],[68,8,68,9],[68,10,68,12],[65,2,65,3],[65,4,65,5],[65,6,65,7],[65,8,65,9],[65,10,65,12],[66,2,66,3],[66,4,66,5],[66,6,66,7],[66,8,66,9],[66,10,66,12],[63,2,63,3],[63,4,63,5],[63,6,63,7],[63,8,63,9],[63,10,63,12],[64,2,64,3],[64,4,64,5],[64,6,64,7],[64,8,64,9],[64,10,64,12],[61,2,61,3],[61,4,61,5],[61,6,61,7],[61,8,61,9],[61,10,61,12],[62,2,62,3],[62,4,62,5],[62,6,62,7],[62,8,62,9],[62,10,62,12],[58,3,58,4],[58,5,58,6],[58,9,58,11],[59,1,59,12],[60,2,60,3],[60,4,60,5],[60,6,60,7],[60,8,60,9],[60,10,60,12],[56,1,56,2],[56,3,56,4],[56,5,56,6],[56,9,56,12],[57,3,57,4],[57,5,57,6],[57,9,57,12],[52,7,52,9],[52,10,52,12],[53,1,53,5],[53,7,53,12],[54,1,54,6],[55,1,55,2],[55,3,55,4],[55,6,55,8],[55,9,55,10],[55,11,55,12],[49,7,49,9],[49,10,49,12],[50,7,50,9],[50,10,50,12],[51,7,51,9],[51,10,51,12],[46,7,46,9],[46,10,46,12],[47,7,47,9],[47,10,47,12],[48,7,48,9],[48,10,48,12],[43,7,43,9],[43,10,43,12],[44,7,44,9],[44,10,44,12],[45,7,45,9],[45,10,45,12],[40,7,40,9],[40,10,40,12],[41,7,41,9],[41,10,41,12],[42,7,42,9],[42,10,42,12],[37,7,37,9],[37,10,37,12],[38,7,38,9],[38,10,38,12],[39,7,39,9],[39,10,39,12],[34,7,34,9],[34,10,34,12],[35,7,35,9],[35,10,35,12],[36,7,36,9],[36,10,36,12],[31,7,31,9],[31,10,31,12],[32,7,32,9],[32,10,32,12],[32,16,32,20],[33,7,33,9],[33,10,33,12],[29,1,29,6],[29,7,29,8],[29,9,29,10],[30,0,30,1],[30,7,30,9],[30,10,30,12],[23,9,23,10],[24,9,24,10],[25,9,25,10],[26,9,26,10],[27,9,27,10],[28,1,28,6],[28,7,28,8],[28,9,28,10],[17,16,17,20],[18,9,18,10],[19,9,19,10],[20,9,20,10],[21,9,21,10],[22,9,22,10],[14,9,14,10],[15,9,15,10],[16,9,16,10],[17,9,17,10],[10,1,10,2],[9,7,9,12],[11,1,11,2],[11,4,11,6],[11,7,11,8],[11,9,11,10],[11,25,12,25],[33,22,33,23],[34,22,34,23],[0,1,0,12],[1,2,1,3],[1,4,1,6],[1,7,1,9],[1,10,1,12],[2,2,2,3],[2,4,2,6],[2,7,2,9],[2,10,2,12],[5,7,5,10],[5,11,5,12],[3,2,3,3],[3,4,3,6],[3,7,3,10],[3,11,3,12],[4,2,4,3],[4,4,4,6],[4,7,4,9],[4,10,4,12],[12,9,12,10],[13,9,13,10]]}
[null,"Ackerland"]
[null,38,"Name:",null,{"$f":"IF(B2=\"\",\"\",VLOOKUP(B2,Anbauplan,2,0))","v":0},null,null,"Jahr:",null,null,{"$f":"IF(Einführung!I8=\"\",\"\",Einführung!I8)","v":""},null,null,{"$f":"IF(OR(B4=\"\",H12=\"\"),\"\",H12*B4)","v":0},"DB kg * Fläche"]
[null,"Hektar ","Hauptfrucht ",null,{"$f":"IF(B2=\"\",\"\",VLOOKUP(B2,Ackerbauplan,4,0))","v":0},null,null,"Nitratkulisse",null,null,{"$f":"IF(B2=\"\",\"\",VLOOKUP(B2,Ackerbauplan,20,0))","v":0},null,null,{"$f":"L4","v":""},"kg/ha org. Dünger für Kontrollgrenze"]
[null,{"$f":"IF(B2=\"\",\"\",VLOOKUP(B2,Ackerbauplan,3,0))","v":0},"Vorfrucht",null,{"$f":"IF(B2=\"\",\"\",VLOOKUP(B2,Ackerbauplan,9,0))","v":0},null,null,"Wirtschaftsdünger zur Berechung\ndes 130 kg N/ha Anteils in kg/ha",null,null,null,{"$f":"IF(K3=\"ja\",W29,\"\")","v":""},null,{"$f":"IF(N3=\"\",\"\",N3*B4)","v":""},"kg Gesamtschlag org Dünger für 170 Kontrollgrenze",null,null,"Gesamt N","NH4-N","P2O5 mineral.","P2O5 organisch"]
[null,"Sorte","VorVorfrucht",null,null,null,null,"Phosphatkulisse",null,null,{"$f":"IF(B2=\"\",\"\",VLOOKUP(B2,Ackerbauplan,21,0))","v":0},null,null,{"$f":"IF(H12=\"\",\"\",IF(K3=\"ja\",N2*0.8,\"\"))","v":""},"Nitrat belastetes Gebiet Düngebedarf Gesamtschlag kg N/ha",null,"N Gesamt minerl.",{"$f":"SUMIF($N$14:$N$28,\"mineralisch\",$H$14:$H$28)*B4","v":0}]
[null,{"$f":"IF(B2=\"\",\"\",VLOOKUP(B2,Ackerbauplan,8,0))","v":0},null,null,null,null,null,"sonstige Auflagen",null,null,null,null,null,{"$f":"IF(K3=\"ja\",X30+Y30,\"\")","v":""},"org +min .anrechenbare N Menge Gesamtschlag  kg N/ha",null,"NH4-N minerlisch",null,{"$f":"SUMIF($N$14:$N$28,\"mineralisch\",$I$14:$I$28)*B4","v":0}]
[null,"Aussaatdatum","Kö./m² ",{"$f":"IF(B2=\"\",\"\",VLOOKUP(B2,Ackerbauplan,52,0))","v":0},null,"Eigen","Zukauf","Versorgungsstufen",null,null,null,null,null,{"$f":"IF(K3=\"ja\",J12*B4,\"\")","v":""},null,null,"N Gesamt organsich",{"$f":"SUMIF($N$14:$N$28,\"organisch\",$H$14:$H$28)*B4","v":0}]
[null,{"$f":"IF(B2=\"0\",\"\",VLOOKUP(B2,Ackerbauplan,51,0))","v":"00:00:00"},"x TKG ",{"$f":"IF(B2=\"\",\"\",VLOOKUP(B2,Ackerbauplan,53,0))","v":0},"dt/ha ",null,null,"Nmin",null,"P2O5",null,"K2O","MgO",null,null,null,"NH4-N organsich",null,{"$f":"SUMIF($N$14:$N$28,\"organisch\",I14:I28)*B4","v":0}]
[null,"Beize","/Kei.fäh.",{"$f":"IF(B2=\"\",\"\",VLOOKUP(B2,Ackerbauplan,54,0))","v":0},"€/dt",null,null,{"$f":"IF(B2=\"\",\"\",VLOOKUP(B2,Ackerbauplan,17,0))","v":0},null,{"$f":"IF(B2=\"\",\"\",VLOOKUP(B2,Ackerbauplan,30,0))","v":"C"},null,{"$f":"IF(B2=\"\",\"\",VLOOKUP(B2,Ackerbauplan,31,0))","v":"C"},{"$f":"IF(B2=\"\",\"\",VLOOKUP(B2,Ackerbauplan,32,0))","v":"C"},null,null,null,"P2O5 mineralisch",null,null,{"$f":"SUMIF($N$14:$N$28,\"mineralisch\",$J$14:$J$28)*B4","v":0}]
[null,null,"= kg/ha",{"$f":"IF(B2=\"\",\"\",VLOOKUP(B2,Ackerbauplan,55,0))","v":""},"€/ha ",{"$f":"F8*F9","v":0},{"$f":"G8*G9","v":0},"Düngebedarf kg/ha (Blatt Ackerfläche)",null,null,null,null,null,null,"Düngebedarf um 20% reduziert",null,"P2O5 organisch",null,null,null,{"$f":"SUMIF($N$14:$N$28,\"organisch\",$J$14:$J$28)*B4","v":0},null,null,null,null,null,null,{"$f":"IF(K3=\"ja\",\"Noch nicht ausgeschöpfter Stickstoff Düngebedarf aller Flächen\",\"\")","v":""}]
[null,"Saatgutkennnummer",null,null,null,"Summe",{"$f":"F10+G10","v":0},{"$f":"IF(H12=\"\",\"\",IF(K3=\"ja\",H12*0.8,\"\"))","v":""},{"$f":"IF(K3=\"ja\",O10,\"\")","v":""},null,null,null,null,null,null,null,"Sonstige organische Düngemittel",{"$f":"SUMIF($N$14:$N$28,Q11,$H$14:$H$28)*B4","v":0},{"$f":"SUMIF($N$14:$N$28,Q11,$I$14:$I$28)*B4","v":0},{"$f":"SUMIF($N$14:$N$28,Q11,$J$14:$J$28)*B4","v":0},null,null,null,null,null,null,null,{"$f":"IF(K3=\"ja\",'Zus. Anlage 5 DüV'!D43,\"\")","v":""},{"$f":"IF(K3=\"ja\",\"kg N Gesamtfläche\",\"\")","v":""}]
[null,null,null,null,"N Bedarf DÜV kg/ha",null,null,{"$f":"IF(B2=\"\",\"\",VLOOKUP(B2,Ackerbauplan,18,0))","v":"0"},null,{"$f":"IF(B2=\"\",\"\",VLOOKUP(B2,Ackerbauplan,37,0))","v":"0"},null,{"$f":"IF(B2=\"\",\"\",VLOOKUP(B2,Ackerbauplan,38,0))","v":"0"},null,null,null,null,"Bodenhilfsstoffe",{"$f":"SUMIF($N$14:$N$28,Q12,$H$14:$H$28)*B4","v":0},null,{"$f":"SUMIF($N$14:$N$28,Q12,$J$14:$J$28)*B4","v":0},null,"Anrechnung","Anrechnung ","Prüfung NH4","mineral","Kontroll\nSumme"]
[null,"Dünger","Datum","EC","m³o.dt/ha","€/dt","€/ha","Ges.-N","NH4-N","P2O5",null,"K2O","S",null,null,null,"Kultursubstrate",{"$f":"SUMIF($N$14:$N$28,Q13,$H$14:$H$28)*B4","v":0},null,{"$f":"SUMIF($N$14:$N$28,Q13,$J$14:$J$28)*B4","v":0},null,"aktuelles Jahr","170 kg GW"," oder Anlage3","Stickstoff"]
[null,null,null,null,null,{"$f":"IF(B14=\"\",\"\",VLOOKUP(B14,Düngemiteldaten,2,0))","v":""},{"$f":"IF(B14=\"\",\"\",E14*F14)","v":""},{"$f":"IF(B14=\"\",\"\",VLOOKUP(B14,Düngemiteldaten,4,0)*E14)","v":""},{"$f":"IF(B14=\"\",\"\",VLOOKUP(B14,Düngemiteldaten,5,0)*E14)","v":""},{"$f":"IF(B14=\"\",\"\",VLOOKUP(B14,Düngemiteldaten,7,0)*E14)","v":""},null,{"$f":"IF(B14=\"\",\"\",VLOOKUP(B14,Düngemiteldaten,8,0)*E14)","v":""},{"$f":"IF(B14=\"\",\"\",VLOOKUP(B14,Düngemiteldaten,10,0)*E14)","v":""},{"$f":"IF(B14=\"\",\"\",VLOOKUP(B14,Düngemiteldaten,20,0))","v":""},null,null,"Pflanzenhilfsmittel",{"$f":"SUMIF($N$14:$N$28,Q14,$H$14:$H$28)*B4","v":0},null,{"$f":"SUMIF($N$14:$N$28,Q14,$J$14:$J$28)*B4","v":0},null,{"$f":"IF(OR(B14=\"\",N14=\"\"),\"\",IF(N14=\"mineralisch\",\"\",VLOOKUP(B14,Düngemiteldaten,17,0)*VLOOKUP(B14,Düngemiteldaten,4,0)*E14))","v":""},{"$f":"IF(N14=\"organisch\",VLOOKUP(B14,Düngemiteldaten,4,0)*E14*VLOOKUP(B14,Düngemiteldaten,19,0),\"\")","v":""},{"$f":"IF(B14=\"\",\"\",IF(V14<I14,I14,V14))","v":""},{"$f":"IF(B14=\"\",\"\",IF(N14=\"organisch\",0,H14))","v":""},{"$f":"IF(SUM(V14:Y14)=0,\"\",SUM(X14:Y14))","v":""},null,{"$f":"IF(K3=\"ja\",\"Summe Gesamtstickstoff\",\"\")","v":""},null,{"$f":"IF(K3=\"ja\",\"Anteil § 13a Prüfung \n160 kg N/ha Gesamt\n80 kg N/ha mineralisch\",\"\")","v":""}]
[null,null,null,null,null,"",{"$f":"IF(B15=\"\",\"\",E15*F15)","v":""},"","","",null,"","","",null,null,"Abfälle zur Beseitigung (§ 28 Absatz 2 odeS 3 KSWG)",{"$f":"SUMIF($N$14:$N$28,Q15,$H$14:$H$28)*B4","v":0},null,{"$f":"SUMIF($N$14:$N$28,Q15,$J$14:$J$28)*B4","v":0},null,"","",{"$f":"IF(B15=\"\",\"\",IF(V15<I15,I15,V15))","v":""},{"$f":"IF(B15=\"\",\"\",IF(N15=\"organisch\",0,H15))","v":""},{"$f":"IF(SUM(V15:Y15)=0,\"\",SUM(X15:Y15))","v":""},null,{"$f":"IF(L4=\"\",\"\",SUMIF($N$14:$N$28,\"mineralisch\",$H$14:$H$28))","v":""},{"$f":"IF(K3=\"ja\",\"mineralisch N kg/ha\",\"\")","v":""}]
[null,null,null,null,null,"","","","","",null,"","","",null,null,null,null,null,null,null,"","","","","",null,{"$f":"IF(L4=\"\",\"\",SUMIF($N$14:$N$28,\"organisch\",$H$14:$H$28)+SUMIF($N$14:$N$28,Q11,$H$14:$H$28))","v":""},{"$f":"IF(K3=\"ja\",\"organisch N kg/ha\",\"\")","v":""}]
[null,null,null,null,null,"","","","","",null,"","","",null,null,null,null,null,null,null,{"$f":"IF(OR(B17=\"\",N17=\"\"),\"\",IF(N17=\"mineralisch\",\"\",VLOOKUP(B17,Düngemiteldaten,17,0)*VLOOKUP(B17,Düngemiteldaten,4,0)*E17))","v":""},"","","","",null,{"$f":"IF(K3=\"ja\",(AB16+AB15),\"\")","v":""},{"$f":"IF(K3=\"ja\",\"Gesamt kg N/ha\",\"\")","v":""}]
[null,null,null,null,null,"","","","","",null,"","","",null,null,"Nährstoffherkunft auf gefährdeten Flächen §13",null,null,null,null,"","","","",""]
[null,null,null,null,null,"","","","","",null,"","","",null,null,null,"Gesamt N","NH4-N","P2O5 mineral.","P2O5 organisch","","","","",""]
[null,null,null,null,null,"","","","","",null,"","","",null,null,"N Gesamt minerl.",{"$f":"IF(K3=\"ja\",SUMIF($N$14:$N$28,\"mineralisch\",$H$14:$H$28),0)*B4","v":0},null,null,null,"","","","",""]
[null,null,null,null,null,"","","","","",null,"","","",null,null,"NH4-N minerlisch",null,{"$f":"IF(K3=\"ja\",SUMIF($N$14:$N$28,\"mineralisch\",$I$14:$I$28),0)*B4","v":0},null,null,"","","","",""]
[null,null,null,null,null,"","","","","",null,"","","",null,null,"N Gesamt organsich",{"$f":"IF(K3=\"ja\",SUMIF($N$14:$N$28,\"organisch\",$H$14:$H$28),0)*B4","v":0},null,null,null,"","","","",""]
[null,null,null,null,null,"","","","","",null,"","","",null,null,"NH4-N organsich",null,{"$f":"IF(K3=\"ja\",SUMIF($N$14:$N$28,\"organisch\",$I$14:$I$28),0)*B4","v":0},null,null,"","","","",""]
[null,null,null,null,null,"","","","","",null,"","","",null,null,"P2O5 mineralisch",null,null,{"$f":"IF(K3=\"ja\",SUMIF($N$14:$N$28,\"mineralisch\",$J$14:$J$28),0)*B4","v":0},null,"","","","",""]
[null,null,null,null,null,"","","","","",null,"","","",null,null,"P2O5 organisch",null,null,null,{"$f":"IF(K3=\"ja\",SUMIF($N$14:$N$28,\"organisch\",$J$14:$J$28),0)*B4","v":0},"","","","",""]
[null,null,null,null,null,"","","","","",null,"","","",null,null,"Sonstige organische Düngemittel",{"$f":"IF(K3=\"ja\",SUMIF($N$14:$N$28,Q26,$H$14:$H$28),0)*B4","v":0},{"$f":"IF(K3=\"ja\",SUMIF($N$14:$N$28,Q26,$I$14:$I$28),0)*B4","v":0},{"$f":"IF(K3=\"ja\",SUMIF($N$14:$N$28,Q26,$J$14:$J$28),0)*B4","v":0},null,"","","","",""]
[null,null,null,null,null,"","","","","",null,"","","",null,null,"Bodenhilfsstoffe",{"$f":"IF(K3=\"ja\",SUMIF($N$14:$N$28,Q27,$H$14:$H$28),0)*B4","v":0},null,{"$f":"IF(K3=\"ja\",SUMIF($N$14:$N$28,Q27,$J$14:$J$28),0)*B4","v":0},null,"","","","",""]
[null,null,null,null,null,"","","","","",null,"","","",null,null,"Kultursubstrate",{"$f":"IF(K3=\"ja\",SUMIF($N$14:$N$28,Q28,$H$14:$H$28),0)*B4","v":0},null,{"$f":"IF(K3=\"ja\",SUMIF($N$14:$N$28,Q28,$J$14:$J$28),0)*B4","v":0},null,"","","","",""]
[null,"anrechenbarer N aus org.Dgg. + min. Dgg. kg N/ha",null,null,null,null,null,{"$f":"X29+Y29","v":0},null,{"$f":"SUM(J14:J28)","v":0},null,{"$f":"SUM(L14:L28)","v":0},{"$f":"SUM(M14:M28)","v":0},null,null,null,"Pflanzenhilfsmittel",{"$f":"IF(K3=\"ja\",SUMIF($N$14:$N$28,Q29,$H$14:$H$28),0)*B4","v":0},null,{"$f":"IF(K3=\"ja\",SUMIF($N$14:$N$28,Q29,$J$14:$J$28),0)*B4","v":0},null,{"$f":"SUM(V14:V28)","v":0},{"$f":"SUM(W14:W28)","v":0},{"$f":"SUM(X14:X28)","v":0},{"$f":"SUM(Y14:Y28)","v":0},"kg/ha"]
[null,{"$f":"IF(K3=\"0\",O31,O30)","v":"Bilanz (anrechenbarer Dgg.- reduzierter Düngebedarf) kg N/ha"},null,null,null,null,null,{"$f":"IF(H12=\"\",0,IF(OR(K3=0,K3=\"nein\"),H29-H12,H29-H11))","v":0},null,{"$f":"IF(J12=\"\",\"\",J29-J12)","v":0},null,{"$f":"IF(L12=\"\",\"\",L29-L12)","v":0},{"$f":"IF(M12=\"\",\"\",M29-M12)","v":""},null,"Bilanz (anrechenbarer Dgg.- reduzierter Düngebedarf) kg N/ha",null,"Abfälle zur Beseitigung (§ 28 Absatz 2 odeS 3 KSWG)",{"$f":"IF(K3=\"ja\",SUMIF($N$14:$N$28,Q30,$H$14:$H$28),0)*B4","v":0},null,{"$f":"IF(K3=\"ja\",SUMIF($N$14:$N$28,Q30,$J$14:$J$28),0)*B4","v":0},null,{"$f":"V29*B4","v":0},{"$f":"W29*B4","v":0},{"$f":"X29*B4","v":0},{"$f":"Y29*B4","v":0},"kg/Schlag",null,{"$f":"IF(H30>0,\"Stickstoffmenge überschreitet den Düngebedarf\",\"\")","v":""}]
["Pflanzenschutzmittel",null,"Datum","EC","E./ha","€/E.","€/ha","Anwender",null,null,"Bemerkungen",null,null,null,"Bilanz (anrechenbarer Dgg.- Düngebedarf) kg N/ha"]
[null,null,null,null,null,{"$f":"IF($B32=\"\",\"\",VLOOKUP($B32,PSMMittel,2,0))","v":""},{"$f":"IF(B32=\"\",\"\",E32*F32)","v":""}]
[null,null,null,null,null,"",{"$f":"IF(B33=\"\",\"\",E33*F33)","v":""},null,null,null,null,null,null,null,null,null,"Stickstoffherkunft nicht gefährdetes Gebiet Gesamtfläche"]
[null,null,null,null,null,"","",null,null,null,null,null,null,null,null,null,null,"Gesamt N","NH4-N","P2O5 mineral.","P2O5 organisch",null,"N Fixierung kg N/ha"]
[null,null,null,null,null,"","",null,null,null,null,null,null,null,null,null,"N Gesamt minerl.",{"$f":"R5-R20","v":0},null,null,null,null,{"$f":"IF(E3=0,\"\",VLOOKUP(E3,AckerbauKulturen,26,0)*G56*B4)","v":""}]
[null,null,null,null,null,"","",null,null,null,null,null,null,null,null,null,"NH4-N minerlisch",null,{"$f":"S6-S21","v":0}]
[null,null,null,null,null,"","",null,null,null,null,null,null,null,null,null,"N Gesamt organsich",{"$f":"R7-R22","v":0}]
[null,null,null,null,null,"","",null,null,null,null,null,null,null,null,null,"NH4-N organsich",null,{"$f":"S8-S23","v":0}]
[null,null,null,null,null,"","",null,null,null,null,null,null,null,null,null,"P2O5 mineralisch",null,null,{"$f":"T9-T24","v":0}]
[null,null,null,null,null,"","",null,null,null,null,null,null,null,null,null,"P2O5 organisch",null,null,null,{"$f":"U10-U25","v":0}]
[null,null,null,null,null,"","",null,null,null,null,null,null,null,null,null,"Sonstige organische Düngemittel",{"$f":"R11-R26","v":0},{"$f":"S11-S26","v":0},{"$f":"T11-T26","v":0}]
[null,null,null,null,null,"","",null,null,null,null,null,null,null,null,null,"Bodenhilfsstoffe",{"$f":"R12-R27","v":0},null,{"$f":"T12-T27","v":0}]
[null,null,null,null,null,"","",null,null,null,null,null,null,null,null,null,"Kultursubstrate",{"$f":"R13-R28","v":0},null,{"$f":"T13-T28","v":0}]
[null,null,null,null,null,"","",null,null,null,null,null,null,null,null,null,"Pflanzenhilfsmittel",{"$f":"R14-R29","v":0},null,{"$f":"T14-T29","v":0}]
[null,null,null,null,null,"","",null,null,null,null,null,null,null,null,null,"Abfälle zur Beseitigung (§ 28 Absatz 2 odeS 3 KSWG)",{"$f":"R15-R30","v":0},null,{"$f":"T15-T30","v":0}]
[null,null,null,null,null,"",""]
[null,null,null,null,null,"",""]
[null,null,null,null,null,"",""]
[null,null,null,null,null,"",""]
[null,null,null,null,null,"",""]
[null,null,null,null,null,"",""]
[null,null,null,null,null,"",""]
[null,null,null,null,null,"",""]
[null,"Summe",null,null,null,null,{"$f":"SUM(G32:G53)","v":0}]
[]
[null,"Erntedatum:",null,{"$f":"IF(VLOOKUP($B$2,Ackerbauplan,58,0)=\"\",\"\",VLOOKUP($B$2,Ackerbauplan,58,0))","v":""},null,"dt/ha",{"$f":"VLOOKUP($B$2,Ackerbauplan,60,0)","v":0},null,null,"€/dt",null,{"$f":"VLOOKUP($B$2,Ackerbauplan,59,0)","v":0}]
[null,"   Hauptleistung ",null,{"$f":"IF(VLOOKUP($B$2,Ackerbauplan,61,0)=\"\",\"\",VLOOKUP($B$2,Ackerbauplan,61,0))","v":""},null,"Saatgut ",null,{"$f":"G11","v":0},"€/ha","Marktleistung -"]
[null,null,"+ Nebenleistung ",{"$f":"IF($B$2=\"\",\"\",VLOOKUP($B$2,Anbauplan,62,0))","v":0},null,"Dünger ",null,{"$f":"SUM(G14:G28)","v":0},"€/ha","Saatgut, Dünger, PSM"]
[null,null,"= Marktleistung ",{"$f":"IF(D57=\"\",\"\",D58+D57)","v":""},null,"Pflanzenschutz ",null,{"$f":"G54","v":0},"€/ha",{"$f":"IF(D59=\"\",\"\",D59-H57-H58-H59)","v":""},null,null,"€/ha"]
[null,{"$f":"IF($B$2=\"\",\"\",VLOOKUP($B$2,Anbauplan,2,0))","v":0}]
[null,"Bearbeitung","Maschine 1",null,"Maschine 2",null,"Maschine 3",null,"Datum",null,"Bemerkung"]

{"sheet":"A39","index":48,"n_rows":61,"n_cols":30,"rows_kept":61,"cut":false,"hidden":true,"merged":[[13,27,13,28],[13,29,16,30],[6,7,6,12],[7,7,7,8],[8,7,8,8],[7,9,7,10],[8,9,8,10],[10,8,10,12],[73,2,73,3],[73,4,73,5],[73,6,73,7],[73,8,73,9],[73,10,73,12],[69,2,69,3],[69,4,69,5],[69,6,69,7],[69,8,69,9],[69,10,69,12],[70,2,70,3],[70,4,70,5],[70,6,70,7],[70,8,70,9],[70,10,70,12],[67,2,67,3],[67,4,67,5],[67,6,67,7],[74,2,74,3],[74,4,74,5],[74,6,74,7],[74,8,74,9],[74,10,74,12],[71,2,71,3],[71,4,71,5],[71,6,71,7],[71,8,71,9],[71,10,71,12],[72,2,72,3],[72,4,72,5],[72,6,72,7],[72,8,72,9],[72,10,72,12],[67,8,67,9],[67,10,67,12],[68,2,68,3],[68,4,68,5],[68,6,68,7],[68,8,68,9],[68,10,68,12],[65,2,65,3],[65,4,65,5],[65,6,65,7],[65,8,65,9],[65,10,65,12],[66,2,66,3],[66,4,66,5],[66,6,66,7],[66,8,66,9],[66,10,66,12],[63,2,63,3],[63,4,63,5],[63,6,63,7],[63,8,63,9],[63,10,63,12],[64,2,64,3],[64,4,64,5],[64,6,64,7],[64,8,64,9],[64,10,64,12],[61,2,61,3],[61,4,61,5],[61,6,61,7],[61,8,61,9],[61,10,61,12],[62,2,62,3],[62,4,62,5],[62,6,62,7],[62,8,62,9],[62,10,62,12],[58,3,58,4],[58,5,58,6],[58,9,58,11],[59,1,59,12],[60,2,60,3],[60,4,60,5],[60,6,60,7],[60,8,60,9],[60,10,60,12],[56,1,56,2],[56,3,56,4],[56,5,56,6],[56,9,56,12],[57,3,57,4],[57,5,57,6],[57,9,57,12],[52,7,52,9],[52,10,52,12],[53,1,53,5],[53,7,53,12],[54,1,54,6],[55,1,55,2],[55,3,55,4],[55,6,55,8],[55,9,55,10],[55,11,55,12],[49,7,49,9],[49,10,49,12],[50,7,50,9],[50,10,50,12],[51,7,51,9],[51,10,51,12],[46,7,46,9],[46,10,46,12],[47,7,47,9],[47,10,47,12],[48,7,48,9],[48,10,48,12],[43,7,43,9],[43,10,43,12],[44,7,44,9],[44,10,44,12],[45,7,45,9],[45,10,45,12],[40,7,40,9],[40,10,40,12],[41,7,41,9],[41,10,41,12],[42,7,42,9],[42,10,42,12],[37,7,37,9],[37,10,37,12],[38,7,38,9],[38,10,38,12],[39,7,39,9],[39,10,39,12],[34,7,34,9],[34,10,34,12],[35,7,35,9],[35,10,35,12],[36,7,36,9],[36,10,36,12],[31,7,31,9],[31,10,31,12],[32,7,32,9],[32,10,32,12],[32,16,32,20],[33,7,33,9],[33,10,33,12],[29,1,29,6],[29,7,29,8],[29,9,29,10],[30,0,30,1],[30,7,30,9],[30,10,30,12],[23,9,23,10],[24,9,24,10],[25,9,25,10],[26,9,26,10],[27,9,27,10],[28,1,28,6],[28,7,28,8],[28,9,28,10],[17,16,17,20],[18,9,18,10],[19,9,19,10],[20,9,20,10],[21,9,21,10],[22,9,22,10],[14,9,14,10],[15,9,15,10],[16,9,16,10],[17,9,17,10],[10,1,10,2],[9,7,9,12],[11,1,11,2],[11,4,11,6],[11,7,11,8],[11,9,11,10],[11,25,12,25],[33,22,33,23],[34,22,34,23],[0,1,0,12],[1,2,1,3],[1,4,1,6],[1,7,1,9],[1,10,1,12],[2,2,2,3],[2,4,2,6],[2,7,2,9],[2,10,2,12],[5,7,5,10],[5,11,5,12],[3,2,3,3],[3,4,3,6],[3,7,3,10],[3,11,3,12],[4,2,4,3],[4,4,4,6],[4,7,4,9],[4,10,4,12],[12,9,12,10],[13,9,13,10]]}
[null,"Ackerland"]
[null,39,"Name:",null,{"$f":"IF(B2=\"\",\"\",VLOOKUP(B2,Anbauplan,2,0))","v":0},null,null,"Jahr:",null,null,{"$f":"IF(Einführung!I8=\"\",\"\",Einführung!I8)","v":""},null,null,{"$f":"IF(OR(B4=\"\",H12=\"\"),\"\",H12*B4)","v":0},"DB kg * Fläche"]
[null,"Hektar ","Hauptfrucht ",null,{"$f":"IF(B2=\"\",\"\",VLOOKUP(B2,Ackerbauplan,4,0))","v":0},null,null,"Nitratkulisse",null,null,{"$f":"IF(B2=\"\",\"\",VLOOKUP(B2,Ackerbauplan,20,0))","v":0},null,null,{"$f":"L4","v":""},"kg/ha org. Dünger für Kontrollgrenze"]
[null,{"$f":"IF(B2=\"\",\"\",VLOOKUP(B2,Ackerbauplan,3,0))","v":0},"Vorfrucht",null,{"$f":"IF(B2=\"\",\"\",VLOOKUP(B2,Ackerbauplan,9,0))","v":0},null,null,"Wirtschaftsdünger zur Berechung\ndes 130 kg N/ha Anteils in kg/ha",null,null,null,{"$f":"IF(K3=\"ja\",W29,\"\")","v":""},null,{"$f":"IF(N3=\"\",\"\",N3*B4)","v":""},"kg Gesamtschlag org Dünger für 170 Kontrollgrenze",null,null,"Gesamt N","NH4-N","P2O5 mineral.","P2O5 organisch"]
[null,"Sorte","VorVorfrucht",null,null,null,null,"Phosphatkulisse",null,null,{"$f":"IF(B2=\"\",\"\",VLOOKUP(B2,Ackerbauplan,21,0))","v":0},null,null,{"$f":"IF(H12=\"\",\"\",IF(K3=\"ja\",N2*0.8,\"\"))","v":""},"Nitrat belastetes Gebiet Düngebedarf Gesamtschlag kg N/ha",null,"N Gesamt minerl.",{"$f":"SUMIF($N$14:$N$28,\"mineralisch\",$H$14:$H$28)*B4","v":0}]
[null,{"$f":"IF(B2=\"\",\"\",VLOOKUP(B2,Ackerbauplan,8,0))","v":0},null,null,null,null,null,"sonstige Auflagen",null,null,null,null,null,{"$f":"IF(K3=\"ja\",X30+Y30,\"\")","v":""},"org +min .anrechenbare N Menge Gesamtschlag  kg N/ha",null,"NH4-N minerlisch",null,{"$f":"SUMIF($N$14:$N$28,\"mineralisch\",$I$14:$I$28)*B4","v":0}]
[null,"Aussaatdatum","Kö./m² ",{"$f":"IF(B2=\"\",\"\",VLOOKUP(B2,Ackerbauplan,52,0))","v":0},null,"Eigen","Zukauf","Versorgungsstufen",null,null,null,null,null,{"$f":"IF(K3=\"ja\",J12*B4,\"\")","v":""},null,null,"N Gesamt organsich",{"$f":"SUMIF($N$14:$N$28,\"organisch\",$H$14:$H$28)*B4","v":0}]
[null,{"$f":"IF(B2=\"0\",\"\",VLOOKUP(B2,Ackerbauplan,51,0))","v":"00:00:00"},"x TKG ",{"$f":"IF(B2=\"\",\"\",VLOOKUP(B2,Ackerbauplan,53,0))","v":0},"dt/ha ",null,null,"Nmin",null,"P2O5",null,"K2O","MgO",null,null,null,"NH4-N organsich",null,{"$f":"SUMIF($N$14:$N$28,\"organisch\",I14:I28)*B4","v":0}]
[null,"Beize","/Kei.fäh.",{"$f":"IF(B2=\"\",\"\",VLOOKUP(B2,Ackerbauplan,54,0))","v":0},"€/dt",null,null,{"$f":"IF(B2=\"\",\"\",VLOOKUP(B2,Ackerbauplan,17,0))","v":0},null,{"$f":"IF(B2=\"\",\"\",VLOOKUP(B2,Ackerbauplan,30,0))","v":"C"},null,{"$f":"IF(B2=\"\",\"\",VLOOKUP(B2,Ackerbauplan,31,0))","v":"C"},{"$f":"IF(B2=\"\",\"\",VLOOKUP(B2,Ackerbauplan,32,0))","v":"C"},null,null,null,"P2O5 mineralisch",null,null,{"$f":"SUMIF($N$14:$N$28,\"mineralisch\",$J$14:$J$28)*B4","v":0}]
[null,null,"= kg/ha",{"$f":"IF(B2=\"\",\"\",VLOOKUP(B2,Ackerbauplan,55,0))","v":""},"€/ha ",{"$f":"F8*F9","v":0},{"$f":"G8*G9","v":0},"Düngebedarf kg/ha (Blatt Ackerfläche)",null,null,null,null,null,null,"Düngebedarf um 20% reduziert",null,"P2O5 organisch",null,null,null,{"$f":"SUMIF($N$14:$N$28,\"organisch\",$J$14:$J$28)*B4","v":0},null,null,null,null,null,null,{"$f":"IF(K3=\"ja\",\"Noch nicht ausgeschöpfter Stickstoff Düngebedarf aller Flächen\",\"\")","v":""}]
[null,"Saatgutkennnummer",null,null,null,"Summe",{"$f":"F10+G10","v":0},{"$f":"IF(H12=\"\",\"\",IF(K3=\"ja\",H12*0.8,\"\"))","v":""},{"$f":"IF(K3=\"ja\",O10,\"\")","v":""},null,null,null,null,null,null,null,"Sonstige organische Düngemittel",{"$f":"SUMIF($N$14:$N$28,Q11,$H$14:$H$28)*B4","v":0},{"$f":"SUMIF($N$14:$N$28,Q11,$I$14:$I$28)*B4","v":0},{"$f":"SUMIF($N$14:$N$28,Q11,$J$14:$J$28)*B4","v":0},null,null,null,null,null,null,null,{"$f":"IF(K3=\"ja\",'Zus. Anlage 5 DüV'!D43,\"\")","v":""},{"$f":"IF(K3=\"ja\",\"kg N Gesamtfläche\",\"\")","v":""}]
[null,null,null,null,"N Bedarf DÜV kg/ha",null,null,{"$f":"IF(B2=\"\",\"\",VLOOKUP(B2,Ackerbauplan,18,0))","v":"0"},null,{"$f":"IF(B2=\"\",\"\",VLOOKUP(B2,Ackerbauplan,37,0))","v":"0"},null,{"$f":"IF(B2=\"\",\"\",VLOOKUP(B2,Ackerbauplan,38,0))","v":"0"},null,null,null,null,"Bodenhilfsstoffe",{"$f":"SUMIF($N$14:$N$28,Q12,$H$14:$H$28)*B4","v":0},null,{"$f":"SUMIF($N$14:$N$28,Q12,$J$14:$J$28)*B4","v":0},null,"Anrechnung","Anrechnung ","Prüfung NH4","mineral","Kontroll\nSumme"]
[null,"Dünger","Datum","EC","m³o.dt/ha","€/dt","€/ha","Ges.-N","NH4-N","P2O5",null,"K2O","S",null,null,null,"Kultursubstrate",{"$f":"SUMIF($N$14:$N$28,Q13,$H$14:$H$28)*B4","v":0},null,{"$f":"SUMIF($N$14:$N$28,Q13,$J$14:$J$28)*B4","v":0},null,"aktuelles Jahr","170 kg GW"," oder Anlage3","Stickstoff"]
[null,null,null,null,null,{"$f":"IF(B14=\"\",\"\",VLOOKUP(B14,Düngemiteldaten,2,0))","v":""},{"$f":"IF(B14=\"\",\"\",E14*F14)","v":""},{"$f":"IF(B14=\"\",\"\",VLOOKUP(B14,Düngemiteldaten,4,0)*E14)","v":""},{"$f":"IF(B14=\"\",\"\",VLOOKUP(B14,Düngemiteldaten,5,0)*E14)","v":""},{"$f":"IF(B14=\"\",\"\",VLOOKUP(B14,Düngemiteldaten,7,0)*E14)","v":""},null,{"$f":"IF(B14=\"\",\"\",VLOOKUP(B14,Düngemiteldaten,8,0)*E14)","v":""},{"$f":"IF(B14=\"\",\"\",VLOOKUP(B14,Düngemiteldaten,10,0)*E14)","v":""},{"$f":"IF(B14=\"\",\"\",VLOOKUP(B14,Düngemiteldaten,20,0))","v":""},null,null,"Pflanzenhilfsmittel",{"$f":"SUMIF($N$14:$N$28,Q14,$H$14:$H$28)*B4","v":0},null,{"$f":"SUMIF($N$14:$N$28,Q14,$J$14:$J$28)*B4","v":0},null,{"$f":"IF(OR(B14=\"\",N14=\"\"),\"\",IF(N14=\"mineralisch\",\"\",VLOOKUP(B14,Düngemiteldaten,17,0)*VLOOKUP(B14,Düngemiteldaten,4,0)*E14))","v":""},{"$f":"IF(N14=\"organisch\",VLOOKUP(B14,Düngemiteldaten,4,0)*E14*VLOOKUP(B14,Düngemiteldaten,19,0),\"\")","v":""},{"$f":"IF(B14=\"\",\"\",IF(V14<I14,I14,V14))","v":""},{"$f":"IF(B14=\"\",\"\",IF(N14=\"organisch\",0,H14))","v":""},{"$f":"IF(SUM(V14:Y14)=0,\"\",SUM(X14:Y14))","v":""},null,{"$f":"IF(K3=\"ja\",\"Summe Gesamtstickstoff\",\"\")","v":""},null,{"$f":"IF(K3=\"ja\",\"Anteil § 13a Prüfung \n160 kg N/ha Gesamt\n80 kg N/ha mineralisch\",\"\")","v":""}]
[null,null,null,null,null,"",{"$f":"IF(B15=\"\",\"\",E15*F15)","v":""},"","","",null,"","","",null,null,"Abfälle zur Beseitigung (§ 28 Absatz 2 odeS 3 KSWG)",{"$f":"SUMIF($N$14:$N$28,Q15,$H$14:$H$28)*B4","v":0},null,{"$f":"SUMIF($N$14:$N$28,Q15,$J$14:$J$28)*B4","v":0},null,"","",{"$f":"IF(B15=\"\",\"\",IF(V15<I15,I15,V15))","v":""},{"$f":"IF(B15=\"\",\"\",IF(N15=\"organisch\",0,H15))","v":""},{"$f":"IF(SUM(V15:Y15)=0,\"\",SUM(X15:Y15))","v":""},null,{"$f":"IF(L4=\"\",\"\",SUMIF($N$14:$N$28,\"mineralisch\",$H$14:$H$28))","v":""},{"$f":"IF(K3=\"ja\",\"mineralisch N kg/ha\",\"\")","v":""}]
[null,null,null,null,null,"","","","","",null,"","","",null,null,null,null,null,null,null,"","","","","",null,{"$f":"IF(L4=\"\",\"\",SUMIF($N$14:$N$28,\"organisch\",$H$14:$H$28)+SUMIF($N$14:$N$28,Q11,$H$14:$H$28))","v":""},{"$f":"IF(K3=\"ja\",\"organisch N kg/ha\",\"\")","v":""}]
[null,null,null,null,null,"","","","","",null,"","","",null,null,null,null,null,null,null,{"$f":"IF(OR(B17=\"\",N17=\"\"),\"\",IF(N17=\"mineralisch\",\"\",VLOOKUP(B17,Düngemiteldaten,17,0)*VLOOKUP(B17,Düngemiteldaten,4,0)*E17))","v":""},"","","","",null,{"$f":"IF(K3=\"ja\",(AB16+AB15),\"\")","v":""},{"$f":"IF(K3=\"ja\",\"Gesamt kg N/ha\",\"\")","v":""}]
[null,null,null,null,null,"","","","","",null,"","","",null,null,"Nährstoffherkunft auf gefährdeten Flächen §13",null,null,null,null,"","","","",""]
[null,null,null,null,null,"","","","","",null,"","","",null,null,null,"Gesamt N","NH4-N","P2O5 mineral.","P2O5 organisch","","","","",""]
[null,null,null,null,null,"","","","","",null,"","","",null,null,"N Gesamt minerl.",{"$f":"IF(K3=\"ja\",SUMIF($N$14:$N$28,\"mineralisch\",$H$14:$H$28),0)*B4","v":0},null,null,null,"","","","",""]
[null,null,null,null,null,"","","","","",null,"","","",null,null,"NH4-N minerlisch",null,{"$f":"IF(K3=\"ja\",SUMIF($N$14:$N$28,\"mineralisch\",$I$14:$I$28),0)*B4","v":0},null,null,"","","","",""]
[null,null,null,null,null,"","","","","",null,"","","",null,null,"N Gesamt organsich",{"$f":"IF(K3=\"ja\",SUMIF($N$14:$N$28,\"organisch\",$H$14:$H$28),0)*B4","v":0},null,null,null,"","","","",""]
[null,null,null,null,null,"","","","","",null,"","","",null,null,"NH4-N organsich",null,{"$f":"IF(K3=\"ja\",SUMIF($N$14:$N$28,\"organisch\",$I$14:$I$28),0)*B4","v":0},null,null,"","","","",""]
[null,null,null,null,null,"","","","","",null,"","","",null,null,"P2O5 mineralisch",null,null,{"$f":"IF(K3=\"ja\",SUMIF($N$14:$N$28,\"mineralisch\",$J$14:$J$28),0)*B4","v":0},null,"","","","",""]
[null,null,null,null,null,"","","","","",null,"","","",null,null,"P2O5 organisch",null,null,null,{"$f":"IF(K3=\"ja\",SUMIF($N$14:$N$28,\"organisch\",$J$14:$J$28),0)*B4","v":0},"","","","",""]
[null,null,null,null,null,"","","","","",null,"","","",null,null,"Sonstige organische Düngemittel",{"$f":"IF(K3=\"ja\",SUMIF($N$14:$N$28,Q26,$H$14:$H$28),0)*B4","v":0},{"$f":"IF(K3=\"ja\",SUMIF($N$14:$N$28,Q26,$I$14:$I$28),0)*B4","v":0},{"$f":"IF(K3=\"ja\",SUMIF($N$14:$N$28,Q26,$J$14:$J$28),0)*B4","v":0},null,"","","","",""]
[null,null,null,null,null,"","","","","",null,"","","",null,null,"Bodenhilfsstoffe",{"$f":"IF(K3=\"ja\",SUMIF($N$14:$N$28,Q27,$H$14:$H$28),0)*B4","v":0},null,{"$f":"IF(K3=\"ja\",SUMIF($N$14:$N$28,Q27,$J$14:$J$28),0)*B4","v":0},null,"","","","",""]
[null,null,null,null,null,"","","","","",null,"","","",null,null,"Kultursubstrate",{"$f":"IF(K3=\"ja\",SUMIF($N$14:$N$28,Q28,$H$14:$H$28),0)*B4","v":0},null,{"$f":"IF(K3=\"ja\",SUMIF($N$14:$N$28,Q28,$J$14:$J$28),0)*B4","v":0},null,"","","","",""]
[null,"anrechenbarer N aus org.Dgg. + min. Dgg. kg N/ha",null,null,null,null,null,{"$f":"X29+Y29","v":0},null,{"$f":"SUM(J14:J28)","v":0},null,{"$f":"SUM(L14:L28)","v":0},{"$f":"SUM(M14:M28)","v":0},null,null,null,"Pflanzenhilfsmittel",{"$f":"IF(K3=\"ja\",SUMIF($N$14:$N$28,Q29,$H$14:$H$28),0)*B4","v":0},null,{"$f":"IF(K3=\"ja\",SUMIF($N$14:$N$28,Q29,$J$14:$J$28),0)*B4","v":0},null,{"$f":"SUM(V14:V28)","v":0},{"$f":"SUM(W14:W28)","v":0},{"$f":"SUM(X14:X28)","v":0},{"$f":"SUM(Y14:Y28)","v":0},"kg/ha"]
[null,{"$f":"IF(K3=\"0\",O31,O30)","v":"Bilanz (anrechenbarer Dgg.- reduzierter Düngebedarf) kg N/ha"},null,null,null,null,null,{"$f":"IF(H12=\"\",0,IF(OR(K3=0,K3=\"nein\"),H29-H12,H29-H11))","v":0},null,{"$f":"IF(J12=\"\",\"\",J29-J12)","v":0},null,{"$f":"IF(L12=\"\",\"\",L29-L12)","v":0},{"$f":"IF(M12=\"\",\"\",M29-M12)","v":""},null,"Bilanz (anrechenbarer Dgg.- reduzierter Düngebedarf) kg N/ha",null,"Abfälle zur Beseitigung (§ 28 Absatz 2 odeS 3 KSWG)",{"$f":"IF(K3=\"ja\",SUMIF($N$14:$N$28,Q30,$H$14:$H$28),0)*B4","v":0},null,{"$f":"IF(K3=\"ja\",SUMIF($N$14:$N$28,Q30,$J$14:$J$28),0)*B4","v":0},null,{"$f":"V29*B4","v":0},{"$f":"W29*B4","v":0},{"$f":"X29*B4","v":0},{"$f":"Y29*B4","v":0},"kg/Schlag",null,{"$f":"IF(H30>0,\"Stickstoffmenge überschreitet den Düngebedarf\",\"\")","v":""}]
["Pflanzenschutzmittel",null,"Datum","EC","E./ha","€/E.","€/ha","Anwender",null,null,"Bemerkungen",null,null,null,"Bilanz (anrechenbarer Dgg.- Düngebedarf) kg N/ha"]
[null,null,null,null,null,{"$f":"IF($B32=\"\",\"\",VLOOKUP($B32,PSMMittel,2,0))","v":""},{"$f":"IF(B32=\"\",\"\",E32*F32)","v":""}]
[null,null,null,null,null,"",{"$f":"IF(B33=\"\",\"\",E33*F33)","v":""},null,null,null,null,null,null,null,null,null,"Stickstoffherkunft nicht gefährdetes Gebiet Gesamtfläche"]
[null,null,null,null,null,"","",null,null,null,null,null,null,null,null,null,null,"Gesamt N","NH4-N","P2O5 mineral.","P2O5 organisch",null,"N Fixierung kg N/ha"]
[null,null,null,null,null,"","",null,null,null,null,null,null,null,null,null,"N Gesamt minerl.",{"$f":"R5-R20","v":0},null,null,null,null,{"$f":"IF(E3=0,\"\",VLOOKUP(E3,AckerbauKulturen,26,0)*G56*B4)","v":""}]
[null,null,null,null,null,"","",null,null,null,null,null,null,null,null,null,"NH4-N minerlisch",null,{"$f":"S6-S21","v":0}]
[null,null,null,null,null,"","",null,null,null,null,null,null,null,null,null,"N Gesamt organsich",{"$f":"R7-R22","v":0}]
[null,null,null,null,null,"","",null,null,null,null,null,null,null,null,null,"NH4-N organsich",null,{"$f":"S8-S23","v":0}]
[null,null,null,null,null,"","",null,null,null,null,null,null,null,null,null,"P2O5 mineralisch",null,null,{"$f":"T9-T24","v":0}]
[null,null,null,null,null,"","",null,null,null,null,null,null,null,null,null,"P2O5 organisch",null,null,null,{"$f":"U10-U25","v":0}]
[null,null,null,null,null,"","",null,null,null,null,null,null,null,null,null,"Sonstige organische Düngemittel",{"$f":"R11-R26","v":0},{"$f":"S11-S26","v":0},{"$f":"T11-T26","v":0}]
[null,null,null,null,null,"","",null,null,null,null,null,null,null,null,null,"Bodenhilfsstoffe",{"$f":"R12-R27","v":0},null,{"$f":"T12-T27","v":0}]
[null,null,null,null,null,"","",null,null,null,null,null,null,null,null,null,"Kultursubstrate",{"$f":"R13-R28","v":0},null,{"$f":"T13-T28","v":0}]
[null,null,null,null,null,"","",null,null,null,null,null,null,null,null,null,"Pflanzenhilfsmittel",{"$f":"R14-R29","v":0},null,{"$f":"T14-T29","v":0}]
[null,null,null,null,null,"","",null,null,null,null,null,null,null,null,null,"Abfälle zur Beseitigung (§ 28 Absatz 2 odeS 3 KSWG)",{"$f":"R15-R30","v":0},null,{"$f":"T15-T30","v":0}]
[null,null,null,null,null,"",""]
[null,null,null,null,null,"",""]
[null,null,null,null,null,"",""]
[null,null,null,null,null,"",""]
[null,null,null,null,null,"",""]
[null,null,null,null,null,"",""]
[null,null,null,null,null,"",""]
[null,null,null,null,null,"",""]
[null,"Summe",null,null,null,null,{"$f":"SUM(G32:G53)","v":0}]
[]
[null,"Erntedatum:",null,{"$f":"IF(VLOOKUP($B$2,Ackerbauplan,58,0)=\"\",\"\",VLOOKUP($B$2,Ackerbauplan,58,0))","v":""},null,"dt/ha",{"$f":"VLOOKUP($B$2,Ackerbauplan,60,0)","v":0},null,null,"€/dt",null,{"$f":"VLOOKUP($B$2,Ackerbauplan,59,0)","v":0}]
[null,"   Hauptleistung ",null,{"$f":"IF(VLOOKUP($B$2,Ackerbauplan,61,0)=\"\",\"\",VLOOKUP($B$2,Ackerbauplan,61,0))","v":""},null,"Saatgut ",null,{"$f":"G11","v":0},"€/ha","Marktleistung -"]
[null,null,"+ Nebenleistung ",{"$f":"IF($B$2=\"\",\"\",VLOOKUP($B$2,Anbauplan,62,0))","v":0},null,"Dünger ",null,{"$f":"SUM(G14:G28)","v":0},"€/ha","Saatgut, Dünger, PSM"]
[null,null,"= Marktleistung ",{"$f":"IF(D57=\"\",\"\",D58+D57)","v":""},null,"Pflanzenschutz ",null,{"$f":"G54","v":0},"€/ha",{"$f":"IF(D59=\"\",\"\",D59-H57-H58-H59)","v":""},null,null,"€/ha"]
[null,{"$f":"IF($B$2=\"\",\"\",VLOOKUP($B$2,Anbauplan,2,0))","v":0}]
[null,"Bearbeitung","Maschine 1",null,"Maschine 2",null,"Maschine 3",null,"Datum",null,"Bemerkung"]

{"sheet":"A40","index":49,"n_rows":61,"n_cols":30,"rows_kept":61,"cut":false,"hidden":true,"merged":[[13,27,13,28],[13,29,16,30],[6,7,6,12],[7,7,7,8],[8,7,8,8],[7,9,7,10],[8,9,8,10],[10,8,10,12],[73,2,73,3],[73,4,73,5],[73,6,73,7],[73,8,73,9],[73,10,73,12],[69,2,69,3],[69,4,69,5],[69,6,69,7],[69,8,69,9],[69,10,69,12],[70,2,70,3],[70,4,70,5],[70,6,70,7],[70,8,70,9],[70,10,70,12],[67,2,67,3],[67,4,67,5],[67,6,67,7],[74,2,74,3],[74,4,74,5],[74,6,74,7],[74,8,74,9],[74,10,74,12],[71,2,71,3],[71,4,71,5],[71,6,71,7],[71,8,71,9],[71,10,71,12],[72,2,72,3],[72,4,72,5],[72,6,72,7],[72,8,72,9],[72,10,72,12],[67,8,67,9],[67,10,67,12],[68,2,68,3],[68,4,68,5],[68,6,68,7],[68,8,68,9],[68,10,68,12],[65,2,65,3],[65,4,65,5],[65,6,65,7],[65,8,65,9],[65,10,65,12],[66,2,66,3],[66,4,66,5],[66,6,66,7],[66,8,66,9],[66,10,66,12],[63,2,63,3],[63,4,63,5],[63,6,63,7],[63,8,63,9],[63,10,63,12],[64,2,64,3],[64,4,64,5],[64,6,64,7],[64,8,64,9],[64,10,64,12],[61,2,61,3],[61,4,61,5],[61,6,61,7],[61,8,61,9],[61,10,61,12],[62,2,62,3],[62,4,62,5],[62,6,62,7],[62,8,62,9],[62,10,62,12],[58,3,58,4],[58,5,58,6],[58,9,58,11],[59,1,59,12],[60,2,60,3],[60,4,60,5],[60,6,60,7],[60,8,60,9],[60,10,60,12],[56,1,56,2],[56,3,56,4],[56,5,56,6],[56,9,56,12],[57,3,57,4],[57,5,57,6],[57,9,57,12],[52,7,52,9],[52,10,52,12],[53,1,53,5],[53,7,53,12],[54,1,54,6],[55,1,55,2],[55,3,55,4],[55,6,55,8],[55,9,55,10],[55,11,55,12],[49,7,49,9],[49,10,49,12],[50,7,50,9],[50,10,50,12],[51,7,51,9],[51,10,51,12],[46,7,46,9],[46,10,46,12],[47,7,47,9],[47,10,47,12],[48,7,48,9],[48,10,48,12],[43,7,43,9],[43,10,43,12],[44,7,44,9],[44,10,44,12],[45,7,45,9],[45,10,45,12],[40,7,40,9],[40,10,40,12],[41,7,41,9],[41,10,41,12],[42,7,42,9],[42,10,42,12],[37,7,37,9],[37,10,37,12],[38,7,38,9],[38,10,38,12],[39,7,39,9],[39,10,39,12],[34,7,34,9],[34,10,34,12],[35,7,35,9],[35,10,35,12],[36,7,36,9],[36,10,36,12],[31,7,31,9],[31,10,31,12],[32,7,32,9],[32,10,32,12],[32,16,32,20],[33,7,33,9],[33,10,33,12],[29,1,29,6],[29,7,29,8],[29,9,29,10],[30,0,30,1],[30,7,30,9],[30,10,30,12],[23,9,23,10],[24,9,24,10],[25,9,25,10],[26,9,26,10],[27,9,27,10],[28,1,28,6],[28,7,28,8],[28,9,28,10],[17,16,17,20],[18,9,18,10],[19,9,19,10],[20,9,20,10],[21,9,21,10],[22,9,22,10],[14,9,14,10],[15,9,15,10],[16,9,16,10],[17,9,17,10],[10,1,10,2],[9,7,9,12],[11,1,11,2],[11,4,11,6],[11,7,11,8],[11,9,11,10],[11,25,12,25],[33,22,33,23],[34,22,34,23],[0,1,0,12],[1,2,1,3],[1,4,1,6],[1,7,1,9],[1,10,1,12],[2,2,2,3],[2,4,2,6],[2,7,2,9],[2,10,2,12],[5,7,5,10],[5,11,5,12],[3,2,3,3],[3,4,3,6],[3,7,3,10],[3,11,3,12],[4,2,4,3],[4,4,4,6],[4,7,4,9],[4,10,4,12],[12,9,12,10],[13,9,13,10]]}
[null,"Ackerland"]
[null,40,"Name:",null,{"$f":"IF(B2=\"\",\"\",VLOOKUP(B2,Anbauplan,2,0))","v":0},null,null,"Jahr:",null,null,{"$f":"IF(Einführung!I8=\"\",\"\",Einführung!I8)","v":""},null,null,{"$f":"IF(OR(B4=\"\",H12=\"\"),\"\",H12*B4)","v":0},"DB kg * Fläche"]
[null,"Hektar ","Hauptfrucht ",null,{"$f":"IF(B2=\"\",\"\",VLOOKUP(B2,Ackerbauplan,4,0))","v":0},null,null,"Nitratkulisse",null,null,{"$f":"IF(B2=\"\",\"\",VLOOKUP(B2,Ackerbauplan,20,0))","v":0},null,null,{"$f":"L4","v":""},"kg/ha org. Dünger für Kontrollgrenze"]
[null,{"$f":"IF(B2=\"\",\"\",VLOOKUP(B2,Ackerbauplan,3,0))","v":0},"Vorfrucht",null,{"$f":"IF(B2=\"\",\"\",VLOOKUP(B2,Ackerbauplan,9,0))","v":"Ackerbohnen Korn"},null,null,"Wirtschaftsdünger zur Berechung\ndes 130 kg N/ha Anteils in kg/ha",null,null,null,{"$f":"IF(K3=\"ja\",W29,\"\")","v":""},null,{"$f":"IF(N3=\"\",\"\",N3*B4)","v":""},"kg Gesamtschlag org Dünger für 170 Kontrollgrenze",null,null,"Gesamt N","NH4-N","P2O5 mineral.","P2O5 organisch"]
[null,"Sorte","VorVorfrucht",null,null,null,null,"Phosphatkulisse",null,null,{"$f":"IF(B2=\"\",\"\",VLOOKUP(B2,Ackerbauplan,21,0))","v":0},null,null,{"$f":"IF(H12=\"\",\"\",IF(K3=\"ja\",N2*0.8,\"\"))","v":""},"Nitrat belastetes Gebiet Düngebedarf Gesamtschlag kg N/ha",null,"N Gesamt minerl.",{"$f":"SUMIF($N$14:$N$28,\"mineralisch\",$H$14:$H$28)*B4","v":0}]
[null,{"$f":"IF(B2=\"\",\"\",VLOOKUP(B2,Ackerbauplan,8,0))","v":0},null,null,null,null,null,"sonstige Auflagen",null,null,null,null,null,{"$f":"IF(K3=\"ja\",X30+Y30,\"\")","v":""},"org +min .anrechenbare N Menge Gesamtschlag  kg N/ha",null,"NH4-N minerlisch",null,{"$f":"SUMIF($N$14:$N$28,\"mineralisch\",$I$14:$I$28)*B4","v":0}]
[null,"Aussaatdatum","Kö./m² ",{"$f":"IF(B2=\"\",\"\",VLOOKUP(B2,Ackerbauplan,52,0))","v":0},null,"Eigen","Zukauf","Versorgungsstufen",null,null,null,null,null,{"$f":"IF(K3=\"ja\",J12*B4,\"\")","v":""},null,null,"N Gesamt organsich",{"$f":"SUMIF($N$14:$N$28,\"organisch\",$H$14:$H$28)*B4","v":0}]
[null,{"$f":"IF(B2=\"0\",\"\",VLOOKUP(B2,Ackerbauplan,51,0))","v":"00:00:00"},"x TKG ",{"$f":"IF(B2=\"\",\"\",VLOOKUP(B2,Ackerbauplan,53,0))","v":0},"dt/ha ",null,null,"Nmin",null,"P2O5",null,"K2O","MgO",null,null,null,"NH4-N organsich",null,{"$f":"SUMIF($N$14:$N$28,\"organisch\",I14:I28)*B4","v":0}]
[null,"Beize","/Kei.fäh.",{"$f":"IF(B2=\"\",\"\",VLOOKUP(B2,Ackerbauplan,54,0))","v":0},"€/dt",null,null,{"$f":"IF(B2=\"\",\"\",VLOOKUP(B2,Ackerbauplan,17,0))","v":0},null,{"$f":"IF(B2=\"\",\"\",VLOOKUP(B2,Ackerbauplan,30,0))","v":"C"},null,{"$f":"IF(B2=\"\",\"\",VLOOKUP(B2,Ackerbauplan,31,0))","v":"C"},{"$f":"IF(B2=\"\",\"\",VLOOKUP(B2,Ackerbauplan,32,0))","v":"C"},null,null,null,"P2O5 mineralisch",null,null,{"$f":"SUMIF($N$14:$N$28,\"mineralisch\",$J$14:$J$28)*B4","v":0}]
[null,null,"= kg/ha",{"$f":"IF(B2=\"\",\"\",VLOOKUP(B2,Ackerbauplan,55,0))","v":""},"€/ha ",{"$f":"F8*F9","v":0},{"$f":"G8*G9","v":0},"Düngebedarf kg/ha (Blatt Ackerfläche)",null,null,null,null,null,null,"Düngebedarf um 20% reduziert",null,"P2O5 organisch",null,null,null,{"$f":"SUMIF($N$14:$N$28,\"organisch\",$J$14:$J$28)*B4","v":0},null,null,null,null,null,null,{"$f":"IF(K3=\"ja\",\"Noch nicht ausgeschöpfter Stickstoff Düngebedarf aller Flächen\",\"\")","v":""}]
[null,"Saatgutkennnummer",null,null,null,"Summe",{"$f":"F10+G10","v":0},{"$f":"IF(H12=\"\",\"\",IF(K3=\"ja\",H12*0.8,\"\"))","v":""},{"$f":"IF(K3=\"ja\",O10,\"\")","v":""},null,null,null,null,null,null,null,"Sonstige organische Düngemittel",{"$f":"SUMIF($N$14:$N$28,Q11,$H$14:$H$28)*B4","v":0},{"$f":"SUMIF($N$14:$N$28,Q11,$I$14:$I$28)*B4","v":0},{"$f":"SUMIF($N$14:$N$28,Q11,$J$14:$J$28)*B4","v":0},null,null,null,null,null,null,null,{"$f":"IF(K3=\"ja\",'Zus. Anlage 5 DüV'!D43,\"\")","v":""},{"$f":"IF(K3=\"ja\",\"kg N Gesamtfläche\",\"\")","v":""}]
[null,null,null,null,"N Bedarf DÜV kg/ha",null,null,{"$f":"IF(B2=\"\",\"\",VLOOKUP(B2,Ackerbauplan,18,0))","v":"0"},null,{"$f":"IF(B2=\"\",\"\",VLOOKUP(B2,Ackerbauplan,37,0))","v":"0"},null,{"$f":"IF(B2=\"\",\"\",VLOOKUP(B2,Ackerbauplan,38,0))","v":"0"},null,null,null,null,"Bodenhilfsstoffe",{"$f":"SUMIF($N$14:$N$28,Q12,$H$14:$H$28)*B4","v":0},null,{"$f":"SUMIF($N$14:$N$28,Q12,$J$14:$J$28)*B4","v":0},null,"Anrechnung","Anrechnung ","Prüfung NH4","mineral","Kontroll\nSumme"]
[null,"Dünger","Datum","EC","m³o.dt/ha","€/dt","€/ha","Ges.-N","NH4-N","P2O5",null,"K2O","S",null,null,null,"Kultursubstrate",{"$f":"SUMIF($N$14:$N$28,Q13,$H$14:$H$28)*B4","v":0},null,{"$f":"SUMIF($N$14:$N$28,Q13,$J$14:$J$28)*B4","v":0},null,"aktuelles Jahr","170 kg GW"," oder Anlage3","Stickstoff"]
[null,null,null,null,null,{"$f":"IF(B14=\"\",\"\",VLOOKUP(B14,Düngemiteldaten,2,0))","v":""},{"$f":"IF(B14=\"\",\"\",E14*F14)","v":""},{"$f":"IF(B14=\"\",\"\",VLOOKUP(B14,Düngemiteldaten,4,0)*E14)","v":""},{"$f":"IF(B14=\"\",\"\",VLOOKUP(B14,Düngemiteldaten,5,0)*E14)","v":""},{"$f":"IF(B14=\"\",\"\",VLOOKUP(B14,Düngemiteldaten,7,0)*E14)","v":""},null,{"$f":"IF(B14=\"\",\"\",VLOOKUP(B14,Düngemiteldaten,8,0)*E14)","v":""},{"$f":"IF(B14=\"\",\"\",VLOOKUP(B14,Düngemiteldaten,10,0)*E14)","v":""},{"$f":"IF(B14=\"\",\"\",VLOOKUP(B14,Düngemiteldaten,20,0))","v":""},null,null,"Pflanzenhilfsmittel",{"$f":"SUMIF($N$14:$N$28,Q14,$H$14:$H$28)*B4","v":0},null,{"$f":"SUMIF($N$14:$N$28,Q14,$J$14:$J$28)*B4","v":0},null,{"$f":"IF(OR(B14=\"\",N14=\"\"),\"\",IF(N14=\"mineralisch\",\"\",VLOOKUP(B14,Düngemiteldaten,17,0)*VLOOKUP(B14,Düngemiteldaten,4,0)*E14))","v":""},{"$f":"IF(N14=\"organisch\",VLOOKUP(B14,Düngemiteldaten,4,0)*E14*VLOOKUP(B14,Düngemiteldaten,19,0),\"\")","v":""},{"$f":"IF(B14=\"\",\"\",IF(V14<I14,I14,V14))","v":""},{"$f":"IF(B14=\"\",\"\",IF(N14=\"organisch\",0,H14))","v":""},{"$f":"IF(SUM(V14:Y14)=0,\"\",SUM(X14:Y14))","v":""},null,{"$f":"IF(K3=\"ja\",\"Summe Gesamtstickstoff\",\"\")","v":""},null,{"$f":"IF(K3=\"ja\",\"Anteil § 13a Prüfung \n160 kg N/ha Gesamt\n80 kg N/ha mineralisch\",\"\")","v":""}]
[null,null,null,null,null,"",{"$f":"IF(B15=\"\",\"\",E15*F15)","v":""},"","","",null,"","","",null,null,"Abfälle zur Beseitigung (§ 28 Absatz 2 odeS 3 KSWG)",{"$f":"SUMIF($N$14:$N$28,Q15,$H$14:$H$28)*B4","v":0},null,{"$f":"SUMIF($N$14:$N$28,Q15,$J$14:$J$28)*B4","v":0},null,"","",{"$f":"IF(B15=\"\",\"\",IF(V15<I15,I15,V15))","v":""},{"$f":"IF(B15=\"\",\"\",IF(N15=\"organisch\",0,H15))","v":""},{"$f":"IF(SUM(V15:Y15)=0,\"\",SUM(X15:Y15))","v":""},null,{"$f":"IF(L4=\"\",\"\",SUMIF($N$14:$N$28,\"mineralisch\",$H$14:$H$28))","v":""},{"$f":"IF(K3=\"ja\",\"mineralisch N kg/ha\",\"\")","v":""}]
[null,null,null,null,null,"","","","","",null,"","","",null,null,null,null,null,null,null,"","","","","",null,{"$f":"IF(L4=\"\",\"\",SUMIF($N$14:$N$28,\"organisch\",$H$14:$H$28)+SUMIF($N$14:$N$28,Q11,$H$14:$H$28))","v":""},{"$f":"IF(K3=\"ja\",\"organisch N kg/ha\",\"\")","v":""}]
[null,null,null,null,null,"","","","","",null,"","","",null,null,null,null,null,null,null,{"$f":"IF(OR(B17=\"\",N17=\"\"),\"\",IF(N17=\"mineralisch\",\"\",VLOOKUP(B17,Düngemiteldaten,17,0)*VLOOKUP(B17,Düngemiteldaten,4,0)*E17))","v":""},"","","","",null,{"$f":"IF(K3=\"ja\",(AB16+AB15),\"\")","v":""},{"$f":"IF(K3=\"ja\",\"Gesamt kg N/ha\",\"\")","v":""}]
[null,null,null,null,null,"","","","","",null,"","","",null,null,"Nährstoffherkunft auf gefährdeten Flächen §13",null,null,null,null,"","","","",""]
[null,null,null,null,null,"","","","","",null,"","","",null,null,null,"Gesamt N","NH4-N","P2O5 mineral.","P2O5 organisch","","","","",""]
[null,null,null,null,null,"","","","","",null,"","","",null,null,"N Gesamt minerl.",{"$f":"IF(K3=\"ja\",SUMIF($N$14:$N$28,\"mineralisch\",$H$14:$H$28),0)*B4","v":0},null,null,null,"","","","",""]
[null,null,null,null,null,"","","","","",null,"","","",null,null,"NH4-N minerlisch",null,{"$f":"IF(K3=\"ja\",SUMIF($N$14:$N$28,\"mineralisch\",$I$14:$I$28),0)*B4","v":0},null,null,"","","","",""]
[null,null,null,null,null,"","","","","",null,"","","",null,null,"N Gesamt organsich",{"$f":"IF(K3=\"ja\",SUMIF($N$14:$N$28,\"organisch\",$H$14:$H$28),0)*B4","v":0},null,null,null,"","","","",""]
[null,null,null,null,null,"","","","","",null,"","","",null,null,"NH4-N organsich",null,{"$f":"IF(K3=\"ja\",SUMIF($N$14:$N$28,\"organisch\",$I$14:$I$28),0)*B4","v":0},null,null,"","","","",""]
[null,null,null,null,null,"","","","","",null,"","","",null,null,"P2O5 mineralisch",null,null,{"$f":"IF(K3=\"ja\",SUMIF($N$14:$N$28,\"mineralisch\",$J$14:$J$28),0)*B4","v":0},null,"","","","",""]
[null,null,null,null,null,"","","","","",null,"","","",null,null,"P2O5 organisch",null,null,null,{"$f":"IF(K3=\"ja\",SUMIF($N$14:$N$28,\"organisch\",$J$14:$J$28),0)*B4","v":0},"","","","",""]
[null,null,null,null,null,"","","","","",null,"","","",null,null,"Sonstige organische Düngemittel",{"$f":"IF(K3=\"ja\",SUMIF($N$14:$N$28,Q26,$H$14:$H$28),0)*B4","v":0},{"$f":"IF(K3=\"ja\",SUMIF($N$14:$N$28,Q26,$I$14:$I$28),0)*B4","v":0},{"$f":"IF(K3=\"ja\",SUMIF($N$14:$N$28,Q26,$J$14:$J$28),0)*B4","v":0},null,"","","","",""]
[null,null,null,null,null,"","","","","",null,"","","",null,null,"Bodenhilfsstoffe",{"$f":"IF(K3=\"ja\",SUMIF($N$14:$N$28,Q27,$H$14:$H$28),0)*B4","v":0},null,{"$f":"IF(K3=\"ja\",SUMIF($N$14:$N$28,Q27,$J$14:$J$28),0)*B4","v":0},null,"","","","",""]
[null,null,null,null,null,"","","","","",null,"","","",null,null,"Kultursubstrate",{"$f":"IF(K3=\"ja\",SUMIF($N$14:$N$28,Q28,$H$14:$H$28),0)*B4","v":0},null,{"$f":"IF(K3=\"ja\",SUMIF($N$14:$N$28,Q28,$J$14:$J$28),0)*B4","v":0},null,"","","","",""]
[null,"anrechenbarer N aus org.Dgg. + min. Dgg. kg N/ha",null,null,null,null,null,{"$f":"X29+Y29","v":0},null,{"$f":"SUM(J14:J28)","v":0},null,{"$f":"SUM(L14:L28)","v":0},{"$f":"SUM(M14:M28)","v":0},null,null,null,"Pflanzenhilfsmittel",{"$f":"IF(K3=\"ja\",SUMIF($N$14:$N$28,Q29,$H$14:$H$28),0)*B4","v":0},null,{"$f":"IF(K3=\"ja\",SUMIF($N$14:$N$28,Q29,$J$14:$J$28),0)*B4","v":0},null,{"$f":"SUM(V14:V28)","v":0},{"$f":"SUM(W14:W28)","v":0},{"$f":"SUM(X14:X28)","v":0},{"$f":"SUM(Y14:Y28)","v":0},"kg/ha"]
[null,{"$f":"IF(K3=\"0\",O31,O30)","v":"Bilanz (anrechenbarer Dgg.- reduzierter Düngebedarf) kg N/ha"},null,null,null,null,null,{"$f":"IF(H12=\"\",0,IF(OR(K3=0,K3=\"nein\"),H29-H12,H29-H11))","v":0},null,{"$f":"IF(J12=\"\",\"\",J29-J12)","v":0},null,{"$f":"IF(L12=\"\",\"\",L29-L12)","v":0},{"$f":"IF(M12=\"\",\"\",M29-M12)","v":""},null,"Bilanz (anrechenbarer Dgg.- reduzierter Düngebedarf) kg N/ha",null,"Abfälle zur Beseitigung (§ 28 Absatz 2 odeS 3 KSWG)",{"$f":"IF(K3=\"ja\",SUMIF($N$14:$N$28,Q30,$H$14:$H$28),0)*B4","v":0},null,{"$f":"IF(K3=\"ja\",SUMIF($N$14:$N$28,Q30,$J$14:$J$28),0)*B4","v":0},null,{"$f":"V29*B4","v":0},{"$f":"W29*B4","v":0},{"$f":"X29*B4","v":0},{"$f":"Y29*B4","v":0},"kg/Schlag",null,{"$f":"IF(H30>0,\"Stickstoffmenge überschreitet den Düngebedarf\",\"\")","v":""}]
["Pflanzenschutzmittel",null,"Datum","EC","E./ha","€/E.","€/ha","Anwender",null,null,"Bemerkungen",null,null,null,"Bilanz (anrechenbarer Dgg.- Düngebedarf) kg N/ha"]
[null,null,null,null,null,{"$f":"IF($B32=\"\",\"\",VLOOKUP($B32,PSMMittel,2,0))","v":""},{"$f":"IF(B32=\"\",\"\",E32*F32)","v":""}]
[null,null,null,null,null,"",{"$f":"IF(B33=\"\",\"\",E33*F33)","v":""},null,null,null,null,null,null,null,null,null,"Stickstoffherkunft nicht gefährdetes Gebiet Gesamtfläche"]
[null,null,null,null,null,"","",null,null,null,null,null,null,null,null,null,null,"Gesamt N","NH4-N","P2O5 mineral.","P2O5 organisch",null,"N Fixierung kg N/ha"]
[null,null,null,null,null,"","",null,null,null,null,null,null,null,null,null,"N Gesamt minerl.",{"$f":"R5-R20","v":0},null,null,null,null,{"$f":"IF(E3=0,\"\",VLOOKUP(E3,AckerbauKulturen,26,0)*G56*B4)","v":""}]
[null,null,null,null,null,"","",null,null,null,null,null,null,null,null,null,"NH4-N minerlisch",null,{"$f":"S6-S21","v":0}]
[null,null,null,null,null,"","",null,null,null,null,null,null,null,null,null,"N Gesamt organsich",{"$f":"R7-R22","v":0}]
[null,null,null,null,null,"","",null,null,null,null,null,null,null,null,null,"NH4-N organsich",null,{"$f":"S8-S23","v":0}]
[null,null,null,null,null,"","",null,null,null,null,null,null,null,null,null,"P2O5 mineralisch",null,null,{"$f":"T9-T24","v":0}]
[null,null,null,null,null,"","",null,null,null,null,null,null,null,null,null,"P2O5 organisch",null,null,null,{"$f":"U10-U25","v":0}]
[null,null,null,null,null,"","",null,null,null,null,null,null,null,null,null,"Sonstige organische Düngemittel",{"$f":"R11-R26","v":0},{"$f":"S11-S26","v":0},{"$f":"T11-T26","v":0}]
[null,null,null,null,null,"","",null,null,null,null,null,null,null,null,null,"Bodenhilfsstoffe",{"$f":"R12-R27","v":0},null,{"$f":"T12-T27","v":0}]
[null,null,null,null,null,"","",null,null,null,null,null,null,null,null,null,"Kultursubstrate",{"$f":"R13-R28","v":0},null,{"$f":"T13-T28","v":0}]
[null,null,null,null,null,"","",null,null,null,null,null,null,null,null,null,"Pflanzenhilfsmittel",{"$f":"R14-R29","v":0},null,{"$f":"T14-T29","v":0}]
[null,null,null,null,null,"","",null,null,null,null,null,null,null,null,null,"Abfälle zur Beseitigung (§ 28 Absatz 2 odeS 3 KSWG)",{"$f":"R15-R30","v":0},null,{"$f":"T15-T30","v":0}]
[null,null,null,null,null,"",""]
[null,null,null,null,null,"",""]
[null,null,null,null,null,"",""]
[null,null,null,null,null,"",""]
[null,null,null,null,null,"",""]
[null,null,null,null,null,"",""]
[null,null,null,null,null,"",""]
[null,null,null,null,null,"",""]
[null,"Summe",null,null,null,null,{"$f":"SUM(G32:G53)","v":0}]
[]
[null,"Erntedatum:",null,{"$f":"IF(VLOOKUP($B$2,Ackerbauplan,58,0)=\"\",\"\",VLOOKUP($B$2,Ackerbauplan,58,0))","v":""},null,"dt/ha",{"$f":"VLOOKUP($B$2,Ackerbauplan,60,0)","v":0},null,null,"€/dt",null,{"$f":"VLOOKUP($B$2,Ackerbauplan,59,0)","v":0}]
[null,"   Hauptleistung ",null,{"$f":"IF(VLOOKUP($B$2,Ackerbauplan,61,0)=\"\",\"\",VLOOKUP($B$2,Ackerbauplan,61,0))","v":""},null,"Saatgut ",null,{"$f":"G11","v":0},"€/ha","Marktleistung -"]
[null,null,"+ Nebenleistung ",{"$f":"IF($B$2=\"\",\"\",VLOOKUP($B$2,Anbauplan,62,0))","v":0},null,"Dünger ",null,{"$f":"SUM(G14:G28)","v":0},"€/ha","Saatgut, Dünger, PSM"]
[null,null,"= Marktleistung ",{"$f":"IF(D57=\"\",\"\",D58+D57)","v":""},null,"Pflanzenschutz ",null,{"$f":"G54","v":0},"€/ha",{"$f":"IF(D59=\"\",\"\",D59-H57-H58-H59)","v":""},null,null,"€/ha"]
[null,{"$f":"IF($B$2=\"\",\"\",VLOOKUP($B$2,Anbauplan,2,0))","v":0}]
[null,"Bearbeitung","Maschine 1",null,"Maschine 2",null,"Maschine 3",null,"Datum",null,"Bemerkung"]

{"sheet":"A41","index":50,"n_rows":0,"n_cols":0,"rows_kept":0,"cut":false,"hidden":true,"merged":[]}

{"sheet":"A42","index":51,"n_rows":1,"n_cols":1,"rows_kept":1,"cut":false,"hidden":true,"merged":[]}
["A42"]

{"sheet":"A43","index":52,"n_rows":0,"n_cols":0,"rows_kept":0,"cut":false,"hidden":true,"merged":[]}

{"sheet":"A44","index":53,"n_rows":0,"n_cols":0,"rows_kept":0,"cut":false,"hidden":true,"merged":[]}

{"sheet":"A45","index":54,"n_rows":0,"n_cols":0,"rows_kept":0,"cut":false,"hidden":true,"merged":[]}

{"sheet":"A46","index":55,"n_rows":0,"n_cols":0,"rows_kept":0,"cut":false,"hidden":true,"merged":[]}

{"sheet":"A47","index":56,"n_rows":0,"n_cols":0,"rows_kept":0,"cut":false,"hidden":true,"merged":[]}

{"sheet":"A48","index":57,"n_rows":0,"n_cols":0,"rows_kept":0,"cut":false,"hidden":true,"merged":[]}

{"sheet":"A49","index":58,"n_rows":0,"n_cols":0,"rows_kept":0,"cut":false,"hidden":true,"merged":[]}

{"sheet":"G1","index":59,"n_rows":46,"n_cols":33,"rows_kept":46,"cut":false,"hidden":false,"merged":[[12,29,12,30],[12,32,15,33],[13,30,13,31],[14,30,14,31],[15,30,15,31],[45,0,48,0],[23,4,23,12],[17,1,17,2],[13,1,13,2],[14,1,14,2],[15,1,15,2],[16,1,16,2],[26,0,32,0],[29,1,29,2],[26,1,26,2],[27,1,27,2],[34,0,39,0],[28,10,28,12],[29,10,29,12],[27,7,27,9],[28,7,28,9],[29,7,29,9],[30,7,30,9],[31,7,31,9],[34,9,34,10],[34,11,34,12],[42,0,44,0],[0,1,0,12],[18,7,18,8],[19,7,19,8],[1,7,1,9],[1,10,1,12],[10,4,10,6],[2,11,2,12],[2,7,2,10],[3,7,3,10],[3,11,3,12],[5,7,5,10],[5,11,5,12],[19,1,19,6],[18,1,18,6],[1,0,3,0],[2,3,2,6],[12,0,17,0],[21,1,21,2],[11,1,11,2],[5,1,5,2],[12,1,12,2],[1,3,1,6],[3,3,3,6],[20,3,20,12],[21,4,21,12],[10,7,10,8],[4,11,4,12],[4,7,4,10],[9,9,9,12],[6,7,7,7],[8,7,8,12],[9,7,9,8],[23,1,23,2],[22,1,22,2],[28,1,28,2],[31,1,31,2],[30,1,30,2],[25,4,25,12],[22,4,22,12],[26,7,26,9],[26,10,26,12],[27,10,27,12],[30,10,30,12],[31,10,31,12],[34,1,34,5],[35,1,35,5],[36,1,36,5],[37,1,37,5],[38,1,38,5],[39,1,39,5],[32,14,32,18],[24,1,24,2],[25,1,25,2],[24,4,24,12],[34,7,34,8],[37,11,37,12],[38,11,38,12],[39,11,39,12],[35,9,35,10],[36,9,36,10],[37,9,37,10],[38,9,38,10],[39,9,39,10],[37,7,37,8],[38,7,38,8],[39,7,39,8],[35,7,35,8],[36,7,36,8],[17,16,17,20],[44,5,44,6],[45,5,45,6],[42,9,42,11],[43,9,43,11],[44,9,44,11],[45,9,45,11],[41,9,41,11],[44,1,44,2],[45,1,45,2],[42,3,42,4],[43,3,43,4],[44,3,44,4],[45,3,45,4],[41,1,41,2],[41,3,41,4],[41,5,41,6],[42,1,42,2],[43,1,43,2],[42,5,42,6],[43,5,43,6],[40,7,40,8],[35,11,35,12],[36,11,36,12]]}
[null,"Grünland"]
["Schlag","Nr.",1,null,null,null,null,"Jahr:",null,null,{"$f":"IF(Einführung!I8=\"\",\"\",Einführung!I8)","v":""},null,null,{"$f":"IF(OR(C4=\"\",H11=\"\"),\"\",H11*C4)","v":""},"DB kg * Fläche"]
[null,"Bez.",{"$f":"IF($C$2=\"\",\"\",VLOOKUP($C$2,Grünlandübersicht,2,0))","v":0},{"$f":"IF(C2=\"\",\"\",VLOOKUP(C2,Grünlandübersicht,4,0))","v":0},null,null,null,"Nitrat belastete Kulisse",null,null,null,{"$f":"IF(C2=\"\",\"\",VLOOKUP(C2,Grünlandübersicht,20,0))","v":0},null,{"$f":"W19","v":""},"kg/ha org. Dünger für Kontrollgrenze"]
[null,"ha",{"$f":"IF($C$2=\"\",\"\",VLOOKUP($C$2,Grünlandübersicht,3,0))","v":0},null,null,null,null,"P2O5 eutrophierte Kulisse",null,null,null,{"$f":"IF(C2=\"\",\"\",VLOOKUP(C2,Grünlandübersicht,21,0))","v":0},null,{"$f":"IF(OR(L3=\"\",L3=\"nein\",N2=\"\"),\"\",N3*C4)","v":""},"kg Gesamtschlag org Dünger für 170 Kontrollgrenze",null,null,"Gesamt N","NH4-N","P2O5 mineral.","P2O5 organisch"]
[null,null,null,null,null,null,null,"aus org. wirtschaftsdüngeren \nBerechung der 130 kg N/ha",null,null,null,{"$f":"IF(L3=\"ja\",W19,\"\")","v":""},null,{"$f":"IF(H11=\"\",\"\",IF(L3=\"ja\",N2*0.8,\"\"))","v":""},"Düngebedarf Gesamtschlag kg N/ha",null,"N Gesamt minerl.",{"$f":"SUMIF($N$13:$N$18,\"mineralisch\",$H$13:$H$18)*C4","v":0}]
[null,"Grünlandverbesserung",null,"Datum","E/ha","€/E","€/ha","sonstige Auflagen",null,null,null,"Halm",null,{"$f":"IF(L3=\"ja\",X20+Y20,\"\")","v":""},"anrechenbare N Menge Gesamtschlag  kg N/ha",null,"NH4-N minerlisch",null,{"$f":"SUMIF($N$13:$N$18,\"mineralisch\",$I$13:$I$18)*C4","v":0}]
[null,"1.",null,null,null,null,{"$f":"E7*F7","v":0},"Versorg-\nungs-\nstufe","P2O5","K2O","MgO","pH",null,{"$f":"IF(K3=\"ja\",J12*B4,\"\")","v":""},null,null,"N Gesamt organsich",{"$f":"SUMIF($N$13:$N$18,\"organisch\",$H$13:$H$18)*C4","v":0}]
[null,"2.",null,null,null,null,{"$f":"E8*F8","v":0},null,{"$f":"IF($C$2=\"\",\"\",VLOOKUP($C$2,Grünlandübersicht,30,0))","v":"C"},{"$f":"IF($C$2=\"\",\"\",VLOOKUP($C$2,Grünlandübersicht,31,0))","v":"C"},{"$f":"IF($C$2=\"\",\"\",VLOOKUP($C$2,Grünlandübersicht,32,0))","v":"C"},{"$f":"IF($C$2=\"\",\"\",VLOOKUP($C$2,Grünlandübersicht,33,0))","v":"C"},null,null,null,null,"NH4-N organsich",null,{"$f":"SUMIF($N$13:$N$18,\"organisch\",$I$13:$I$18)*C4","v":0}]
[null,"3.",null,null,null,null,{"$f":"E9*F9","v":0},"Düngebedarf kg/ha (Blatt Grünland)",null,null,null,null,null,null,null,null,"P2O5 mineralisch",null,null,{"$f":"SUMIF($N$13:$N$18,\"mineralisch\",$J$13:$J$18)*C4","v":0}]
[null,null,null,null,null,"Kosten €/ha",{"$f":"SUM(G7:G9)","v":0},{"$f":"IF(L3=\"ja\",VLOOKUP(C2,Grünlandübersicht,19,0),\"\")","v":""},null,{"$f":"IF(L3=\"ja\",O10,\"\")","v":""},null,null,null,null,"Düngebedarf um 20% red.",null,"P2O5 organisch",null,null,null,{"$f":"SUMIF($N$13:$N$18,\"organisch\",$J$13:$J$18)*C4","v":0},null,null,null,null,null,null,null,null,{"$f":"IF(L3=\"ja\",\"Noch nicht ausgeschöpfter Stickstoff Düngebedarf aller Flächen\",\"\")","v":""}]
[null,null,null,null,"N Bedarf DÜV kg/ha",null,null,{"$f":"IF(C2=\"\",\"\",VLOOKUP(C2,Grünlandübersicht,18,0))","v":""},null,{"$f":"IF($C$2=\"\",\"\",VLOOKUP($C$2,Grünlandübersicht,36,0))","v":""},{"$f":"IF($C$2=\"\",\"\",VLOOKUP($C$2,Grünlandübersicht,37,0))","v":""},null,null,null,null,null,"Sonstige organische Düngemittel",{"$f":"SUMIF($N$13:$N$18,Q11,$H$13:$H$18)*C4","v":0},{"$f":"SUMIF($N$13:$N$18,Q11,$I$13:$I$18)*C4","v":0},{"$f":"SUMIF($N$13:$N$18,Q11,$J$13:$J$18)*C4","v":0},null,"Anrechnung","Anrechnung ","Prüfung NH4","mineral",null,null,null,null,{"$f":"IF(L3=\"ja\",'Zus. Anlage 5 DüV'!D43,\"\")","v":""},{"$f":"IF(L3=\"ja\",\"kg N Gesamtfläche\",\"\")","v":""}]
[null,"Düngemittel",null,"Datum","m³o.dt/ha","€/E.","€/ha","Ges.-N","NH4- N","P2O5","K2O","MgO","S",null,null,null,"Bodenhilfsstoffe",{"$f":"SUMIF($N$13:$N$18,Q12,$H$13:$H$18)*C4","v":0},null,{"$f":"SUMIF($N$13:$N$18,Q12,$J$13:$J$18)*C4","v":0},null,"aktuelles Jahr","170 kg GW"," oder Anlage3","Stickstoff"]
["Düngung",null,null,null,null,{"$f":"IF($B13=\"\",\"\",VLOOKUP($B13,Düngemiteldaten,2,0))","v":""},{"$f":"IF(B13=\"\",\"\",E13*F13)","v":""},{"$f":"IF(B13=\"\",\"\",VLOOKUP(B13,Düngemiteldaten,4,0)*E13)","v":""},{"$f":"IF(B13=\"\",\"\",VLOOKUP(B13,Düngemiteldaten,5,0)*E13)","v":""},{"$f":"IF(B13=\"\",\"\",VLOOKUP(B13,Düngemiteldaten,7,0)*E13)","v":""},{"$f":"IF(B13=\"\",\"\",VLOOKUP(B13,Düngemiteldaten,8,0)*E13)","v":""},{"$f":"IF(B13=\"\",\"\",VLOOKUP(B13,Düngemiteldaten,9,0)*E13)","v":""},{"$f":"IF(B13=\"\",\"\",VLOOKUP(B13,Düngemiteldaten,10,0)*E13)","v":""},{"$f":"IF(B13=\"\",\"\",VLOOKUP(B13,Düngemiteldaten,20,0))","v":""},null,null,"Kultursubstrate",{"$f":"SUMIF($N$13:$N$18,Q13,$H$13:$H$18)*C4","v":0},null,{"$f":"SUMIF($N$13:$N$18,Q13,$J$13:$J$18)*C4","v":0},null,{"$f":"IF(OR(B13=\"\",N13=\"\"),\"\",IF(N13=\"mineralisch\",\"\",VLOOKUP(B13,Düngemiteldaten,18,0)*VLOOKUP(B13,Düngemiteldaten,4,0)*E13))","v":""},{"$f":"IF(OR(B13=\"\",N13=\"\"),\"\",IF(N13=\"mineralisch\",\"\",VLOOKUP(B13,Düngemiteldaten,19,0)*H13))","v":""},{"$f":"IF(B13=\"\",\"\",IF(V13<I13,I13,V13))","v":""},{"$f":"IF(B13=\"\",\"\",IF(N13=\"organisch\",0,H13))","v":""},null,null,null,null,{"$f":"IF(L3=\"ja\",\"Summe Gesamtstickstoff\",\"\")","v":""},null,null,{"$f":"IF(L3=\"ja\",\"Anteil § 13a Prüfung \n160 kg N/ha Gesamt\n80 kg N/ha mineralisch\",\"\")","v":""}]
[null,null,null,null,null,"","","","","","","","","",null,null,"Pflanzenhilfsmittel",{"$f":"SUMIF($N$13:$N$18,Q14,$H$13:$H$18)*C4","v":0},null,{"$f":"SUMIF($N$13:$N$18,Q14,$J$13:$J$18)*C4","v":0},null,"","","","",null,null,null,null,{"$f":"IF(L3=\"ja\",R5,\"\")","v":""},{"$f":"IF(L3=\"ja\",\"mineralisch N kg/ha\",\"\")","v":""}]
[null,null,null,null,null,"","","","","","","","","",null,null,"Abfälle zur Beseitigung (§ 28 Absatz 2 odeS 3 KSWG)",{"$f":"SUMIF($N$13:$N$18,Q15,$H$13:$H$18)*C4","v":0},null,{"$f":"SUMIF($N$13:$N$18,Q15,$J$13:$J$18)*C4","v":0},null,"","","","",null,null,null,null,{"$f":"IF(L3=\"ja\",R7+R11,\"\")","v":""},{"$f":"IF(L3=\"ja\",\"organisch N kg/ha\",\"\")","v":""}]
[null,null,null,null,null,"","","","","","","","","",null,null,null,null,null,null,null,"","","","",null,null,null,null,{"$f":"IF(L3=\"ja\",(AD15+AD14),\"\")","v":""},{"$f":"IF(L3=\"ja\",\"Gesamt kg N/ha\",\"\")","v":""}]
[null,null,null,null,null,"","","","","","","","","",null,null,null,null,null,null,null,"","","",""]
[null,null,null,null,null,"","","","","","","","","",null,null,"Nährstoffherkunft auf gefährdeten Flächen §13",null,null,null,null,"","","",""]
[null,"anrechenbarer N org.Düngung + min. Düngung kg N/ha",null,null,null,null,null,{"$f":"X19+Y19","v":0},null,{"$f":"SUM(J13:J18)","v":0},{"$f":"SUM(K13:K18)","v":0},{"$f":"SUM(L13:L18)","v":0},null,null,"Bilanz (anrechenbarer Dgg.- red.Düngebedarf) kg N/ha",null,null,"Gesamt N","NH4-N",null,null,{"$f":"SUM(V13:V18)","v":0},{"$f":"IF(SUM(W13:W18)=0,\"\",(SUM(W13:W18)))","v":""},{"$f":"SUM(X13:X18)","v":0},{"$f":"SUM(Y13:Y18)","v":0},"kg/ha"]
[null,{"$f":"IF(L3=\"ja\",O19,O20)","v":"Bilanz (anrechenbarer Dgg.- Düngebedarf) kg N/ha"},null,null,null,null,null,{"$f":"IF(H11=\"\",0,IF(OR(L3=0,L3=\"nein\"),H19-H11,H19-H10))","v":0},null,{"$f":"IF(J11=\"\",\"\",J19-J11)","v":""},"","","",null,"Bilanz (anrechenbarer Dgg.- Düngebedarf) kg N/ha",null,"N Gesamt minerl.",{"$f":"IF(L3=\"ja\",SUMIF($N$13:$N$18,\"mineralisch\",$H$13:$H$18),0)","v":0},null,null,null,{"$f":"V19*C4","v":0},{"$f":"IF(W19=\"\",\"\",W19*C4)","v":""},{"$f":"X19*C4","v":0},{"$f":"Y19*C4","v":0},"kg/Schlag",null,null,null,{"$f":"IF(H20>0,\"Stickstoffmenge überschreitet den Düngebedarf\",\"\")","v":""}]
[null,null,null,null,null,null,null,null,null,null,null,null,null,null,null,null,"NH4-N minerlisch",null,{"$f":"IF(L3=\"ja\",SUMIF($N$13:$N$18,\"mineralisch\",$I$13:$I$18),0)","v":0}]
[null,"Pflegemaßnahme",null,"Datum","Bemerkung",null,null,null,null,null,null,null,null,null,null,null,"N Gesamt organsich",{"$f":"IF(L3=\"ja\",SUMIF($N$13:$N$18,\"organisch\",$H$13:$H$18),0)","v":0}]
[null,null,null,null,null,null,null,null,null,null,null,null,null,null,null,null,"NH4-N organsich",null,{"$f":"IF(L3=\"ja\",SUMIF($N$13:$N$18,\"organisch\",$I$13:$I$18),0)","v":0},null,null,null,null,null,{"$f":"X19+Y19","v":0}]
[null,null,null,null,null,null,null,null,null,null,null,null,null,null,null,null,"P2O5 mineralisch",null,null,{"$f":"IF(L3=\"ja\",SUMIF($N$13:$N$18,\"mineralisch\",$J$13:$J$18),0)","v":0}]
[null,null,null,null,null,null,null,null,null,null,null,null,null,null,null,null,"P2O5 organisch",null,null,null,{"$f":"IF(L3=\"ja\",SUMIF($N$13:$N$18,\"organisch\",$J$13:$J$18),0)","v":0}]
[null,null,null,null,null,null,null,null,null,null,null,null,null,null,null,null,"Sonstige organische Düngemittel",{"$f":"IF(L3=\"ja\",SUMIF($N$13:$N$18,Q26,$H$13:$H$18),0)","v":0},{"$f":"IF(L3=\"ja\",SUMIF($N$13:$N$18,Q26,$I$13:$I$18),0)","v":0},{"$f":"IF(L3=\"ja\",SUMIF($N$13:$N$18,Q26,$J$13:$J$18),0)","v":0}]
["Pflanzenschutz","Pflanzenschutz",null,"Datum","E./ha","€/E.","€/ha","Anwender",null,null,"Bemerkungen",null,null,null,null,null,"Bodenhilfsstoffe",{"$f":"IF(L$3=\"ja\",SUMIF($N$13:$N$18,Q27,$H$13:$H$18),0)","v":0},null,{"$f":"IF(L$3=\"ja\",SUMIF($N$13:$N$18,Q27,$J$13:$J$18),0)","v":0}]
[null,null,null,null,null,{"$f":"IF(B28=\"\",\"\",VLOOKUP(B28,PSMMittel,2,0))","v":""},{"$f":"IF(B28=\"\",\"\",E28*F28)","v":""},null,null,null,null,null,null,null,null,null,"Kultursubstrate",{"$f":"IF(L$3=\"ja\",SUMIF($N$13:$N$18,Q28,$H$13:$H$18),0)","v":0},null,{"$f":"IF(L$3=\"ja\",SUMIF($N$13:$N$18,Q28,$J$13:$J$18),0)","v":0}]
[null,null,null,null,null,{"$f":"IF(B29=\"\",\"\",VLOOKUP(B29,PSMMittel,2,0))","v":""},{"$f":"IF(B29=\"\",\"\",E29*F29)","v":""},null,null,null,null,null,null,null,null,null,"Pflanzenhilfsmittel",{"$f":"IF(L$3=\"ja\",SUMIF($N$13:$N$18,Q29,$H$13:$H$18),0)","v":0},null,{"$f":"IF(L$3=\"ja\",SUMIF($N$13:$N$18,Q29,$J$13:$J$18),0)","v":0}]
[null,null,null,null,null,{"$f":"IF(B30=\"\",\"\",VLOOKUP(B30,PSMMittel,2,0))","v":""},{"$f":"IF(B30=\"\",\"\",E30*F30)","v":""},null,null,null,null,null,null,null,null,null,"Abfälle zur Beseitigung (§ 28 Absatz 2 odeS 3 KSWG)",{"$f":"IF(L$3=\"ja\",SUMIF($N$13:$N$18,Q30,$H$13:$H$18),0)","v":0},null,{"$f":"IF(L$3=\"ja\",SUMIF($N$13:$N$18,Q30,$J$13:$J$18),0)","v":0}]
[null,null,null,null,null,{"$f":"IF(B31=\"\",\"\",VLOOKUP(B31,PSMMittel,2,0))","v":""},{"$f":"IF(B31=\"\",\"\",E31*F31)","v":""}]
[null,null,null,null,null,{"$f":"IF(B32=\"\",\"\",VLOOKUP(B32,PSMMittel,2,0))","v":""},{"$f":"IF(B32=\"\",\"\",E32*F32)","v":""}]
[null,null,null,null,null,null,{"$f":"SUM(G28:G32)","v":0},null,null,null,null,null,null,null,"Stickstoffherkunft nicht gefährdetes Gebiet Gesamtfläche"]
[null,null,null,null,null,null,null,null,null,null,null,null,null,null,null,null,null,"Gesamt N","NH4-N"]
["Bergung","Weidetiere",null,null,null,null,"Anzahl \nTiere","Datum \nBeginn",null,"Datum \nEnde",null,"Anzahl \nWeidetage",null,null,null,null,"N Gesamt minerl.",{"$f":"R5-R20","v":0},null,null,null,null,"Stickstoffbindung aus Leguminosen kg /Schlag",null,"N \nWeidehaltung","P \nWeidehaltung"]
[null,"Jungrinder Grünlandb. Extensiv",null,null,null,null,10,null,null,null,null,{"$f":"IF(OR(H36=\"\",J36=\"\"),\"\",(J36+1)-H36)","v":""},null,null,null,null,"NH4-N minerlisch",null,{"$f":"S6-S21","v":0},null,null,null,{"$f":"IF(D3=0,\"\",VLOOKUP(D3,Grünlandnutzungen,27,0)*C4)","v":""},null,{"$f":"IF(B36=\"\",\"\",VLOOKUP(B36,Tierhaltung,3,0)/365*L36)*G36","v":{"$error":"#VALUE!"}},{"$f":"IF(B36=\"\",\"\",VLOOKUP(B36,Tierhaltung,4,0)/365*L36)","v":{"$error":"#VALUE!"}}]
[null,null,null,null,null,null,null,null,null,null,null,{"$f":"IF(OR(H37=\"\",J37=\"\"),\"\",(J37+1)-H37)","v":""},null,null,null,null,"N Gesamt organsich",{"$f":"R7-R22","v":0},null,null,null,null,null,null,{"$f":"IF(B37=\"\",\"\",VLOOKUP(B37,Tierhaltung,3,0)/365*L37)*G37","v":{"$error":"#VALUE!"}},{"$f":"IF(B37=\"\",\"\",VLOOKUP(B37,Tierhaltung,4,0)/365*L37)","v":""}]
[null,null,null,null,null,null,null,null,null,null,null,"",null,null,null,null,"NH4-N organsich",null,{"$f":"S8-S23","v":0},null,null,null,null,null,{"$f":"IF(B38=\"\",\"\",VLOOKUP(B38,Tierhaltung,3,0)/365*L38)","v":""},{"$f":"IF(B38=\"\",\"\",VLOOKUP(B38,Tierhaltung,4,0)/365*L38)","v":""}]
[null,null,null,null,null,null,null,null,null,null,null,"",null,null,null,null,"P2O5 mineralisch",null,null,{"$f":"T9-T24","v":0},null,null,null,null,{"$f":"IF(B39=\"\",\"\",VLOOKUP(B39,Tierhaltung,3,0)/365*L39)","v":""},{"$f":"IF(B39=\"\",\"\",VLOOKUP(B39,Tierhaltung,4,0)/365*L39)","v":""}]
[null,null,null,null,null,null,null,null,null,null,null,"",null,null,null,null,"P2O5 organisch",null,null,null,{"$f":"U10-U25","v":0},null,null,null,{"$f":"IF(B40=\"\",\"\",VLOOKUP(B40,Tierhaltung,3,0)/365*L40)","v":""},{"$f":"IF(B40=\"\",\"\",VLOOKUP(B40,Tierhaltung,4,0)/365*L40)","v":""}]
[null,null,null,null,null,null,null,null,null,null,null,null,null,null,null,null,"Sonstige organische Düngemittel",{"$f":"R11-R26","v":0},{"$f":"S11-S26","v":0},{"$f":"T11-T26","v":0},null,null,null,null,{"$f":"SUM(Y36:Y40)","v":{"$error":"#VALUE!"}},{"$f":"SUM(Z36:Z40)","v":{"$error":"#VALUE!"}}]
[null,"Nutzungsdatum",null,"Nutzungsform",null,"Ertrag TM dt/ha",null,"Entzg N\nkg/ha","Entz. P2O5 kg/ha","Aufstellung Kosten",null,null,"€/ha",null,null,null,"Bodenhilfsstoffe",{"$f":"R12-R27","v":0},null,{"$f":"T12-T27","v":0},null,null,null,null,"N Entzug kg N/ha","Entzug kg P2O5/ha","N Entzug kg N Schlag","P Entzug kg P2O5 Schlag"]
["€/ha",null,null,null,null,null,null,{"$f":"IF(Y43=0,\"\",Y43)","v":""},"","Grünlandverbesserung",null,null,{"$f":"G10","v":0},null,null,null,"Kultursubstrate",{"$f":"R13-R28","v":0},null,{"$f":"T13-T28","v":0},null,null,null,null,{"$f":"IF(D$3=0,\"\",VLOOKUP(D$3,Grünlandnutzungen,6,0)*F43)","v":""},{"$f":"IF(D$3=0,\"\",VLOOKUP(D$3,Grünlandnutzungen,7,0)*F43)","v":""},{"$f":"IF(Y43=\"\",\"\",Y43*C4)","v":""},{"$f":"IF(Z43=\"\",\"\",Z43*C4)","v":""}]
[null,null,null,null,null,null,null,"","","Düngemittel",null,null,{"$f":"SUM(G13:G18)","v":0},null,null,null,"Pflanzenhilfsmittel",{"$f":"R14-R29","v":0},null,{"$f":"T14-T29","v":0},null,null,null,null,{"$f":"IF(D$3=0,\"\",VLOOKUP(D$3,Grünlandnutzungen,6,0)*F44)","v":""},{"$f":"IF(D$3=0,\"\",VLOOKUP(D$3,Grünlandnutzungen,7,0)*F44)","v":""},{"$f":"IF(Y44=\"\",\"\",Y44*C5)","v":""},{"$f":"IF(Z44=\"\",\"\",Z44*C5)","v":""}]
[null,null,null,null,null,null,null,"","","Pflanzenschutz",null,null,{"$f":"G33","v":0},null,null,null,"Abfälle zur Beseitigung (§ 28 Absatz 2 oder 3 KrWG)",{"$f":"R15-R30","v":0},null,{"$f":"T15-T30","v":0},null,null,null,null,{"$f":"IF(D$3=0,\"\",VLOOKUP(D$3,Grünlandnutzungen,6,0)*F45)","v":""},{"$f":"IF(D$3=0,\"\",VLOOKUP(D$3,Grünlandnutzungen,7,0)*F45)","v":""},{"$f":"IF(Y45=\"\",\"\",Y45*C6)","v":""},{"$f":"IF(Z45=\"\",\"\",Z45*C6)","v":""}]
["Bemerkungen",null,null,null,null,null,null,"","","Summe",null,null,{"$f":"M43+M44+M45","v":0},null,null,null,null,null,null,null,null,null,null,null,{"$f":"IF(D$3=0,\"\",VLOOKUP(D$3,Grünlandnutzungen,6,0)*F46)","v":""},{"$f":"IF(D$3=0,\"\",VLOOKUP(D$3,Grünlandnutzungen,7,0)*F46)","v":""},{"$f":"IF(Y46=\"\",\"\",Y46*C7)","v":""},{"$f":"IF(Z46=\"\",\"\",Z46*C7)","v":""}]

{"sheet":"G2","index":60,"n_rows":46,"n_cols":33,"rows_kept":46,"cut":false,"hidden":false,"merged":[[12,29,12,30],[12,32,15,33],[13,30,13,31],[14,30,14,31],[15,30,15,31],[45,0,48,0],[45,1,45,2],[45,3,45,4],[45,5,45,6],[45,9,45,11],[43,1,43,2],[43,3,43,4],[43,5,43,6],[43,9,43,11],[44,1,44,2],[44,3,44,4],[44,5,44,6],[44,9,44,11],[37,9,37,10],[37,11,37,12],[40,7,40,8],[41,1,41,2],[41,3,41,4],[41,5,41,6],[41,9,41,11],[42,0,44,0],[42,1,42,2],[42,3,42,4],[42,5,42,6],[42,9,42,11],[32,14,32,18],[34,0,39,0],[34,1,34,5],[34,7,34,8],[34,9,34,10],[34,11,34,12],[35,1,35,5],[35,7,35,8],[35,9,35,10],[35,11,35,12],[38,1,38,5],[38,7,38,8],[38,9,38,10],[38,11,38,12],[39,1,39,5],[39,7,39,8],[39,9,39,10],[39,11,39,12],[36,1,36,5],[36,7,36,8],[36,9,36,10],[36,11,36,12],[37,1,37,5],[37,7,37,8],[17,16,17,20],[24,1,24,2],[24,4,24,12],[25,1,25,2],[25,4,25,12],[21,1,21,2],[21,4,21,12],[22,1,22,2],[22,4,22,12],[23,1,23,2],[23,4,23,12],[18,7,18,8],[19,7,19,8],[20,3,20,12],[18,1,18,6],[19,1,19,6],[26,0,32,0],[26,1,26,2],[26,7,26,9],[26,10,26,12],[27,1,27,2],[27,7,27,9],[30,1,30,2],[30,7,30,9],[30,10,30,12],[31,1,31,2],[31,7,31,9],[31,10,31,12],[27,10,27,12],[28,1,28,2],[28,7,28,9],[28,10,28,12],[29,1,29,2],[29,7,29,9],[29,10,29,12],[6,7,7,7],[8,7,8,12],[9,7,9,8],[9,9,9,12],[10,4,10,6],[10,7,10,8],[11,1,11,2],[12,0,17,0],[12,1,12,2],[13,1,13,2],[14,1,14,2],[15,1,15,2],[16,1,16,2],[17,1,17,2],[3,3,3,6],[5,1,5,2],[0,1,0,12],[1,0,3,0],[1,3,1,6],[1,7,1,9],[1,10,1,12],[2,3,2,6],[2,7,2,10],[2,11,2,12],[3,7,3,10],[3,11,3,12],[5,7,5,10],[5,11,5,12],[4,7,4,10],[4,11,4,12]]}
[null,"Grünland"]
["Schlag","Nr.",2,null,null,null,null,"Jahr:",null,null,{"$f":"IF(Einführung!I8=\"\",\"\",Einführung!I8)","v":""},null,null,{"$f":"IF(OR(C4=\"\",H11=\"\"),\"\",H11*C4)","v":""},"DB kg * Fläche"]
[null,"Bez.",{"$f":"IF($C$2=\"\",\"\",VLOOKUP($C$2,Grünlandübersicht,2,0))","v":0},{"$f":"IF(C2=\"\",\"\",VLOOKUP(C2,Grünlandübersicht,4,0))","v":0},null,null,null,"Nitrat belastete Kulisse",null,null,null,{"$f":"IF(C2=\"\",\"\",VLOOKUP(C2,Grünlandübersicht,20,0))","v":0},null,{"$f":"W19","v":""},"kg/ha org. Dünger für Kontrollgrenze"]
[null,"ha",{"$f":"IF($C$2=\"\",\"\",VLOOKUP($C$2,Grünlandübersicht,3,0))","v":0},null,null,null,null,"P2O5 eutrophierte Kulisse",null,null,null,{"$f":"IF(C2=\"\",\"\",VLOOKUP(C2,Grünlandübersicht,21,0))","v":0},null,{"$f":"IF(OR(L3=\"\",L3=\"nein\",N2=\"\"),\"\",N3*C4)","v":""},"kg Gesamtschlag org Dünger für 170 Kontrollgrenze",null,null,"Gesamt N","NH4-N","P2O5 mineral.","P2O5 organisch"]
[null,null,null,null,null,null,null,"aus org. wirtschaftsdüngeren \nBerechung der 130 kg N/ha",null,null,null,{"$f":"IF(L3=\"ja\",W19,\"\")","v":""},null,{"$f":"IF(H11=\"\",\"\",IF(L3=\"ja\",N2*0.8,\"\"))","v":""},"Düngebedarf Gesamtschlag kg N/ha",null,"N Gesamt minerl.",{"$f":"SUMIF($N$13:$N$18,\"mineralisch\",$H$13:$H$18)","v":0}]
[null,"Grünlandverbesserung",null,"Datum","E/ha","€/E","€/ha","sonstige Auflagen",null,null,null,"WSG",null,{"$f":"IF(L3=\"ja\",X20+Y20,\"\")","v":""},"anrechenbare N Menge Gesamtschlag  kg N/ha",null,"NH4-N minerlisch",null,{"$f":"SUMIF($N$13:$N$18,\"mineralisch\",$I$13:$I$18)","v":0}]
[null,"1.",null,null,null,null,{"$f":"E7*F7","v":0},"Versorg-\nungs-\nstufe","P2O5","K2O","MgO","pH",null,{"$f":"IF(K3=\"ja\",J12*B4,\"\")","v":""},null,null,"N Gesamt organsich",{"$f":"SUMIF($N$13:$N$18,\"organisch\",$H$13:$H$18)","v":0}]
[null,"2.",null,null,null,null,{"$f":"E8*F8","v":0},null,{"$f":"IF($C$2=\"\",\"\",VLOOKUP($C$2,Grünlandübersicht,30,0))","v":"C"},{"$f":"IF($C$2=\"\",\"\",VLOOKUP($C$2,Grünlandübersicht,31,0))","v":"C"},{"$f":"IF($C$2=\"\",\"\",VLOOKUP($C$2,Grünlandübersicht,32,0))","v":"C"},{"$f":"IF($C$2=\"\",\"\",VLOOKUP($C$2,Grünlandübersicht,33,0))","v":"C"},null,null,null,null,"NH4-N organsich",null,{"$f":"SUMIF($N$13:$N$18,\"organisch\",$I$13:$I$18)","v":0}]
[null,"3.",null,null,null,null,{"$f":"E9*F9","v":0},"Düngebedarf kg/ha (Blatt Grünland)",null,null,null,null,null,null,null,null,"P2O5 mineralisch",null,null,{"$f":"SUMIF($N$13:$N$18,\"mineralisch\",$J$13:$J$18)","v":0}]
[null,null,null,null,null,"Kosten €/ha",{"$f":"SUM(G7:G9)","v":0},{"$f":"IF(L3=\"ja\",VLOOKUP(C2,Grünlandübersicht,19,0),\"\")","v":""},null,{"$f":"IF(L3=\"ja\",O10,\"\")","v":""},null,null,null,null,"Düngebedarf um 20% red.",null,"P2O5 organisch",null,null,null,{"$f":"SUMIF($N$13:$N$18,\"organisch\",$J$13:$J$18)","v":0},null,null,null,null,null,null,null,null,{"$f":"IF(L3=\"ja\",\"Noch nicht ausgeschöpfter Stickstoff Düngebedarf aller Flächen\",\"\")","v":""}]
[null,null,null,null,"N Bedarf DÜV kg/ha",null,null,{"$f":"IF(C2=\"\",\"\",VLOOKUP(C2,Grünlandübersicht,18,0))","v":""},null,{"$f":"IF($C$2=\"\",\"\",VLOOKUP($C$2,Grünlandübersicht,36,0))","v":""},{"$f":"IF($C$2=\"\",\"\",VLOOKUP($C$2,Grünlandübersicht,37,0))","v":""},null,null,null,null,null,"Sonstige organische Düngemittel",{"$f":"SUMIF($N$13:$N$18,Q11,$H$13:$H$18)","v":0},{"$f":"SUMIF($N$13:$N$18,Q11,$I$13:$I$18)","v":0},{"$f":"SUMIF($N$13:$N$18,Q11,$J$13:$J$18)","v":0},null,"Anrechnung","Anrechnung ","Prüfung NH4","mineral",null,null,null,null,{"$f":"IF(L3=\"ja\",'Zus. Anlage 5 DüV'!D43,\"\")","v":""},{"$f":"IF(L3=\"ja\",\"kg N Gesamtfläche\",\"\")","v":""}]
[null,"Düngemittel",null,"Datum","m³o.dt/ha","€/E.","€/ha","Ges.-N","NH4- N","P2O5","K2O","MgO","S",null,null,null,"Bodenhilfsstoffe",{"$f":"SUMIF($N$13:$N$18,Q12,$H$13:$H$18)","v":0},null,{"$f":"SUMIF($N$13:$N$18,Q12,$J$13:$J$18)","v":0},null,"aktuelles Jahr","170 kg GW"," oder Anlage3","Stickstoff"]
["Düngung",null,null,null,null,{"$f":"IF($B13=\"\",\"\",VLOOKUP($B13,Düngemiteldaten,2,0))","v":""},{"$f":"IF(B13=\"\",\"\",E13*F13)","v":""},{"$f":"IF(B13=\"\",\"\",VLOOKUP(B13,Düngemiteldaten,4,0)*E13)","v":""},{"$f":"IF(B13=\"\",\"\",VLOOKUP(B13,Düngemiteldaten,5,0)*E13)","v":""},{"$f":"IF(B13=\"\",\"\",VLOOKUP(B13,Düngemiteldaten,7,0)*E13)","v":""},{"$f":"IF(B13=\"\",\"\",VLOOKUP(B13,Düngemiteldaten,8,0)*E13)","v":""},{"$f":"IF(B13=\"\",\"\",VLOOKUP(B13,Düngemiteldaten,9,0)*E13)","v":""},{"$f":"IF(B13=\"\",\"\",VLOOKUP(B13,Düngemiteldaten,10,0)*E13)","v":""},{"$f":"IF(B13=\"\",\"\",VLOOKUP(B13,Düngemiteldaten,20,0))","v":""},null,null,"Kultursubstrate",{"$f":"SUMIF($N$13:$N$18,Q13,$H$13:$H$18)","v":0},null,{"$f":"SUMIF($N$13:$N$18,Q13,$J$13:$J$18)","v":0},null,{"$f":"IF(OR(B13=\"\",N13=\"\"),\"\",IF(N13=\"mineralisch\",\"\",VLOOKUP(B13,Düngemiteldaten,18,0)*VLOOKUP(B13,Düngemiteldaten,4,0)*E13))","v":""},{"$f":"IF(OR(B13=\"\",N13=\"\"),\"\",IF(N13=\"mineralisch\",\"\",VLOOKUP(B13,Düngemiteldaten,19,0)*H13))","v":""},{"$f":"IF(B13=\"\",\"\",IF(V13<I13,I13,V13))","v":""},{"$f":"IF(B13=\"\",\"\",IF(N13=\"organisch\",0,H13))","v":""},null,null,null,null,{"$f":"IF(L3=\"ja\",\"Summe Gesamtstickstoff\",\"\")","v":""},null,null,{"$f":"IF(L3=\"ja\",\"Anteil § 13a Prüfung \n160 kg N/ha Gesamt\n80 kg N/ha mineralisch\",\"\")","v":""}]
[null,null,null,null,null,"","","","","","","","","",null,null,"Pflanzenhilfsmittel",{"$f":"SUMIF($N$13:$N$18,Q14,$H$13:$H$18)","v":0},null,{"$f":"SUMIF($N$13:$N$18,Q14,$J$13:$J$18)","v":0},null,"","","","",null,null,null,null,{"$f":"IF(L3=\"ja\",R5,\"\")","v":""},{"$f":"IF(L3=\"ja\",\"mineralisch N kg/ha\",\"\")","v":""}]
[null,null,null,null,null,"","","","","","","","","",null,null,"Abfälle zur Beseitigung (§ 28 Absatz 2 odeS 3 KSWG)",{"$f":"SUMIF($N$13:$N$18,Q15,$H$13:$H$18)","v":0},null,{"$f":"SUMIF($N$13:$N$18,Q15,$J$13:$J$18)","v":0},null,"","","","",null,null,null,null,{"$f":"IF(L3=\"ja\",R7+R11,\"\")","v":""},{"$f":"IF(L3=\"ja\",\"organisch N kg/ha\",\"\")","v":""}]
[null,null,null,null,null,"","","","","","","","","",null,null,null,null,null,null,null,"","","","",null,null,null,null,{"$f":"IF(L3=\"ja\",(AD15+AD14),\"\")","v":""},{"$f":"IF(L3=\"ja\",\"Gesamt kg N/ha\",\"\")","v":""}]
[null,null,null,null,null,"","","","","","","","","",null,null,null,null,null,null,null,"","","",""]
[null,null,null,null,null,"","","","","","","","","",null,null,"Nährstoffherkunft auf gefährdeten Flächen §13",null,null,null,null,"","","",""]
[null,"anrechenbarer N org.Düngung + min. Düngung kg N/ha",null,null,null,null,null,{"$f":"X19+Y19","v":0},null,{"$f":"SUM(J13:J18)","v":0},{"$f":"SUM(K13:K18)","v":0},{"$f":"SUM(L13:L18)","v":0},null,null,"Bilanz (anrechenbarer Dgg.- red.Düngebedarf) kg N/ha",null,null,"Gesamt N","NH4-N",null,null,{"$f":"SUM(V13:V18)","v":0},{"$f":"IF(SUM(W13:W18)=0,\"\",(SUM(W13:W18)))","v":""},{"$f":"SUM(X13:X18)","v":0},{"$f":"SUM(Y13:Y18)","v":0},"kg/ha"]
[null,{"$f":"IF(L3=\"ja\",O19,O20)","v":"Bilanz (anrechenbarer Dgg.- Düngebedarf) kg N/ha"},null,null,null,null,null,{"$f":"IF(H11=\"\",0,IF(OR(L3=0,L3=\"nein\"),H19-H11,H19-H10))","v":0},null,{"$f":"IF(J11=\"\",\"\",J19-J11)","v":""},"","","",null,"Bilanz (anrechenbarer Dgg.- Düngebedarf) kg N/ha",null,"N Gesamt minerl.",{"$f":"IF(L3=\"ja\",SUMIF($N$13:$N$18,\"mineralisch\",$H$13:$H$18),0)","v":0},null,null,null,{"$f":"V19*C4","v":0},{"$f":"IF(W19=\"\",\"\",W19*C4)","v":""},{"$f":"X19*C4","v":0},{"$f":"Y19*C4","v":0},"kg/Schlag",null,null,null,{"$f":"IF(H20>0,\"Stickstoffmenge überschreitet den Düngebedarf\",\"\")","v":""}]
[null,null,null,null,null,null,null,null,null,null,null,null,null,null,null,null,"NH4-N minerlisch",null,{"$f":"IF(L3=\"ja\",SUMIF($N$13:$N$18,\"mineralisch\",$I$13:$I$18),0)","v":0}]
[null,"Pflegemaßnahme",null,"Datum","Bemerkung",null,null,null,null,null,null,null,null,null,null,null,"N Gesamt organsich",{"$f":"IF(L3=\"ja\",SUMIF($N$13:$N$18,\"organisch\",$H$13:$H$18),0)","v":0}]
[null,null,null,null,null,null,null,null,null,null,null,null,null,null,null,null,"NH4-N organsich",null,{"$f":"IF(L3=\"ja\",SUMIF($N$13:$N$18,\"organisch\",$I$13:$I$18),0)","v":0},null,null,null,null,null,{"$f":"X19+Y19","v":0}]
[null,null,null,null,null,null,null,null,null,null,null,null,null,null,null,null,"P2O5 mineralisch",null,null,{"$f":"IF(L3=\"ja\",SUMIF($N$13:$N$18,\"mineralisch\",$J$13:$J$18),0)","v":0}]
[null,null,null,null,null,null,null,null,null,null,null,null,null,null,null,null,"P2O5 organisch",null,null,null,{"$f":"IF(L3=\"ja\",SUMIF($N$13:$N$18,\"organisch\",$J$13:$J$18),0)","v":0}]
[null,null,null,null,null,null,null,null,null,null,null,null,null,null,null,null,"Sonstige organische Düngemittel",{"$f":"IF(L3=\"ja\",SUMIF($N$13:$N$18,Q26,$H$13:$H$18),0)","v":0},{"$f":"IF(L3=\"ja\",SUMIF($N$13:$N$18,Q26,$I$13:$I$18),0)","v":0},{"$f":"IF(L3=\"ja\",SUMIF($N$13:$N$18,Q26,$J$13:$J$18),0)","v":0}]
["Pflanzenschutz","Pflanzenschutz",null,"Datum","E./ha","€/E.","€/ha","Anwender",null,null,"Bemerkungen",null,null,null,null,null,"Bodenhilfsstoffe",{"$f":"IF(L$3=\"ja\",SUMIF($N$13:$N$18,Q27,$H$13:$H$18),0)","v":0},null,{"$f":"IF(L$3=\"ja\",SUMIF($N$13:$N$18,Q27,$J$13:$J$18),0)","v":0}]
[null,null,null,null,null,{"$f":"IF(B28=\"\",\"\",VLOOKUP(B28,PSMMittel,2,0))","v":""},{"$f":"IF(B28=\"\",\"\",E28*F28)","v":""},null,null,null,null,null,null,null,null,null,"Kultursubstrate",{"$f":"IF(L$3=\"ja\",SUMIF($N$13:$N$18,Q28,$H$13:$H$18),0)","v":0},null,{"$f":"IF(L$3=\"ja\",SUMIF($N$13:$N$18,Q28,$J$13:$J$18),0)","v":0}]
[null,null,null,null,null,{"$f":"IF(B29=\"\",\"\",VLOOKUP(B29,PSMMittel,2,0))","v":""},{"$f":"IF(B29=\"\",\"\",E29*F29)","v":""},null,null,null,null,null,null,null,null,null,"Pflanzenhilfsmittel",{"$f":"IF(L$3=\"ja\",SUMIF($N$13:$N$18,Q29,$H$13:$H$18),0)","v":0},null,{"$f":"IF(L$3=\"ja\",SUMIF($N$13:$N$18,Q29,$J$13:$J$18),0)","v":0}]
[null,null,null,null,null,{"$f":"IF(B30=\"\",\"\",VLOOKUP(B30,PSMMittel,2,0))","v":""},{"$f":"IF(B30=\"\",\"\",E30*F30)","v":""},null,null,null,null,null,null,null,null,null,"Abfälle zur Beseitigung (§ 28 Absatz 2 odeS 3 KSWG)",{"$f":"IF(L$3=\"ja\",SUMIF($N$13:$N$18,Q30,$H$13:$H$18),0)","v":0},null,{"$f":"IF(L$3=\"ja\",SUMIF($N$13:$N$18,Q30,$J$13:$J$18),0)","v":0}]
[null,null,null,null,null,{"$f":"IF(B31=\"\",\"\",VLOOKUP(B31,PSMMittel,2,0))","v":""},{"$f":"IF(B31=\"\",\"\",E31*F31)","v":""}]
[null,null,null,null,null,{"$f":"IF(B32=\"\",\"\",VLOOKUP(B32,PSMMittel,2,0))","v":""},{"$f":"IF(B32=\"\",\"\",E32*F32)","v":""}]
[null,null,null,null,null,null,{"$f":"SUM(G28:G32)","v":0},null,null,null,null,null,null,null,"Stickstoffherkunft nicht gefährdetes Gebiet Gesamtfläche"]
[null,null,null,null,null,null,null,null,null,null,null,null,null,null,null,null,null,"Gesamt N","NH4-N"]
["Bergung","Weidetiere",null,null,null,null,"Anzahl \nTiere","Datum \nBeginn",null,"Datum \nEnde",null,"Anzahl \nWeidetage",null,null,null,null,"N Gesamt minerl.",{"$f":"R5-R20","v":0},null,null,null,null,"Stickstoffbindung aus Leguminosen kg /Schlag",null,"N \nWeidehaltung","P \nWeidehaltung"]
[null,null,null,null,null,null,null,null,null,null,null,{"$f":"IF(OR(H36=\"\",J36=\"\"),\"\",(J36+1)-H36)","v":""},null,null,null,null,"NH4-N minerlisch",null,{"$f":"S6-S21","v":0},null,null,null,{"$f":"IF(D3=0,\"\",VLOOKUP(D3,Grünlandnutzungen,27,0)*C4)","v":""},null,{"$f":"IF(B36=\"\",\"\",VLOOKUP(B36,Tierhaltung,3,0)/365*L36)","v":""},{"$f":"IF(B36=\"\",\"\",VLOOKUP(B36,Tierhaltung,4,0)/365*L36)","v":""}]
[null,null,null,null,null,null,null,null,null,null,null,{"$f":"IF(OR(H37=\"\",J37=\"\"),\"\",(J37+1)-H37)","v":""},null,null,null,null,"N Gesamt organsich",{"$f":"R7-R22","v":0},null,null,null,null,null,null,{"$f":"IF(B37=\"\",\"\",VLOOKUP(B37,Tierhaltung,3,0)/365*L37)","v":""},{"$f":"IF(B37=\"\",\"\",VLOOKUP(B37,Tierhaltung,4,0)/365*L37)","v":""}]
[null,null,null,null,null,null,null,null,null,null,null,"",null,null,null,null,"NH4-N organsich",null,{"$f":"S8-S23","v":0},null,null,null,null,null,{"$f":"IF(B38=\"\",\"\",VLOOKUP(B38,Tierhaltung,3,0)/365*L38)","v":""},{"$f":"IF(B38=\"\",\"\",VLOOKUP(B38,Tierhaltung,4,0)/365*L38)","v":""}]
[null,null,null,null,null,null,null,null,null,null,null,"",null,null,null,null,"P2O5 mineralisch",null,null,{"$f":"T9-T24","v":0},null,null,null,null,{"$f":"IF(B39=\"\",\"\",VLOOKUP(B39,Tierhaltung,3,0)/365*L39)","v":""},{"$f":"IF(B39=\"\",\"\",VLOOKUP(B39,Tierhaltung,4,0)/365*L39)","v":""}]
[null,null,null,null,null,null,null,null,null,null,null,"",null,null,null,null,"P2O5 organisch",null,null,null,{"$f":"U10-U25","v":0},null,null,null,{"$f":"IF(B40=\"\",\"\",VLOOKUP(B40,Tierhaltung,3,0)/365*L40)","v":""},{"$f":"IF(B40=\"\",\"\",VLOOKUP(B40,Tierhaltung,4,0)/365*L40)","v":""}]
[null,null,null,null,null,null,null,null,null,null,null,null,null,null,null,null,"Sonstige organische Düngemittel",{"$f":"R11-R26","v":0},{"$f":"S11-S26","v":0},{"$f":"T11-T26","v":0},null,null,null,null,{"$f":"SUM(Y36:Y40)","v":0},{"$f":"SUM(Z36:Z40)","v":0}]
[null,"Nutzungsdatum",null,"Nutzungsform",null,"Ertrag TM dt/ha",null,"Entzg N\nkg/ha","Entz. P2O5 kg/ha","Aufstellung Kosten",null,null,"€/ha",null,null,null,"Bodenhilfsstoffe",{"$f":"R12-R27","v":0},null,{"$f":"T12-T27","v":0},null,null,null,null,"N Entzug kg N/ha","Entzug kg P2O5/ha","N Entzug kg N Schlag","P Entzug kg P2O5 Schlag"]
["€/ha",null,null,null,null,null,null,{"$f":"IF(Y43=0,\"\",Y43)","v":""},"","Grünlandverbesserung",null,null,{"$f":"G10","v":0},null,null,null,"Kultursubstrate",{"$f":"R13-R28","v":0},null,{"$f":"T13-T28","v":0},null,null,null,null,{"$f":"IF(D$3=0,\"\",VLOOKUP(D$3,Grünlandnutzungen,6,0)*F43)","v":""},{"$f":"IF(D$3=0,\"\",VLOOKUP(D$3,Grünlandnutzungen,7,0)*F43)","v":""},{"$f":"IF(Y43=\"\",\"\",Y43*C4)","v":""},{"$f":"IF(Z43=\"\",\"\",Z43*C4)","v":""}]
[null,null,null,null,null,null,null,"","","Düngemittel",null,null,{"$f":"SUM(G13:G18)","v":0},null,null,null,"Pflanzenhilfsmittel",{"$f":"R14-R29","v":0},null,{"$f":"T14-T29","v":0},null,null,null,null,{"$f":"IF(D$3=0,\"\",VLOOKUP(D$3,Grünlandnutzungen,6,0)*F44)","v":""},{"$f":"IF(D$3=0,\"\",VLOOKUP(D$3,Grünlandnutzungen,7,0)*F44)","v":""},{"$f":"IF(Y44=\"\",\"\",Y44*C5)","v":""},{"$f":"IF(Z44=\"\",\"\",Z44*C5)","v":""}]
[null,null,null,null,null,null,null,"","","Pflanzenschutz",null,null,{"$f":"G33","v":0},null,null,null,"Abfälle zur Beseitigung (§ 28 Absatz 2 oder 3 KrWG)",{"$f":"R15-R30","v":0},null,{"$f":"T15-T30","v":0},null,null,null,null,{"$f":"IF(D$3=0,\"\",VLOOKUP(D$3,Grünlandnutzungen,6,0)*F45)","v":""},{"$f":"IF(D$3=0,\"\",VLOOKUP(D$3,Grünlandnutzungen,7,0)*F45)","v":""},{"$f":"IF(Y45=\"\",\"\",Y45*C6)","v":""},{"$f":"IF(Z45=\"\",\"\",Z45*C6)","v":""}]
["Bemerkungen",null,null,null,null,null,null,"","","Summe",null,null,{"$f":"M43+M44+M45","v":0},null,null,null,null,null,null,null,null,null,null,null,{"$f":"IF(D$3=0,\"\",VLOOKUP(D$3,Grünlandnutzungen,6,0)*F46)","v":""},{"$f":"IF(D$3=0,\"\",VLOOKUP(D$3,Grünlandnutzungen,7,0)*F46)","v":""},{"$f":"IF(Y46=\"\",\"\",Y46*C7)","v":""},{"$f":"IF(Z46=\"\",\"\",Z46*C7)","v":""}]

{"sheet":"G3","index":61,"n_rows":46,"n_cols":33,"rows_kept":46,"cut":false,"hidden":false,"merged":[[12,29,12,30],[12,32,15,33],[13,30,13,31],[14,30,14,31],[15,30,15,31],[45,0,48,0],[45,1,45,2],[45,3,45,4],[45,5,45,6],[45,9,45,11],[43,1,43,2],[43,3,43,4],[43,5,43,6],[43,9,43,11],[44,1,44,2],[44,3,44,4],[44,5,44,6],[44,9,44,11],[37,9,37,10],[37,11,37,12],[40,7,40,8],[41,1,41,2],[41,3,41,4],[41,5,41,6],[41,9,41,11],[42,0,44,0],[42,1,42,2],[42,3,42,4],[42,5,42,6],[42,9,42,11],[32,14,32,18],[34,0,39,0],[34,1,34,5],[34,7,34,8],[34,9,34,10],[34,11,34,12],[35,1,35,5],[35,7,35,8],[35,9,35,10],[35,11,35,12],[38,1,38,5],[38,7,38,8],[38,9,38,10],[38,11,38,12],[39,1,39,5],[39,7,39,8],[39,9,39,10],[39,11,39,12],[36,1,36,5],[36,7,36,8],[36,9,36,10],[36,11,36,12],[37,1,37,5],[37,7,37,8],[17,16,17,20],[24,1,24,2],[24,4,24,12],[25,1,25,2],[25,4,25,12],[21,1,21,2],[21,4,21,12],[22,1,22,2],[22,4,22,12],[23,1,23,2],[23,4,23,12],[18,7,18,8],[19,7,19,8],[20,3,20,12],[18,1,18,6],[19,1,19,6],[26,0,32,0],[26,1,26,2],[26,7,26,9],[26,10,26,12],[27,1,27,2],[27,7,27,9],[30,1,30,2],[30,7,30,9],[30,10,30,12],[31,1,31,2],[31,7,31,9],[31,10,31,12],[27,10,27,12],[28,1,28,2],[28,7,28,9],[28,10,28,12],[29,1,29,2],[29,7,29,9],[29,10,29,12],[6,7,7,7],[8,7,8,12],[9,7,9,8],[9,9,9,12],[10,4,10,6],[10,7,10,8],[11,1,11,2],[12,0,17,0],[12,1,12,2],[13,1,13,2],[14,1,14,2],[15,1,15,2],[16,1,16,2],[17,1,17,2],[3,3,3,6],[5,1,5,2],[0,1,0,12],[1,0,3,0],[1,3,1,6],[1,7,1,9],[1,10,1,12],[2,3,2,6],[2,7,2,10],[2,11,2,12],[3,7,3,10],[3,11,3,12],[5,7,5,10],[5,11,5,12],[4,7,4,10],[4,11,4,12]]}
[null,"Grünland"]
["Schlag","Nr.",3,null,null,null,null,"Jahr:",null,null,{"$f":"IF(Einführung!I8=\"\",\"\",Einführung!I8)","v":""},null,null,{"$f":"IF(OR(C4=\"\",H11=\"\"),\"\",H11*C4)","v":""},"DB kg * Fläche"]
[null,"Bez.",{"$f":"IF($C$2=\"\",\"\",VLOOKUP($C$2,Grünlandübersicht,2,0))","v":0},{"$f":"IF(C2=\"\",\"\",VLOOKUP(C2,Grünlandübersicht,4,0))","v":0},null,null,null,"Nitrat belastete Kulisse",null,null,null,{"$f":"IF(C2=\"\",\"\",VLOOKUP(C2,Grünlandübersicht,20,0))","v":0},null,{"$f":"W19","v":""},"kg/ha org. Dünger für Kontrollgrenze"]
[null,"ha",{"$f":"IF($C$2=\"\",\"\",VLOOKUP($C$2,Grünlandübersicht,3,0))","v":0},null,null,null,null,"P2O5 eutrophierte Kulisse",null,null,null,{"$f":"IF(C2=\"\",\"\",VLOOKUP(C2,Grünlandübersicht,21,0))","v":0},null,{"$f":"IF(OR(L3=\"\",L3=\"nein\",N2=\"\"),\"\",N3*C4)","v":""},"kg Gesamtschlag org Dünger für 170 Kontrollgrenze",null,null,"Gesamt N","NH4-N","P2O5 mineral.","P2O5 organisch"]
[null,null,null,null,null,null,null,"aus org. wirtschaftsdüngeren \nBerechung der 130 kg N/ha",null,null,null,{"$f":"IF(L3=\"ja\",W19,\"\")","v":""},null,{"$f":"IF(H11=\"\",\"\",IF(L3=\"ja\",N2*0.8,\"\"))","v":""},"Düngebedarf Gesamtschlag kg N/ha",null,"N Gesamt minerl.",{"$f":"SUMIF($N$13:$N$18,\"mineralisch\",$H$13:$H$18)","v":0}]
[null,"Grünlandverbesserung",null,"Datum","E/ha","€/E","€/ha","sonstige Auflagen",null,null,null,"WSG",null,{"$f":"IF(L3=\"ja\",X20+Y20,\"\")","v":""},"anrechenbare N Menge Gesamtschlag  kg N/ha",null,"NH4-N minerlisch",null,{"$f":"SUMIF($N$13:$N$18,\"mineralisch\",$I$13:$I$18)","v":0}]
[null,"1.",null,null,null,null,{"$f":"E7*F7","v":0},"Versorg-\nungs-\nstufe","P2O5","K2O","MgO","pH",null,{"$f":"IF(K3=\"ja\",J12*B4,\"\")","v":""},null,null,"N Gesamt organsich",{"$f":"SUMIF($N$13:$N$18,\"organisch\",$H$13:$H$18)","v":0}]
[null,"2.",null,null,null,null,{"$f":"E8*F8","v":0},null,{"$f":"IF($C$2=\"\",\"\",VLOOKUP($C$2,Grünlandübersicht,30,0))","v":"C"},{"$f":"IF($C$2=\"\",\"\",VLOOKUP($C$2,Grünlandübersicht,31,0))","v":"C"},{"$f":"IF($C$2=\"\",\"\",VLOOKUP($C$2,Grünlandübersicht,32,0))","v":"C"},{"$f":"IF($C$2=\"\",\"\",VLOOKUP($C$2,Grünlandübersicht,33,0))","v":"C"},null,null,null,null,"NH4-N organsich",null,{"$f":"SUMIF($N$13:$N$18,\"organisch\",$I$13:$I$18)","v":0}]
[null,"3.",null,null,null,null,{"$f":"E9*F9","v":0},"Düngebedarf kg/ha (Blatt Grünland)",null,null,null,null,null,null,null,null,"P2O5 mineralisch",null,null,{"$f":"SUMIF($N$13:$N$18,\"mineralisch\",$J$13:$J$18)","v":0}]
[null,null,null,null,null,"Kosten €/ha",{"$f":"SUM(G7:G9)","v":0},{"$f":"IF(L3=\"ja\",VLOOKUP(C2,Grünlandübersicht,19,0),\"\")","v":""},null,{"$f":"IF(L3=\"ja\",O10,\"\")","v":""},null,null,null,null,"Düngebedarf um 20% red.",null,"P2O5 organisch",null,null,null,{"$f":"SUMIF($N$13:$N$18,\"organisch\",$J$13:$J$18)","v":0},null,null,null,null,null,null,null,null,{"$f":"IF(L3=\"ja\",\"Noch nicht ausgeschöpfter Stickstoff Düngebedarf aller Flächen\",\"\")","v":""}]
[null,null,null,null,"N Bedarf DÜV kg/ha",null,null,{"$f":"IF(C2=\"\",\"\",VLOOKUP(C2,Grünlandübersicht,18,0))","v":""},null,{"$f":"IF($C$2=\"\",\"\",VLOOKUP($C$2,Grünlandübersicht,36,0))","v":""},{"$f":"IF($C$2=\"\",\"\",VLOOKUP($C$2,Grünlandübersicht,37,0))","v":""},null,null,null,null,null,"Sonstige organische Düngemittel",{"$f":"SUMIF($N$13:$N$18,Q11,$H$13:$H$18)","v":0},{"$f":"SUMIF($N$13:$N$18,Q11,$I$13:$I$18)","v":0},{"$f":"SUMIF($N$13:$N$18,Q11,$J$13:$J$18)","v":0},null,"Anrechnung","Anrechnung ","Prüfung NH4","mineral",null,null,null,null,{"$f":"IF(L3=\"ja\",'Zus. Anlage 5 DüV'!D43,\"\")","v":""},{"$f":"IF(L3=\"ja\",\"kg N Gesamtfläche\",\"\")","v":""}]
[null,"Düngemittel",null,"Datum","m³o.dt/ha","€/E.","€/ha","Ges.-N","NH4- N","P2O5","K2O","MgO","S",null,null,null,"Bodenhilfsstoffe",{"$f":"SUMIF($N$13:$N$18,Q12,$H$13:$H$18)","v":0},null,{"$f":"SUMIF($N$13:$N$18,Q12,$J$13:$J$18)","v":0},null,"aktuelles Jahr","170 kg GW"," oder Anlage3","Stickstoff"]
["Düngung",null,null,null,null,{"$f":"IF($B13=\"\",\"\",VLOOKUP($B13,Düngemiteldaten,2,0))","v":""},{"$f":"IF(B13=\"\",\"\",E13*F13)","v":""},{"$f":"IF(B13=\"\",\"\",VLOOKUP(B13,Düngemiteldaten,4,0)*E13)","v":""},{"$f":"IF(B13=\"\",\"\",VLOOKUP(B13,Düngemiteldaten,5,0)*E13)","v":""},{"$f":"IF(B13=\"\",\"\",VLOOKUP(B13,Düngemiteldaten,7,0)*E13)","v":""},{"$f":"IF(B13=\"\",\"\",VLOOKUP(B13,Düngemiteldaten,8,0)*E13)","v":""},{"$f":"IF(B13=\"\",\"\",VLOOKUP(B13,Düngemiteldaten,9,0)*E13)","v":""},{"$f":"IF(B13=\"\",\"\",VLOOKUP(B13,Düngemiteldaten,10,0)*E13)","v":""},{"$f":"IF(B13=\"\",\"\",VLOOKUP(B13,Düngemiteldaten,20,0))","v":""},null,null,"Kultursubstrate",{"$f":"SUMIF($N$13:$N$18,Q13,$H$13:$H$18)","v":0},null,{"$f":"SUMIF($N$13:$N$18,Q13,$J$13:$J$18)","v":0},null,{"$f":"IF(OR(B13=\"\",N13=\"\"),\"\",IF(N13=\"mineralisch\",\"\",VLOOKUP(B13,Düngemiteldaten,18,0)*VLOOKUP(B13,Düngemiteldaten,4,0)*E13))","v":""},{"$f":"IF(OR(B13=\"\",N13=\"\"),\"\",IF(N13=\"mineralisch\",\"\",VLOOKUP(B13,Düngemiteldaten,19,0)*H13))","v":""},{"$f":"IF(B13=\"\",\"\",IF(V13<I13,I13,V13))","v":""},{"$f":"IF(B13=\"\",\"\",IF(N13=\"organisch\",0,H13))","v":""},null,null,null,null,{"$f":"IF(L3=\"ja\",\"Summe Gesamtstickstoff\",\"\")","v":""},null,null,{"$f":"IF(L3=\"ja\",\"Anteil § 13a Prüfung \n160 kg N/ha Gesamt\n80 kg N/ha mineralisch\",\"\")","v":""}]
[null,null,null,null,null,"","","","","","","","","",null,null,"Pflanzenhilfsmittel",{"$f":"SUMIF($N$13:$N$18,Q14,$H$13:$H$18)","v":0},null,{"$f":"SUMIF($N$13:$N$18,Q14,$J$13:$J$18)","v":0},null,"","","","",null,null,null,null,{"$f":"IF(L3=\"ja\",R5,\"\")","v":""},{"$f":"IF(L3=\"ja\",\"mineralisch N kg/ha\",\"\")","v":""}]
[null,null,null,null,null,"","","","","","","","","",null,null,"Abfälle zur Beseitigung (§ 28 Absatz 2 odeS 3 KSWG)",{"$f":"SUMIF($N$13:$N$18,Q15,$H$13:$H$18)","v":0},null,{"$f":"SUMIF($N$13:$N$18,Q15,$J$13:$J$18)","v":0},null,"","","","",null,null,null,null,{"$f":"IF(L3=\"ja\",R7+R11,\"\")","v":""},{"$f":"IF(L3=\"ja\",\"organisch N kg/ha\",\"\")","v":""}]
[null,null,null,null,null,"","","","","","","","","",null,null,null,null,null,null,null,"","","","",null,null,null,null,{"$f":"IF(L3=\"ja\",(AD15+AD14),\"\")","v":""},{"$f":"IF(L3=\"ja\",\"Gesamt kg N/ha\",\"\")","v":""}]
[null,null,null,null,null,"","","","","","","","","",null,null,null,null,null,null,null,"","","",""]
[null,null,null,null,null,"","","","","","","","","",null,null,"Nährstoffherkunft auf gefährdeten Flächen §13",null,null,null,null,"","","",""]
[null,"anrechenbarer N org.Düngung + min. Düngung kg N/ha",null,null,null,null,null,{"$f":"X19+Y19","v":0},null,{"$f":"SUM(J13:J18)","v":0},{"$f":"SUM(K13:K18)","v":0},{"$f":"SUM(L13:L18)","v":0},null,null,"Bilanz (anrechenbarer Dgg.- red.Düngebedarf) kg N/ha",null,null,"Gesamt N","NH4-N",null,null,{"$f":"SUM(V13:V18)","v":0},{"$f":"IF(SUM(W13:W18)=0,\"\",(SUM(W13:W18)))","v":""},{"$f":"SUM(X13:X18)","v":0},{"$f":"SUM(Y13:Y18)","v":0},"kg/ha"]
[null,{"$f":"IF(L3=\"ja\",O19,O20)","v":"Bilanz (anrechenbarer Dgg.- Düngebedarf) kg N/ha"},null,null,null,null,null,{"$f":"IF(H11=\"\",0,IF(OR(L3=0,L3=\"nein\"),H19-H11,H19-H10))","v":0},null,{"$f":"IF(J11=\"\",\"\",J19-J11)","v":""},"","","",null,"Bilanz (anrechenbarer Dgg.- Düngebedarf) kg N/ha",null,"N Gesamt minerl.",{"$f":"IF(L3=\"ja\",SUMIF($N$13:$N$18,\"mineralisch\",$H$13:$H$18),0)","v":0},null,null,null,{"$f":"V19*C4","v":0},{"$f":"IF(W19=\"\",\"\",W19*C4)","v":""},{"$f":"X19*C4","v":0},{"$f":"Y19*C4","v":0},"kg/Schlag",null,null,null,{"$f":"IF(H20>0,\"Stickstoffmenge überschreitet den Düngebedarf\",\"\")","v":""}]
[null,null,null,null,null,null,null,null,null,null,null,null,null,null,null,null,"NH4-N minerlisch",null,{"$f":"IF(L3=\"ja\",SUMIF($N$13:$N$18,\"mineralisch\",$I$13:$I$18),0)","v":0}]
[null,"Pflegemaßnahme",null,"Datum","Bemerkung",null,null,null,null,null,null,null,null,null,null,null,"N Gesamt organsich",{"$f":"IF(L3=\"ja\",SUMIF($N$13:$N$18,\"organisch\",$H$13:$H$18),0)","v":0}]
[null,null,null,null,null,null,null,null,null,null,null,null,null,null,null,null,"NH4-N organsich",null,{"$f":"IF(L3=\"ja\",SUMIF($N$13:$N$18,\"organisch\",$I$13:$I$18),0)","v":0},null,null,null,null,null,{"$f":"X19+Y19","v":0}]
[null,null,null,null,null,null,null,null,null,null,null,null,null,null,null,null,"P2O5 mineralisch",null,null,{"$f":"IF(L3=\"ja\",SUMIF($N$13:$N$18,\"mineralisch\",$J$13:$J$18),0)","v":0}]
[null,null,null,null,null,null,null,null,null,null,null,null,null,null,null,null,"P2O5 organisch",null,null,null,{"$f":"IF(L3=\"ja\",SUMIF($N$13:$N$18,\"organisch\",$J$13:$J$18),0)","v":0}]
[null,null,null,null,null,null,null,null,null,null,null,null,null,null,null,null,"Sonstige organische Düngemittel",{"$f":"IF(L3=\"ja\",SUMIF($N$13:$N$18,Q26,$H$13:$H$18),0)","v":0},{"$f":"IF(L3=\"ja\",SUMIF($N$13:$N$18,Q26,$I$13:$I$18),0)","v":0},{"$f":"IF(L3=\"ja\",SUMIF($N$13:$N$18,Q26,$J$13:$J$18),0)","v":0}]
["Pflanzenschutz","Pflanzenschutz",null,"Datum","E./ha","€/E.","€/ha","Anwender",null,null,"Bemerkungen",null,null,null,null,null,"Bodenhilfsstoffe",{"$f":"IF(L$3=\"ja\",SUMIF($N$13:$N$18,Q27,$H$13:$H$18),0)","v":0},null,{"$f":"IF(L$3=\"ja\",SUMIF($N$13:$N$18,Q27,$J$13:$J$18),0)","v":0}]
[null,null,null,null,null,{"$f":"IF(B28=\"\",\"\",VLOOKUP(B28,PSMMittel,2,0))","v":""},{"$f":"IF(B28=\"\",\"\",E28*F28)","v":""},null,null,null,null,null,null,null,null,null,"Kultursubstrate",{"$f":"IF(L$3=\"ja\",SUMIF($N$13:$N$18,Q28,$H$13:$H$18),0)","v":0},null,{"$f":"IF(L$3=\"ja\",SUMIF($N$13:$N$18,Q28,$J$13:$J$18),0)","v":0}]
[null,null,null,null,null,{"$f":"IF(B29=\"\",\"\",VLOOKUP(B29,PSMMittel,2,0))","v":""},{"$f":"IF(B29=\"\",\"\",E29*F29)","v":""},null,null,null,null,null,null,null,null,null,"Pflanzenhilfsmittel",{"$f":"IF(L$3=\"ja\",SUMIF($N$13:$N$18,Q29,$H$13:$H$18),0)","v":0},null,{"$f":"IF(L$3=\"ja\",SUMIF($N$13:$N$18,Q29,$J$13:$J$18),0)","v":0}]
[null,null,null,null,null,{"$f":"IF(B30=\"\",\"\",VLOOKUP(B30,PSMMittel,2,0))","v":""},{"$f":"IF(B30=\"\",\"\",E30*F30)","v":""},null,null,null,null,null,null,null,null,null,"Abfälle zur Beseitigung (§ 28 Absatz 2 odeS 3 KSWG)",{"$f":"IF(L$3=\"ja\",SUMIF($N$13:$N$18,Q30,$H$13:$H$18),0)","v":0},null,{"$f":"IF(L$3=\"ja\",SUMIF($N$13:$N$18,Q30,$J$13:$J$18),0)","v":0}]
[null,null,null,null,null,{"$f":"IF(B31=\"\",\"\",VLOOKUP(B31,PSMMittel,2,0))","v":""},{"$f":"IF(B31=\"\",\"\",E31*F31)","v":""}]
[null,null,null,null,null,{"$f":"IF(B32=\"\",\"\",VLOOKUP(B32,PSMMittel,2,0))","v":""},{"$f":"IF(B32=\"\",\"\",E32*F32)","v":""}]
[null,null,null,null,null,null,{"$f":"SUM(G28:G32)","v":0},null,null,null,null,null,null,null,"Stickstoffherkunft nicht gefährdetes Gebiet Gesamtfläche"]
[null,null,null,null,null,null,null,null,null,null,null,null,null,null,null,null,null,"Gesamt N","NH4-N"]
["Bergung","Weidetiere",null,null,null,null,"Anzahl \nTiere","Datum \nBeginn",null,"Datum \nEnde",null,"Anzahl \nWeidetage",null,null,null,null,"N Gesamt minerl.",{"$f":"R5-R20","v":0},null,null,null,null,"Stickstoffbindung aus Leguminosen kg /Schlag",null,"N \nWeidehaltung","P \nWeidehaltung"]
[null,null,null,null,null,null,null,null,null,null,null,{"$f":"IF(OR(H36=\"\",J36=\"\"),\"\",(J36+1)-H36)","v":""},null,null,null,null,"NH4-N minerlisch",null,{"$f":"S6-S21","v":0},null,null,null,{"$f":"IF(D3=0,\"\",VLOOKUP(D3,Grünlandnutzungen,27,0)*C4)","v":""},null,{"$f":"IF(B36=\"\",\"\",VLOOKUP(B36,Tierhaltung,3,0)/365*L36)","v":""},{"$f":"IF(B36=\"\",\"\",VLOOKUP(B36,Tierhaltung,4,0)/365*L36)","v":""}]
[null,null,null,null,null,null,null,null,null,null,null,{"$f":"IF(OR(H37=\"\",J37=\"\"),\"\",(J37+1)-H37)","v":""},null,null,null,null,"N Gesamt organsich",{"$f":"R7-R22","v":0},null,null,null,null,null,null,{"$f":"IF(B37=\"\",\"\",VLOOKUP(B37,Tierhaltung,3,0)/365*L37)","v":""},{"$f":"IF(B37=\"\",\"\",VLOOKUP(B37,Tierhaltung,4,0)/365*L37)","v":""}]
[null,null,null,null,null,null,null,null,null,null,null,"",null,null,null,null,"NH4-N organsich",null,{"$f":"S8-S23","v":0},null,null,null,null,null,{"$f":"IF(B38=\"\",\"\",VLOOKUP(B38,Tierhaltung,3,0)/365*L38)","v":""},{"$f":"IF(B38=\"\",\"\",VLOOKUP(B38,Tierhaltung,4,0)/365*L38)","v":""}]
[null,null,null,null,null,null,null,null,null,null,null,"",null,null,null,null,"P2O5 mineralisch",null,null,{"$f":"T9-T24","v":0},null,null,null,null,{"$f":"IF(B39=\"\",\"\",VLOOKUP(B39,Tierhaltung,3,0)/365*L39)","v":""},{"$f":"IF(B39=\"\",\"\",VLOOKUP(B39,Tierhaltung,4,0)/365*L39)","v":""}]
[null,null,null,null,null,null,null,null,null,null,null,"",null,null,null,null,"P2O5 organisch",null,null,null,{"$f":"U10-U25","v":0},null,null,null,{"$f":"IF(B40=\"\",\"\",VLOOKUP(B40,Tierhaltung,3,0)/365*L40)","v":""},{"$f":"IF(B40=\"\",\"\",VLOOKUP(B40,Tierhaltung,4,0)/365*L40)","v":""}]
[null,null,null,null,null,null,null,null,null,null,null,null,null,null,null,null,"Sonstige organische Düngemittel",{"$f":"R11-R26","v":0},{"$f":"S11-S26","v":0},{"$f":"T11-T26","v":0},null,null,null,null,{"$f":"SUM(Y36:Y40)","v":0},{"$f":"SUM(Z36:Z40)","v":0}]
[null,"Nutzungsdatum",null,"Nutzungsform",null,"Ertrag TM dt/ha",null,"Entzg N\nkg/ha","Entz. P2O5 kg/ha","Aufstellung Kosten",null,null,"€/ha",null,null,null,"Bodenhilfsstoffe",{"$f":"R12-R27","v":0},null,{"$f":"T12-T27","v":0},null,null,null,null,"N Entzug kg N/ha","Entzug kg P2O5/ha","N Entzug kg N Schlag","P Entzug kg P2O5 Schlag"]
["€/ha",null,null,null,null,null,null,{"$f":"IF(Y43=0,\"\",Y43)","v":""},"","Grünlandverbesserung",null,null,{"$f":"G10","v":0},null,null,null,"Kultursubstrate",{"$f":"R13-R28","v":0},null,{"$f":"T13-T28","v":0},null,null,null,null,{"$f":"IF(D$3=0,\"\",VLOOKUP(D$3,Grünlandnutzungen,6,0)*F43)","v":""},{"$f":"IF(D$3=0,\"\",VLOOKUP(D$3,Grünlandnutzungen,7,0)*F43)","v":""},{"$f":"IF(Y43=\"\",\"\",Y43*C4)","v":""},{"$f":"IF(Z43=\"\",\"\",Z43*C4)","v":""}]
[null,null,null,null,null,null,null,"","","Düngemittel",null,null,{"$f":"SUM(G13:G18)","v":0},null,null,null,"Pflanzenhilfsmittel",{"$f":"R14-R29","v":0},null,{"$f":"T14-T29","v":0},null,null,null,null,{"$f":"IF(D$3=0,\"\",VLOOKUP(D$3,Grünlandnutzungen,6,0)*F44)","v":""},{"$f":"IF(D$3=0,\"\",VLOOKUP(D$3,Grünlandnutzungen,7,0)*F44)","v":""},{"$f":"IF(Y44=\"\",\"\",Y44*C5)","v":""},{"$f":"IF(Z44=\"\",\"\",Z44*C5)","v":""}]
[null,null,null,null,null,null,null,"","","Pflanzenschutz",null,null,{"$f":"G33","v":0},null,null,null,"Abfälle zur Beseitigung (§ 28 Absatz 2 oder 3 KrWG)",{"$f":"R15-R30","v":0},null,{"$f":"T15-T30","v":0},null,null,null,null,{"$f":"IF(D$3=0,\"\",VLOOKUP(D$3,Grünlandnutzungen,6,0)*F45)","v":""},{"$f":"IF(D$3=0,\"\",VLOOKUP(D$3,Grünlandnutzungen,7,0)*F45)","v":""},{"$f":"IF(Y45=\"\",\"\",Y45*C6)","v":""},{"$f":"IF(Z45=\"\",\"\",Z45*C6)","v":""}]
["Bemerkungen",null,null,null,null,null,null,"","","Summe",null,null,{"$f":"M43+M44+M45","v":0},null,null,null,null,null,null,null,null,null,null,null,{"$f":"IF(D$3=0,\"\",VLOOKUP(D$3,Grünlandnutzungen,6,0)*F46)","v":""},{"$f":"IF(D$3=0,\"\",VLOOKUP(D$3,Grünlandnutzungen,7,0)*F46)","v":""},{"$f":"IF(Y46=\"\",\"\",Y46*C7)","v":""},{"$f":"IF(Z46=\"\",\"\",Z46*C7)","v":""}]

{"sheet":"G4","index":62,"n_rows":46,"n_cols":33,"rows_kept":46,"cut":false,"hidden":false,"merged":[[12,29,12,30],[12,32,15,33],[13,30,13,31],[14,30,14,31],[15,30,15,31],[45,0,48,0],[45,1,45,2],[45,3,45,4],[45,5,45,6],[45,9,45,11],[43,1,43,2],[43,3,43,4],[43,5,43,6],[43,9,43,11],[44,1,44,2],[44,3,44,4],[44,5,44,6],[44,9,44,11],[37,9,37,10],[37,11,37,12],[40,7,40,8],[41,1,41,2],[41,3,41,4],[41,5,41,6],[41,9,41,11],[42,0,44,0],[42,1,42,2],[42,3,42,4],[42,5,42,6],[42,9,42,11],[32,14,32,18],[34,0,39,0],[34,1,34,5],[34,7,34,8],[34,9,34,10],[34,11,34,12],[35,1,35,5],[35,7,35,8],[35,9,35,10],[35,11,35,12],[38,1,38,5],[38,7,38,8],[38,9,38,10],[38,11,38,12],[39,1,39,5],[39,7,39,8],[39,9,39,10],[39,11,39,12],[36,1,36,5],[36,7,36,8],[36,9,36,10],[36,11,36,12],[37,1,37,5],[37,7,37,8],[17,16,17,20],[24,1,24,2],[24,4,24,12],[25,1,25,2],[25,4,25,12],[21,1,21,2],[21,4,21,12],[22,1,22,2],[22,4,22,12],[23,1,23,2],[23,4,23,12],[18,7,18,8],[19,7,19,8],[20,3,20,12],[18,1,18,6],[19,1,19,6],[26,0,32,0],[26,1,26,2],[26,7,26,9],[26,10,26,12],[27,1,27,2],[27,7,27,9],[30,1,30,2],[30,7,30,9],[30,10,30,12],[31,1,31,2],[31,7,31,9],[31,10,31,12],[27,10,27,12],[28,1,28,2],[28,7,28,9],[28,10,28,12],[29,1,29,2],[29,7,29,9],[29,10,29,12],[6,7,7,7],[8,7,8,12],[9,7,9,8],[9,9,9,12],[10,4,10,6],[10,7,10,8],[11,1,11,2],[12,0,17,0],[12,1,12,2],[13,1,13,2],[14,1,14,2],[15,1,15,2],[16,1,16,2],[17,1,17,2],[3,3,3,6],[5,1,5,2],[0,1,0,12],[1,0,3,0],[1,3,1,6],[1,7,1,9],[1,10,1,12],[2,3,2,6],[2,7,2,10],[2,11,2,12],[3,7,3,10],[3,11,3,12],[5,7,5,10],[5,11,5,12],[4,7,4,10],[4,11,4,12]]}
[null,"Grünland"]
["Schlag","Nr.",4,null,null,null,null,"Jahr:",null,null,{"$f":"IF(Einführung!I8=\"\",\"\",Einführung!I8)","v":""},null,null,{"$f":"IF(OR(C4=\"\",H11=\"\"),\"\",H11*C4)","v":""},"DB kg * Fläche"]
[null,"Bez.",{"$f":"IF($C$2=\"\",\"\",VLOOKUP($C$2,Grünlandübersicht,2,0))","v":0},{"$f":"IF(C2=\"\",\"\",VLOOKUP(C2,Grünlandübersicht,4,0))","v":0},null,null,null,"Nitrat belastete Kulisse",null,null,null,{"$f":"IF(C2=\"\",\"\",VLOOKUP(C2,Grünlandübersicht,20,0))","v":0},null,{"$f":"W19","v":""},"kg/ha org. Dünger für Kontrollgrenze"]
[null,"ha",{"$f":"IF($C$2=\"\",\"\",VLOOKUP($C$2,Grünlandübersicht,3,0))","v":0},null,null,null,null,"P2O5 eutrophierte Kulisse",null,null,null,{"$f":"IF(C2=\"\",\"\",VLOOKUP(C2,Grünlandübersicht,21,0))","v":0},null,{"$f":"IF(OR(L3=\"\",L3=\"nein\",N2=\"\"),\"\",N3*C4)","v":""},"kg Gesamtschlag org Dünger für 170 Kontrollgrenze",null,null,"Gesamt N","NH4-N","P2O5 mineral.","P2O5 organisch"]
[null,null,null,null,null,null,null,"aus org. wirtschaftsdüngeren \nBerechung der 130 kg N/ha",null,null,null,{"$f":"IF(L3=\"ja\",W19,\"\")","v":""},null,{"$f":"IF(H11=\"\",\"\",IF(L3=\"ja\",N2*0.8,\"\"))","v":""},"Düngebedarf Gesamtschlag kg N/ha",null,"N Gesamt minerl.",{"$f":"SUMIF($N$13:$N$18,\"mineralisch\",$H$13:$H$18)","v":0}]
[null,"Grünlandverbesserung",null,"Datum","E/ha","€/E","€/ha","sonstige Auflagen",null,null,null,"WSG",null,{"$f":"IF(L3=\"ja\",X20+Y20,\"\")","v":""},"anrechenbare N Menge Gesamtschlag  kg N/ha",null,"NH4-N minerlisch",null,{"$f":"SUMIF($N$13:$N$18,\"mineralisch\",$I$13:$I$18)","v":0}]
[null,"1.",null,null,null,null,{"$f":"E7*F7","v":0},"Versorg-\nungs-\nstufe","P2O5","K2O","MgO","pH",null,{"$f":"IF(K3=\"ja\",J12*B4,\"\")","v":""},null,null,"N Gesamt organsich",{"$f":"SUMIF($N$13:$N$18,\"organisch\",$H$13:$H$18)","v":0}]
[null,"2.",null,null,null,null,{"$f":"E8*F8","v":0},null,{"$f":"IF($C$2=\"\",\"\",VLOOKUP($C$2,Grünlandübersicht,30,0))","v":"C"},{"$f":"IF($C$2=\"\",\"\",VLOOKUP($C$2,Grünlandübersicht,31,0))","v":"C"},{"$f":"IF($C$2=\"\",\"\",VLOOKUP($C$2,Grünlandübersicht,32,0))","v":"C"},{"$f":"IF($C$2=\"\",\"\",VLOOKUP($C$2,Grünlandübersicht,33,0))","v":"C"},null,null,null,null,"NH4-N organsich",null,{"$f":"SUMIF($N$13:$N$18,\"organisch\",$I$13:$I$18)","v":0}]
[null,"3.",null,null,null,null,{"$f":"E9*F9","v":0},"Düngebedarf kg/ha (Blatt Grünland)",null,null,null,null,null,null,null,null,"P2O5 mineralisch",null,null,{"$f":"SUMIF($N$13:$N$18,\"mineralisch\",$J$13:$J$18)","v":0}]
[null,null,null,null,null,"Kosten €/ha",{"$f":"SUM(G7:G9)","v":0},{"$f":"IF(L3=\"ja\",VLOOKUP(C2,Grünlandübersicht,19,0),\"\")","v":""},null,{"$f":"IF(L3=\"ja\",O10,\"\")","v":""},null,null,null,null,"Düngebedarf um 20% red.",null,"P2O5 organisch",null,null,null,{"$f":"SUMIF($N$13:$N$18,\"organisch\",$J$13:$J$18)","v":0},null,null,null,null,null,null,null,null,{"$f":"IF(L3=\"ja\",\"Noch nicht ausgeschöpfter Stickstoff Düngebedarf aller Flächen\",\"\")","v":""}]
[null,null,null,null,"N Bedarf DÜV kg/ha",null,null,{"$f":"IF(C2=\"\",\"\",VLOOKUP(C2,Grünlandübersicht,18,0))","v":""},null,{"$f":"IF($C$2=\"\",\"\",VLOOKUP($C$2,Grünlandübersicht,36,0))","v":""},{"$f":"IF($C$2=\"\",\"\",VLOOKUP($C$2,Grünlandübersicht,37,0))","v":""},null,null,null,null,null,"Sonstige organische Düngemittel",{"$f":"SUMIF($N$13:$N$18,Q11,$H$13:$H$18)","v":0},{"$f":"SUMIF($N$13:$N$18,Q11,$I$13:$I$18)","v":0},{"$f":"SUMIF($N$13:$N$18,Q11,$J$13:$J$18)","v":0},null,"Anrechnung","Anrechnung ","Prüfung NH4","mineral",null,null,null,null,{"$f":"IF(L3=\"ja\",'Zus. Anlage 5 DüV'!D43,\"\")","v":""},{"$f":"IF(L3=\"ja\",\"kg N Gesamtfläche\",\"\")","v":""}]
[null,"Düngemittel",null,"Datum","m³o.dt/ha","€/E.","€/ha","Ges.-N","NH4- N","P2O5","K2O","MgO","S",null,null,null,"Bodenhilfsstoffe",{"$f":"SUMIF($N$13:$N$18,Q12,$H$13:$H$18)","v":0},null,{"$f":"SUMIF($N$13:$N$18,Q12,$J$13:$J$18)","v":0},null,"aktuelles Jahr","170 kg GW"," oder Anlage3","Stickstoff"]
["Düngung",null,null,null,null,{"$f":"IF($B13=\"\",\"\",VLOOKUP($B13,Düngemiteldaten,2,0))","v":""},{"$f":"IF(B13=\"\",\"\",E13*F13)","v":""},{"$f":"IF(B13=\"\",\"\",VLOOKUP(B13,Düngemiteldaten,4,0)*E13)","v":""},{"$f":"IF(B13=\"\",\"\",VLOOKUP(B13,Düngemiteldaten,5,0)*E13)","v":""},{"$f":"IF(B13=\"\",\"\",VLOOKUP(B13,Düngemiteldaten,7,0)*E13)","v":""},{"$f":"IF(B13=\"\",\"\",VLOOKUP(B13,Düngemiteldaten,8,0)*E13)","v":""},{"$f":"IF(B13=\"\",\"\",VLOOKUP(B13,Düngemiteldaten,9,0)*E13)","v":""},{"$f":"IF(B13=\"\",\"\",VLOOKUP(B13,Düngemiteldaten,10,0)*E13)","v":""},{"$f":"IF(B13=\"\",\"\",VLOOKUP(B13,Düngemiteldaten,20,0))","v":""},null,null,"Kultursubstrate",{"$f":"SUMIF($N$13:$N$18,Q13,$H$13:$H$18)","v":0},null,{"$f":"SUMIF($N$13:$N$18,Q13,$J$13:$J$18)","v":0},null,{"$f":"IF(OR(B13=\"\",N13=\"\"),\"\",IF(N13=\"mineralisch\",\"\",VLOOKUP(B13,Düngemiteldaten,18,0)*VLOOKUP(B13,Düngemiteldaten,4,0)*E13))","v":""},{"$f":"IF(OR(B13=\"\",N13=\"\"),\"\",IF(N13=\"mineralisch\",\"\",VLOOKUP(B13,Düngemiteldaten,19,0)*H13))","v":""},{"$f":"IF(B13=\"\",\"\",IF(V13<I13,I13,V13))","v":""},{"$f":"IF(B13=\"\",\"\",IF(N13=\"organisch\",0,H13))","v":""},null,null,null,null,{"$f":"IF(L3=\"ja\",\"Summe Gesamtstickstoff\",\"\")","v":""},null,null,{"$f":"IF(L3=\"ja\",\"Anteil § 13a Prüfung \n160 kg N/ha Gesamt\n80 kg N/ha mineralisch\",\"\")","v":""}]
[null,null,null,null,null,"","","","","","","","","",null,null,"Pflanzenhilfsmittel",{"$f":"SUMIF($N$13:$N$18,Q14,$H$13:$H$18)","v":0},null,{"$f":"SUMIF($N$13:$N$18,Q14,$J$13:$J$18)","v":0},null,"","","","",null,null,null,null,{"$f":"IF(L3=\"ja\",R5,\"\")","v":""},{"$f":"IF(L3=\"ja\",\"mineralisch N kg/ha\",\"\")","v":""}]
[null,null,null,null,null,"","","","","","","","","",null,null,"Abfälle zur Beseitigung (§ 28 Absatz 2 odeS 3 KSWG)",{"$f":"SUMIF($N$13:$N$18,Q15,$H$13:$H$18)","v":0},null,{"$f":"SUMIF($N$13:$N$18,Q15,$J$13:$J$18)","v":0},null,"","","","",null,null,null,null,{"$f":"IF(L3=\"ja\",R7+R11,\"\")","v":""},{"$f":"IF(L3=\"ja\",\"organisch N kg/ha\",\"\")","v":""}]
[null,null,null,null,null,"","","","","","","","","",null,null,null,null,null,null,null,"","","","",null,null,null,null,{"$f":"IF(L3=\"ja\",(AD15+AD14),\"\")","v":""},{"$f":"IF(L3=\"ja\",\"Gesamt kg N/ha\",\"\")","v":""}]
[null,null,null,null,null,"","","","","","","","","",null,null,null,null,null,null,null,"","","",""]
[null,null,null,null,null,"","","","","","","","","",null,null,"Nährstoffherkunft auf gefährdeten Flächen §13",null,null,null,null,"","","",""]
[null,"anrechenbarer N org.Düngung + min. Düngung kg N/ha",null,null,null,null,null,{"$f":"X19+Y19","v":0},null,{"$f":"SUM(J13:J18)","v":0},{"$f":"SUM(K13:K18)","v":0},{"$f":"SUM(L13:L18)","v":0},null,null,"Bilanz (anrechenbarer Dgg.- red.Düngebedarf) kg N/ha",null,null,"Gesamt N","NH4-N",null,null,{"$f":"SUM(V13:V18)","v":0},{"$f":"IF(SUM(W13:W18)=0,\"\",(SUM(W13:W18)))","v":""},{"$f":"SUM(X13:X18)","v":0},{"$f":"SUM(Y13:Y18)","v":0},"kg/ha"]
[null,{"$f":"IF(L3=\"ja\",O19,O20)","v":"Bilanz (anrechenbarer Dgg.- Düngebedarf) kg N/ha"},null,null,null,null,null,{"$f":"IF(H11=\"\",0,IF(OR(L3=0,L3=\"nein\"),H19-H11,H19-H10))","v":0},null,{"$f":"IF(J11=\"\",\"\",J19-J11)","v":""},"","","",null,"Bilanz (anrechenbarer Dgg.- Düngebedarf) kg N/ha",null,"N Gesamt minerl.",{"$f":"IF(L3=\"ja\",SUMIF($N$13:$N$18,\"mineralisch\",$H$13:$H$18),0)","v":0},null,null,null,{"$f":"V19*C4","v":0},{"$f":"IF(W19=\"\",\"\",W19*C4)","v":""},{"$f":"X19*C4","v":0},{"$f":"Y19*C4","v":0},"kg/Schlag",null,null,null,{"$f":"IF(H20>0,\"Stickstoffmenge überschreitet den Düngebedarf\",\"\")","v":""}]
[null,null,null,null,null,null,null,null,null,null,null,null,null,null,null,null,"NH4-N minerlisch",null,{"$f":"IF(L3=\"ja\",SUMIF($N$13:$N$18,\"mineralisch\",$I$13:$I$18),0)","v":0}]
[null,"Pflegemaßnahme",null,"Datum","Bemerkung",null,null,null,null,null,null,null,null,null,null,null,"N Gesamt organsich",{"$f":"IF(L3=\"ja\",SUMIF($N$13:$N$18,\"organisch\",$H$13:$H$18),0)","v":0}]
[null,null,null,null,null,null,null,null,null,null,null,null,null,null,null,null,"NH4-N organsich",null,{"$f":"IF(L3=\"ja\",SUMIF($N$13:$N$18,\"organisch\",$I$13:$I$18),0)","v":0},null,null,null,null,null,{"$f":"X19+Y19","v":0}]
[null,null,null,null,null,null,null,null,null,null,null,null,null,null,null,null,"P2O5 mineralisch",null,null,{"$f":"IF(L3=\"ja\",SUMIF($N$13:$N$18,\"mineralisch\",$J$13:$J$18),0)","v":0}]
[null,null,null,null,null,null,null,null,null,null,null,null,null,null,null,null,"P2O5 organisch",null,null,null,{"$f":"IF(L3=\"ja\",SUMIF($N$13:$N$18,\"organisch\",$J$13:$J$18),0)","v":0}]
[null,null,null,null,null,null,null,null,null,null,null,null,null,null,null,null,"Sonstige organische Düngemittel",{"$f":"IF(L3=\"ja\",SUMIF($N$13:$N$18,Q26,$H$13:$H$18),0)","v":0},{"$f":"IF(L3=\"ja\",SUMIF($N$13:$N$18,Q26,$I$13:$I$18),0)","v":0},{"$f":"IF(L3=\"ja\",SUMIF($N$13:$N$18,Q26,$J$13:$J$18),0)","v":0}]
["Pflanzenschutz","Pflanzenschutz",null,"Datum","E./ha","€/E.","€/ha","Anwender",null,null,"Bemerkungen",null,null,null,null,null,"Bodenhilfsstoffe",{"$f":"IF(L$3=\"ja\",SUMIF($N$13:$N$18,Q27,$H$13:$H$18),0)","v":0},null,{"$f":"IF(L$3=\"ja\",SUMIF($N$13:$N$18,Q27,$J$13:$J$18),0)","v":0}]
[null,null,null,null,null,{"$f":"IF(B28=\"\",\"\",VLOOKUP(B28,PSMMittel,2,0))","v":""},{"$f":"IF(B28=\"\",\"\",E28*F28)","v":""},null,null,null,null,null,null,null,null,null,"Kultursubstrate",{"$f":"IF(L$3=\"ja\",SUMIF($N$13:$N$18,Q28,$H$13:$H$18),0)","v":0},null,{"$f":"IF(L$3=\"ja\",SUMIF($N$13:$N$18,Q28,$J$13:$J$18),0)","v":0}]
[null,null,null,null,null,{"$f":"IF(B29=\"\",\"\",VLOOKUP(B29,PSMMittel,2,0))","v":""},{"$f":"IF(B29=\"\",\"\",E29*F29)","v":""},null,null,null,null,null,null,null,null,null,"Pflanzenhilfsmittel",{"$f":"IF(L$3=\"ja\",SUMIF($N$13:$N$18,Q29,$H$13:$H$18),0)","v":0},null,{"$f":"IF(L$3=\"ja\",SUMIF($N$13:$N$18,Q29,$J$13:$J$18),0)","v":0}]
[null,null,null,null,null,{"$f":"IF(B30=\"\",\"\",VLOOKUP(B30,PSMMittel,2,0))","v":""},{"$f":"IF(B30=\"\",\"\",E30*F30)","v":""},null,null,null,null,null,null,null,null,null,"Abfälle zur Beseitigung (§ 28 Absatz 2 odeS 3 KSWG)",{"$f":"IF(L$3=\"ja\",SUMIF($N$13:$N$18,Q30,$H$13:$H$18),0)","v":0},null,{"$f":"IF(L$3=\"ja\",SUMIF($N$13:$N$18,Q30,$J$13:$J$18),0)","v":0}]
[null,null,null,null,null,{"$f":"IF(B31=\"\",\"\",VLOOKUP(B31,PSMMittel,2,0))","v":""},{"$f":"IF(B31=\"\",\"\",E31*F31)","v":""}]
[null,null,null,null,null,{"$f":"IF(B32=\"\",\"\",VLOOKUP(B32,PSMMittel,2,0))","v":""},{"$f":"IF(B32=\"\",\"\",E32*F32)","v":""}]
[null,null,null,null,null,null,{"$f":"SUM(G28:G32)","v":0},null,null,null,null,null,null,null,"Stickstoffherkunft nicht gefährdetes Gebiet Gesamtfläche"]
[null,null,null,null,null,null,null,null,null,null,null,null,null,null,null,null,null,"Gesamt N","NH4-N"]
["Bergung","Weidetiere",null,null,null,null,"Anzahl \nTiere","Datum \nBeginn",null,"Datum \nEnde",null,"Anzahl \nWeidetage",null,null,null,null,"N Gesamt minerl.",{"$f":"R5-R20","v":0},null,null,null,null,"Stickstoffbindung aus Leguminosen kg /Schlag",null,"N \nWeidehaltung","P \nWeidehaltung"]
[null,null,null,null,null,null,null,null,null,null,null,{"$f":"IF(OR(H36=\"\",J36=\"\"),\"\",(J36+1)-H36)","v":""},null,null,null,null,"NH4-N minerlisch",null,{"$f":"S6-S21","v":0},null,null,null,{"$f":"IF(D3=0,\"\",VLOOKUP(D3,Grünlandnutzungen,27,0)*C4)","v":""},null,{"$f":"IF(B36=\"\",\"\",VLOOKUP(B36,Tierhaltung,3,0)/365*L36)","v":""},{"$f":"IF(B36=\"\",\"\",VLOOKUP(B36,Tierhaltung,4,0)/365*L36)","v":""}]
[null,null,null,null,null,null,null,null,null,null,null,{"$f":"IF(OR(H37=\"\",J37=\"\"),\"\",(J37+1)-H37)","v":""},null,null,null,null,"N Gesamt organsich",{"$f":"R7-R22","v":0},null,null,null,null,null,null,{"$f":"IF(B37=\"\",\"\",VLOOKUP(B37,Tierhaltung,3,0)/365*L37)","v":""},{"$f":"IF(B37=\"\",\"\",VLOOKUP(B37,Tierhaltung,4,0)/365*L37)","v":""}]
[null,null,null,null,null,null,null,null,null,null,null,"",null,null,null,null,"NH4-N organsich",null,{"$f":"S8-S23","v":0},null,null,null,null,null,{"$f":"IF(B38=\"\",\"\",VLOOKUP(B38,Tierhaltung,3,0)/365*L38)","v":""},{"$f":"IF(B38=\"\",\"\",VLOOKUP(B38,Tierhaltung,4,0)/365*L38)","v":""}]
[null,null,null,null,null,null,null,null,null,null,null,"",null,null,null,null,"P2O5 mineralisch",null,null,{"$f":"T9-T24","v":0},null,null,null,null,{"$f":"IF(B39=\"\",\"\",VLOOKUP(B39,Tierhaltung,3,0)/365*L39)","v":""},{"$f":"IF(B39=\"\",\"\",VLOOKUP(B39,Tierhaltung,4,0)/365*L39)","v":""}]
[null,null,null,null,null,null,null,null,null,null,null,"",null,null,null,null,"P2O5 organisch",null,null,null,{"$f":"U10-U25","v":0},null,null,null,{"$f":"IF(B40=\"\",\"\",VLOOKUP(B40,Tierhaltung,3,0)/365*L40)","v":""},{"$f":"IF(B40=\"\",\"\",VLOOKUP(B40,Tierhaltung,4,0)/365*L40)","v":""}]
[null,null,null,null,null,null,null,null,null,null,null,null,null,null,null,null,"Sonstige organische Düngemittel",{"$f":"R11-R26","v":0},{"$f":"S11-S26","v":0},{"$f":"T11-T26","v":0},null,null,null,null,{"$f":"SUM(Y36:Y40)","v":0},{"$f":"SUM(Z36:Z40)","v":0}]
[null,"Nutzungsdatum",null,"Nutzungsform",null,"Ertrag TM dt/ha",null,"Entzg N\nkg/ha","Entz. P2O5 kg/ha","Aufstellung Kosten",null,null,"€/ha",null,null,null,"Bodenhilfsstoffe",{"$f":"R12-R27","v":0},null,{"$f":"T12-T27","v":0},null,null,null,null,"N Entzug kg N/ha","Entzug kg P2O5/ha","N Entzug kg N Schlag","P Entzug kg P2O5 Schlag"]
["€/ha",null,null,null,null,null,null,{"$f":"IF(Y43=0,\"\",Y43)","v":""},"","Grünlandverbesserung",null,null,{"$f":"G10","v":0},null,null,null,"Kultursubstrate",{"$f":"R13-R28","v":0},null,{"$f":"T13-T28","v":0},null,null,null,null,{"$f":"IF(D$3=0,\"\",VLOOKUP(D$3,Grünlandnutzungen,6,0)*F43)","v":""},{"$f":"IF(D$3=0,\"\",VLOOKUP(D$3,Grünlandnutzungen,7,0)*F43)","v":""},{"$f":"IF(Y43=\"\",\"\",Y43*C4)","v":""},{"$f":"IF(Z43=\"\",\"\",Z43*C4)","v":""}]
[null,null,null,null,null,null,null,"","","Düngemittel",null,null,{"$f":"SUM(G13:G18)","v":0},null,null,null,"Pflanzenhilfsmittel",{"$f":"R14-R29","v":0},null,{"$f":"T14-T29","v":0},null,null,null,null,{"$f":"IF(D$3=0,\"\",VLOOKUP(D$3,Grünlandnutzungen,6,0)*F44)","v":""},{"$f":"IF(D$3=0,\"\",VLOOKUP(D$3,Grünlandnutzungen,7,0)*F44)","v":""},{"$f":"IF(Y44=\"\",\"\",Y44*C5)","v":""},{"$f":"IF(Z44=\"\",\"\",Z44*C5)","v":""}]
[null,null,null,null,null,null,null,"","","Pflanzenschutz",null,null,{"$f":"G33","v":0},null,null,null,"Abfälle zur Beseitigung (§ 28 Absatz 2 oder 3 KrWG)",{"$f":"R15-R30","v":0},null,{"$f":"T15-T30","v":0},null,null,null,null,{"$f":"IF(D$3=0,\"\",VLOOKUP(D$3,Grünlandnutzungen,6,0)*F45)","v":""},{"$f":"IF(D$3=0,\"\",VLOOKUP(D$3,Grünlandnutzungen,7,0)*F45)","v":""},{"$f":"IF(Y45=\"\",\"\",Y45*C6)","v":""},{"$f":"IF(Z45=\"\",\"\",Z45*C6)","v":""}]
["Bemerkungen",null,null,null,null,null,null,"","","Summe",null,null,{"$f":"M43+M44+M45","v":0},null,null,null,null,null,null,null,null,null,null,null,{"$f":"IF(D$3=0,\"\",VLOOKUP(D$3,Grünlandnutzungen,6,0)*F46)","v":""},{"$f":"IF(D$3=0,\"\",VLOOKUP(D$3,Grünlandnutzungen,7,0)*F46)","v":""},{"$f":"IF(Y46=\"\",\"\",Y46*C7)","v":""},{"$f":"IF(Z46=\"\",\"\",Z46*C7)","v":""}]

{"sheet":"G5","index":63,"n_rows":46,"n_cols":33,"rows_kept":46,"cut":false,"hidden":false,"merged":[[12,29,12,30],[12,32,15,33],[13,30,13,31],[14,30,14,31],[15,30,15,31],[45,0,48,0],[45,1,45,2],[45,3,45,4],[45,5,45,6],[45,9,45,11],[43,1,43,2],[43,3,43,4],[43,5,43,6],[43,9,43,11],[44,1,44,2],[44,3,44,4],[44,5,44,6],[44,9,44,11],[37,9,37,10],[37,11,37,12],[40,7,40,8],[41,1,41,2],[41,3,41,4],[41,5,41,6],[41,9,41,11],[42,0,44,0],[42,1,42,2],[42,3,42,4],[42,5,42,6],[42,9,42,11],[32,14,32,18],[34,0,39,0],[34,1,34,5],[34,7,34,8],[34,9,34,10],[34,11,34,12],[35,1,35,5],[35,7,35,8],[35,9,35,10],[35,11,35,12],[38,1,38,5],[38,7,38,8],[38,9,38,10],[38,11,38,12],[39,1,39,5],[39,7,39,8],[39,9,39,10],[39,11,39,12],[36,1,36,5],[36,7,36,8],[36,9,36,10],[36,11,36,12],[37,1,37,5],[37,7,37,8],[17,16,17,20],[24,1,24,2],[24,4,24,12],[25,1,25,2],[25,4,25,12],[21,1,21,2],[21,4,21,12],[22,1,22,2],[22,4,22,12],[23,1,23,2],[23,4,23,12],[18,7,18,8],[19,7,19,8],[20,3,20,12],[18,1,18,6],[19,1,19,6],[26,0,32,0],[26,1,26,2],[26,7,26,9],[26,10,26,12],[27,1,27,2],[27,7,27,9],[30,1,30,2],[30,7,30,9],[30,10,30,12],[31,1,31,2],[31,7,31,9],[31,10,31,12],[27,10,27,12],[28,1,28,2],[28,7,28,9],[28,10,28,12],[29,1,29,2],[29,7,29,9],[29,10,29,12],[6,7,7,7],[8,7,8,12],[9,7,9,8],[9,9,9,12],[10,4,10,6],[10,7,10,8],[11,1,11,2],[12,0,17,0],[12,1,12,2],[13,1,13,2],[14,1,14,2],[15,1,15,2],[16,1,16,2],[17,1,17,2],[3,3,3,6],[5,1,5,2],[0,1,0,12],[1,0,3,0],[1,3,1,6],[1,7,1,9],[1,10,1,12],[2,3,2,6],[2,7,2,10],[2,11,2,12],[3,7,3,10],[3,11,3,12],[5,7,5,10],[5,11,5,12],[4,7,4,10],[4,11,4,12]]}
[null,"Grünland"]
["Schlag","Nr.",5,null,null,null,null,"Jahr:",null,null,{"$f":"IF(Einführung!I8=\"\",\"\",Einführung!I8)","v":""},null,null,{"$f":"IF(OR(C4=\"\",H11=\"\"),\"\",H11*C4)","v":""},"DB kg * Fläche"]
[null,"Bez.",{"$f":"IF($C$2=\"\",\"\",VLOOKUP($C$2,Grünlandübersicht,2,0))","v":0},{"$f":"IF(C2=\"\",\"\",VLOOKUP(C2,Grünlandübersicht,4,0))","v":0},null,null,null,"Nitrat belastete Kulisse",null,null,null,{"$f":"IF(C2=\"\",\"\",VLOOKUP(C2,Grünlandübersicht,20,0))","v":0},null,{"$f":"W19","v":""},"kg/ha org. Dünger für Kontrollgrenze"]
[null,"ha",{"$f":"IF($C$2=\"\",\"\",VLOOKUP($C$2,Grünlandübersicht,3,0))","v":0},null,null,null,null,"P2O5 eutrophierte Kulisse",null,null,null,{"$f":"IF(C2=\"\",\"\",VLOOKUP(C2,Grünlandübersicht,21,0))","v":0},null,{"$f":"IF(OR(L3=\"\",L3=\"nein\",N2=\"\"),\"\",N3*C4)","v":""},"kg Gesamtschlag org Dünger für 170 Kontrollgrenze",null,null,"Gesamt N","NH4-N","P2O5 mineral.","P2O5 organisch"]
[null,null,null,null,null,null,null,"aus org. wirtschaftsdüngeren \nBerechung der 130 kg N/ha",null,null,null,{"$f":"IF(L3=\"ja\",W19,\"\")","v":""},null,{"$f":"IF(H11=\"\",\"\",IF(L3=\"ja\",N2*0.8,\"\"))","v":""},"Düngebedarf Gesamtschlag kg N/ha",null,"N Gesamt minerl.",{"$f":"SUMIF($N$13:$N$18,\"mineralisch\",$H$13:$H$18)","v":0}]
[null,"Grünlandverbesserung",null,"Datum","E/ha","€/E","€/ha","sonstige Auflagen",null,null,null,"WSG",null,{"$f":"IF(L3=\"ja\",X20+Y20,\"\")","v":""},"anrechenbare N Menge Gesamtschlag  kg N/ha",null,"NH4-N minerlisch",null,{"$f":"SUMIF($N$13:$N$18,\"mineralisch\",$I$13:$I$18)","v":0}]
[null,"1.",null,null,null,null,{"$f":"E7*F7","v":0},"Versorg-\nungs-\nstufe","P2O5","K2O","MgO","pH",null,{"$f":"IF(K3=\"ja\",J12*B4,\"\")","v":""},null,null,"N Gesamt organsich",{"$f":"SUMIF($N$13:$N$18,\"organisch\",$H$13:$H$18)","v":0}]
[null,"2.",null,null,null,null,{"$f":"E8*F8","v":0},null,{"$f":"IF($C$2=\"\",\"\",VLOOKUP($C$2,Grünlandübersicht,30,0))","v":"C"},{"$f":"IF($C$2=\"\",\"\",VLOOKUP($C$2,Grünlandübersicht,31,0))","v":"C"},{"$f":"IF($C$2=\"\",\"\",VLOOKUP($C$2,Grünlandübersicht,32,0))","v":"C"},{"$f":"IF($C$2=\"\",\"\",VLOOKUP($C$2,Grünlandübersicht,33,0))","v":"C"},null,null,null,null,"NH4-N organsich",null,{"$f":"SUMIF($N$13:$N$18,\"organisch\",$I$13:$I$18)","v":0}]
[null,"3.",null,null,null,null,{"$f":"E9*F9","v":0},"Düngebedarf kg/ha (Blatt Grünland)",null,null,null,null,null,null,null,null,"P2O5 mineralisch",null,null,{"$f":"SUMIF($N$13:$N$18,\"mineralisch\",$J$13:$J$18)","v":0}]
[null,null,null,null,null,"Kosten €/ha",{"$f":"SUM(G7:G9)","v":0},{"$f":"IF(L3=\"ja\",VLOOKUP(C2,Grünlandübersicht,19,0),\"\")","v":""},null,{"$f":"IF(L3=\"ja\",O10,\"\")","v":""},null,null,null,null,"Düngebedarf um 20% red.",null,"P2O5 organisch",null,null,null,{"$f":"SUMIF($N$13:$N$18,\"organisch\",$J$13:$J$18)","v":0},null,null,null,null,null,null,null,null,{"$f":"IF(L3=\"ja\",\"Noch nicht ausgeschöpfter Stickstoff Düngebedarf aller Flächen\",\"\")","v":""}]
[null,null,null,null,"N Bedarf DÜV kg/ha",null,null,{"$f":"IF(C2=\"\",\"\",VLOOKUP(C2,Grünlandübersicht,18,0))","v":""},null,{"$f":"IF($C$2=\"\",\"\",VLOOKUP($C$2,Grünlandübersicht,36,0))","v":""},{"$f":"IF($C$2=\"\",\"\",VLOOKUP($C$2,Grünlandübersicht,37,0))","v":""},null,null,null,null,null,"Sonstige organische Düngemittel",{"$f":"SUMIF($N$13:$N$18,Q11,$H$13:$H$18)","v":0},{"$f":"SUMIF($N$13:$N$18,Q11,$I$13:$I$18)","v":0},{"$f":"SUMIF($N$13:$N$18,Q11,$J$13:$J$18)","v":0},null,"Anrechnung","Anrechnung ","Prüfung NH4","mineral",null,null,null,null,{"$f":"IF(L3=\"ja\",'Zus. Anlage 5 DüV'!D43,\"\")","v":""},{"$f":"IF(L3=\"ja\",\"kg N Gesamtfläche\",\"\")","v":""}]
[null,"Düngemittel",null,"Datum","m³o.dt/ha","€/E.","€/ha","Ges.-N","NH4- N","P2O5","K2O","MgO","S",null,null,null,"Bodenhilfsstoffe",{"$f":"SUMIF($N$13:$N$18,Q12,$H$13:$H$18)","v":0},null,{"$f":"SUMIF($N$13:$N$18,Q12,$J$13:$J$18)","v":0},null,"aktuelles Jahr","170 kg GW"," oder Anlage3","Stickstoff"]
["Düngung",null,null,null,null,{"$f":"IF($B13=\"\",\"\",VLOOKUP($B13,Düngemiteldaten,2,0))","v":""},{"$f":"IF(B13=\"\",\"\",E13*F13)","v":""},{"$f":"IF(B13=\"\",\"\",VLOOKUP(B13,Düngemiteldaten,4,0)*E13)","v":""},{"$f":"IF(B13=\"\",\"\",VLOOKUP(B13,Düngemiteldaten,5,0)*E13)","v":""},{"$f":"IF(B13=\"\",\"\",VLOOKUP(B13,Düngemiteldaten,7,0)*E13)","v":""},{"$f":"IF(B13=\"\",\"\",VLOOKUP(B13,Düngemiteldaten,8,0)*E13)","v":""},{"$f":"IF(B13=\"\",\"\",VLOOKUP(B13,Düngemiteldaten,9,0)*E13)","v":""},{"$f":"IF(B13=\"\",\"\",VLOOKUP(B13,Düngemiteldaten,10,0)*E13)","v":""},{"$f":"IF(B13=\"\",\"\",VLOOKUP(B13,Düngemiteldaten,20,0))","v":""},null,null,"Kultursubstrate",{"$f":"SUMIF($N$13:$N$18,Q13,$H$13:$H$18)","v":0},null,{"$f":"SUMIF($N$13:$N$18,Q13,$J$13:$J$18)","v":0},null,{"$f":"IF(OR(B13=\"\",N13=\"\"),\"\",IF(N13=\"mineralisch\",\"\",VLOOKUP(B13,Düngemiteldaten,18,0)*VLOOKUP(B13,Düngemiteldaten,4,0)*E13))","v":""},{"$f":"IF(OR(B13=\"\",N13=\"\"),\"\",IF(N13=\"mineralisch\",\"\",VLOOKUP(B13,Düngemiteldaten,19,0)*H13))","v":""},{"$f":"IF(B13=\"\",\"\",IF(V13<I13,I13,V13))","v":""},{"$f":"IF(B13=\"\",\"\",IF(N13=\"organisch\",0,H13))","v":""},null,null,null,null,{"$f":"IF(L3=\"ja\",\"Summe Gesamtstickstoff\",\"\")","v":""},null,null,{"$f":"IF(L3=\"ja\",\"Anteil § 13a Prüfung \n160 kg N/ha Gesamt\n80 kg N/ha mineralisch\",\"\")","v":""}]
[null,null,null,null,null,"","","","","","","","","",null,null,"Pflanzenhilfsmittel",{"$f":"SUMIF($N$13:$N$18,Q14,$H$13:$H$18)","v":0},null,{"$f":"SUMIF($N$13:$N$18,Q14,$J$13:$J$18)","v":0},null,"","","","",null,null,null,null,{"$f":"IF(L3=\"ja\",R5,\"\")","v":""},{"$f":"IF(L3=\"ja\",\"mineralisch N kg/ha\",\"\")","v":""}]
[null,null,null,null,null,"","","","","","","","","",null,null,"Abfälle zur Beseitigung (§ 28 Absatz 2 odeS 3 KSWG)",{"$f":"SUMIF($N$13:$N$18,Q15,$H$13:$H$18)","v":0},null,{"$f":"SUMIF($N$13:$N$18,Q15,$J$13:$J$18)","v":0},null,"","","","",null,null,null,null,{"$f":"IF(L3=\"ja\",R7+R11,\"\")","v":""},{"$f":"IF(L3=\"ja\",\"organisch N kg/ha\",\"\")","v":""}]
[null,null,null,null,null,"","","","","","","","","",null,null,null,null,null,null,null,"","","","",null,null,null,null,{"$f":"IF(L3=\"ja\",(AD15+AD14),\"\")","v":""},{"$f":"IF(L3=\"ja\",\"Gesamt kg N/ha\",\"\")","v":""}]
[null,null,null,null,null,"","","","","","","","","",null,null,null,null,null,null,null,"","","",""]
[null,null,null,null,null,"","","","","","","","","",null,null,"Nährstoffherkunft auf gefährdeten Flächen §13",null,null,null,null,"","","",""]
[null,"anrechenbarer N org.Düngung + min. Düngung kg N/ha",null,null,null,null,null,{"$f":"X19+Y19","v":0},null,{"$f":"SUM(J13:J18)","v":0},{"$f":"SUM(K13:K18)","v":0},{"$f":"SUM(L13:L18)","v":0},null,null,"Bilanz (anrechenbarer Dgg.- red.Düngebedarf) kg N/ha",null,null,"Gesamt N","NH4-N",null,null,{"$f":"SUM(V13:V18)","v":0},{"$f":"IF(SUM(W13:W18)=0,\"\",(SUM(W13:W18)))","v":""},{"$f":"SUM(X13:X18)","v":0},{"$f":"SUM(Y13:Y18)","v":0},"kg/ha"]
[null,{"$f":"IF(L3=\"ja\",O19,O20)","v":"Bilanz (anrechenbarer Dgg.- Düngebedarf) kg N/ha"},null,null,null,null,null,{"$f":"IF(H11=\"\",0,IF(OR(L3=0,L3=\"nein\"),H19-H11,H19-H10))","v":0},null,{"$f":"IF(J11=\"\",\"\",J19-J11)","v":""},"","","",null,"Bilanz (anrechenbarer Dgg.- Düngebedarf) kg N/ha",null,"N Gesamt minerl.",{"$f":"IF(L3=\"ja\",SUMIF($N$13:$N$18,\"mineralisch\",$H$13:$H$18),0)","v":0},null,null,null,{"$f":"V19*C4","v":0},{"$f":"IF(W19=\"\",\"\",W19*C4)","v":""},{"$f":"X19*C4","v":0},{"$f":"Y19*C4","v":0},"kg/Schlag",null,null,null,{"$f":"IF(H20>0,\"Stickstoffmenge überschreitet den Düngebedarf\",\"\")","v":""}]
[null,null,null,null,null,null,null,null,null,null,null,null,null,null,null,null,"NH4-N minerlisch",null,{"$f":"IF(L3=\"ja\",SUMIF($N$13:$N$18,\"mineralisch\",$I$13:$I$18),0)","v":0}]
[null,"Pflegemaßnahme",null,"Datum","Bemerkung",null,null,null,null,null,null,null,null,null,null,null,"N Gesamt organsich",{"$f":"IF(L3=\"ja\",SUMIF($N$13:$N$18,\"organisch\",$H$13:$H$18),0)","v":0}]
[null,null,null,null,null,null,null,null,null,null,null,null,null,null,null,null,"NH4-N organsich",null,{"$f":"IF(L3=\"ja\",SUMIF($N$13:$N$18,\"organisch\",$I$13:$I$18),0)","v":0},null,null,null,null,null,{"$f":"X19+Y19","v":0}]
[null,null,null,null,null,null,null,null,null,null,null,null,null,null,null,null,"P2O5 mineralisch",null,null,{"$f":"IF(L3=\"ja\",SUMIF($N$13:$N$18,\"mineralisch\",$J$13:$J$18),0)","v":0}]
[null,null,null,null,null,null,null,null,null,null,null,null,null,null,null,null,"P2O5 organisch",null,null,null,{"$f":"IF(L3=\"ja\",SUMIF($N$13:$N$18,\"organisch\",$J$13:$J$18),0)","v":0}]
[null,null,null,null,null,null,null,null,null,null,null,null,null,null,null,null,"Sonstige organische Düngemittel",{"$f":"IF(L3=\"ja\",SUMIF($N$13:$N$18,Q26,$H$13:$H$18),0)","v":0},{"$f":"IF(L3=\"ja\",SUMIF($N$13:$N$18,Q26,$I$13:$I$18),0)","v":0},{"$f":"IF(L3=\"ja\",SUMIF($N$13:$N$18,Q26,$J$13:$J$18),0)","v":0}]
["Pflanzenschutz","Pflanzenschutz",null,"Datum","E./ha","€/E.","€/ha","Anwender",null,null,"Bemerkungen",null,null,null,null,null,"Bodenhilfsstoffe",{"$f":"IF(L$3=\"ja\",SUMIF($N$13:$N$18,Q27,$H$13:$H$18),0)","v":0},null,{"$f":"IF(L$3=\"ja\",SUMIF($N$13:$N$18,Q27,$J$13:$J$18),0)","v":0}]
[null,null,null,null,null,{"$f":"IF(B28=\"\",\"\",VLOOKUP(B28,PSMMittel,2,0))","v":""},{"$f":"IF(B28=\"\",\"\",E28*F28)","v":""},null,null,null,null,null,null,null,null,null,"Kultursubstrate",{"$f":"IF(L$3=\"ja\",SUMIF($N$13:$N$18,Q28,$H$13:$H$18),0)","v":0},null,{"$f":"IF(L$3=\"ja\",SUMIF($N$13:$N$18,Q28,$J$13:$J$18),0)","v":0}]
[null,null,null,null,null,{"$f":"IF(B29=\"\",\"\",VLOOKUP(B29,PSMMittel,2,0))","v":""},{"$f":"IF(B29=\"\",\"\",E29*F29)","v":""},null,null,null,null,null,null,null,null,null,"Pflanzenhilfsmittel",{"$f":"IF(L$3=\"ja\",SUMIF($N$13:$N$18,Q29,$H$13:$H$18),0)","v":0},null,{"$f":"IF(L$3=\"ja\",SUMIF($N$13:$N$18,Q29,$J$13:$J$18),0)","v":0}]
[null,null,null,null,null,{"$f":"IF(B30=\"\",\"\",VLOOKUP(B30,PSMMittel,2,0))","v":""},{"$f":"IF(B30=\"\",\"\",E30*F30)","v":""},null,null,null,null,null,null,null,null,null,"Abfälle zur Beseitigung (§ 28 Absatz 2 odeS 3 KSWG)",{"$f":"IF(L$3=\"ja\",SUMIF($N$13:$N$18,Q30,$H$13:$H$18),0)","v":0},null,{"$f":"IF(L$3=\"ja\",SUMIF($N$13:$N$18,Q30,$J$13:$J$18),0)","v":0}]
[null,null,null,null,null,{"$f":"IF(B31=\"\",\"\",VLOOKUP(B31,PSMMittel,2,0))","v":""},{"$f":"IF(B31=\"\",\"\",E31*F31)","v":""}]
[null,null,null,null,null,{"$f":"IF(B32=\"\",\"\",VLOOKUP(B32,PSMMittel,2,0))","v":""},{"$f":"IF(B32=\"\",\"\",E32*F32)","v":""}]
[null,null,null,null,null,null,{"$f":"SUM(G28:G32)","v":0},null,null,null,null,null,null,null,"Stickstoffherkunft nicht gefährdetes Gebiet Gesamtfläche"]
[null,null,null,null,null,null,null,null,null,null,null,null,null,null,null,null,null,"Gesamt N","NH4-N"]
["Bergung","Weidetiere",null,null,null,null,"Anzahl \nTiere","Datum \nBeginn",null,"Datum \nEnde",null,"Anzahl \nWeidetage",null,null,null,null,"N Gesamt minerl.",{"$f":"R5-R20","v":0},null,null,null,null,"Stickstoffbindung aus Leguminosen kg /Schlag",null,"N \nWeidehaltung","P \nWeidehaltung"]
[null,null,null,null,null,null,null,null,null,null,null,{"$f":"IF(OR(H36=\"\",J36=\"\"),\"\",(J36+1)-H36)","v":""},null,null,null,null,"NH4-N minerlisch",null,{"$f":"S6-S21","v":0},null,null,null,{"$f":"IF(D3=0,\"\",VLOOKUP(D3,Grünlandnutzungen,27,0)*C4)","v":""},null,{"$f":"IF(B36=\"\",\"\",VLOOKUP(B36,Tierhaltung,3,0)/365*L36)","v":""},{"$f":"IF(B36=\"\",\"\",VLOOKUP(B36,Tierhaltung,4,0)/365*L36)","v":""}]
[null,null,null,null,null,null,null,null,null,null,null,{"$f":"IF(OR(H37=\"\",J37=\"\"),\"\",(J37+1)-H37)","v":""},null,null,null,null,"N Gesamt organsich",{"$f":"R7-R22","v":0},null,null,null,null,null,null,{"$f":"IF(B37=\"\",\"\",VLOOKUP(B37,Tierhaltung,3,0)/365*L37)","v":""},{"$f":"IF(B37=\"\",\"\",VLOOKUP(B37,Tierhaltung,4,0)/365*L37)","v":""}]
[null,null,null,null,null,null,null,null,null,null,null,"",null,null,null,null,"NH4-N organsich",null,{"$f":"S8-S23","v":0},null,null,null,null,null,{"$f":"IF(B38=\"\",\"\",VLOOKUP(B38,Tierhaltung,3,0)/365*L38)","v":""},{"$f":"IF(B38=\"\",\"\",VLOOKUP(B38,Tierhaltung,4,0)/365*L38)","v":""}]
[null,null,null,null,null,null,null,null,null,null,null,"",null,null,null,null,"P2O5 mineralisch",null,null,{"$f":"T9-T24","v":0},null,null,null,null,{"$f":"IF(B39=\"\",\"\",VLOOKUP(B39,Tierhaltung,3,0)/365*L39)","v":""},{"$f":"IF(B39=\"\",\"\",VLOOKUP(B39,Tierhaltung,4,0)/365*L39)","v":""}]
[null,null,null,null,null,null,null,null,null,null,null,"",null,null,null,null,"P2O5 organisch",null,null,null,{"$f":"U10-U25","v":0},null,null,null,{"$f":"IF(B40=\"\",\"\",VLOOKUP(B40,Tierhaltung,3,0)/365*L40)","v":""},{"$f":"IF(B40=\"\",\"\",VLOOKUP(B40,Tierhaltung,4,0)/365*L40)","v":""}]
[null,null,null,null,null,null,null,null,null,null,null,null,null,null,null,null,"Sonstige organische Düngemittel",{"$f":"R11-R26","v":0},{"$f":"S11-S26","v":0},{"$f":"T11-T26","v":0},null,null,null,null,{"$f":"SUM(Y36:Y40)","v":0},{"$f":"SUM(Z36:Z40)","v":0}]
[null,"Nutzungsdatum",null,"Nutzungsform",null,"Ertrag TM dt/ha",null,"Entzg N\nkg/ha","Entz. P2O5 kg/ha","Aufstellung Kosten",null,null,"€/ha",null,null,null,"Bodenhilfsstoffe",{"$f":"R12-R27","v":0},null,{"$f":"T12-T27","v":0},null,null,null,null,"N Entzug kg N/ha","Entzug kg P2O5/ha","N Entzug kg N Schlag","P Entzug kg P2O5 Schlag"]
["€/ha",null,null,null,null,null,null,{"$f":"IF(Y43=0,\"\",Y43)","v":""},"","Grünlandverbesserung",null,null,{"$f":"G10","v":0},null,null,null,"Kultursubstrate",{"$f":"R13-R28","v":0},null,{"$f":"T13-T28","v":0},null,null,null,null,{"$f":"IF(D$3=0,\"\",VLOOKUP(D$3,Grünlandnutzungen,6,0)*F43)","v":""},{"$f":"IF(D$3=0,\"\",VLOOKUP(D$3,Grünlandnutzungen,7,0)*F43)","v":""},{"$f":"IF(Y43=\"\",\"\",Y43*C4)","v":""},{"$f":"IF(Z43=\"\",\"\",Z43*C4)","v":""}]
[null,null,null,null,null,null,null,"","","Düngemittel",null,null,{"$f":"SUM(G13:G18)","v":0},null,null,null,"Pflanzenhilfsmittel",{"$f":"R14-R29","v":0},null,{"$f":"T14-T29","v":0},null,null,null,null,{"$f":"IF(D$3=0,\"\",VLOOKUP(D$3,Grünlandnutzungen,6,0)*F44)","v":""},{"$f":"IF(D$3=0,\"\",VLOOKUP(D$3,Grünlandnutzungen,7,0)*F44)","v":""},{"$f":"IF(Y44=\"\",\"\",Y44*C5)","v":""},{"$f":"IF(Z44=\"\",\"\",Z44*C5)","v":""}]
[null,null,null,null,null,null,null,"","","Pflanzenschutz",null,null,{"$f":"G33","v":0},null,null,null,"Abfälle zur Beseitigung (§ 28 Absatz 2 oder 3 KrWG)",{"$f":"R15-R30","v":0},null,{"$f":"T15-T30","v":0},null,null,null,null,{"$f":"IF(D$3=0,\"\",VLOOKUP(D$3,Grünlandnutzungen,6,0)*F45)","v":""},{"$f":"IF(D$3=0,\"\",VLOOKUP(D$3,Grünlandnutzungen,7,0)*F45)","v":""},{"$f":"IF(Y45=\"\",\"\",Y45*C6)","v":""},{"$f":"IF(Z45=\"\",\"\",Z45*C6)","v":""}]
["Bemerkungen",null,null,null,null,null,null,"","","Summe",null,null,{"$f":"M43+M44+M45","v":0},null,null,null,null,null,null,null,null,null,null,null,{"$f":"IF(D$3=0,\"\",VLOOKUP(D$3,Grünlandnutzungen,6,0)*F46)","v":""},{"$f":"IF(D$3=0,\"\",VLOOKUP(D$3,Grünlandnutzungen,7,0)*F46)","v":""},{"$f":"IF(Y46=\"\",\"\",Y46*C7)","v":""},{"$f":"IF(Z46=\"\",\"\",Z46*C7)","v":""}]

{"sheet":"G6","index":64,"n_rows":46,"n_cols":33,"rows_kept":46,"cut":false,"hidden":false,"merged":[[12,29,12,30],[12,32,15,33],[13,30,13,31],[14,30,14,31],[15,30,15,31],[45,0,48,0],[45,1,45,2],[45,3,45,4],[45,5,45,6],[45,9,45,11],[43,1,43,2],[43,3,43,4],[43,5,43,6],[43,9,43,11],[44,1,44,2],[44,3,44,4],[44,5,44,6],[44,9,44,11],[37,9,37,10],[37,11,37,12],[40,7,40,8],[41,1,41,2],[41,3,41,4],[41,5,41,6],[41,9,41,11],[42,0,44,0],[42,1,42,2],[42,3,42,4],[42,5,42,6],[42,9,42,11],[32,14,32,18],[34,0,39,0],[34,1,34,5],[34,7,34,8],[34,9,34,10],[34,11,34,12],[35,1,35,5],[35,7,35,8],[35,9,35,10],[35,11,35,12],[38,1,38,5],[38,7,38,8],[38,9,38,10],[38,11,38,12],[39,1,39,5],[39,7,39,8],[39,9,39,10],[39,11,39,12],[36,1,36,5],[36,7,36,8],[36,9,36,10],[36,11,36,12],[37,1,37,5],[37,7,37,8],[17,16,17,20],[24,1,24,2],[24,4,24,12],[25,1,25,2],[25,4,25,12],[21,1,21,2],[21,4,21,12],[22,1,22,2],[22,4,22,12],[23,1,23,2],[23,4,23,12],[18,7,18,8],[19,7,19,8],[20,3,20,12],[18,1,18,6],[19,1,19,6],[26,0,32,0],[26,1,26,2],[26,7,26,9],[26,10,26,12],[27,1,27,2],[27,7,27,9],[30,1,30,2],[30,7,30,9],[30,10,30,12],[31,1,31,2],[31,7,31,9],[31,10,31,12],[27,10,27,12],[28,1,28,2],[28,7,28,9],[28,10,28,12],[29,1,29,2],[29,7,29,9],[29,10,29,12],[6,7,7,7],[8,7,8,12],[9,7,9,8],[9,9,9,12],[10,4,10,6],[10,7,10,8],[11,1,11,2],[12,0,17,0],[12,1,12,2],[13,1,13,2],[14,1,14,2],[15,1,15,2],[16,1,16,2],[17,1,17,2],[3,3,3,6],[5,1,5,2],[0,1,0,12],[1,0,3,0],[1,3,1,6],[1,7,1,9],[1,10,1,12],[2,3,2,6],[2,7,2,10],[2,11,2,12],[3,7,3,10],[3,11,3,12],[5,7,5,10],[5,11,5,12],[4,7,4,10],[4,11,4,12]]}
[null,"Grünland"]
["Schlag","Nr.",6,null,null,null,null,"Jahr:",null,null,{"$f":"IF(Einführung!I8=\"\",\"\",Einführung!I8)","v":""},null,null,{"$f":"IF(OR(C4=\"\",H11=\"\"),\"\",H11*C4)","v":""},"DB kg * Fläche"]
[null,"Bez.",{"$f":"IF($C$2=\"\",\"\",VLOOKUP($C$2,Grünlandübersicht,2,0))","v":0},{"$f":"IF(C2=\"\",\"\",VLOOKUP(C2,Grünlandübersicht,4,0))","v":0},null,null,null,"Nitrat belastete Kulisse",null,null,null,{"$f":"IF(C2=\"\",\"\",VLOOKUP(C2,Grünlandübersicht,20,0))","v":0},null,{"$f":"W19","v":""},"kg/ha org. Dünger für Kontrollgrenze"]
[null,"ha",{"$f":"IF($C$2=\"\",\"\",VLOOKUP($C$2,Grünlandübersicht,3,0))","v":0},null,null,null,null,"P2O5 eutrophierte Kulisse",null,null,null,{"$f":"IF(C2=\"\",\"\",VLOOKUP(C2,Grünlandübersicht,21,0))","v":0},null,{"$f":"IF(OR(L3=\"\",L3=\"nein\",N2=\"\"),\"\",N3*C4)","v":""},"kg Gesamtschlag org Dünger für 170 Kontrollgrenze",null,null,"Gesamt N","NH4-N","P2O5 mineral.","P2O5 organisch"]
[null,null,null,null,null,null,null,"aus org. wirtschaftsdüngeren \nBerechung der 130 kg N/ha",null,null,null,{"$f":"IF(L3=\"ja\",W19,\"\")","v":""},null,{"$f":"IF(H11=\"\",\"\",IF(L3=\"ja\",N2*0.8,\"\"))","v":""},"Düngebedarf Gesamtschlag kg N/ha",null,"N Gesamt minerl.",{"$f":"SUMIF($N$13:$N$18,\"mineralisch\",$H$13:$H$18)","v":0}]
[null,"Grünlandverbesserung",null,"Datum","E/ha","€/E","€/ha","sonstige Auflagen",null,null,null,"WSG",null,{"$f":"IF(L3=\"ja\",X20+Y20,\"\")","v":""},"anrechenbare N Menge Gesamtschlag  kg N/ha",null,"NH4-N minerlisch",null,{"$f":"SUMIF($N$13:$N$18,\"mineralisch\",$I$13:$I$18)","v":0}]
[null,"1.",null,null,null,null,{"$f":"E7*F7","v":0},"Versorg-\nungs-\nstufe","P2O5","K2O","MgO","pH",null,{"$f":"IF(K3=\"ja\",J12*B4,\"\")","v":""},null,null,"N Gesamt organsich",{"$f":"SUMIF($N$13:$N$18,\"organisch\",$H$13:$H$18)","v":0}]
[null,"2.",null,null,null,null,{"$f":"E8*F8","v":0},null,{"$f":"IF($C$2=\"\",\"\",VLOOKUP($C$2,Grünlandübersicht,30,0))","v":"C"},{"$f":"IF($C$2=\"\",\"\",VLOOKUP($C$2,Grünlandübersicht,31,0))","v":"C"},{"$f":"IF($C$2=\"\",\"\",VLOOKUP($C$2,Grünlandübersicht,32,0))","v":"C"},{"$f":"IF($C$2=\"\",\"\",VLOOKUP($C$2,Grünlandübersicht,33,0))","v":"C"},null,null,null,null,"NH4-N organsich",null,{"$f":"SUMIF($N$13:$N$18,\"organisch\",$I$13:$I$18)","v":0}]
[null,"3.",null,null,null,null,{"$f":"E9*F9","v":0},"Düngebedarf kg/ha (Blatt Grünland)",null,null,null,null,null,null,null,null,"P2O5 mineralisch",null,null,{"$f":"SUMIF($N$13:$N$18,\"mineralisch\",$J$13:$J$18)","v":0}]
[null,null,null,null,null,"Kosten €/ha",{"$f":"SUM(G7:G9)","v":0},{"$f":"IF(L3=\"ja\",VLOOKUP(C2,Grünlandübersicht,19,0),\"\")","v":""},null,{"$f":"IF(L3=\"ja\",O10,\"\")","v":""},null,null,null,null,"Düngebedarf um 20% red.",null,"P2O5 organisch",null,null,null,{"$f":"SUMIF($N$13:$N$18,\"organisch\",$J$13:$J$18)","v":0},null,null,null,null,null,null,null,null,{"$f":"IF(L3=\"ja\",\"Noch nicht ausgeschöpfter Stickstoff Düngebedarf aller Flächen\",\"\")","v":""}]
[null,null,null,null,"N Bedarf DÜV kg/ha",null,null,{"$f":"IF(C2=\"\",\"\",VLOOKUP(C2,Grünlandübersicht,18,0))","v":""},null,{"$f":"IF($C$2=\"\",\"\",VLOOKUP($C$2,Grünlandübersicht,36,0))","v":""},{"$f":"IF($C$2=\"\",\"\",VLOOKUP($C$2,Grünlandübersicht,37,0))","v":""},null,null,null,null,null,"Sonstige organische Düngemittel",{"$f":"SUMIF($N$13:$N$18,Q11,$H$13:$H$18)","v":0},{"$f":"SUMIF($N$13:$N$18,Q11,$I$13:$I$18)","v":0},{"$f":"SUMIF($N$13:$N$18,Q11,$J$13:$J$18)","v":0},null,"Anrechnung","Anrechnung ","Prüfung NH4","mineral",null,null,null,null,{"$f":"IF(L3=\"ja\",'Zus. Anlage 5 DüV'!D43,\"\")","v":""},{"$f":"IF(L3=\"ja\",\"kg N Gesamtfläche\",\"\")","v":""}]
[null,"Düngemittel",null,"Datum","m³o.dt/ha","€/E.","€/ha","Ges.-N","NH4- N","P2O5","K2O","MgO","S",null,null,null,"Bodenhilfsstoffe",{"$f":"SUMIF($N$13:$N$18,Q12,$H$13:$H$18)","v":0},null,{"$f":"SUMIF($N$13:$N$18,Q12,$J$13:$J$18)","v":0},null,"aktuelles Jahr","170 kg GW"," oder Anlage3","Stickstoff"]
["Düngung",null,null,null,null,{"$f":"IF($B13=\"\",\"\",VLOOKUP($B13,Düngemiteldaten,2,0))","v":""},{"$f":"IF(B13=\"\",\"\",E13*F13)","v":""},{"$f":"IF(B13=\"\",\"\",VLOOKUP(B13,Düngemiteldaten,4,0)*E13)","v":""},{"$f":"IF(B13=\"\",\"\",VLOOKUP(B13,Düngemiteldaten,5,0)*E13)","v":""},{"$f":"IF(B13=\"\",\"\",VLOOKUP(B13,Düngemiteldaten,7,0)*E13)","v":""},{"$f":"IF(B13=\"\",\"\",VLOOKUP(B13,Düngemiteldaten,8,0)*E13)","v":""},{"$f":"IF(B13=\"\",\"\",VLOOKUP(B13,Düngemiteldaten,9,0)*E13)","v":""},{"$f":"IF(B13=\"\",\"\",VLOOKUP(B13,Düngemiteldaten,10,0)*E13)","v":""},{"$f":"IF(B13=\"\",\"\",VLOOKUP(B13,Düngemiteldaten,20,0))","v":""},null,null,"Kultursubstrate",{"$f":"SUMIF($N$13:$N$18,Q13,$H$13:$H$18)","v":0},null,{"$f":"SUMIF($N$13:$N$18,Q13,$J$13:$J$18)","v":0},null,{"$f":"IF(OR(B13=\"\",N13=\"\"),\"\",IF(N13=\"mineralisch\",\"\",VLOOKUP(B13,Düngemiteldaten,18,0)*VLOOKUP(B13,Düngemiteldaten,4,0)*E13))","v":""},{"$f":"IF(OR(B13=\"\",N13=\"\"),\"\",IF(N13=\"mineralisch\",\"\",VLOOKUP(B13,Düngemiteldaten,19,0)*H13))","v":""},{"$f":"IF(B13=\"\",\"\",IF(V13<I13,I13,V13))","v":""},{"$f":"IF(B13=\"\",\"\",IF(N13=\"organisch\",0,H13))","v":""},null,null,null,null,{"$f":"IF(L3=\"ja\",\"Summe Gesamtstickstoff\",\"\")","v":""},null,null,{"$f":"IF(L3=\"ja\",\"Anteil § 13a Prüfung \n160 kg N/ha Gesamt\n80 kg N/ha mineralisch\",\"\")","v":""}]
[null,null,null,null,null,"","","","","","","","","",null,null,"Pflanzenhilfsmittel",{"$f":"SUMIF($N$13:$N$18,Q14,$H$13:$H$18)","v":0},null,{"$f":"SUMIF($N$13:$N$18,Q14,$J$13:$J$18)","v":0},null,"","","","",null,null,null,null,{"$f":"IF(L3=\"ja\",R5,\"\")","v":""},{"$f":"IF(L3=\"ja\",\"mineralisch N kg/ha\",\"\")","v":""}]
[null,null,null,null,null,"","","","","","","","","",null,null,"Abfälle zur Beseitigung (§ 28 Absatz 2 odeS 3 KSWG)",{"$f":"SUMIF($N$13:$N$18,Q15,$H$13:$H$18)","v":0},null,{"$f":"SUMIF($N$13:$N$18,Q15,$J$13:$J$18)","v":0},null,"","","","",null,null,null,null,{"$f":"IF(L3=\"ja\",R7+R11,\"\")","v":""},{"$f":"IF(L3=\"ja\",\"organisch N kg/ha\",\"\")","v":""}]
[null,null,null,null,null,"","","","","","","","","",null,null,null,null,null,null,null,"","","","",null,null,null,null,{"$f":"IF(L3=\"ja\",(AD15+AD14),\"\")","v":""},{"$f":"IF(L3=\"ja\",\"Gesamt kg N/ha\",\"\")","v":""}]
[null,null,null,null,null,"","","","","","","","","",null,null,null,null,null,null,null,"","","",""]
[null,null,null,null,null,"","","","","","","","","",null,null,"Nährstoffherkunft auf gefährdeten Flächen §13",null,null,null,null,"","","",""]
[null,"anrechenbarer N org.Düngung + min. Düngung kg N/ha",null,null,null,null,null,{"$f":"X19+Y19","v":0},null,{"$f":"SUM(J13:J18)","v":0},{"$f":"SUM(K13:K18)","v":0},{"$f":"SUM(L13:L18)","v":0},null,null,"Bilanz (anrechenbarer Dgg.- red.Düngebedarf) kg N/ha",null,null,"Gesamt N","NH4-N",null,null,{"$f":"SUM(V13:V18)","v":0},{"$f":"IF(SUM(W13:W18)=0,\"\",(SUM(W13:W18)))","v":""},{"$f":"SUM(X13:X18)","v":0},{"$f":"SUM(Y13:Y18)","v":0},"kg/ha"]
[null,{"$f":"IF(L3=\"ja\",O19,O20)","v":"Bilanz (anrechenbarer Dgg.- Düngebedarf) kg N/ha"},null,null,null,null,null,{"$f":"IF(H11=\"\",0,IF(OR(L3=0,L3=\"nein\"),H19-H11,H19-H10))","v":0},null,{"$f":"IF(J11=\"\",\"\",J19-J11)","v":""},"","","",null,"Bilanz (anrechenbarer Dgg.- Düngebedarf) kg N/ha",null,"N Gesamt minerl.",{"$f":"IF(L3=\"ja\",SUMIF($N$13:$N$18,\"mineralisch\",$H$13:$H$18),0)","v":0},null,null,null,{"$f":"V19*C4","v":0},{"$f":"IF(W19=\"\",\"\",W19*C4)","v":""},{"$f":"X19*C4","v":0},{"$f":"Y19*C4","v":0},"kg/Schlag",null,null,null,{"$f":"IF(H20>0,\"Stickstoffmenge überschreitet den Düngebedarf\",\"\")","v":""}]
[null,null,null,null,null,null,null,null,null,null,null,null,null,null,null,null,"NH4-N minerlisch",null,{"$f":"IF(L3=\"ja\",SUMIF($N$13:$N$18,\"mineralisch\",$I$13:$I$18),0)","v":0}]
[null,"Pflegemaßnahme",null,"Datum","Bemerkung",null,null,null,null,null,null,null,null,null,null,null,"N Gesamt organsich",{"$f":"IF(L3=\"ja\",SUMIF($N$13:$N$18,\"organisch\",$H$13:$H$18),0)","v":0}]
[null,null,null,null,null,null,null,null,null,null,null,null,null,null,null,null,"NH4-N organsich",null,{"$f":"IF(L3=\"ja\",SUMIF($N$13:$N$18,\"organisch\",$I$13:$I$18),0)","v":0},null,null,null,null,null,{"$f":"X19+Y19","v":0}]
[null,null,null,null,null,null,null,null,null,null,null,null,null,null,null,null,"P2O5 mineralisch",null,null,{"$f":"IF(L3=\"ja\",SUMIF($N$13:$N$18,\"mineralisch\",$J$13:$J$18),0)","v":0}]
[null,null,null,null,null,null,null,null,null,null,null,null,null,null,null,null,"P2O5 organisch",null,null,null,{"$f":"IF(L3=\"ja\",SUMIF($N$13:$N$18,\"organisch\",$J$13:$J$18),0)","v":0}]
[null,null,null,null,null,null,null,null,null,null,null,null,null,null,null,null,"Sonstige organische Düngemittel",{"$f":"IF(L3=\"ja\",SUMIF($N$13:$N$18,Q26,$H$13:$H$18),0)","v":0},{"$f":"IF(L3=\"ja\",SUMIF($N$13:$N$18,Q26,$I$13:$I$18),0)","v":0},{"$f":"IF(L3=\"ja\",SUMIF($N$13:$N$18,Q26,$J$13:$J$18),0)","v":0}]
["Pflanzenschutz","Pflanzenschutz",null,"Datum","E./ha","€/E.","€/ha","Anwender",null,null,"Bemerkungen",null,null,null,null,null,"Bodenhilfsstoffe",{"$f":"IF(L$3=\"ja\",SUMIF($N$13:$N$18,Q27,$H$13:$H$18),0)","v":0},null,{"$f":"IF(L$3=\"ja\",SUMIF($N$13:$N$18,Q27,$J$13:$J$18),0)","v":0}]
[null,null,null,null,null,{"$f":"IF(B28=\"\",\"\",VLOOKUP(B28,PSMMittel,2,0))","v":""},{"$f":"IF(B28=\"\",\"\",E28*F28)","v":""},null,null,null,null,null,null,null,null,null,"Kultursubstrate",{"$f":"IF(L$3=\"ja\",SUMIF($N$13:$N$18,Q28,$H$13:$H$18),0)","v":0},null,{"$f":"IF(L$3=\"ja\",SUMIF($N$13:$N$18,Q28,$J$13:$J$18),0)","v":0}]
[null,null,null,null,null,{"$f":"IF(B29=\"\",\"\",VLOOKUP(B29,PSMMittel,2,0))","v":""},{"$f":"IF(B29=\"\",\"\",E29*F29)","v":""},null,null,null,null,null,null,null,null,null,"Pflanzenhilfsmittel",{"$f":"IF(L$3=\"ja\",SUMIF($N$13:$N$18,Q29,$H$13:$H$18),0)","v":0},null,{"$f":"IF(L$3=\"ja\",SUMIF($N$13:$N$18,Q29,$J$13:$J$18),0)","v":0}]
[null,null,null,null,null,{"$f":"IF(B30=\"\",\"\",VLOOKUP(B30,PSMMittel,2,0))","v":""},{"$f":"IF(B30=\"\",\"\",E30*F30)","v":""},null,null,null,null,null,null,null,null,null,"Abfälle zur Beseitigung (§ 28 Absatz 2 odeS 3 KSWG)",{"$f":"IF(L$3=\"ja\",SUMIF($N$13:$N$18,Q30,$H$13:$H$18),0)","v":0},null,{"$f":"IF(L$3=\"ja\",SUMIF($N$13:$N$18,Q30,$J$13:$J$18),0)","v":0}]
[null,null,null,null,null,{"$f":"IF(B31=\"\",\"\",VLOOKUP(B31,PSMMittel,2,0))","v":""},{"$f":"IF(B31=\"\",\"\",E31*F31)","v":""}]
[null,null,null,null,null,{"$f":"IF(B32=\"\",\"\",VLOOKUP(B32,PSMMittel,2,0))","v":""},{"$f":"IF(B32=\"\",\"\",E32*F32)","v":""}]
[null,null,null,null,null,null,{"$f":"SUM(G28:G32)","v":0},null,null,null,null,null,null,null,"Stickstoffherkunft nicht gefährdetes Gebiet Gesamtfläche"]
[null,null,null,null,null,null,null,null,null,null,null,null,null,null,null,null,null,"Gesamt N","NH4-N"]
["Bergung","Weidetiere",null,null,null,null,"Anzahl \nTiere","Datum \nBeginn",null,"Datum \nEnde",null,"Anzahl \nWeidetage",null,null,null,null,"N Gesamt minerl.",{"$f":"R5-R20","v":0},null,null,null,null,"Stickstoffbindung aus Leguminosen kg /Schlag",null,"N \nWeidehaltung","P \nWeidehaltung"]
[null,null,null,null,null,null,null,null,null,null,null,{"$f":"IF(OR(H36=\"\",J36=\"\"),\"\",(J36+1)-H36)","v":""},null,null,null,null,"NH4-N minerlisch",null,{"$f":"S6-S21","v":0},null,null,null,{"$f":"IF(D3=0,\"\",VLOOKUP(D3,Grünlandnutzungen,27,0)*C4)","v":""},null,{"$f":"IF(B36=\"\",\"\",VLOOKUP(B36,Tierhaltung,3,0)/365*L36)","v":""},{"$f":"IF(B36=\"\",\"\",VLOOKUP(B36,Tierhaltung,4,0)/365*L36)","v":""}]
[null,null,null,null,null,null,null,null,null,null,null,{"$f":"IF(OR(H37=\"\",J37=\"\"),\"\",(J37+1)-H37)","v":""},null,null,null,null,"N Gesamt organsich",{"$f":"R7-R22","v":0},null,null,null,null,null,null,{"$f":"IF(B37=\"\",\"\",VLOOKUP(B37,Tierhaltung,3,0)/365*L37)","v":""},{"$f":"IF(B37=\"\",\"\",VLOOKUP(B37,Tierhaltung,4,0)/365*L37)","v":""}]
[null,null,null,null,null,null,null,null,null,null,null,"",null,null,null,null,"NH4-N organsich",null,{"$f":"S8-S23","v":0},null,null,null,null,null,{"$f":"IF(B38=\"\",\"\",VLOOKUP(B38,Tierhaltung,3,0)/365*L38)","v":""},{"$f":"IF(B38=\"\",\"\",VLOOKUP(B38,Tierhaltung,4,0)/365*L38)","v":""}]
[null,null,null,null,null,null,null,null,null,null,null,"",null,null,null,null,"P2O5 mineralisch",null,null,{"$f":"T9-T24","v":0},null,null,null,null,{"$f":"IF(B39=\"\",\"\",VLOOKUP(B39,Tierhaltung,3,0)/365*L39)","v":""},{"$f":"IF(B39=\"\",\"\",VLOOKUP(B39,Tierhaltung,4,0)/365*L39)","v":""}]
[null,null,null,null,null,null,null,null,null,null,null,"",null,null,null,null,"P2O5 organisch",null,null,null,{"$f":"U10-U25","v":0},null,null,null,{"$f":"IF(B40=\"\",\"\",VLOOKUP(B40,Tierhaltung,3,0)/365*L40)","v":""},{"$f":"IF(B40=\"\",\"\",VLOOKUP(B40,Tierhaltung,4,0)/365*L40)","v":""}]
[null,null,null,null,null,null,null,null,null,null,null,null,null,null,null,null,"Sonstige organische Düngemittel",{"$f":"R11-R26","v":0},{"$f":"S11-S26","v":0},{"$f":"T11-T26","v":0},null,null,null,null,{"$f":"SUM(Y36:Y40)","v":0},{"$f":"SUM(Z36:Z40)","v":0}]
[null,"Nutzungsdatum",null,"Nutzungsform",null,"Ertrag TM dt/ha",null,"Entzg N\nkg/ha","Entz. P2O5 kg/ha","Aufstellung Kosten",null,null,"€/ha",null,null,null,"Bodenhilfsstoffe",{"$f":"R12-R27","v":0},null,{"$f":"T12-T27","v":0},null,null,null,null,"N Entzug kg N/ha","Entzug kg P2O5/ha","N Entzug kg N Schlag","P Entzug kg P2O5 Schlag"]
["€/ha",null,null,null,null,null,null,{"$f":"IF(Y43=0,\"\",Y43)","v":""},"","Grünlandverbesserung",null,null,{"$f":"G10","v":0},null,null,null,"Kultursubstrate",{"$f":"R13-R28","v":0},null,{"$f":"T13-T28","v":0},null,null,null,null,{"$f":"IF(D$3=0,\"\",VLOOKUP(D$3,Grünlandnutzungen,6,0)*F43)","v":""},{"$f":"IF(D$3=0,\"\",VLOOKUP(D$3,Grünlandnutzungen,7,0)*F43)","v":""},{"$f":"IF(Y43=\"\",\"\",Y43*C4)","v":""},{"$f":"IF(Z43=\"\",\"\",Z43*C4)","v":""}]
[null,null,null,null,null,null,null,"","","Düngemittel",null,null,{"$f":"SUM(G13:G18)","v":0},null,null,null,"Pflanzenhilfsmittel",{"$f":"R14-R29","v":0},null,{"$f":"T14-T29","v":0},null,null,null,null,{"$f":"IF(D$3=0,\"\",VLOOKUP(D$3,Grünlandnutzungen,6,0)*F44)","v":""},{"$f":"IF(D$3=0,\"\",VLOOKUP(D$3,Grünlandnutzungen,7,0)*F44)","v":""},{"$f":"IF(Y44=\"\",\"\",Y44*C5)","v":""},{"$f":"IF(Z44=\"\",\"\",Z44*C5)","v":""}]
[null,null,null,null,null,null,null,"","","Pflanzenschutz",null,null,{"$f":"G33","v":0},null,null,null,"Abfälle zur Beseitigung (§ 28 Absatz 2 oder 3 KrWG)",{"$f":"R15-R30","v":0},null,{"$f":"T15-T30","v":0},null,null,null,null,{"$f":"IF(D$3=0,\"\",VLOOKUP(D$3,Grünlandnutzungen,6,0)*F45)","v":""},{"$f":"IF(D$3=0,\"\",VLOOKUP(D$3,Grünlandnutzungen,7,0)*F45)","v":""},{"$f":"IF(Y45=\"\",\"\",Y45*C6)","v":""},{"$f":"IF(Z45=\"\",\"\",Z45*C6)","v":""}]
["Bemerkungen",null,null,null,null,null,null,"","","Summe",null,null,{"$f":"M43+M44+M45","v":0},null,null,null,null,null,null,null,null,null,null,null,{"$f":"IF(D$3=0,\"\",VLOOKUP(D$3,Grünlandnutzungen,6,0)*F46)","v":""},{"$f":"IF(D$3=0,\"\",VLOOKUP(D$3,Grünlandnutzungen,7,0)*F46)","v":""},{"$f":"IF(Y46=\"\",\"\",Y46*C7)","v":""},{"$f":"IF(Z46=\"\",\"\",Z46*C7)","v":""}]

{"sheet":"G7","index":65,"n_rows":46,"n_cols":33,"rows_kept":46,"cut":false,"hidden":false,"merged":[[12,29,12,30],[12,32,15,33],[13,30,13,31],[14,30,14,31],[15,30,15,31],[45,0,48,0],[45,1,45,2],[45,3,45,4],[45,5,45,6],[45,9,45,11],[43,1,43,2],[43,3,43,4],[43,5,43,6],[43,9,43,11],[44,1,44,2],[44,3,44,4],[44,5,44,6],[44,9,44,11],[37,9,37,10],[37,11,37,12],[40,7,40,8],[41,1,41,2],[41,3,41,4],[41,5,41,6],[41,9,41,11],[42,0,44,0],[42,1,42,2],[42,3,42,4],[42,5,42,6],[42,9,42,11],[32,14,32,18],[34,0,39,0],[34,1,34,5],[34,7,34,8],[34,9,34,10],[34,11,34,12],[35,1,35,5],[35,7,35,8],[35,9,35,10],[35,11,35,12],[38,1,38,5],[38,7,38,8],[38,9,38,10],[38,11,38,12],[39,1,39,5],[39,7,39,8],[39,9,39,10],[39,11,39,12],[36,1,36,5],[36,7,36,8],[36,9,36,10],[36,11,36,12],[37,1,37,5],[37,7,37,8],[17,16,17,20],[24,1,24,2],[24,4,24,12],[25,1,25,2],[25,4,25,12],[21,1,21,2],[21,4,21,12],[22,1,22,2],[22,4,22,12],[23,1,23,2],[23,4,23,12],[18,7,18,8],[19,7,19,8],[20,3,20,12],[18,1,18,6],[19,1,19,6],[26,0,32,0],[26,1,26,2],[26,7,26,9],[26,10,26,12],[27,1,27,2],[27,7,27,9],[30,1,30,2],[30,7,30,9],[30,10,30,12],[31,1,31,2],[31,7,31,9],[31,10,31,12],[27,10,27,12],[28,1,28,2],[28,7,28,9],[28,10,28,12],[29,1,29,2],[29,7,29,9],[29,10,29,12],[6,7,7,7],[8,7,8,12],[9,7,9,8],[9,9,9,12],[10,4,10,6],[10,7,10,8],[11,1,11,2],[12,0,17,0],[12,1,12,2],[13,1,13,2],[14,1,14,2],[15,1,15,2],[16,1,16,2],[17,1,17,2],[3,3,3,6],[5,1,5,2],[0,1,0,12],[1,0,3,0],[1,3,1,6],[1,7,1,9],[1,10,1,12],[2,3,2,6],[2,7,2,10],[2,11,2,12],[3,7,3,10],[3,11,3,12],[5,7,5,10],[5,11,5,12],[4,7,4,10],[4,11,4,12]]}
[null,"Grünland"]
["Schlag","Nr.",7,null,null,null,null,"Jahr:",null,null,{"$f":"IF(Einführung!I8=\"\",\"\",Einführung!I8)","v":""},null,null,{"$f":"IF(OR(C4=\"\",H11=\"\"),\"\",H11*C4)","v":""},"DB kg * Fläche"]
[null,"Bez.",{"$f":"IF($C$2=\"\",\"\",VLOOKUP($C$2,Grünlandübersicht,2,0))","v":0},{"$f":"IF(C2=\"\",\"\",VLOOKUP(C2,Grünlandübersicht,4,0))","v":0},null,null,null,"Nitrat belastete Kulisse",null,null,null,{"$f":"IF(C2=\"\",\"\",VLOOKUP(C2,Grünlandübersicht,20,0))","v":0},null,{"$f":"W19","v":""},"kg/ha org. Dünger für Kontrollgrenze"]
[null,"ha",{"$f":"IF($C$2=\"\",\"\",VLOOKUP($C$2,Grünlandübersicht,3,0))","v":0},null,null,null,null,"P2O5 eutrophierte Kulisse",null,null,null,{"$f":"IF(C2=\"\",\"\",VLOOKUP(C2,Grünlandübersicht,21,0))","v":0},null,{"$f":"IF(OR(L3=\"\",L3=\"nein\",N2=\"\"),\"\",N3*C4)","v":""},"kg Gesamtschlag org Dünger für 170 Kontrollgrenze",null,null,"Gesamt N","NH4-N","P2O5 mineral.","P2O5 organisch"]
[null,null,null,null,null,null,null,"aus org. wirtschaftsdüngeren \nBerechung der 130 kg N/ha",null,null,null,{"$f":"IF(L3=\"ja\",W19,\"\")","v":""},null,{"$f":"IF(H11=\"\",\"\",IF(L3=\"ja\",N2*0.8,\"\"))","v":""},"Düngebedarf Gesamtschlag kg N/ha",null,"N Gesamt minerl.",{"$f":"SUMIF($N$13:$N$18,\"mineralisch\",$H$13:$H$18)","v":0}]
[null,"Grünlandverbesserung",null,"Datum","E/ha","€/E","€/ha","sonstige Auflagen",null,null,null,"WSG",null,{"$f":"IF(L3=\"ja\",X20+Y20,\"\")","v":""},"anrechenbare N Menge Gesamtschlag  kg N/ha",null,"NH4-N minerlisch",null,{"$f":"SUMIF($N$13:$N$18,\"mineralisch\",$I$13:$I$18)","v":0}]
[null,"1.",null,null,null,null,{"$f":"E7*F7","v":0},"Versorg-\nungs-\nstufe","P2O5","K2O","MgO","pH",null,{"$f":"IF(K3=\"ja\",J12*B4,\"\")","v":""},null,null,"N Gesamt organsich",{"$f":"SUMIF($N$13:$N$18,\"organisch\",$H$13:$H$18)","v":0}]
[null,"2.",null,null,null,null,{"$f":"E8*F8","v":0},null,{"$f":"IF($C$2=\"\",\"\",VLOOKUP($C$2,Grünlandübersicht,30,0))","v":"C"},{"$f":"IF($C$2=\"\",\"\",VLOOKUP($C$2,Grünlandübersicht,31,0))","v":"C"},{"$f":"IF($C$2=\"\",\"\",VLOOKUP($C$2,Grünlandübersicht,32,0))","v":"C"},{"$f":"IF($C$2=\"\",\"\",VLOOKUP($C$2,Grünlandübersicht,33,0))","v":"C"},null,null,null,null,"NH4-N organsich",null,{"$f":"SUMIF($N$13:$N$18,\"organisch\",$I$13:$I$18)","v":0}]
[null,"3.",null,null,null,null,{"$f":"E9*F9","v":0},"Düngebedarf kg/ha (Blatt Grünland)",null,null,null,null,null,null,null,null,"P2O5 mineralisch",null,null,{"$f":"SUMIF($N$13:$N$18,\"mineralisch\",$J$13:$J$18)","v":0}]
[null,null,null,null,null,"Kosten €/ha",{"$f":"SUM(G7:G9)","v":0},{"$f":"IF(L3=\"ja\",VLOOKUP(C2,Grünlandübersicht,19,0),\"\")","v":""},null,{"$f":"IF(L3=\"ja\",O10,\"\")","v":""},null,null,null,null,"Düngebedarf um 20% red.",null,"P2O5 organisch",null,null,null,{"$f":"SUMIF($N$13:$N$18,\"organisch\",$J$13:$J$18)","v":0},null,null,null,null,null,null,null,null,{"$f":"IF(L3=\"ja\",\"Noch nicht ausgeschöpfter Stickstoff Düngebedarf aller Flächen\",\"\")","v":""}]
[null,null,null,null,"N Bedarf DÜV kg/ha",null,null,{"$f":"IF(C2=\"\",\"\",VLOOKUP(C2,Grünlandübersicht,18,0))","v":""},null,{"$f":"IF($C$2=\"\",\"\",VLOOKUP($C$2,Grünlandübersicht,36,0))","v":""},{"$f":"IF($C$2=\"\",\"\",VLOOKUP($C$2,Grünlandübersicht,37,0))","v":""},null,null,null,null,null,"Sonstige organische Düngemittel",{"$f":"SUMIF($N$13:$N$18,Q11,$H$13:$H$18)","v":0},{"$f":"SUMIF($N$13:$N$18,Q11,$I$13:$I$18)","v":0},{"$f":"SUMIF($N$13:$N$18,Q11,$J$13:$J$18)","v":0},null,"Anrechnung","Anrechnung ","Prüfung NH4","mineral",null,null,null,null,{"$f":"IF(L3=\"ja\",'Zus. Anlage 5 DüV'!D43,\"\")","v":""},{"$f":"IF(L3=\"ja\",\"kg N Gesamtfläche\",\"\")","v":""}]
[null,"Düngemittel",null,"Datum","m³o.dt/ha","€/E.","€/ha","Ges.-N","NH4- N","P2O5","K2O","MgO","S",null,null,null,"Bodenhilfsstoffe",{"$f":"SUMIF($N$13:$N$18,Q12,$H$13:$H$18)","v":0},null,{"$f":"SUMIF($N$13:$N$18,Q12,$J$13:$J$18)","v":0},null,"aktuelles Jahr","170 kg GW"," oder Anlage3","Stickstoff"]
["Düngung",null,null,null,null,{"$f":"IF($B13=\"\",\"\",VLOOKUP($B13,Düngemiteldaten,2,0))","v":""},{"$f":"IF(B13=\"\",\"\",E13*F13)","v":""},{"$f":"IF(B13=\"\",\"\",VLOOKUP(B13,Düngemiteldaten,4,0)*E13)","v":""},{"$f":"IF(B13=\"\",\"\",VLOOKUP(B13,Düngemiteldaten,5,0)*E13)","v":""},{"$f":"IF(B13=\"\",\"\",VLOOKUP(B13,Düngemiteldaten,7,0)*E13)","v":""},{"$f":"IF(B13=\"\",\"\",VLOOKUP(B13,Düngemiteldaten,8,0)*E13)","v":""},{"$f":"IF(B13=\"\",\"\",VLOOKUP(B13,Düngemiteldaten,9,0)*E13)","v":""},{"$f":"IF(B13=\"\",\"\",VLOOKUP(B13,Düngemiteldaten,10,0)*E13)","v":""},{"$f":"IF(B13=\"\",\"\",VLOOKUP(B13,Düngemiteldaten,20,0))","v":""},null,null,"Kultursubstrate",{"$f":"SUMIF($N$13:$N$18,Q13,$H$13:$H$18)","v":0},null,{"$f":"SUMIF($N$13:$N$18,Q13,$J$13:$J$18)","v":0},null,{"$f":"IF(OR(B13=\"\",N13=\"\"),\"\",IF(N13=\"mineralisch\",\"\",VLOOKUP(B13,Düngemiteldaten,18,0)*VLOOKUP(B13,Düngemiteldaten,4,0)*E13))","v":""},{"$f":"IF(OR(B13=\"\",N13=\"\"),\"\",IF(N13=\"mineralisch\",\"\",VLOOKUP(B13,Düngemiteldaten,19,0)*H13))","v":""},{"$f":"IF(B13=\"\",\"\",IF(V13<I13,I13,V13))","v":""},{"$f":"IF(B13=\"\",\"\",IF(N13=\"organisch\",0,H13))","v":""},null,null,null,null,{"$f":"IF(L3=\"ja\",\"Summe Gesamtstickstoff\",\"\")","v":""},null,null,{"$f":"IF(L3=\"ja\",\"Anteil § 13a Prüfung \n160 kg N/ha Gesamt\n80 kg N/ha mineralisch\",\"\")","v":""}]
[null,null,null,null,null,"","","","","","","","","",null,null,"Pflanzenhilfsmittel",{"$f":"SUMIF($N$13:$N$18,Q14,$H$13:$H$18)","v":0},null,{"$f":"SUMIF($N$13:$N$18,Q14,$J$13:$J$18)","v":0},null,"","","","",null,null,null,null,{"$f":"IF(L3=\"ja\",R5,\"\")","v":""},{"$f":"IF(L3=\"ja\",\"mineralisch N kg/ha\",\"\")","v":""}]
[null,null,null,null,null,"","","","","","","","","",null,null,"Abfälle zur Beseitigung (§ 28 Absatz 2 odeS 3 KSWG)",{"$f":"SUMIF($N$13:$N$18,Q15,$H$13:$H$18)","v":0},null,{"$f":"SUMIF($N$13:$N$18,Q15,$J$13:$J$18)","v":0},null,"","","","",null,null,null,null,{"$f":"IF(L3=\"ja\",R7+R11,\"\")","v":""},{"$f":"IF(L3=\"ja\",\"organisch N kg/ha\",\"\")","v":""}]
[null,null,null,null,null,"","","","","","","","","",null,null,null,null,null,null,null,"","","","",null,null,null,null,{"$f":"IF(L3=\"ja\",(AD15+AD14),\"\")","v":""},{"$f":"IF(L3=\"ja\",\"Gesamt kg N/ha\",\"\")","v":""}]
[null,null,null,null,null,"","","","","","","","","",null,null,null,null,null,null,null,"","","",""]
[null,null,null,null,null,"","","","","","","","","",null,null,"Nährstoffherkunft auf gefährdeten Flächen §13",null,null,null,null,"","","",""]
[null,"anrechenbarer N org.Düngung + min. Düngung kg N/ha",null,null,null,null,null,{"$f":"X19+Y19","v":0},null,{"$f":"SUM(J13:J18)","v":0},{"$f":"SUM(K13:K18)","v":0},{"$f":"SUM(L13:L18)","v":0},null,null,"Bilanz (anrechenbarer Dgg.- red.Düngebedarf) kg N/ha",null,null,"Gesamt N","NH4-N",null,null,{"$f":"SUM(V13:V18)","v":0},{"$f":"IF(SUM(W13:W18)=0,\"\",(SUM(W13:W18)))","v":""},{"$f":"SUM(X13:X18)","v":0},{"$f":"SUM(Y13:Y18)","v":0},"kg/ha"]
[null,{"$f":"IF(L3=\"ja\",O19,O20)","v":"Bilanz (anrechenbarer Dgg.- Düngebedarf) kg N/ha"},null,null,null,null,null,{"$f":"IF(H11=\"\",0,IF(OR(L3=0,L3=\"nein\"),H19-H11,H19-H10))","v":0},null,{"$f":"IF(J11=\"\",\"\",J19-J11)","v":""},"","","",null,"Bilanz (anrechenbarer Dgg.- Düngebedarf) kg N/ha",null,"N Gesamt minerl.",{"$f":"IF(L3=\"ja\",SUMIF($N$13:$N$18,\"mineralisch\",$H$13:$H$18),0)","v":0},null,null,null,{"$f":"V19*C4","v":0},{"$f":"IF(W19=\"\",\"\",W19*C4)","v":""},{"$f":"X19*C4","v":0},{"$f":"Y19*C4","v":0},"kg/Schlag",null,null,null,{"$f":"IF(H20>0,\"Stickstoffmenge überschreitet den Düngebedarf\",\"\")","v":""}]
[null,null,null,null,null,null,null,null,null,null,null,null,null,null,null,null,"NH4-N minerlisch",null,{"$f":"IF(L3=\"ja\",SUMIF($N$13:$N$18,\"mineralisch\",$I$13:$I$18),0)","v":0}]
[null,"Pflegemaßnahme",null,"Datum","Bemerkung",null,null,null,null,null,null,null,null,null,null,null,"N Gesamt organsich",{"$f":"IF(L3=\"ja\",SUMIF($N$13:$N$18,\"organisch\",$H$13:$H$18),0)","v":0}]
[null,null,null,null,null,null,null,null,null,null,null,null,null,null,null,null,"NH4-N organsich",null,{"$f":"IF(L3=\"ja\",SUMIF($N$13:$N$18,\"organisch\",$I$13:$I$18),0)","v":0},null,null,null,null,null,{"$f":"X19+Y19","v":0}]
[null,null,null,null,null,null,null,null,null,null,null,null,null,null,null,null,"P2O5 mineralisch",null,null,{"$f":"IF(L3=\"ja\",SUMIF($N$13:$N$18,\"mineralisch\",$J$13:$J$18),0)","v":0}]
[null,null,null,null,null,null,null,null,null,null,null,null,null,null,null,null,"P2O5 organisch",null,null,null,{"$f":"IF(L3=\"ja\",SUMIF($N$13:$N$18,\"organisch\",$J$13:$J$18),0)","v":0}]
[null,null,null,null,null,null,null,null,null,null,null,null,null,null,null,null,"Sonstige organische Düngemittel",{"$f":"IF(L3=\"ja\",SUMIF($N$13:$N$18,Q26,$H$13:$H$18),0)","v":0},{"$f":"IF(L3=\"ja\",SUMIF($N$13:$N$18,Q26,$I$13:$I$18),0)","v":0},{"$f":"IF(L3=\"ja\",SUMIF($N$13:$N$18,Q26,$J$13:$J$18),0)","v":0}]
["Pflanzenschutz","Pflanzenschutz",null,"Datum","E./ha","€/E.","€/ha","Anwender",null,null,"Bemerkungen",null,null,null,null,null,"Bodenhilfsstoffe",{"$f":"IF(L$3=\"ja\",SUMIF($N$13:$N$18,Q27,$H$13:$H$18),0)","v":0},null,{"$f":"IF(L$3=\"ja\",SUMIF($N$13:$N$18,Q27,$J$13:$J$18),0)","v":0}]
[null,null,null,null,null,{"$f":"IF(B28=\"\",\"\",VLOOKUP(B28,PSMMittel,2,0))","v":""},{"$f":"IF(B28=\"\",\"\",E28*F28)","v":""},null,null,null,null,null,null,null,null,null,"Kultursubstrate",{"$f":"IF(L$3=\"ja\",SUMIF($N$13:$N$18,Q28,$H$13:$H$18),0)","v":0},null,{"$f":"IF(L$3=\"ja\",SUMIF($N$13:$N$18,Q28,$J$13:$J$18),0)","v":0}]
[null,null,null,null,null,{"$f":"IF(B29=\"\",\"\",VLOOKUP(B29,PSMMittel,2,0))","v":""},{"$f":"IF(B29=\"\",\"\",E29*F29)","v":""},null,null,null,null,null,null,null,null,null,"Pflanzenhilfsmittel",{"$f":"IF(L$3=\"ja\",SUMIF($N$13:$N$18,Q29,$H$13:$H$18),0)","v":0},null,{"$f":"IF(L$3=\"ja\",SUMIF($N$13:$N$18,Q29,$J$13:$J$18),0)","v":0}]
[null,null,null,null,null,{"$f":"IF(B30=\"\",\"\",VLOOKUP(B30,PSMMittel,2,0))","v":""},{"$f":"IF(B30=\"\",\"\",E30*F30)","v":""},null,null,null,null,null,null,null,null,null,"Abfälle zur Beseitigung (§ 28 Absatz 2 odeS 3 KSWG)",{"$f":"IF(L$3=\"ja\",SUMIF($N$13:$N$18,Q30,$H$13:$H$18),0)","v":0},null,{"$f":"IF(L$3=\"ja\",SUMIF($N$13:$N$18,Q30,$J$13:$J$18),0)","v":0}]
[null,null,null,null,null,{"$f":"IF(B31=\"\",\"\",VLOOKUP(B31,PSMMittel,2,0))","v":""},{"$f":"IF(B31=\"\",\"\",E31*F31)","v":""}]
[null,null,null,null,null,{"$f":"IF(B32=\"\",\"\",VLOOKUP(B32,PSMMittel,2,0))","v":""},{"$f":"IF(B32=\"\",\"\",E32*F32)","v":""}]
[null,null,null,null,null,null,{"$f":"SUM(G28:G32)","v":0},null,null,null,null,null,null,null,"Stickstoffherkunft nicht gefährdetes Gebiet Gesamtfläche"]
[null,null,null,null,null,null,null,null,null,null,null,null,null,null,null,null,null,"Gesamt N","NH4-N"]
["Bergung","Weidetiere",null,null,null,null,"Anzahl \nTiere","Datum \nBeginn",null,"Datum \nEnde",null,"Anzahl \nWeidetage",null,null,null,null,"N Gesamt minerl.",{"$f":"R5-R20","v":0},null,null,null,null,"Stickstoffbindung aus Leguminosen kg /Schlag",null,"N \nWeidehaltung","P \nWeidehaltung"]
[null,null,null,null,null,null,null,null,null,null,null,{"$f":"IF(OR(H36=\"\",J36=\"\"),\"\",(J36+1)-H36)","v":""},null,null,null,null,"NH4-N minerlisch",null,{"$f":"S6-S21","v":0},null,null,null,{"$f":"IF(D3=0,\"\",VLOOKUP(D3,Grünlandnutzungen,27,0)*C4)","v":""},null,{"$f":"IF(B36=\"\",\"\",VLOOKUP(B36,Tierhaltung,3,0)/365*L36)","v":""},{"$f":"IF(B36=\"\",\"\",VLOOKUP(B36,Tierhaltung,4,0)/365*L36)","v":""}]
[null,null,null,null,null,null,null,null,null,null,null,{"$f":"IF(OR(H37=\"\",J37=\"\"),\"\",(J37+1)-H37)","v":""},null,null,null,null,"N Gesamt organsich",{"$f":"R7-R22","v":0},null,null,null,null,null,null,{"$f":"IF(B37=\"\",\"\",VLOOKUP(B37,Tierhaltung,3,0)/365*L37)","v":""},{"$f":"IF(B37=\"\",\"\",VLOOKUP(B37,Tierhaltung,4,0)/365*L37)","v":""}]
[null,null,null,null,null,null,null,null,null,null,null,"",null,null,null,null,"NH4-N organsich",null,{"$f":"S8-S23","v":0},null,null,null,null,null,{"$f":"IF(B38=\"\",\"\",VLOOKUP(B38,Tierhaltung,3,0)/365*L38)","v":""},{"$f":"IF(B38=\"\",\"\",VLOOKUP(B38,Tierhaltung,4,0)/365*L38)","v":""}]
[null,null,null,null,null,null,null,null,null,null,null,"",null,null,null,null,"P2O5 mineralisch",null,null,{"$f":"T9-T24","v":0},null,null,null,null,{"$f":"IF(B39=\"\",\"\",VLOOKUP(B39,Tierhaltung,3,0)/365*L39)","v":""},{"$f":"IF(B39=\"\",\"\",VLOOKUP(B39,Tierhaltung,4,0)/365*L39)","v":""}]
[null,null,null,null,null,null,null,null,null,null,null,"",null,null,null,null,"P2O5 organisch",null,null,null,{"$f":"U10-U25","v":0},null,null,null,{"$f":"IF(B40=\"\",\"\",VLOOKUP(B40,Tierhaltung,3,0)/365*L40)","v":""},{"$f":"IF(B40=\"\",\"\",VLOOKUP(B40,Tierhaltung,4,0)/365*L40)","v":""}]
[null,null,null,null,null,null,null,null,null,null,null,null,null,null,null,null,"Sonstige organische Düngemittel",{"$f":"R11-R26","v":0},{"$f":"S11-S26","v":0},{"$f":"T11-T26","v":0},null,null,null,null,{"$f":"SUM(Y36:Y40)","v":0},{"$f":"SUM(Z36:Z40)","v":0}]
[null,"Nutzungsdatum",null,"Nutzungsform",null,"Ertrag TM dt/ha",null,"Entzg N\nkg/ha","Entz. P2O5 kg/ha","Aufstellung Kosten",null,null,"€/ha",null,null,null,"Bodenhilfsstoffe",{"$f":"R12-R27","v":0},null,{"$f":"T12-T27","v":0},null,null,null,null,"N Entzug kg N/ha","Entzug kg P2O5/ha","N Entzug kg N Schlag","P Entzug kg P2O5 Schlag"]
["€/ha",null,null,null,null,null,null,{"$f":"IF(Y43=0,\"\",Y43)","v":""},"","Grünlandverbesserung",null,null,{"$f":"G10","v":0},null,null,null,"Kultursubstrate",{"$f":"R13-R28","v":0},null,{"$f":"T13-T28","v":0},null,null,null,null,{"$f":"IF(D$3=0,\"\",VLOOKUP(D$3,Grünlandnutzungen,6,0)*F43)","v":""},{"$f":"IF(D$3=0,\"\",VLOOKUP(D$3,Grünlandnutzungen,7,0)*F43)","v":""},{"$f":"IF(Y43=\"\",\"\",Y43*C4)","v":""},{"$f":"IF(Z43=\"\",\"\",Z43*C4)","v":""}]
[null,null,null,null,null,null,null,"","","Düngemittel",null,null,{"$f":"SUM(G13:G18)","v":0},null,null,null,"Pflanzenhilfsmittel",{"$f":"R14-R29","v":0},null,{"$f":"T14-T29","v":0},null,null,null,null,{"$f":"IF(D$3=0,\"\",VLOOKUP(D$3,Grünlandnutzungen,6,0)*F44)","v":""},{"$f":"IF(D$3=0,\"\",VLOOKUP(D$3,Grünlandnutzungen,7,0)*F44)","v":""},{"$f":"IF(Y44=\"\",\"\",Y44*C5)","v":""},{"$f":"IF(Z44=\"\",\"\",Z44*C5)","v":""}]
[null,null,null,null,null,null,null,"","","Pflanzenschutz",null,null,{"$f":"G33","v":0},null,null,null,"Abfälle zur Beseitigung (§ 28 Absatz 2 oder 3 KrWG)",{"$f":"R15-R30","v":0},null,{"$f":"T15-T30","v":0},null,null,null,null,{"$f":"IF(D$3=0,\"\",VLOOKUP(D$3,Grünlandnutzungen,6,0)*F45)","v":""},{"$f":"IF(D$3=0,\"\",VLOOKUP(D$3,Grünlandnutzungen,7,0)*F45)","v":""},{"$f":"IF(Y45=\"\",\"\",Y45*C6)","v":""},{"$f":"IF(Z45=\"\",\"\",Z45*C6)","v":""}]
["Bemerkungen",null,null,null,null,null,null,"","","Summe",null,null,{"$f":"M43+M44+M45","v":0},null,null,null,null,null,null,null,null,null,null,null,{"$f":"IF(D$3=0,\"\",VLOOKUP(D$3,Grünlandnutzungen,6,0)*F46)","v":""},{"$f":"IF(D$3=0,\"\",VLOOKUP(D$3,Grünlandnutzungen,7,0)*F46)","v":""},{"$f":"IF(Y46=\"\",\"\",Y46*C7)","v":""},{"$f":"IF(Z46=\"\",\"\",Z46*C7)","v":""}]

{"sheet":"G8","index":66,"n_rows":46,"n_cols":33,"rows_kept":46,"cut":false,"hidden":false,"merged":[[12,29,12,30],[12,32,15,33],[13,30,13,31],[14,30,14,31],[15,30,15,31],[45,0,48,0],[45,1,45,2],[45,3,45,4],[45,5,45,6],[45,9,45,11],[43,1,43,2],[43,3,43,4],[43,5,43,6],[43,9,43,11],[44,1,44,2],[44,3,44,4],[44,5,44,6],[44,9,44,11],[37,9,37,10],[37,11,37,12],[40,7,40,8],[41,1,41,2],[41,3,41,4],[41,5,41,6],[41,9,41,11],[42,0,44,0],[42,1,42,2],[42,3,42,4],[42,5,42,6],[42,9,42,11],[32,14,32,18],[34,0,39,0],[34,1,34,5],[34,7,34,8],[34,9,34,10],[34,11,34,12],[35,1,35,5],[35,7,35,8],[35,9,35,10],[35,11,35,12],[38,1,38,5],[38,7,38,8],[38,9,38,10],[38,11,38,12],[39,1,39,5],[39,7,39,8],[39,9,39,10],[39,11,39,12],[36,1,36,5],[36,7,36,8],[36,9,36,10],[36,11,36,12],[37,1,37,5],[37,7,37,8],[17,16,17,20],[24,1,24,2],[24,4,24,12],[25,1,25,2],[25,4,25,12],[21,1,21,2],[21,4,21,12],[22,1,22,2],[22,4,22,12],[23,1,23,2],[23,4,23,12],[18,7,18,8],[19,7,19,8],[20,3,20,12],[18,1,18,6],[19,1,19,6],[26,0,32,0],[26,1,26,2],[26,7,26,9],[26,10,26,12],[27,1,27,2],[27,7,27,9],[30,1,30,2],[30,7,30,9],[30,10,30,12],[31,1,31,2],[31,7,31,9],[31,10,31,12],[27,10,27,12],[28,1,28,2],[28,7,28,9],[28,10,28,12],[29,1,29,2],[29,7,29,9],[29,10,29,12],[6,7,7,7],[8,7,8,12],[9,7,9,8],[9,9,9,12],[10,4,10,6],[10,7,10,8],[11,1,11,2],[12,0,17,0],[12,1,12,2],[13,1,13,2],[14,1,14,2],[15,1,15,2],[16,1,16,2],[17,1,17,2],[3,3,3,6],[5,1,5,2],[0,1,0,12],[1,0,3,0],[1,3,1,6],[1,7,1,9],[1,10,1,12],[2,3,2,6],[2,7,2,10],[2,11,2,12],[3,7,3,10],[3,11,3,12],[5,7,5,10],[5,11,5,12],[4,7,4,10],[4,11,4,12]]}
[null,"Grünland"]
["Schlag","Nr.",8,null,null,null,null,"Jahr:",null,null,{"$f":"IF(Einführung!I8=\"\",\"\",Einführung!I8)","v":""},null,null,{"$f":"IF(OR(C4=\"\",H11=\"\"),\"\",H11*C4)","v":""},"DB kg * Fläche"]
[null,"Bez.",{"$f":"IF($C$2=\"\",\"\",VLOOKUP($C$2,Grünlandübersicht,2,0))","v":0},{"$f":"IF(C2=\"\",\"\",VLOOKUP(C2,Grünlandübersicht,4,0))","v":0},null,null,null,"Nitrat belastete Kulisse",null,null,null,{"$f":"IF(C2=\"\",\"\",VLOOKUP(C2,Grünlandübersicht,20,0))","v":0},null,{"$f":"W19","v":""},"kg/ha org. Dünger für Kontrollgrenze"]
[null,"ha",{"$f":"IF($C$2=\"\",\"\",VLOOKUP($C$2,Grünlandübersicht,3,0))","v":0},null,null,null,null,"P2O5 eutrophierte Kulisse",null,null,null,{"$f":"IF(C2=\"\",\"\",VLOOKUP(C2,Grünlandübersicht,21,0))","v":0},null,{"$f":"IF(OR(L3=\"\",L3=\"nein\",N2=\"\"),\"\",N3*C4)","v":""},"kg Gesamtschlag org Dünger für 170 Kontrollgrenze",null,null,"Gesamt N","NH4-N","P2O5 mineral.","P2O5 organisch"]
[null,null,null,null,null,null,null,"aus org. wirtschaftsdüngeren \nBerechung der 130 kg N/ha",null,null,null,{"$f":"IF(L3=\"ja\",W19,\"\")","v":""},null,{"$f":"IF(H11=\"\",\"\",IF(L3=\"ja\",N2*0.8,\"\"))","v":""},"Düngebedarf Gesamtschlag kg N/ha",null,"N Gesamt minerl.",{"$f":"SUMIF($N$13:$N$18,\"mineralisch\",$H$13:$H$18)","v":0}]
[null,"Grünlandverbesserung",null,"Datum","E/ha","€/E","€/ha","sonstige Auflagen",null,null,null,"WSG",null,{"$f":"IF(L3=\"ja\",X20+Y20,\"\")","v":""},"anrechenbare N Menge Gesamtschlag  kg N/ha",null,"NH4-N minerlisch",null,{"$f":"SUMIF($N$13:$N$18,\"mineralisch\",$I$13:$I$18)","v":0}]
[null,"1.",null,null,null,null,{"$f":"E7*F7","v":0},"Versorg-\nungs-\nstufe","P2O5","K2O","MgO","pH",null,{"$f":"IF(K3=\"ja\",J12*B4,\"\")","v":""},null,null,"N Gesamt organsich",{"$f":"SUMIF($N$13:$N$18,\"organisch\",$H$13:$H$18)","v":0}]
[null,"2.",null,null,null,null,{"$f":"E8*F8","v":0},null,{"$f":"IF($C$2=\"\",\"\",VLOOKUP($C$2,Grünlandübersicht,30,0))","v":"C"},{"$f":"IF($C$2=\"\",\"\",VLOOKUP($C$2,Grünlandübersicht,31,0))","v":"C"},{"$f":"IF($C$2=\"\",\"\",VLOOKUP($C$2,Grünlandübersicht,32,0))","v":"C"},{"$f":"IF($C$2=\"\",\"\",VLOOKUP($C$2,Grünlandübersicht,33,0))","v":"C"},null,null,null,null,"NH4-N organsich",null,{"$f":"SUMIF($N$13:$N$18,\"organisch\",$I$13:$I$18)","v":0}]
[null,"3.",null,null,null,null,{"$f":"E9*F9","v":0},"Düngebedarf kg/ha (Blatt Grünland)",null,null,null,null,null,null,null,null,"P2O5 mineralisch",null,null,{"$f":"SUMIF($N$13:$N$18,\"mineralisch\",$J$13:$J$18)","v":0}]
[null,null,null,null,null,"Kosten €/ha",{"$f":"SUM(G7:G9)","v":0},{"$f":"IF(L3=\"ja\",VLOOKUP(C2,Grünlandübersicht,19,0),\"\")","v":""},null,{"$f":"IF(L3=\"ja\",O10,\"\")","v":""},null,null,null,null,"Düngebedarf um 20% red.",null,"P2O5 organisch",null,null,null,{"$f":"SUMIF($N$13:$N$18,\"organisch\",$J$13:$J$18)","v":0},null,null,null,null,null,null,null,null,{"$f":"IF(L3=\"ja\",\"Noch nicht ausgeschöpfter Stickstoff Düngebedarf aller Flächen\",\"\")","v":""}]
[null,null,null,null,"N Bedarf DÜV kg/ha",null,null,{"$f":"IF(C2=\"\",\"\",VLOOKUP(C2,Grünlandübersicht,18,0))","v":""},null,{"$f":"IF($C$2=\"\",\"\",VLOOKUP($C$2,Grünlandübersicht,36,0))","v":""},{"$f":"IF($C$2=\"\",\"\",VLOOKUP($C$2,Grünlandübersicht,37,0))","v":""},null,null,null,null,null,"Sonstige organische Düngemittel",{"$f":"SUMIF($N$13:$N$18,Q11,$H$13:$H$18)","v":0},{"$f":"SUMIF($N$13:$N$18,Q11,$I$13:$I$18)","v":0},{"$f":"SUMIF($N$13:$N$18,Q11,$J$13:$J$18)","v":0},null,"Anrechnung","Anrechnung ","Prüfung NH4","mineral",null,null,null,null,{"$f":"IF(L3=\"ja\",'Zus. Anlage 5 DüV'!D43,\"\")","v":""},{"$f":"IF(L3=\"ja\",\"kg N Gesamtfläche\",\"\")","v":""}]
[null,"Düngemittel",null,"Datum","m³o.dt/ha","€/E.","€/ha","Ges.-N","NH4- N","P2O5","K2O","MgO","S",null,null,null,"Bodenhilfsstoffe",{"$f":"SUMIF($N$13:$N$18,Q12,$H$13:$H$18)","v":0},null,{"$f":"SUMIF($N$13:$N$18,Q12,$J$13:$J$18)","v":0},null,"aktuelles Jahr","170 kg GW"," oder Anlage3","Stickstoff"]
["Düngung",null,null,null,null,{"$f":"IF($B13=\"\",\"\",VLOOKUP($B13,Düngemiteldaten,2,0))","v":""},{"$f":"IF(B13=\"\",\"\",E13*F13)","v":""},{"$f":"IF(B13=\"\",\"\",VLOOKUP(B13,Düngemiteldaten,4,0)*E13)","v":""},{"$f":"IF(B13=\"\",\"\",VLOOKUP(B13,Düngemiteldaten,5,0)*E13)","v":""},{"$f":"IF(B13=\"\",\"\",VLOOKUP(B13,Düngemiteldaten,7,0)*E13)","v":""},{"$f":"IF(B13=\"\",\"\",VLOOKUP(B13,Düngemiteldaten,8,0)*E13)","v":""},{"$f":"IF(B13=\"\",\"\",VLOOKUP(B13,Düngemiteldaten,9,0)*E13)","v":""},{"$f":"IF(B13=\"\",\"\",VLOOKUP(B13,Düngemiteldaten,10,0)*E13)","v":""},{"$f":"IF(B13=\"\",\"\",VLOOKUP(B13,Düngemiteldaten,20,0))","v":""},null,null,"Kultursubstrate",{"$f":"SUMIF($N$13:$N$18,Q13,$H$13:$H$18)","v":0},null,{"$f":"SUMIF($N$13:$N$18,Q13,$J$13:$J$18)","v":0},null,{"$f":"IF(OR(B13=\"\",N13=\"\"),\"\",IF(N13=\"mineralisch\",\"\",VLOOKUP(B13,Düngemiteldaten,18,0)*VLOOKUP(B13,Düngemiteldaten,4,0)*E13))","v":""},{"$f":"IF(OR(B13=\"\",N13=\"\"),\"\",IF(N13=\"mineralisch\",\"\",VLOOKUP(B13,Düngemiteldaten,19,0)*H13))","v":""},{"$f":"IF(B13=\"\",\"\",IF(V13<I13,I13,V13))","v":""},{"$f":"IF(B13=\"\",\"\",IF(N13=\"organisch\",0,H13))","v":""},null,null,null,null,{"$f":"IF(L3=\"ja\",\"Summe Gesamtstickstoff\",\"\")","v":""},null,null,{"$f":"IF(L3=\"ja\",\"Anteil § 13a Prüfung \n160 kg N/ha Gesamt\n80 kg N/ha mineralisch\",\"\")","v":""}]
[null,null,null,null,null,"","","","","","","","","",null,null,"Pflanzenhilfsmittel",{"$f":"SUMIF($N$13:$N$18,Q14,$H$13:$H$18)","v":0},null,{"$f":"SUMIF($N$13:$N$18,Q14,$J$13:$J$18)","v":0},null,"","","","",null,null,null,null,{"$f":"IF(L3=\"ja\",R5,\"\")","v":""},{"$f":"IF(L3=\"ja\",\"mineralisch N kg/ha\",\"\")","v":""}]
[null,null,null,null,null,"","","","","","","","","",null,null,"Abfälle zur Beseitigung (§ 28 Absatz 2 odeS 3 KSWG)",{"$f":"SUMIF($N$13:$N$18,Q15,$H$13:$H$18)","v":0},null,{"$f":"SUMIF($N$13:$N$18,Q15,$J$13:$J$18)","v":0},null,"","","","",null,null,null,null,{"$f":"IF(L3=\"ja\",R7+R11,\"\")","v":""},{"$f":"IF(L3=\"ja\",\"organisch N kg/ha\",\"\")","v":""}]
[null,null,null,null,null,"","","","","","","","","",null,null,null,null,null,null,null,"","","","",null,null,null,null,{"$f":"IF(L3=\"ja\",(AD15+AD14),\"\")","v":""},{"$f":"IF(L3=\"ja\",\"Gesamt kg N/ha\",\"\")","v":""}]
[null,null,null,null,null,"","","","","","","","","",null,null,null,null,null,null,null,"","","",""]
[null,null,null,null,null,"","","","","","","","","",null,null,"Nährstoffherkunft auf gefährdeten Flächen §13",null,null,null,null,"","","",""]
[null,"anrechenbarer N org.Düngung + min. Düngung kg N/ha",null,null,null,null,null,{"$f":"X19+Y19","v":0},null,{"$f":"SUM(J13:J18)","v":0},{"$f":"SUM(K13:K18)","v":0},{"$f":"SUM(L13:L18)","v":0},null,null,"Bilanz (anrechenbarer Dgg.- red.Düngebedarf) kg N/ha",null,null,"Gesamt N","NH4-N",null,null,{"$f":"SUM(V13:V18)","v":0},{"$f":"IF(SUM(W13:W18)=0,\"\",(SUM(W13:W18)))","v":""},{"$f":"SUM(X13:X18)","v":0},{"$f":"SUM(Y13:Y18)","v":0},"kg/ha"]
[null,{"$f":"IF(L3=\"ja\",O19,O20)","v":"Bilanz (anrechenbarer Dgg.- Düngebedarf) kg N/ha"},null,null,null,null,null,{"$f":"IF(H11=\"\",0,IF(OR(L3=0,L3=\"nein\"),H19-H11,H19-H10))","v":0},null,{"$f":"IF(J11=\"\",\"\",J19-J11)","v":""},"","","",null,"Bilanz (anrechenbarer Dgg.- Düngebedarf) kg N/ha",null,"N Gesamt minerl.",{"$f":"IF(L3=\"ja\",SUMIF($N$13:$N$18,\"mineralisch\",$H$13:$H$18),0)","v":0},null,null,null,{"$f":"V19*C4","v":0},{"$f":"IF(W19=\"\",\"\",W19*C4)","v":""},{"$f":"X19*C4","v":0},{"$f":"Y19*C4","v":0},"kg/Schlag",null,null,null,{"$f":"IF(H20>0,\"Stickstoffmenge überschreitet den Düngebedarf\",\"\")","v":""}]
[null,null,null,null,null,null,null,null,null,null,null,null,null,null,null,null,"NH4-N minerlisch",null,{"$f":"IF(L3=\"ja\",SUMIF($N$13:$N$18,\"mineralisch\",$I$13:$I$18),0)","v":0}]
[null,"Pflegemaßnahme",null,"Datum","Bemerkung",null,null,null,null,null,null,null,null,null,null,null,"N Gesamt organsich",{"$f":"IF(L3=\"ja\",SUMIF($N$13:$N$18,\"organisch\",$H$13:$H$18),0)","v":0}]
[null,null,null,null,null,null,null,null,null,null,null,null,null,null,null,null,"NH4-N organsich",null,{"$f":"IF(L3=\"ja\",SUMIF($N$13:$N$18,\"organisch\",$I$13:$I$18),0)","v":0},null,null,null,null,null,{"$f":"X19+Y19","v":0}]
[null,null,null,null,null,null,null,null,null,null,null,null,null,null,null,null,"P2O5 mineralisch",null,null,{"$f":"IF(L3=\"ja\",SUMIF($N$13:$N$18,\"mineralisch\",$J$13:$J$18),0)","v":0}]
[null,null,null,null,null,null,null,null,null,null,null,null,null,null,null,null,"P2O5 organisch",null,null,null,{"$f":"IF(L3=\"ja\",SUMIF($N$13:$N$18,\"organisch\",$J$13:$J$18),0)","v":0}]
[null,null,null,null,null,null,null,null,null,null,null,null,null,null,null,null,"Sonstige organische Düngemittel",{"$f":"IF(L3=\"ja\",SUMIF($N$13:$N$18,Q26,$H$13:$H$18),0)","v":0},{"$f":"IF(L3=\"ja\",SUMIF($N$13:$N$18,Q26,$I$13:$I$18),0)","v":0},{"$f":"IF(L3=\"ja\",SUMIF($N$13:$N$18,Q26,$J$13:$J$18),0)","v":0}]
["Pflanzenschutz","Pflanzenschutz",null,"Datum","E./ha","€/E.","€/ha","Anwender",null,null,"Bemerkungen",null,null,null,null,null,"Bodenhilfsstoffe",{"$f":"IF(L$3=\"ja\",SUMIF($N$13:$N$18,Q27,$H$13:$H$18),0)","v":0},null,{"$f":"IF(L$3=\"ja\",SUMIF($N$13:$N$18,Q27,$J$13:$J$18),0)","v":0}]
[null,null,null,null,null,{"$f":"IF(B28=\"\",\"\",VLOOKUP(B28,PSMMittel,2,0))","v":""},{"$f":"IF(B28=\"\",\"\",E28*F28)","v":""},null,null,null,null,null,null,null,null,null,"Kultursubstrate",{"$f":"IF(L$3=\"ja\",SUMIF($N$13:$N$18,Q28,$H$13:$H$18),0)","v":0},null,{"$f":"IF(L$3=\"ja\",SUMIF($N$13:$N$18,Q28,$J$13:$J$18),0)","v":0}]
[null,null,null,null,null,{"$f":"IF(B29=\"\",\"\",VLOOKUP(B29,PSMMittel,2,0))","v":""},{"$f":"IF(B29=\"\",\"\",E29*F29)","v":""},null,null,null,null,null,null,null,null,null,"Pflanzenhilfsmittel",{"$f":"IF(L$3=\"ja\",SUMIF($N$13:$N$18,Q29,$H$13:$H$18),0)","v":0},null,{"$f":"IF(L$3=\"ja\",SUMIF($N$13:$N$18,Q29,$J$13:$J$18),0)","v":0}]
[null,null,null,null,null,{"$f":"IF(B30=\"\",\"\",VLOOKUP(B30,PSMMittel,2,0))","v":""},{"$f":"IF(B30=\"\",\"\",E30*F30)","v":""},null,null,null,null,null,null,null,null,null,"Abfälle zur Beseitigung (§ 28 Absatz 2 odeS 3 KSWG)",{"$f":"IF(L$3=\"ja\",SUMIF($N$13:$N$18,Q30,$H$13:$H$18),0)","v":0},null,{"$f":"IF(L$3=\"ja\",SUMIF($N$13:$N$18,Q30,$J$13:$J$18),0)","v":0}]
[null,null,null,null,null,{"$f":"IF(B31=\"\",\"\",VLOOKUP(B31,PSMMittel,2,0))","v":""},{"$f":"IF(B31=\"\",\"\",E31*F31)","v":""}]
[null,null,null,null,null,{"$f":"IF(B32=\"\",\"\",VLOOKUP(B32,PSMMittel,2,0))","v":""},{"$f":"IF(B32=\"\",\"\",E32*F32)","v":""}]
[null,null,null,null,null,null,{"$f":"SUM(G28:G32)","v":0},null,null,null,null,null,null,null,"Stickstoffherkunft nicht gefährdetes Gebiet Gesamtfläche"]
[null,null,null,null,null,null,null,null,null,null,null,null,null,null,null,null,null,"Gesamt N","NH4-N"]
["Bergung","Weidetiere",null,null,null,null,"Anzahl \nTiere","Datum \nBeginn",null,"Datum \nEnde",null,"Anzahl \nWeidetage",null,null,null,null,"N Gesamt minerl.",{"$f":"R5-R20","v":0},null,null,null,null,"Stickstoffbindung aus Leguminosen kg /Schlag",null,"N \nWeidehaltung","P \nWeidehaltung"]
[null,null,null,null,null,null,null,null,null,null,null,{"$f":"IF(OR(H36=\"\",J36=\"\"),\"\",(J36+1)-H36)","v":""},null,null,null,null,"NH4-N minerlisch",null,{"$f":"S6-S21","v":0},null,null,null,{"$f":"IF(D3=0,\"\",VLOOKUP(D3,Grünlandnutzungen,27,0)*C4)","v":""},null,{"$f":"IF(B36=\"\",\"\",VLOOKUP(B36,Tierhaltung,3,0)/365*L36)","v":""},{"$f":"IF(B36=\"\",\"\",VLOOKUP(B36,Tierhaltung,4,0)/365*L36)","v":""}]
[null,null,null,null,null,null,null,null,null,null,null,{"$f":"IF(OR(H37=\"\",J37=\"\"),\"\",(J37+1)-H37)","v":""},null,null,null,null,"N Gesamt organsich",{"$f":"R7-R22","v":0},null,null,null,null,null,null,{"$f":"IF(B37=\"\",\"\",VLOOKUP(B37,Tierhaltung,3,0)/365*L37)","v":""},{"$f":"IF(B37=\"\",\"\",VLOOKUP(B37,Tierhaltung,4,0)/365*L37)","v":""}]
[null,null,null,null,null,null,null,null,null,null,null,"",null,null,null,null,"NH4-N organsich",null,{"$f":"S8-S23","v":0},null,null,null,null,null,{"$f":"IF(B38=\"\",\"\",VLOOKUP(B38,Tierhaltung,3,0)/365*L38)","v":""},{"$f":"IF(B38=\"\",\"\",VLOOKUP(B38,Tierhaltung,4,0)/365*L38)","v":""}]
[null,null,null,null,null,null,null,null,null,null,null,"",null,null,null,null,"P2O5 mineralisch",null,null,{"$f":"T9-T24","v":0},null,null,null,null,{"$f":"IF(B39=\"\",\"\",VLOOKUP(B39,Tierhaltung,3,0)/365*L39)","v":""},{"$f":"IF(B39=\"\",\"\",VLOOKUP(B39,Tierhaltung,4,0)/365*L39)","v":""}]
[null,null,null,null,null,null,null,null,null,null,null,"",null,null,null,null,"P2O5 organisch",null,null,null,{"$f":"U10-U25","v":0},null,null,null,{"$f":"IF(B40=\"\",\"\",VLOOKUP(B40,Tierhaltung,3,0)/365*L40)","v":""},{"$f":"IF(B40=\"\",\"\",VLOOKUP(B40,Tierhaltung,4,0)/365*L40)","v":""}]
[null,null,null,null,null,null,null,null,null,null,null,null,null,null,null,null,"Sonstige organische Düngemittel",{"$f":"R11-R26","v":0},{"$f":"S11-S26","v":0},{"$f":"T11-T26","v":0},null,null,null,null,{"$f":"SUM(Y36:Y40)","v":0},{"$f":"SUM(Z36:Z40)","v":0}]
[null,"Nutzungsdatum",null,"Nutzungsform",null,"Ertrag TM dt/ha",null,"Entzg N\nkg/ha","Entz. P2O5 kg/ha","Aufstellung Kosten",null,null,"€/ha",null,null,null,"Bodenhilfsstoffe",{"$f":"R12-R27","v":0},null,{"$f":"T12-T27","v":0},null,null,null,null,"N Entzug kg N/ha","Entzug kg P2O5/ha","N Entzug kg N Schlag","P Entzug kg P2O5 Schlag"]
["€/ha",null,null,null,null,null,null,{"$f":"IF(Y43=0,\"\",Y43)","v":""},"","Grünlandverbesserung",null,null,{"$f":"G10","v":0},null,null,null,"Kultursubstrate",{"$f":"R13-R28","v":0},null,{"$f":"T13-T28","v":0},null,null,null,null,{"$f":"IF(D$3=0,\"\",VLOOKUP(D$3,Grünlandnutzungen,6,0)*F43)","v":""},{"$f":"IF(D$3=0,\"\",VLOOKUP(D$3,Grünlandnutzungen,7,0)*F43)","v":""},{"$f":"IF(Y43=\"\",\"\",Y43*C4)","v":""},{"$f":"IF(Z43=\"\",\"\",Z43*C4)","v":""}]
[null,null,null,null,null,null,null,"","","Düngemittel",null,null,{"$f":"SUM(G13:G18)","v":0},null,null,null,"Pflanzenhilfsmittel",{"$f":"R14-R29","v":0},null,{"$f":"T14-T29","v":0},null,null,null,null,{"$f":"IF(D$3=0,\"\",VLOOKUP(D$3,Grünlandnutzungen,6,0)*F44)","v":""},{"$f":"IF(D$3=0,\"\",VLOOKUP(D$3,Grünlandnutzungen,7,0)*F44)","v":""},{"$f":"IF(Y44=\"\",\"\",Y44*C5)","v":""},{"$f":"IF(Z44=\"\",\"\",Z44*C5)","v":""}]
[null,null,null,null,null,null,null,"","","Pflanzenschutz",null,null,{"$f":"G33","v":0},null,null,null,"Abfälle zur Beseitigung (§ 28 Absatz 2 oder 3 KrWG)",{"$f":"R15-R30","v":0},null,{"$f":"T15-T30","v":0},null,null,null,null,{"$f":"IF(D$3=0,\"\",VLOOKUP(D$3,Grünlandnutzungen,6,0)*F45)","v":""},{"$f":"IF(D$3=0,\"\",VLOOKUP(D$3,Grünlandnutzungen,7,0)*F45)","v":""},{"$f":"IF(Y45=\"\",\"\",Y45*C6)","v":""},{"$f":"IF(Z45=\"\",\"\",Z45*C6)","v":""}]
["Bemerkungen",null,null,null,null,null,null,"","","Summe",null,null,{"$f":"M43+M44+M45","v":0},null,null,null,null,null,null,null,null,null,null,null,{"$f":"IF(D$3=0,\"\",VLOOKUP(D$3,Grünlandnutzungen,6,0)*F46)","v":""},{"$f":"IF(D$3=0,\"\",VLOOKUP(D$3,Grünlandnutzungen,7,0)*F46)","v":""},{"$f":"IF(Y46=\"\",\"\",Y46*C7)","v":""},{"$f":"IF(Z46=\"\",\"\",Z46*C7)","v":""}]

{"sheet":"G9","index":67,"n_rows":46,"n_cols":33,"rows_kept":46,"cut":false,"hidden":false,"merged":[[12,29,12,30],[12,32,15,33],[13,30,13,31],[14,30,14,31],[15,30,15,31],[45,0,48,0],[45,1,45,2],[45,3,45,4],[45,5,45,6],[45,9,45,11],[43,1,43,2],[43,3,43,4],[43,5,43,6],[43,9,43,11],[44,1,44,2],[44,3,44,4],[44,5,44,6],[44,9,44,11],[37,9,37,10],[37,11,37,12],[40,7,40,8],[41,1,41,2],[41,3,41,4],[41,5,41,6],[41,9,41,11],[42,0,44,0],[42,1,42,2],[42,3,42,4],[42,5,42,6],[42,9,42,11],[32,14,32,18],[34,0,39,0],[34,1,34,5],[34,7,34,8],[34,9,34,10],[34,11,34,12],[35,1,35,5],[35,7,35,8],[35,9,35,10],[35,11,35,12],[38,1,38,5],[38,7,38,8],[38,9,38,10],[38,11,38,12],[39,1,39,5],[39,7,39,8],[39,9,39,10],[39,11,39,12],[36,1,36,5],[36,7,36,8],[36,9,36,10],[36,11,36,12],[37,1,37,5],[37,7,37,8],[17,16,17,20],[24,1,24,2],[24,4,24,12],[25,1,25,2],[25,4,25,12],[21,1,21,2],[21,4,21,12],[22,1,22,2],[22,4,22,12],[23,1,23,2],[23,4,23,12],[18,7,18,8],[19,7,19,8],[20,3,20,12],[18,1,18,6],[19,1,19,6],[26,0,32,0],[26,1,26,2],[26,7,26,9],[26,10,26,12],[27,1,27,2],[27,7,27,9],[30,1,30,2],[30,7,30,9],[30,10,30,12],[31,1,31,2],[31,7,31,9],[31,10,31,12],[27,10,27,12],[28,1,28,2],[28,7,28,9],[28,10,28,12],[29,1,29,2],[29,7,29,9],[29,10,29,12],[6,7,7,7],[8,7,8,12],[9,7,9,8],[9,9,9,12],[10,4,10,6],[10,7,10,8],[11,1,11,2],[12,0,17,0],[12,1,12,2],[13,1,13,2],[14,1,14,2],[15,1,15,2],[16,1,16,2],[17,1,17,2],[3,3,3,6],[5,1,5,2],[0,1,0,12],[1,0,3,0],[1,3,1,6],[1,7,1,9],[1,10,1,12],[2,3,2,6],[2,7,2,10],[2,11,2,12],[3,7,3,10],[3,11,3,12],[5,7,5,10],[5,11,5,12],[4,7,4,10],[4,11,4,12]]}
[null,"Grünland"]
["Schlag","Nr.",9,null,null,null,null,"Jahr:",null,null,{"$f":"IF(Einführung!I8=\"\",\"\",Einführung!I8)","v":""},null,null,{"$f":"IF(OR(C4=\"\",H11=\"\"),\"\",H11*C4)","v":""},"DB kg * Fläche"]
[null,"Bez.",{"$f":"IF($C$2=\"\",\"\",VLOOKUP($C$2,Grünlandübersicht,2,0))","v":0},{"$f":"IF(C2=\"\",\"\",VLOOKUP(C2,Grünlandübersicht,4,0))","v":0},null,null,null,"Nitrat belastete Kulisse",null,null,null,{"$f":"IF(C2=\"\",\"\",VLOOKUP(C2,Grünlandübersicht,20,0))","v":0},null,{"$f":"W19","v":""},"kg/ha org. Dünger für Kontrollgrenze"]
[null,"ha",{"$f":"IF($C$2=\"\",\"\",VLOOKUP($C$2,Grünlandübersicht,3,0))","v":0},null,null,null,null,"P2O5 eutrophierte Kulisse",null,null,null,{"$f":"IF(C2=\"\",\"\",VLOOKUP(C2,Grünlandübersicht,21,0))","v":0},null,{"$f":"IF(OR(L3=\"\",L3=\"nein\",N2=\"\"),\"\",N3*C4)","v":""},"kg Gesamtschlag org Dünger für 170 Kontrollgrenze",null,null,"Gesamt N","NH4-N","P2O5 mineral.","P2O5 organisch"]
[null,null,null,null,null,null,null,"aus org. wirtschaftsdüngeren \nBerechung der 130 kg N/ha",null,null,null,{"$f":"IF(L3=\"ja\",W19,\"\")","v":""},null,{"$f":"IF(H11=\"\",\"\",IF(L3=\"ja\",N2*0.8,\"\"))","v":""},"Düngebedarf Gesamtschlag kg N/ha",null,"N Gesamt minerl.",{"$f":"SUMIF($N$13:$N$18,\"mineralisch\",$H$13:$H$18)","v":0}]
[null,"Grünlandverbesserung",null,"Datum","E/ha","€/E","€/ha","sonstige Auflagen",null,null,null,"WSG",null,{"$f":"IF(L3=\"ja\",X20+Y20,\"\")","v":""},"anrechenbare N Menge Gesamtschlag  kg N/ha",null,"NH4-N minerlisch",null,{"$f":"SUMIF($N$13:$N$18,\"mineralisch\",$I$13:$I$18)","v":0}]
[null,"1.",null,null,null,null,{"$f":"E7*F7","v":0},"Versorg-\nungs-\nstufe","P2O5","K2O","MgO","pH",null,{"$f":"IF(K3=\"ja\",J12*B4,\"\")","v":""},null,null,"N Gesamt organsich",{"$f":"SUMIF($N$13:$N$18,\"organisch\",$H$13:$H$18)","v":0}]
[null,"2.",null,null,null,null,{"$f":"E8*F8","v":0},null,{"$f":"IF($C$2=\"\",\"\",VLOOKUP($C$2,Grünlandübersicht,30,0))","v":"C"},{"$f":"IF($C$2=\"\",\"\",VLOOKUP($C$2,Grünlandübersicht,31,0))","v":"C"},{"$f":"IF($C$2=\"\",\"\",VLOOKUP($C$2,Grünlandübersicht,32,0))","v":"C"},{"$f":"IF($C$2=\"\",\"\",VLOOKUP($C$2,Grünlandübersicht,33,0))","v":"C"},null,null,null,null,"NH4-N organsich",null,{"$f":"SUMIF($N$13:$N$18,\"organisch\",$I$13:$I$18)","v":0}]
[null,"3.",null,null,null,null,{"$f":"E9*F9","v":0},"Düngebedarf kg/ha (Blatt Grünland)",null,null,null,null,null,null,null,null,"P2O5 mineralisch",null,null,{"$f":"SUMIF($N$13:$N$18,\"mineralisch\",$J$13:$J$18)","v":0}]
[null,null,null,null,null,"Kosten €/ha",{"$f":"SUM(G7:G9)","v":0},{"$f":"IF(L3=\"ja\",VLOOKUP(C2,Grünlandübersicht,19,0),\"\")","v":""},null,{"$f":"IF(L3=\"ja\",O10,\"\")","v":""},null,null,null,null,"Düngebedarf um 20% red.",null,"P2O5 organisch",null,null,null,{"$f":"SUMIF($N$13:$N$18,\"organisch\",$J$13:$J$18)","v":0},null,null,null,null,null,null,null,null,{"$f":"IF(L3=\"ja\",\"Noch nicht ausgeschöpfter Stickstoff Düngebedarf aller Flächen\",\"\")","v":""}]
[null,null,null,null,"N Bedarf DÜV kg/ha",null,null,{"$f":"IF(C2=\"\",\"\",VLOOKUP(C2,Grünlandübersicht,18,0))","v":""},null,{"$f":"IF($C$2=\"\",\"\",VLOOKUP($C$2,Grünlandübersicht,36,0))","v":""},{"$f":"IF($C$2=\"\",\"\",VLOOKUP($C$2,Grünlandübersicht,37,0))","v":""},null,null,null,null,null,"Sonstige organische Düngemittel",{"$f":"SUMIF($N$13:$N$18,Q11,$H$13:$H$18)","v":0},{"$f":"SUMIF($N$13:$N$18,Q11,$I$13:$I$18)","v":0},{"$f":"SUMIF($N$13:$N$18,Q11,$J$13:$J$18)","v":0},null,"Anrechnung","Anrechnung ","Prüfung NH4","mineral",null,null,null,null,{"$f":"IF(L3=\"ja\",'Zus. Anlage 5 DüV'!D43,\"\")","v":""},{"$f":"IF(L3=\"ja\",\"kg N Gesamtfläche\",\"\")","v":""}]
[null,"Düngemittel",null,"Datum","m³o.dt/ha","€/E.","€/ha","Ges.-N","NH4- N","P2O5","K2O","MgO","S",null,null,null,"Bodenhilfsstoffe",{"$f":"SUMIF($N$13:$N$18,Q12,$H$13:$H$18)","v":0},null,{"$f":"SUMIF($N$13:$N$18,Q12,$J$13:$J$18)","v":0},null,"aktuelles Jahr","170 kg GW"," oder Anlage3","Stickstoff"]
["Düngung",null,null,null,null,{"$f":"IF($B13=\"\",\"\",VLOOKUP($B13,Düngemiteldaten,2,0))","v":""},{"$f":"IF(B13=\"\",\"\",E13*F13)","v":""},{"$f":"IF(B13=\"\",\"\",VLOOKUP(B13,Düngemiteldaten,4,0)*E13)","v":""},{"$f":"IF(B13=\"\",\"\",VLOOKUP(B13,Düngemiteldaten,5,0)*E13)","v":""},{"$f":"IF(B13=\"\",\"\",VLOOKUP(B13,Düngemiteldaten,7,0)*E13)","v":""},{"$f":"IF(B13=\"\",\"\",VLOOKUP(B13,Düngemiteldaten,8,0)*E13)","v":""},{"$f":"IF(B13=\"\",\"\",VLOOKUP(B13,Düngemiteldaten,9,0)*E13)","v":""},{"$f":"IF(B13=\"\",\"\",VLOOKUP(B13,Düngemiteldaten,10,0)*E13)","v":""},{"$f":"IF(B13=\"\",\"\",VLOOKUP(B13,Düngemiteldaten,20,0))","v":""},null,null,"Kultursubstrate",{"$f":"SUMIF($N$13:$N$18,Q13,$H$13:$H$18)","v":0},null,{"$f":"SUMIF($N$13:$N$18,Q13,$J$13:$J$18)","v":0},null,{"$f":"IF(OR(B13=\"\",N13=\"\"),\"\",IF(N13=\"mineralisch\",\"\",VLOOKUP(B13,Düngemiteldaten,18,0)*VLOOKUP(B13,Düngemiteldaten,4,0)*E13))","v":""},{"$f":"IF(OR(B13=\"\",N13=\"\"),\"\",IF(N13=\"mineralisch\",\"\",VLOOKUP(B13,Düngemiteldaten,19,0)*H13))","v":""},{"$f":"IF(B13=\"\",\"\",IF(V13<I13,I13,V13))","v":""},{"$f":"IF(B13=\"\",\"\",IF(N13=\"organisch\",0,H13))","v":""},null,null,null,null,{"$f":"IF(L3=\"ja\",\"Summe Gesamtstickstoff\",\"\")","v":""},null,null,{"$f":"IF(L3=\"ja\",\"Anteil § 13a Prüfung \n160 kg N/ha Gesamt\n80 kg N/ha mineralisch\",\"\")","v":""}]
[null,null,null,null,null,"","","","","","","","","",null,null,"Pflanzenhilfsmittel",{"$f":"SUMIF($N$13:$N$18,Q14,$H$13:$H$18)","v":0},null,{"$f":"SUMIF($N$13:$N$18,Q14,$J$13:$J$18)","v":0},null,"","","","",null,null,null,null,{"$f":"IF(L3=\"ja\",R5,\"\")","v":""},{"$f":"IF(L3=\"ja\",\"mineralisch N kg/ha\",\"\")","v":""}]
[null,null,null,null,null,"","","","","","","","","",null,null,"Abfälle zur Beseitigung (§ 28 Absatz 2 odeS 3 KSWG)",{"$f":"SUMIF($N$13:$N$18,Q15,$H$13:$H$18)","v":0},null,{"$f":"SUMIF($N$13:$N$18,Q15,$J$13:$J$18)","v":0},null,"","","","",null,null,null,null,{"$f":"IF(L3=\"ja\",R7+R11,\"\")","v":""},{"$f":"IF(L3=\"ja\",\"organisch N kg/ha\",\"\")","v":""}]
[null,null,null,null,null,"","","","","","","","","",null,null,null,null,null,null,null,"","","","",null,null,null,null,{"$f":"IF(L3=\"ja\",(AD15+AD14),\"\")","v":""},{"$f":"IF(L3=\"ja\",\"Gesamt kg N/ha\",\"\")","v":""}]
[null,null,null,null,null,"","","","","","","","","",null,null,null,null,null,null,null,"","","",""]
[null,null,null,null,null,"","","","","","","","","",null,null,"Nährstoffherkunft auf gefährdeten Flächen §13",null,null,null,null,"","","",""]
[null,"anrechenbarer N org.Düngung + min. Düngung kg N/ha",null,null,null,null,null,{"$f":"X19+Y19","v":0},null,{"$f":"SUM(J13:J18)","v":0},{"$f":"SUM(K13:K18)","v":0},{"$f":"SUM(L13:L18)","v":0},null,null,"Bilanz (anrechenbarer Dgg.- red.Düngebedarf) kg N/ha",null,null,"Gesamt N","NH4-N",null,null,{"$f":"SUM(V13:V18)","v":0},{"$f":"IF(SUM(W13:W18)=0,\"\",(SUM(W13:W18)))","v":""},{"$f":"SUM(X13:X18)","v":0},{"$f":"SUM(Y13:Y18)","v":0},"kg/ha"]
[null,{"$f":"IF(L3=\"ja\",O19,O20)","v":"Bilanz (anrechenbarer Dgg.- Düngebedarf) kg N/ha"},null,null,null,null,null,{"$f":"IF(H11=\"\",0,IF(OR(L3=0,L3=\"nein\"),H19-H11,H19-H10))","v":0},null,{"$f":"IF(J11=\"\",\"\",J19-J11)","v":""},"","","",null,"Bilanz (anrechenbarer Dgg.- Düngebedarf) kg N/ha",null,"N Gesamt minerl.",{"$f":"IF(L3=\"ja\",SUMIF($N$13:$N$18,\"mineralisch\",$H$13:$H$18),0)","v":0},null,null,null,{"$f":"V19*C4","v":0},{"$f":"IF(W19=\"\",\"\",W19*C4)","v":""},{"$f":"X19*C4","v":0},{"$f":"Y19*C4","v":0},"kg/Schlag",null,null,null,{"$f":"IF(H20>0,\"Stickstoffmenge überschreitet den Düngebedarf\",\"\")","v":""}]
[null,null,null,null,null,null,null,null,null,null,null,null,null,null,null,null,"NH4-N minerlisch",null,{"$f":"IF(L3=\"ja\",SUMIF($N$13:$N$18,\"mineralisch\",$I$13:$I$18),0)","v":0}]
[null,"Pflegemaßnahme",null,"Datum","Bemerkung",null,null,null,null,null,null,null,null,null,null,null,"N Gesamt organsich",{"$f":"IF(L3=\"ja\",SUMIF($N$13:$N$18,\"organisch\",$H$13:$H$18),0)","v":0}]
[null,null,null,null,null,null,null,null,null,null,null,null,null,null,null,null,"NH4-N organsich",null,{"$f":"IF(L3=\"ja\",SUMIF($N$13:$N$18,\"organisch\",$I$13:$I$18),0)","v":0},null,null,null,null,null,{"$f":"X19+Y19","v":0}]
[null,null,null,null,null,null,null,null,null,null,null,null,null,null,null,null,"P2O5 mineralisch",null,null,{"$f":"IF(L3=\"ja\",SUMIF($N$13:$N$18,\"mineralisch\",$J$13:$J$18),0)","v":0}]
[null,null,null,null,null,null,null,null,null,null,null,null,null,null,null,null,"P2O5 organisch",null,null,null,{"$f":"IF(L3=\"ja\",SUMIF($N$13:$N$18,\"organisch\",$J$13:$J$18),0)","v":0}]
[null,null,null,null,null,null,null,null,null,null,null,null,null,null,null,null,"Sonstige organische Düngemittel",{"$f":"IF(L3=\"ja\",SUMIF($N$13:$N$18,Q26,$H$13:$H$18),0)","v":0},{"$f":"IF(L3=\"ja\",SUMIF($N$13:$N$18,Q26,$I$13:$I$18),0)","v":0},{"$f":"IF(L3=\"ja\",SUMIF($N$13:$N$18,Q26,$J$13:$J$18),0)","v":0}]
["Pflanzenschutz","Pflanzenschutz",null,"Datum","E./ha","€/E.","€/ha","Anwender",null,null,"Bemerkungen",null,null,null,null,null,"Bodenhilfsstoffe",{"$f":"IF(L$3=\"ja\",SUMIF($N$13:$N$18,Q27,$H$13:$H$18),0)","v":0},null,{"$f":"IF(L$3=\"ja\",SUMIF($N$13:$N$18,Q27,$J$13:$J$18),0)","v":0}]
[null,null,null,null,null,{"$f":"IF(B28=\"\",\"\",VLOOKUP(B28,PSMMittel,2,0))","v":""},{"$f":"IF(B28=\"\",\"\",E28*F28)","v":""},null,null,null,null,null,null,null,null,null,"Kultursubstrate",{"$f":"IF(L$3=\"ja\",SUMIF($N$13:$N$18,Q28,$H$13:$H$18),0)","v":0},null,{"$f":"IF(L$3=\"ja\",SUMIF($N$13:$N$18,Q28,$J$13:$J$18),0)","v":0}]
[null,null,null,null,null,{"$f":"IF(B29=\"\",\"\",VLOOKUP(B29,PSMMittel,2,0))","v":""},{"$f":"IF(B29=\"\",\"\",E29*F29)","v":""},null,null,null,null,null,null,null,null,null,"Pflanzenhilfsmittel",{"$f":"IF(L$3=\"ja\",SUMIF($N$13:$N$18,Q29,$H$13:$H$18),0)","v":0},null,{"$f":"IF(L$3=\"ja\",SUMIF($N$13:$N$18,Q29,$J$13:$J$18),0)","v":0}]
[null,null,null,null,null,{"$f":"IF(B30=\"\",\"\",VLOOKUP(B30,PSMMittel,2,0))","v":""},{"$f":"IF(B30=\"\",\"\",E30*F30)","v":""},null,null,null,null,null,null,null,null,null,"Abfälle zur Beseitigung (§ 28 Absatz 2 odeS 3 KSWG)",{"$f":"IF(L$3=\"ja\",SUMIF($N$13:$N$18,Q30,$H$13:$H$18),0)","v":0},null,{"$f":"IF(L$3=\"ja\",SUMIF($N$13:$N$18,Q30,$J$13:$J$18),0)","v":0}]
[null,null,null,null,null,{"$f":"IF(B31=\"\",\"\",VLOOKUP(B31,PSMMittel,2,0))","v":""},{"$f":"IF(B31=\"\",\"\",E31*F31)","v":""}]
[null,null,null,null,null,{"$f":"IF(B32=\"\",\"\",VLOOKUP(B32,PSMMittel,2,0))","v":""},{"$f":"IF(B32=\"\",\"\",E32*F32)","v":""}]
[null,null,null,null,null,null,{"$f":"SUM(G28:G32)","v":0},null,null,null,null,null,null,null,"Stickstoffherkunft nicht gefährdetes Gebiet Gesamtfläche"]
[null,null,null,null,null,null,null,null,null,null,null,null,null,null,null,null,null,"Gesamt N","NH4-N"]
["Bergung","Weidetiere",null,null,null,null,"Anzahl \nTiere","Datum \nBeginn",null,"Datum \nEnde",null,"Anzahl \nWeidetage",null,null,null,null,"N Gesamt minerl.",{"$f":"R5-R20","v":0},null,null,null,null,"Stickstoffbindung aus Leguminosen kg /Schlag",null,"N \nWeidehaltung","P \nWeidehaltung"]
[null,null,null,null,null,null,null,null,null,null,null,{"$f":"IF(OR(H36=\"\",J36=\"\"),\"\",(J36+1)-H36)","v":""},null,null,null,null,"NH4-N minerlisch",null,{"$f":"S6-S21","v":0},null,null,null,{"$f":"IF(D3=0,\"\",VLOOKUP(D3,Grünlandnutzungen,27,0)*C4)","v":""},null,{"$f":"IF(B36=\"\",\"\",VLOOKUP(B36,Tierhaltung,3,0)/365*L36)","v":""},{"$f":"IF(B36=\"\",\"\",VLOOKUP(B36,Tierhaltung,4,0)/365*L36)","v":""}]
[null,null,null,null,null,null,null,null,null,null,null,{"$f":"IF(OR(H37=\"\",J37=\"\"),\"\",(J37+1)-H37)","v":""},null,null,null,null,"N Gesamt organsich",{"$f":"R7-R22","v":0},null,null,null,null,null,null,{"$f":"IF(B37=\"\",\"\",VLOOKUP(B37,Tierhaltung,3,0)/365*L37)","v":""},{"$f":"IF(B37=\"\",\"\",VLOOKUP(B37,Tierhaltung,4,0)/365*L37)","v":""}]
[null,null,null,null,null,null,null,null,null,null,null,"",null,null,null,null,"NH4-N organsich",null,{"$f":"S8-S23","v":0},null,null,null,null,null,{"$f":"IF(B38=\"\",\"\",VLOOKUP(B38,Tierhaltung,3,0)/365*L38)","v":""},{"$f":"IF(B38=\"\",\"\",VLOOKUP(B38,Tierhaltung,4,0)/365*L38)","v":""}]
[null,null,null,null,null,null,null,null,null,null,null,"",null,null,null,null,"P2O5 mineralisch",null,null,{"$f":"T9-T24","v":0},null,null,null,null,{"$f":"IF(B39=\"\",\"\",VLOOKUP(B39,Tierhaltung,3,0)/365*L39)","v":""},{"$f":"IF(B39=\"\",\"\",VLOOKUP(B39,Tierhaltung,4,0)/365*L39)","v":""}]
[null,null,null,null,null,null,null,null,null,null,null,"",null,null,null,null,"P2O5 organisch",null,null,null,{"$f":"U10-U25","v":0},null,null,null,{"$f":"IF(B40=\"\",\"\",VLOOKUP(B40,Tierhaltung,3,0)/365*L40)","v":""},{"$f":"IF(B40=\"\",\"\",VLOOKUP(B40,Tierhaltung,4,0)/365*L40)","v":""}]
[null,null,null,null,null,null,null,null,null,null,null,null,null,null,null,null,"Sonstige organische Düngemittel",{"$f":"R11-R26","v":0},{"$f":"S11-S26","v":0},{"$f":"T11-T26","v":0},null,null,null,null,{"$f":"SUM(Y36:Y40)","v":0},{"$f":"SUM(Z36:Z40)","v":0}]
[null,"Nutzungsdatum",null,"Nutzungsform",null,"Ertrag TM dt/ha",null,"Entzg N\nkg/ha","Entz. P2O5 kg/ha","Aufstellung Kosten",null,null,"€/ha",null,null,null,"Bodenhilfsstoffe",{"$f":"R12-R27","v":0},null,{"$f":"T12-T27","v":0},null,null,null,null,"N Entzug kg N/ha","Entzug kg P2O5/ha","N Entzug kg N Schlag","P Entzug kg P2O5 Schlag"]
["€/ha",null,null,null,null,null,null,{"$f":"IF(Y43=0,\"\",Y43)","v":""},"","Grünlandverbesserung",null,null,{"$f":"G10","v":0},null,null,null,"Kultursubstrate",{"$f":"R13-R28","v":0},null,{"$f":"T13-T28","v":0},null,null,null,null,{"$f":"IF(D$3=0,\"\",VLOOKUP(D$3,Grünlandnutzungen,6,0)*F43)","v":""},{"$f":"IF(D$3=0,\"\",VLOOKUP(D$3,Grünlandnutzungen,7,0)*F43)","v":""},{"$f":"IF(Y43=\"\",\"\",Y43*C4)","v":""},{"$f":"IF(Z43=\"\",\"\",Z43*C4)","v":""}]
[null,null,null,null,null,null,null,"","","Düngemittel",null,null,{"$f":"SUM(G13:G18)","v":0},null,null,null,"Pflanzenhilfsmittel",{"$f":"R14-R29","v":0},null,{"$f":"T14-T29","v":0},null,null,null,null,{"$f":"IF(D$3=0,\"\",VLOOKUP(D$3,Grünlandnutzungen,6,0)*F44)","v":""},{"$f":"IF(D$3=0,\"\",VLOOKUP(D$3,Grünlandnutzungen,7,0)*F44)","v":""},{"$f":"IF(Y44=\"\",\"\",Y44*C5)","v":""},{"$f":"IF(Z44=\"\",\"\",Z44*C5)","v":""}]
[null,null,null,null,null,null,null,"","","Pflanzenschutz",null,null,{"$f":"G33","v":0},null,null,null,"Abfälle zur Beseitigung (§ 28 Absatz 2 oder 3 KrWG)",{"$f":"R15-R30","v":0},null,{"$f":"T15-T30","v":0},null,null,null,null,{"$f":"IF(D$3=0,\"\",VLOOKUP(D$3,Grünlandnutzungen,6,0)*F45)","v":""},{"$f":"IF(D$3=0,\"\",VLOOKUP(D$3,Grünlandnutzungen,7,0)*F45)","v":""},{"$f":"IF(Y45=\"\",\"\",Y45*C6)","v":""},{"$f":"IF(Z45=\"\",\"\",Z45*C6)","v":""}]
["Bemerkungen",null,null,null,null,null,null,"","","Summe",null,null,{"$f":"M43+M44+M45","v":0},null,null,null,null,null,null,null,null,null,null,null,{"$f":"IF(D$3=0,\"\",VLOOKUP(D$3,Grünlandnutzungen,6,0)*F46)","v":""},{"$f":"IF(D$3=0,\"\",VLOOKUP(D$3,Grünlandnutzungen,7,0)*F46)","v":""},{"$f":"IF(Y46=\"\",\"\",Y46*C7)","v":""},{"$f":"IF(Z46=\"\",\"\",Z46*C7)","v":""}]

{"sheet":"G10","index":68,"n_rows":46,"n_cols":33,"rows_kept":46,"cut":false,"hidden":false,"merged":[[12,29,12,30],[12,32,15,33],[13,30,13,31],[14,30,14,31],[15,30,15,31],[45,0,48,0],[45,1,45,2],[45,3,45,4],[45,5,45,6],[45,9,45,11],[43,1,43,2],[43,3,43,4],[43,5,43,6],[43,9,43,11],[44,1,44,2],[44,3,44,4],[44,5,44,6],[44,9,44,11],[37,9,37,10],[37,11,37,12],[40,7,40,8],[41,1,41,2],[41,3,41,4],[41,5,41,6],[41,9,41,11],[42,0,44,0],[42,1,42,2],[42,3,42,4],[42,5,42,6],[42,9,42,11],[32,14,32,18],[34,0,39,0],[34,1,34,5],[34,7,34,8],[34,9,34,10],[34,11,34,12],[35,1,35,5],[35,7,35,8],[35,9,35,10],[35,11,35,12],[38,1,38,5],[38,7,38,8],[38,9,38,10],[38,11,38,12],[39,1,39,5],[39,7,39,8],[39,9,39,10],[39,11,39,12],[36,1,36,5],[36,7,36,8],[36,9,36,10],[36,11,36,12],[37,1,37,5],[37,7,37,8],[17,16,17,20],[24,1,24,2],[24,4,24,12],[25,1,25,2],[25,4,25,12],[21,1,21,2],[21,4,21,12],[22,1,22,2],[22,4,22,12],[23,1,23,2],[23,4,23,12],[18,7,18,8],[19,7,19,8],[20,3,20,12],[18,1,18,6],[19,1,19,6],[26,0,32,0],[26,1,26,2],[26,7,26,9],[26,10,26,12],[27,1,27,2],[27,7,27,9],[30,1,30,2],[30,7,30,9],[30,10,30,12],[31,1,31,2],[31,7,31,9],[31,10,31,12],[27,10,27,12],[28,1,28,2],[28,7,28,9],[28,10,28,12],[29,1,29,2],[29,7,29,9],[29,10,29,12],[6,7,7,7],[8,7,8,12],[9,7,9,8],[9,9,9,12],[10,4,10,6],[10,7,10,8],[11,1,11,2],[12,0,17,0],[12,1,12,2],[13,1,13,2],[14,1,14,2],[15,1,15,2],[16,1,16,2],[17,1,17,2],[3,3,3,6],[5,1,5,2],[0,1,0,12],[1,0,3,0],[1,3,1,6],[1,7,1,9],[1,10,1,12],[2,3,2,6],[2,7,2,10],[2,11,2,12],[3,7,3,10],[3,11,3,12],[5,7,5,10],[5,11,5,12],[4,7,4,10],[4,11,4,12]]}
[null,"Grünland"]
["Schlag","Nr.",10,null,null,null,null,"Jahr:",null,null,{"$f":"IF(Einführung!I8=\"\",\"\",Einführung!I8)","v":""},null,null,{"$f":"IF(OR(C4=\"\",H11=\"\"),\"\",H11*C4)","v":""},"DB kg * Fläche"]
[null,"Bez.",{"$f":"IF($C$2=\"\",\"\",VLOOKUP($C$2,Grünlandübersicht,2,0))","v":0},{"$f":"IF(C2=\"\",\"\",VLOOKUP(C2,Grünlandübersicht,4,0))","v":0},null,null,null,"Nitrat belastete Kulisse",null,null,null,{"$f":"IF(C2=\"\",\"\",VLOOKUP(C2,Grünlandübersicht,20,0))","v":0},null,{"$f":"W19","v":""},"kg/ha org. Dünger für Kontrollgrenze"]
[null,"ha",{"$f":"IF($C$2=\"\",\"\",VLOOKUP($C$2,Grünlandübersicht,3,0))","v":0},null,null,null,null,"P2O5 eutrophierte Kulisse",null,null,null,{"$f":"IF(C2=\"\",\"\",VLOOKUP(C2,Grünlandübersicht,21,0))","v":0},null,{"$f":"IF(OR(L3=\"\",L3=\"nein\",N2=\"\"),\"\",N3*C4)","v":""},"kg Gesamtschlag org Dünger für 170 Kontrollgrenze",null,null,"Gesamt N","NH4-N","P2O5 mineral.","P2O5 organisch"]
[null,null,null,null,null,null,null,"aus org. wirtschaftsdüngeren \nBerechung der 130 kg N/ha",null,null,null,{"$f":"IF(L3=\"ja\",W19,\"\")","v":""},null,{"$f":"IF(H11=\"\",\"\",IF(L3=\"ja\",N2*0.8,\"\"))","v":""},"Düngebedarf Gesamtschlag kg N/ha",null,"N Gesamt minerl.",{"$f":"SUMIF($N$13:$N$18,\"mineralisch\",$H$13:$H$18)","v":0}]
[null,"Grünlandverbesserung",null,"Datum","E/ha","€/E","€/ha","sonstige Auflagen",null,null,null,"WSG",null,{"$f":"IF(L3=\"ja\",X20+Y20,\"\")","v":""},"anrechenbare N Menge Gesamtschlag  kg N/ha",null,"NH4-N minerlisch",null,{"$f":"SUMIF($N$13:$N$18,\"mineralisch\",$I$13:$I$18)","v":0}]
[null,"1.",null,null,null,null,{"$f":"E7*F7","v":0},"Versorg-\nungs-\nstufe","P2O5","K2O","MgO","pH",null,{"$f":"IF(K3=\"ja\",J12*B4,\"\")","v":""},null,null,"N Gesamt organsich",{"$f":"SUMIF($N$13:$N$18,\"organisch\",$H$13:$H$18)","v":0}]
[null,"2.",null,null,null,null,{"$f":"E8*F8","v":0},null,{"$f":"IF($C$2=\"\",\"\",VLOOKUP($C$2,Grünlandübersicht,30,0))","v":"C"},{"$f":"IF($C$2=\"\",\"\",VLOOKUP($C$2,Grünlandübersicht,31,0))","v":"C"},{"$f":"IF($C$2=\"\",\"\",VLOOKUP($C$2,Grünlandübersicht,32,0))","v":"C"},{"$f":"IF($C$2=\"\",\"\",VLOOKUP($C$2,Grünlandübersicht,33,0))","v":"C"},null,null,null,null,"NH4-N organsich",null,{"$f":"SUMIF($N$13:$N$18,\"organisch\",$I$13:$I$18)","v":0}]
[null,"3.",null,null,null,null,{"$f":"E9*F9","v":0},"Düngebedarf kg/ha (Blatt Grünland)",null,null,null,null,null,null,null,null,"P2O5 mineralisch",null,null,{"$f":"SUMIF($N$13:$N$18,\"mineralisch\",$J$13:$J$18)","v":0}]
[null,null,null,null,null,"Kosten €/ha",{"$f":"SUM(G7:G9)","v":0},{"$f":"IF(L3=\"ja\",VLOOKUP(C2,Grünlandübersicht,19,0),\"\")","v":""},null,{"$f":"IF(L3=\"ja\",O10,\"\")","v":""},null,null,null,null,"Düngebedarf um 20% red.",null,"P2O5 organisch",null,null,null,{"$f":"SUMIF($N$13:$N$18,\"organisch\",$J$13:$J$18)","v":0},null,null,null,null,null,null,null,null,{"$f":"IF(L3=\"ja\",\"Noch nicht ausgeschöpfter Stickstoff Düngebedarf aller Flächen\",\"\")","v":""}]
[null,null,null,null,"N Bedarf DÜV kg/ha",null,null,{"$f":"IF(C2=\"\",\"\",VLOOKUP(C2,Grünlandübersicht,18,0))","v":""},null,{"$f":"IF($C$2=\"\",\"\",VLOOKUP($C$2,Grünlandübersicht,36,0))","v":""},{"$f":"IF($C$2=\"\",\"\",VLOOKUP($C$2,Grünlandübersicht,37,0))","v":""},null,null,null,null,null,"Sonstige organische Düngemittel",{"$f":"SUMIF($N$13:$N$18,Q11,$H$13:$H$18)","v":0},{"$f":"SUMIF($N$13:$N$18,Q11,$I$13:$I$18)","v":0},{"$f":"SUMIF($N$13:$N$18,Q11,$J$13:$J$18)","v":0},null,"Anrechnung","Anrechnung ","Prüfung NH4","mineral",null,null,null,null,{"$f":"IF(L3=\"ja\",'Zus. Anlage 5 DüV'!D43,\"\")","v":""},{"$f":"IF(L3=\"ja\",\"kg N Gesamtfläche\",\"\")","v":""}]
[null,"Düngemittel",null,"Datum","m³o.dt/ha","€/E.","€/ha","Ges.-N","NH4- N","P2O5","K2O","MgO","S",null,null,null,"Bodenhilfsstoffe",{"$f":"SUMIF($N$13:$N$18,Q12,$H$13:$H$18)","v":0},null,{"$f":"SUMIF($N$13:$N$18,Q12,$J$13:$J$18)","v":0},null,"aktuelles Jahr","170 kg GW"," oder Anlage3","Stickstoff"]
["Düngung",null,null,null,null,{"$f":"IF($B13=\"\",\"\",VLOOKUP($B13,Düngemiteldaten,2,0))","v":""},{"$f":"IF(B13=\"\",\"\",E13*F13)","v":""},{"$f":"IF(B13=\"\",\"\",VLOOKUP(B13,Düngemiteldaten,4,0)*E13)","v":""},{"$f":"IF(B13=\"\",\"\",VLOOKUP(B13,Düngemiteldaten,5,0)*E13)","v":""},{"$f":"IF(B13=\"\",\"\",VLOOKUP(B13,Düngemiteldaten,7,0)*E13)","v":""},{"$f":"IF(B13=\"\",\"\",VLOOKUP(B13,Düngemiteldaten,8,0)*E13)","v":""},{"$f":"IF(B13=\"\",\"\",VLOOKUP(B13,Düngemiteldaten,9,0)*E13)","v":""},{"$f":"IF(B13=\"\",\"\",VLOOKUP(B13,Düngemiteldaten,10,0)*E13)","v":""},{"$f":"IF(B13=\"\",\"\",VLOOKUP(B13,Düngemiteldaten,20,0))","v":""},null,null,"Kultursubstrate",{"$f":"SUMIF($N$13:$N$18,Q13,$H$13:$H$18)","v":0},null,{"$f":"SUMIF($N$13:$N$18,Q13,$J$13:$J$18)","v":0},null,{"$f":"IF(OR(B13=\"\",N13=\"\"),\"\",IF(N13=\"mineralisch\",\"\",VLOOKUP(B13,Düngemiteldaten,18,0)*VLOOKUP(B13,Düngemiteldaten,4,0)*E13))","v":""},{"$f":"IF(OR(B13=\"\",N13=\"\"),\"\",IF(N13=\"mineralisch\",\"\",VLOOKUP(B13,Düngemiteldaten,19,0)*H13))","v":""},{"$f":"IF(B13=\"\",\"\",IF(V13<I13,I13,V13))","v":""},{"$f":"IF(B13=\"\",\"\",IF(N13=\"organisch\",0,H13))","v":""},null,null,null,null,{"$f":"IF(L3=\"ja\",\"Summe Gesamtstickstoff\",\"\")","v":""},null,null,{"$f":"IF(L3=\"ja\",\"Anteil § 13a Prüfung \n160 kg N/ha Gesamt\n80 kg N/ha mineralisch\",\"\")","v":""}]
[null,null,null,null,null,"","","","","","","","","",null,null,"Pflanzenhilfsmittel",{"$f":"SUMIF($N$13:$N$18,Q14,$H$13:$H$18)","v":0},null,{"$f":"SUMIF($N$13:$N$18,Q14,$J$13:$J$18)","v":0},null,"","","","",null,null,null,null,{"$f":"IF(L3=\"ja\",R5,\"\")","v":""},{"$f":"IF(L3=\"ja\",\"mineralisch N kg/ha\",\"\")","v":""}]
[null,null,null,null,null,"","","","","","","","","",null,null,"Abfälle zur Beseitigung (§ 28 Absatz 2 odeS 3 KSWG)",{"$f":"SUMIF($N$13:$N$18,Q15,$H$13:$H$18)","v":0},null,{"$f":"SUMIF($N$13:$N$18,Q15,$J$13:$J$18)","v":0},null,"","","","",null,null,null,null,{"$f":"IF(L3=\"ja\",R7+R11,\"\")","v":""},{"$f":"IF(L3=\"ja\",\"organisch N kg/ha\",\"\")","v":""}]
[null,null,null,null,null,"","","","","","","","","",null,null,null,null,null,null,null,"","","","",null,null,null,null,{"$f":"IF(L3=\"ja\",(AD15+AD14),\"\")","v":""},{"$f":"IF(L3=\"ja\",\"Gesamt kg N/ha\",\"\")","v":""}]
[null,null,null,null,null,"","","","","","","","","",null,null,null,null,null,null,null,"","","",""]
[null,null,null,null,null,"","","","","","","","","",null,null,"Nährstoffherkunft auf gefährdeten Flächen §13",null,null,null,null,"","","",""]
[null,"anrechenbarer N org.Düngung + min. Düngung kg N/ha",null,null,null,null,null,{"$f":"X19+Y19","v":0},null,{"$f":"SUM(J13:J18)","v":0},{"$f":"SUM(K13:K18)","v":0},{"$f":"SUM(L13:L18)","v":0},null,null,"Bilanz (anrechenbarer Dgg.- red.Düngebedarf) kg N/ha",null,null,"Gesamt N","NH4-N",null,null,{"$f":"SUM(V13:V18)","v":0},{"$f":"IF(SUM(W13:W18)=0,\"\",(SUM(W13:W18)))","v":""},{"$f":"SUM(X13:X18)","v":0},{"$f":"SUM(Y13:Y18)","v":0},"kg/ha"]
[null,{"$f":"IF(L3=\"ja\",O19,O20)","v":"Bilanz (anrechenbarer Dgg.- Düngebedarf) kg N/ha"},null,null,null,null,null,{"$f":"IF(H11=\"\",0,IF(OR(L3=0,L3=\"nein\"),H19-H11,H19-H10))","v":0},null,{"$f":"IF(J11=\"\",\"\",J19-J11)","v":""},"","","",null,"Bilanz (anrechenbarer Dgg.- Düngebedarf) kg N/ha",null,"N Gesamt minerl.",{"$f":"IF(L3=\"ja\",SUMIF($N$13:$N$18,\"mineralisch\",$H$13:$H$18),0)","v":0},null,null,null,{"$f":"V19*C4","v":0},{"$f":"IF(W19=\"\",\"\",W19*C4)","v":""},{"$f":"X19*C4","v":0},{"$f":"Y19*C4","v":0},"kg/Schlag",null,null,null,{"$f":"IF(H20>0,\"Stickstoffmenge überschreitet den Düngebedarf\",\"\")","v":""}]
[null,null,null,null,null,null,null,null,null,null,null,null,null,null,null,null,"NH4-N minerlisch",null,{"$f":"IF(L3=\"ja\",SUMIF($N$13:$N$18,\"mineralisch\",$I$13:$I$18),0)","v":0}]
[null,"Pflegemaßnahme",null,"Datum","Bemerkung",null,null,null,null,null,null,null,null,null,null,null,"N Gesamt organsich",{"$f":"IF(L3=\"ja\",SUMIF($N$13:$N$18,\"organisch\",$H$13:$H$18),0)","v":0}]
[null,null,null,null,null,null,null,null,null,null,null,null,null,null,null,null,"NH4-N organsich",null,{"$f":"IF(L3=\"ja\",SUMIF($N$13:$N$18,\"organisch\",$I$13:$I$18),0)","v":0},null,null,null,null,null,{"$f":"X19+Y19","v":0}]
[null,null,null,null,null,null,null,null,null,null,null,null,null,null,null,null,"P2O5 mineralisch",null,null,{"$f":"IF(L3=\"ja\",SUMIF($N$13:$N$18,\"mineralisch\",$J$13:$J$18),0)","v":0}]
[null,null,null,null,null,null,null,null,null,null,null,null,null,null,null,null,"P2O5 organisch",null,null,null,{"$f":"IF(L3=\"ja\",SUMIF($N$13:$N$18,\"organisch\",$J$13:$J$18),0)","v":0}]
[null,null,null,null,null,null,null,null,null,null,null,null,null,null,null,null,"Sonstige organische Düngemittel",{"$f":"IF(L3=\"ja\",SUMIF($N$13:$N$18,Q26,$H$13:$H$18),0)","v":0},{"$f":"IF(L3=\"ja\",SUMIF($N$13:$N$18,Q26,$I$13:$I$18),0)","v":0},{"$f":"IF(L3=\"ja\",SUMIF($N$13:$N$18,Q26,$J$13:$J$18),0)","v":0}]
["Pflanzenschutz","Pflanzenschutz",null,"Datum","E./ha","€/E.","€/ha","Anwender",null,null,"Bemerkungen",null,null,null,null,null,"Bodenhilfsstoffe",{"$f":"IF(L$3=\"ja\",SUMIF($N$13:$N$18,Q27,$H$13:$H$18),0)","v":0},null,{"$f":"IF(L$3=\"ja\",SUMIF($N$13:$N$18,Q27,$J$13:$J$18),0)","v":0}]
[null,null,null,null,null,{"$f":"IF(B28=\"\",\"\",VLOOKUP(B28,PSMMittel,2,0))","v":""},{"$f":"IF(B28=\"\",\"\",E28*F28)","v":""},null,null,null,null,null,null,null,null,null,"Kultursubstrate",{"$f":"IF(L$3=\"ja\",SUMIF($N$13:$N$18,Q28,$H$13:$H$18),0)","v":0},null,{"$f":"IF(L$3=\"ja\",SUMIF($N$13:$N$18,Q28,$J$13:$J$18),0)","v":0}]
[null,null,null,null,null,{"$f":"IF(B29=\"\",\"\",VLOOKUP(B29,PSMMittel,2,0))","v":""},{"$f":"IF(B29=\"\",\"\",E29*F29)","v":""},null,null,null,null,null,null,null,null,null,"Pflanzenhilfsmittel",{"$f":"IF(L$3=\"ja\",SUMIF($N$13:$N$18,Q29,$H$13:$H$18),0)","v":0},null,{"$f":"IF(L$3=\"ja\",SUMIF($N$13:$N$18,Q29,$J$13:$J$18),0)","v":0}]
[null,null,null,null,null,{"$f":"IF(B30=\"\",\"\",VLOOKUP(B30,PSMMittel,2,0))","v":""},{"$f":"IF(B30=\"\",\"\",E30*F30)","v":""},null,null,null,null,null,null,null,null,null,"Abfälle zur Beseitigung (§ 28 Absatz 2 odeS 3 KSWG)",{"$f":"IF(L$3=\"ja\",SUMIF($N$13:$N$18,Q30,$H$13:$H$18),0)","v":0},null,{"$f":"IF(L$3=\"ja\",SUMIF($N$13:$N$18,Q30,$J$13:$J$18),0)","v":0}]
[null,null,null,null,null,{"$f":"IF(B31=\"\",\"\",VLOOKUP(B31,PSMMittel,2,0))","v":""},{"$f":"IF(B31=\"\",\"\",E31*F31)","v":""}]
[null,null,null,null,null,{"$f":"IF(B32=\"\",\"\",VLOOKUP(B32,PSMMittel,2,0))","v":""},{"$f":"IF(B32=\"\",\"\",E32*F32)","v":""}]
[null,null,null,null,null,null,{"$f":"SUM(G28:G32)","v":0},null,null,null,null,null,null,null,"Stickstoffherkunft nicht gefährdetes Gebiet Gesamtfläche"]
[null,null,null,null,null,null,null,null,null,null,null,null,null,null,null,null,null,"Gesamt N","NH4-N"]
["Bergung","Weidetiere",null,null,null,null,"Anzahl \nTiere","Datum \nBeginn",null,"Datum \nEnde",null,"Anzahl \nWeidetage",null,null,null,null,"N Gesamt minerl.",{"$f":"R5-R20","v":0},null,null,null,null,"Stickstoffbindung aus Leguminosen kg /Schlag",null,"N \nWeidehaltung","P \nWeidehaltung"]
[null,null,null,null,null,null,null,null,null,null,null,{"$f":"IF(OR(H36=\"\",J36=\"\"),\"\",(J36+1)-H36)","v":""},null,null,null,null,"NH4-N minerlisch",null,{"$f":"S6-S21","v":0},null,null,null,{"$f":"IF(D3=0,\"\",VLOOKUP(D3,Grünlandnutzungen,27,0)*C4)","v":""},null,{"$f":"IF(B36=\"\",\"\",VLOOKUP(B36,Tierhaltung,3,0)/365*L36)","v":""},{"$f":"IF(B36=\"\",\"\",VLOOKUP(B36,Tierhaltung,4,0)/365*L36)","v":""}]
[null,null,null,null,null,null,null,null,null,null,null,{"$f":"IF(OR(H37=\"\",J37=\"\"),\"\",(J37+1)-H37)","v":""},null,null,null,null,"N Gesamt organsich",{"$f":"R7-R22","v":0},null,null,null,null,null,null,{"$f":"IF(B37=\"\",\"\",VLOOKUP(B37,Tierhaltung,3,0)/365*L37)","v":""},{"$f":"IF(B37=\"\",\"\",VLOOKUP(B37,Tierhaltung,4,0)/365*L37)","v":""}]
[null,null,null,null,null,null,null,null,null,null,null,"",null,null,null,null,"NH4-N organsich",null,{"$f":"S8-S23","v":0},null,null,null,null,null,{"$f":"IF(B38=\"\",\"\",VLOOKUP(B38,Tierhaltung,3,0)/365*L38)","v":""},{"$f":"IF(B38=\"\",\"\",VLOOKUP(B38,Tierhaltung,4,0)/365*L38)","v":""}]
[null,null,null,null,null,null,null,null,null,null,null,"",null,null,null,null,"P2O5 mineralisch",null,null,{"$f":"T9-T24","v":0},null,null,null,null,{"$f":"IF(B39=\"\",\"\",VLOOKUP(B39,Tierhaltung,3,0)/365*L39)","v":""},{"$f":"IF(B39=\"\",\"\",VLOOKUP(B39,Tierhaltung,4,0)/365*L39)","v":""}]
[null,null,null,null,null,null,null,null,null,null,null,"",null,null,null,null,"P2O5 organisch",null,null,null,{"$f":"U10-U25","v":0},null,null,null,{"$f":"IF(B40=\"\",\"\",VLOOKUP(B40,Tierhaltung,3,0)/365*L40)","v":""},{"$f":"IF(B40=\"\",\"\",VLOOKUP(B40,Tierhaltung,4,0)/365*L40)","v":""}]
[null,null,null,null,null,null,null,null,null,null,null,null,null,null,null,null,"Sonstige organische Düngemittel",{"$f":"R11-R26","v":0},{"$f":"S11-S26","v":0},{"$f":"T11-T26","v":0},null,null,null,null,{"$f":"SUM(Y36:Y40)","v":0},{"$f":"SUM(Z36:Z40)","v":0}]
[null,"Nutzungsdatum",null,"Nutzungsform",null,"Ertrag TM dt/ha",null,"Entzg N\nkg/ha","Entz. P2O5 kg/ha","Aufstellung Kosten",null,null,"€/ha",null,null,null,"Bodenhilfsstoffe",{"$f":"R12-R27","v":0},null,{"$f":"T12-T27","v":0},null,null,null,null,"N Entzug kg N/ha","Entzug kg P2O5/ha","N Entzug kg N Schlag","P Entzug kg P2O5 Schlag"]
["€/ha",null,null,null,null,null,null,{"$f":"IF(Y43=0,\"\",Y43)","v":""},"","Grünlandverbesserung",null,null,{"$f":"G10","v":0},null,null,null,"Kultursubstrate",{"$f":"R13-R28","v":0},null,{"$f":"T13-T28","v":0},null,null,null,null,{"$f":"IF(D$3=0,\"\",VLOOKUP(D$3,Grünlandnutzungen,6,0)*F43)","v":""},{"$f":"IF(D$3=0,\"\",VLOOKUP(D$3,Grünlandnutzungen,7,0)*F43)","v":""},{"$f":"IF(Y43=\"\",\"\",Y43*C4)","v":""},{"$f":"IF(Z43=\"\",\"\",Z43*C4)","v":""}]
[null,null,null,null,null,null,null,"","","Düngemittel",null,null,{"$f":"SUM(G13:G18)","v":0},null,null,null,"Pflanzenhilfsmittel",{"$f":"R14-R29","v":0},null,{"$f":"T14-T29","v":0},null,null,null,null,{"$f":"IF(D$3=0,\"\",VLOOKUP(D$3,Grünlandnutzungen,6,0)*F44)","v":""},{"$f":"IF(D$3=0,\"\",VLOOKUP(D$3,Grünlandnutzungen,7,0)*F44)","v":""},{"$f":"IF(Y44=\"\",\"\",Y44*C5)","v":""},{"$f":"IF(Z44=\"\",\"\",Z44*C5)","v":""}]
[null,null,null,null,null,null,null,"","","Pflanzenschutz",null,null,{"$f":"G33","v":0},null,null,null,"Abfälle zur Beseitigung (§ 28 Absatz 2 oder 3 KrWG)",{"$f":"R15-R30","v":0},null,{"$f":"T15-T30","v":0},null,null,null,null,{"$f":"IF(D$3=0,\"\",VLOOKUP(D$3,Grünlandnutzungen,6,0)*F45)","v":""},{"$f":"IF(D$3=0,\"\",VLOOKUP(D$3,Grünlandnutzungen,7,0)*F45)","v":""},{"$f":"IF(Y45=\"\",\"\",Y45*C6)","v":""},{"$f":"IF(Z45=\"\",\"\",Z45*C6)","v":""}]
["Bemerkungen",null,null,null,null,null,null,"","","Summe",null,null,{"$f":"M43+M44+M45","v":0},null,null,null,null,null,null,null,null,null,null,null,{"$f":"IF(D$3=0,\"\",VLOOKUP(D$3,Grünlandnutzungen,6,0)*F46)","v":""},{"$f":"IF(D$3=0,\"\",VLOOKUP(D$3,Grünlandnutzungen,7,0)*F46)","v":""},{"$f":"IF(Y46=\"\",\"\",Y46*C7)","v":""},{"$f":"IF(Z46=\"\",\"\",Z46*C7)","v":""}]

{"sheet":"G11","index":69,"n_rows":46,"n_cols":33,"rows_kept":46,"cut":false,"hidden":false,"merged":[[12,29,12,30],[12,32,15,33],[13,30,13,31],[14,30,14,31],[15,30,15,31],[45,0,48,0],[45,1,45,2],[45,3,45,4],[45,5,45,6],[45,9,45,11],[43,1,43,2],[43,3,43,4],[43,5,43,6],[43,9,43,11],[44,1,44,2],[44,3,44,4],[44,5,44,6],[44,9,44,11],[37,9,37,10],[37,11,37,12],[40,7,40,8],[41,1,41,2],[41,3,41,4],[41,5,41,6],[41,9,41,11],[42,0,44,0],[42,1,42,2],[42,3,42,4],[42,5,42,6],[42,9,42,11],[32,14,32,18],[34,0,39,0],[34,1,34,5],[34,7,34,8],[34,9,34,10],[34,11,34,12],[35,1,35,5],[35,7,35,8],[35,9,35,10],[35,11,35,12],[38,1,38,5],[38,7,38,8],[38,9,38,10],[38,11,38,12],[39,1,39,5],[39,7,39,8],[39,9,39,10],[39,11,39,12],[36,1,36,5],[36,7,36,8],[36,9,36,10],[36,11,36,12],[37,1,37,5],[37,7,37,8],[17,16,17,20],[24,1,24,2],[24,4,24,12],[25,1,25,2],[25,4,25,12],[21,1,21,2],[21,4,21,12],[22,1,22,2],[22,4,22,12],[23,1,23,2],[23,4,23,12],[18,7,18,8],[19,7,19,8],[20,3,20,12],[18,1,18,6],[19,1,19,6],[26,0,32,0],[26,1,26,2],[26,7,26,9],[26,10,26,12],[27,1,27,2],[27,7,27,9],[30,1,30,2],[30,7,30,9],[30,10,30,12],[31,1,31,2],[31,7,31,9],[31,10,31,12],[27,10,27,12],[28,1,28,2],[28,7,28,9],[28,10,28,12],[29,1,29,2],[29,7,29,9],[29,10,29,12],[6,7,7,7],[8,7,8,12],[9,7,9,8],[9,9,9,12],[10,4,10,6],[10,7,10,8],[11,1,11,2],[12,0,17,0],[12,1,12,2],[13,1,13,2],[14,1,14,2],[15,1,15,2],[16,1,16,2],[17,1,17,2],[3,3,3,6],[5,1,5,2],[0,1,0,12],[1,0,3,0],[1,3,1,6],[1,7,1,9],[1,10,1,12],[2,3,2,6],[2,7,2,10],[2,11,2,12],[3,7,3,10],[3,11,3,12],[5,7,5,10],[5,11,5,12],[4,7,4,10],[4,11,4,12]]}
[null,"Grünland"]
["Schlag","Nr.",11,null,null,null,null,"Jahr:",null,null,{"$f":"IF(Einführung!I8=\"\",\"\",Einführung!I8)","v":""},null,null,{"$f":"IF(OR(C4=\"\",H11=\"\"),\"\",H11*C4)","v":""},"DB kg * Fläche"]
[null,"Bez.",{"$f":"IF($C$2=\"\",\"\",VLOOKUP($C$2,Grünlandübersicht,2,0))","v":0},{"$f":"IF(C2=\"\",\"\",VLOOKUP(C2,Grünlandübersicht,4,0))","v":0},null,null,null,"Nitrat belastete Kulisse",null,null,null,{"$f":"IF(C2=\"\",\"\",VLOOKUP(C2,Grünlandübersicht,20,0))","v":0},null,{"$f":"W19","v":""},"kg/ha org. Dünger für Kontrollgrenze"]
[null,"ha",{"$f":"IF($C$2=\"\",\"\",VLOOKUP($C$2,Grünlandübersicht,3,0))","v":0},null,null,null,null,"P2O5 eutrophierte Kulisse",null,null,null,{"$f":"IF(C2=\"\",\"\",VLOOKUP(C2,Grünlandübersicht,21,0))","v":0},null,{"$f":"IF(OR(L3=\"\",L3=\"nein\",N2=\"\"),\"\",N3*C4)","v":""},"kg Gesamtschlag org Dünger für 170 Kontrollgrenze",null,null,"Gesamt N","NH4-N","P2O5 mineral.","P2O5 organisch"]
[null,null,null,null,null,null,null,"aus org. wirtschaftsdüngeren \nBerechung der 130 kg N/ha",null,null,null,{"$f":"IF(L3=\"ja\",W19,\"\")","v":""},null,{"$f":"IF(H11=\"\",\"\",IF(L3=\"ja\",N2*0.8,\"\"))","v":""},"Düngebedarf Gesamtschlag kg N/ha",null,"N Gesamt minerl.",{"$f":"SUMIF($N$13:$N$18,\"mineralisch\",$H$13:$H$18)","v":0}]
[null,"Grünlandverbesserung",null,"Datum","E/ha","€/E","€/ha","sonstige Auflagen",null,null,null,"WSG",null,{"$f":"IF(L3=\"ja\",X20+Y20,\"\")","v":""},"anrechenbare N Menge Gesamtschlag  kg N/ha",null,"NH4-N minerlisch",null,{"$f":"SUMIF($N$13:$N$18,\"mineralisch\",$I$13:$I$18)","v":0}]
[null,"1.",null,null,null,null,{"$f":"E7*F7","v":0},"Versorg-\nungs-\nstufe","P2O5","K2O","MgO","pH",null,{"$f":"IF(K3=\"ja\",J12*B4,\"\")","v":""},null,null,"N Gesamt organsich",{"$f":"SUMIF($N$13:$N$18,\"organisch\",$H$13:$H$18)","v":0}]
[null,"2.",null,null,null,null,{"$f":"E8*F8","v":0},null,{"$f":"IF($C$2=\"\",\"\",VLOOKUP($C$2,Grünlandübersicht,30,0))","v":"C"},{"$f":"IF($C$2=\"\",\"\",VLOOKUP($C$2,Grünlandübersicht,31,0))","v":"C"},{"$f":"IF($C$2=\"\",\"\",VLOOKUP($C$2,Grünlandübersicht,32,0))","v":"C"},{"$f":"IF($C$2=\"\",\"\",VLOOKUP($C$2,Grünlandübersicht,33,0))","v":"C"},null,null,null,null,"NH4-N organsich",null,{"$f":"SUMIF($N$13:$N$18,\"organisch\",$I$13:$I$18)","v":0}]
[null,"3.",null,null,null,null,{"$f":"E9*F9","v":0},"Düngebedarf kg/ha (Blatt Grünland)",null,null,null,null,null,null,null,null,"P2O5 mineralisch",null,null,{"$f":"SUMIF($N$13:$N$18,\"mineralisch\",$J$13:$J$18)","v":0}]
[null,null,null,null,null,"Kosten €/ha",{"$f":"SUM(G7:G9)","v":0},{"$f":"IF(L3=\"ja\",VLOOKUP(C2,Grünlandübersicht,19,0),\"\")","v":""},null,{"$f":"IF(L3=\"ja\",O10,\"\")","v":""},null,null,null,null,"Düngebedarf um 20% red.",null,"P2O5 organisch",null,null,null,{"$f":"SUMIF($N$13:$N$18,\"organisch\",$J$13:$J$18)","v":0},null,null,null,null,null,null,null,null,{"$f":"IF(L3=\"ja\",\"Noch nicht ausgeschöpfter Stickstoff Düngebedarf aller Flächen\",\"\")","v":""}]
[null,null,null,null,"N Bedarf DÜV kg/ha",null,null,{"$f":"IF(C2=\"\",\"\",VLOOKUP(C2,Grünlandübersicht,18,0))","v":""},null,{"$f":"IF($C$2=\"\",\"\",VLOOKUP($C$2,Grünlandübersicht,36,0))","v":""},{"$f":"IF($C$2=\"\",\"\",VLOOKUP($C$2,Grünlandübersicht,37,0))","v":""},null,null,null,null,null,"Sonstige organische Düngemittel",{"$f":"SUMIF($N$13:$N$18,Q11,$H$13:$H$18)","v":0},{"$f":"SUMIF($N$13:$N$18,Q11,$I$13:$I$18)","v":0},{"$f":"SUMIF($N$13:$N$18,Q11,$J$13:$J$18)","v":0},null,"Anrechnung","Anrechnung ","Prüfung NH4","mineral",null,null,null,null,{"$f":"IF(L3=\"ja\",'Zus. Anlage 5 DüV'!D43,\"\")","v":""},{"$f":"IF(L3=\"ja\",\"kg N Gesamtfläche\",\"\")","v":""}]
[null,"Düngemittel",null,"Datum","m³o.dt/ha","€/E.","€/ha","Ges.-N","NH4- N","P2O5","K2O","MgO","S",null,null,null,"Bodenhilfsstoffe",{"$f":"SUMIF($N$13:$N$18,Q12,$H$13:$H$18)","v":0},null,{"$f":"SUMIF($N$13:$N$18,Q12,$J$13:$J$18)","v":0},null,"aktuelles Jahr","170 kg GW"," oder Anlage3","Stickstoff"]
["Düngung",null,null,null,null,{"$f":"IF($B13=\"\",\"\",VLOOKUP($B13,Düngemiteldaten,2,0))","v":""},{"$f":"IF(B13=\"\",\"\",E13*F13)","v":""},{"$f":"IF(B13=\"\",\"\",VLOOKUP(B13,Düngemiteldaten,4,0)*E13)","v":""},{"$f":"IF(B13=\"\",\"\",VLOOKUP(B13,Düngemiteldaten,5,0)*E13)","v":""},{"$f":"IF(B13=\"\",\"\",VLOOKUP(B13,Düngemiteldaten,7,0)*E13)","v":""},{"$f":"IF(B13=\"\",\"\",VLOOKUP(B13,Düngemiteldaten,8,0)*E13)","v":""},{"$f":"IF(B13=\"\",\"\",VLOOKUP(B13,Düngemiteldaten,9,0)*E13)","v":""},{"$f":"IF(B13=\"\",\"\",VLOOKUP(B13,Düngemiteldaten,10,0)*E13)","v":""},{"$f":"IF(B13=\"\",\"\",VLOOKUP(B13,Düngemiteldaten,20,0))","v":""},null,null,"Kultursubstrate",{"$f":"SUMIF($N$13:$N$18,Q13,$H$13:$H$18)","v":0},null,{"$f":"SUMIF($N$13:$N$18,Q13,$J$13:$J$18)","v":0},null,{"$f":"IF(OR(B13=\"\",N13=\"\"),\"\",IF(N13=\"mineralisch\",\"\",VLOOKUP(B13,Düngemiteldaten,18,0)*VLOOKUP(B13,Düngemiteldaten,4,0)*E13))","v":""},{"$f":"IF(OR(B13=\"\",N13=\"\"),\"\",IF(N13=\"mineralisch\",\"\",VLOOKUP(B13,Düngemiteldaten,19,0)*H13))","v":""},{"$f":"IF(B13=\"\",\"\",IF(V13<I13,I13,V13))","v":""},{"$f":"IF(B13=\"\",\"\",IF(N13=\"organisch\",0,H13))","v":""},null,null,null,null,{"$f":"IF(L3=\"ja\",\"Summe Gesamtstickstoff\",\"\")","v":""},null,null,{"$f":"IF(L3=\"ja\",\"Anteil § 13a Prüfung \n160 kg N/ha Gesamt\n80 kg N/ha mineralisch\",\"\")","v":""}]
[null,null,null,null,null,"","","","","","","","","",null,null,"Pflanzenhilfsmittel",{"$f":"SUMIF($N$13:$N$18,Q14,$H$13:$H$18)","v":0},null,{"$f":"SUMIF($N$13:$N$18,Q14,$J$13:$J$18)","v":0},null,"","","","",null,null,null,null,{"$f":"IF(L3=\"ja\",R5,\"\")","v":""},{"$f":"IF(L3=\"ja\",\"mineralisch N kg/ha\",\"\")","v":""}]
[null,null,null,null,null,"","","","","","","","","",null,null,"Abfälle zur Beseitigung (§ 28 Absatz 2 odeS 3 KSWG)",{"$f":"SUMIF($N$13:$N$18,Q15,$H$13:$H$18)","v":0},null,{"$f":"SUMIF($N$13:$N$18,Q15,$J$13:$J$18)","v":0},null,"","","","",null,null,null,null,{"$f":"IF(L3=\"ja\",R7+R11,\"\")","v":""},{"$f":"IF(L3=\"ja\",\"organisch N kg/ha\",\"\")","v":""}]
[null,null,null,null,null,"","","","","","","","","",null,null,null,null,null,null,null,"","","","",null,null,null,null,{"$f":"IF(L3=\"ja\",(AD15+AD14),\"\")","v":""},{"$f":"IF(L3=\"ja\",\"Gesamt kg N/ha\",\"\")","v":""}]
[null,null,null,null,null,"","","","","","","","","",null,null,null,null,null,null,null,"","","",""]
[null,null,null,null,null,"","","","","","","","","",null,null,"Nährstoffherkunft auf gefährdeten Flächen §13",null,null,null,null,"","","",""]
[null,"anrechenbarer N org.Düngung + min. Düngung kg N/ha",null,null,null,null,null,{"$f":"X19+Y19","v":0},null,{"$f":"SUM(J13:J18)","v":0},{"$f":"SUM(K13:K18)","v":0},{"$f":"SUM(L13:L18)","v":0},null,null,"Bilanz (anrechenbarer Dgg.- red.Düngebedarf) kg N/ha",null,null,"Gesamt N","NH4-N",null,null,{"$f":"SUM(V13:V18)","v":0},{"$f":"IF(SUM(W13:W18)=0,\"\",(SUM(W13:W18)))","v":""},{"$f":"SUM(X13:X18)","v":0},{"$f":"SUM(Y13:Y18)","v":0},"kg/ha"]
[null,{"$f":"IF(L3=\"ja\",O19,O20)","v":"Bilanz (anrechenbarer Dgg.- Düngebedarf) kg N/ha"},null,null,null,null,null,{"$f":"IF(H11=\"\",0,IF(OR(L3=0,L3=\"nein\"),H19-H11,H19-H10))","v":0},null,{"$f":"IF(J11=\"\",\"\",J19-J11)","v":""},"","","",null,"Bilanz (anrechenbarer Dgg.- Düngebedarf) kg N/ha",null,"N Gesamt minerl.",{"$f":"IF(L3=\"ja\",SUMIF($N$13:$N$18,\"mineralisch\",$H$13:$H$18),0)","v":0},null,null,null,{"$f":"V19*C4","v":0},{"$f":"IF(W19=\"\",\"\",W19*C4)","v":""},{"$f":"X19*C4","v":0},{"$f":"Y19*C4","v":0},"kg/Schlag",null,null,null,{"$f":"IF(H20>0,\"Stickstoffmenge überschreitet den Düngebedarf\",\"\")","v":""}]
[null,null,null,null,null,null,null,null,null,null,null,null,null,null,null,null,"NH4-N minerlisch",null,{"$f":"IF(L3=\"ja\",SUMIF($N$13:$N$18,\"mineralisch\",$I$13:$I$18),0)","v":0}]
[null,"Pflegemaßnahme",null,"Datum","Bemerkung",null,null,null,null,null,null,null,null,null,null,null,"N Gesamt organsich",{"$f":"IF(L3=\"ja\",SUMIF($N$13:$N$18,\"organisch\",$H$13:$H$18),0)","v":0}]
[null,null,null,null,null,null,null,null,null,null,null,null,null,null,null,null,"NH4-N organsich",null,{"$f":"IF(L3=\"ja\",SUMIF($N$13:$N$18,\"organisch\",$I$13:$I$18),0)","v":0},null,null,null,null,null,{"$f":"X19+Y19","v":0}]
[null,null,null,null,null,null,null,null,null,null,null,null,null,null,null,null,"P2O5 mineralisch",null,null,{"$f":"IF(L3=\"ja\",SUMIF($N$13:$N$18,\"mineralisch\",$J$13:$J$18),0)","v":0}]
[null,null,null,null,null,null,null,null,null,null,null,null,null,null,null,null,"P2O5 organisch",null,null,null,{"$f":"IF(L3=\"ja\",SUMIF($N$13:$N$18,\"organisch\",$J$13:$J$18),0)","v":0}]
[null,null,null,null,null,null,null,null,null,null,null,null,null,null,null,null,"Sonstige organische Düngemittel",{"$f":"IF(L3=\"ja\",SUMIF($N$13:$N$18,Q26,$H$13:$H$18),0)","v":0},{"$f":"IF(L3=\"ja\",SUMIF($N$13:$N$18,Q26,$I$13:$I$18),0)","v":0},{"$f":"IF(L3=\"ja\",SUMIF($N$13:$N$18,Q26,$J$13:$J$18),0)","v":0}]
["Pflanzenschutz","Pflanzenschutz",null,"Datum","E./ha","€/E.","€/ha","Anwender",null,null,"Bemerkungen",null,null,null,null,null,"Bodenhilfsstoffe",{"$f":"IF(L$3=\"ja\",SUMIF($N$13:$N$18,Q27,$H$13:$H$18),0)","v":0},null,{"$f":"IF(L$3=\"ja\",SUMIF($N$13:$N$18,Q27,$J$13:$J$18),0)","v":0}]
[null,null,null,null,null,{"$f":"IF(B28=\"\",\"\",VLOOKUP(B28,PSMMittel,2,0))","v":""},{"$f":"IF(B28=\"\",\"\",E28*F28)","v":""},null,null,null,null,null,null,null,null,null,"Kultursubstrate",{"$f":"IF(L$3=\"ja\",SUMIF($N$13:$N$18,Q28,$H$13:$H$18),0)","v":0},null,{"$f":"IF(L$3=\"ja\",SUMIF($N$13:$N$18,Q28,$J$13:$J$18),0)","v":0}]
[null,null,null,null,null,{"$f":"IF(B29=\"\",\"\",VLOOKUP(B29,PSMMittel,2,0))","v":""},{"$f":"IF(B29=\"\",\"\",E29*F29)","v":""},null,null,null,null,null,null,null,null,null,"Pflanzenhilfsmittel",{"$f":"IF(L$3=\"ja\",SUMIF($N$13:$N$18,Q29,$H$13:$H$18),0)","v":0},null,{"$f":"IF(L$3=\"ja\",SUMIF($N$13:$N$18,Q29,$J$13:$J$18),0)","v":0}]
[null,null,null,null,null,{"$f":"IF(B30=\"\",\"\",VLOOKUP(B30,PSMMittel,2,0))","v":""},{"$f":"IF(B30=\"\",\"\",E30*F30)","v":""},null,null,null,null,null,null,null,null,null,"Abfälle zur Beseitigung (§ 28 Absatz 2 odeS 3 KSWG)",{"$f":"IF(L$3=\"ja\",SUMIF($N$13:$N$18,Q30,$H$13:$H$18),0)","v":0},null,{"$f":"IF(L$3=\"ja\",SUMIF($N$13:$N$18,Q30,$J$13:$J$18),0)","v":0}]
[null,null,null,null,null,{"$f":"IF(B31=\"\",\"\",VLOOKUP(B31,PSMMittel,2,0))","v":""},{"$f":"IF(B31=\"\",\"\",E31*F31)","v":""}]
[null,null,null,null,null,{"$f":"IF(B32=\"\",\"\",VLOOKUP(B32,PSMMittel,2,0))","v":""},{"$f":"IF(B32=\"\",\"\",E32*F32)","v":""}]
[null,null,null,null,null,null,{"$f":"SUM(G28:G32)","v":0},null,null,null,null,null,null,null,"Stickstoffherkunft nicht gefährdetes Gebiet Gesamtfläche"]
[null,null,null,null,null,null,null,null,null,null,null,null,null,null,null,null,null,"Gesamt N","NH4-N"]
["Bergung","Weidetiere",null,null,null,null,"Anzahl \nTiere","Datum \nBeginn",null,"Datum \nEnde",null,"Anzahl \nWeidetage",null,null,null,null,"N Gesamt minerl.",{"$f":"R5-R20","v":0},null,null,null,null,"Stickstoffbindung aus Leguminosen kg /Schlag",null,"N \nWeidehaltung","P \nWeidehaltung"]
[null,null,null,null,null,null,null,null,null,null,null,{"$f":"IF(OR(H36=\"\",J36=\"\"),\"\",(J36+1)-H36)","v":""},null,null,null,null,"NH4-N minerlisch",null,{"$f":"S6-S21","v":0},null,null,null,{"$f":"IF(D3=0,\"\",VLOOKUP(D3,Grünlandnutzungen,27,0)*C4)","v":""},null,{"$f":"IF(B36=\"\",\"\",VLOOKUP(B36,Tierhaltung,3,0)/365*L36)","v":""},{"$f":"IF(B36=\"\",\"\",VLOOKUP(B36,Tierhaltung,4,0)/365*L36)","v":""}]
[null,null,null,null,null,null,null,null,null,null,null,{"$f":"IF(OR(H37=\"\",J37=\"\"),\"\",(J37+1)-H37)","v":""},null,null,null,null,"N Gesamt organsich",{"$f":"R7-R22","v":0},null,null,null,null,null,null,{"$f":"IF(B37=\"\",\"\",VLOOKUP(B37,Tierhaltung,3,0)/365*L37)","v":""},{"$f":"IF(B37=\"\",\"\",VLOOKUP(B37,Tierhaltung,4,0)/365*L37)","v":""}]
[null,null,null,null,null,null,null,null,null,null,null,"",null,null,null,null,"NH4-N organsich",null,{"$f":"S8-S23","v":0},null,null,null,null,null,{"$f":"IF(B38=\"\",\"\",VLOOKUP(B38,Tierhaltung,3,0)/365*L38)","v":""},{"$f":"IF(B38=\"\",\"\",VLOOKUP(B38,Tierhaltung,4,0)/365*L38)","v":""}]
[null,null,null,null,null,null,null,null,null,null,null,"",null,null,null,null,"P2O5 mineralisch",null,null,{"$f":"T9-T24","v":0},null,null,null,null,{"$f":"IF(B39=\"\",\"\",VLOOKUP(B39,Tierhaltung,3,0)/365*L39)","v":""},{"$f":"IF(B39=\"\",\"\",VLOOKUP(B39,Tierhaltung,4,0)/365*L39)","v":""}]
[null,null,null,null,null,null,null,null,null,null,null,"",null,null,null,null,"P2O5 organisch",null,null,null,{"$f":"U10-U25","v":0},null,null,null,{"$f":"IF(B40=\"\",\"\",VLOOKUP(B40,Tierhaltung,3,0)/365*L40)","v":""},{"$f":"IF(B40=\"\",\"\",VLOOKUP(B40,Tierhaltung,4,0)/365*L40)","v":""}]
[null,null,null,null,null,null,null,null,null,null,null,null,null,null,null,null,"Sonstige organische Düngemittel",{"$f":"R11-R26","v":0},{"$f":"S11-S26","v":0},{"$f":"T11-T26","v":0},null,null,null,null,{"$f":"SUM(Y36:Y40)","v":0},{"$f":"SUM(Z36:Z40)","v":0}]
[null,"Nutzungsdatum",null,"Nutzungsform",null,"Ertrag TM dt/ha",null,"Entzg N\nkg/ha","Entz. P2O5 kg/ha","Aufstellung Kosten",null,null,"€/ha",null,null,null,"Bodenhilfsstoffe",{"$f":"R12-R27","v":0},null,{"$f":"T12-T27","v":0},null,null,null,null,"N Entzug kg N/ha","Entzug kg P2O5/ha","N Entzug kg N Schlag","P Entzug kg P2O5 Schlag"]
["€/ha",null,null,null,null,null,null,{"$f":"IF(Y43=0,\"\",Y43)","v":""},"","Grünlandverbesserung",null,null,{"$f":"G10","v":0},null,null,null,"Kultursubstrate",{"$f":"R13-R28","v":0},null,{"$f":"T13-T28","v":0},null,null,null,null,{"$f":"IF(D$3=0,\"\",VLOOKUP(D$3,Grünlandnutzungen,6,0)*F43)","v":""},{"$f":"IF(D$3=0,\"\",VLOOKUP(D$3,Grünlandnutzungen,7,0)*F43)","v":""},{"$f":"IF(Y43=\"\",\"\",Y43*C4)","v":""},{"$f":"IF(Z43=\"\",\"\",Z43*C4)","v":""}]
[null,null,null,null,null,null,null,"","","Düngemittel",null,null,{"$f":"SUM(G13:G18)","v":0},null,null,null,"Pflanzenhilfsmittel",{"$f":"R14-R29","v":0},null,{"$f":"T14-T29","v":0},null,null,null,null,{"$f":"IF(D$3=0,\"\",VLOOKUP(D$3,Grünlandnutzungen,6,0)*F44)","v":""},{"$f":"IF(D$3=0,\"\",VLOOKUP(D$3,Grünlandnutzungen,7,0)*F44)","v":""},{"$f":"IF(Y44=\"\",\"\",Y44*C5)","v":""},{"$f":"IF(Z44=\"\",\"\",Z44*C5)","v":""}]
[null,null,null,null,null,null,null,"","","Pflanzenschutz",null,null,{"$f":"G33","v":0},null,null,null,"Abfälle zur Beseitigung (§ 28 Absatz 2 oder 3 KrWG)",{"$f":"R15-R30","v":0},null,{"$f":"T15-T30","v":0},null,null,null,null,{"$f":"IF(D$3=0,\"\",VLOOKUP(D$3,Grünlandnutzungen,6,0)*F45)","v":""},{"$f":"IF(D$3=0,\"\",VLOOKUP(D$3,Grünlandnutzungen,7,0)*F45)","v":""},{"$f":"IF(Y45=\"\",\"\",Y45*C6)","v":""},{"$f":"IF(Z45=\"\",\"\",Z45*C6)","v":""}]
["Bemerkungen",null,null,null,null,null,null,"","","Summe",null,null,{"$f":"M43+M44+M45","v":0},null,null,null,null,null,null,null,null,null,null,null,{"$f":"IF(D$3=0,\"\",VLOOKUP(D$3,Grünlandnutzungen,6,0)*F46)","v":""},{"$f":"IF(D$3=0,\"\",VLOOKUP(D$3,Grünlandnutzungen,7,0)*F46)","v":""},{"$f":"IF(Y46=\"\",\"\",Y46*C7)","v":""},{"$f":"IF(Z46=\"\",\"\",Z46*C7)","v":""}]

{"sheet":"G12","index":70,"n_rows":46,"n_cols":33,"rows_kept":46,"cut":false,"hidden":false,"merged":[[12,29,12,30],[12,32,15,33],[13,30,13,31],[14,30,14,31],[15,30,15,31],[45,0,48,0],[45,1,45,2],[45,3,45,4],[45,5,45,6],[45,9,45,11],[43,1,43,2],[43,3,43,4],[43,5,43,6],[43,9,43,11],[44,1,44,2],[44,3,44,4],[44,5,44,6],[44,9,44,11],[37,9,37,10],[37,11,37,12],[40,7,40,8],[41,1,41,2],[41,3,41,4],[41,5,41,6],[41,9,41,11],[42,0,44,0],[42,1,42,2],[42,3,42,4],[42,5,42,6],[42,9,42,11],[32,14,32,18],[34,0,39,0],[34,1,34,5],[34,7,34,8],[34,9,34,10],[34,11,34,12],[35,1,35,5],[35,7,35,8],[35,9,35,10],[35,11,35,12],[38,1,38,5],[38,7,38,8],[38,9,38,10],[38,11,38,12],[39,1,39,5],[39,7,39,8],[39,9,39,10],[39,11,39,12],[36,1,36,5],[36,7,36,8],[36,9,36,10],[36,11,36,12],[37,1,37,5],[37,7,37,8],[17,16,17,20],[24,1,24,2],[24,4,24,12],[25,1,25,2],[25,4,25,12],[21,1,21,2],[21,4,21,12],[22,1,22,2],[22,4,22,12],[23,1,23,2],[23,4,23,12],[18,7,18,8],[19,7,19,8],[20,3,20,12],[18,1,18,6],[19,1,19,6],[26,0,32,0],[26,1,26,2],[26,7,26,9],[26,10,26,12],[27,1,27,2],[27,7,27,9],[30,1,30,2],[30,7,30,9],[30,10,30,12],[31,1,31,2],[31,7,31,9],[31,10,31,12],[27,10,27,12],[28,1,28,2],[28,7,28,9],[28,10,28,12],[29,1,29,2],[29,7,29,9],[29,10,29,12],[6,7,7,7],[8,7,8,12],[9,7,9,8],[9,9,9,12],[10,4,10,6],[10,7,10,8],[11,1,11,2],[12,0,17,0],[12,1,12,2],[13,1,13,2],[14,1,14,2],[15,1,15,2],[16,1,16,2],[17,1,17,2],[3,3,3,6],[5,1,5,2],[0,1,0,12],[1,0,3,0],[1,3,1,6],[1,7,1,9],[1,10,1,12],[2,3,2,6],[2,7,2,10],[2,11,2,12],[3,7,3,10],[3,11,3,12],[5,7,5,10],[5,11,5,12],[4,7,4,10],[4,11,4,12]]}
[null,"Grünland"]
["Schlag","Nr.",12,null,null,null,null,"Jahr:",null,null,{"$f":"IF(Einführung!I8=\"\",\"\",Einführung!I8)","v":""},null,null,{"$f":"IF(OR(C4=\"\",H11=\"\"),\"\",H11*C4)","v":""},"DB kg * Fläche"]
[null,"Bez.",{"$f":"IF($C$2=\"\",\"\",VLOOKUP($C$2,Grünlandübersicht,2,0))","v":0},{"$f":"IF(C2=\"\",\"\",VLOOKUP(C2,Grünlandübersicht,4,0))","v":0},null,null,null,"Nitrat belastete Kulisse",null,null,null,{"$f":"IF(C2=\"\",\"\",VLOOKUP(C2,Grünlandübersicht,20,0))","v":0},null,{"$f":"W19","v":""},"kg/ha org. Dünger für Kontrollgrenze"]
[null,"ha",{"$f":"IF($C$2=\"\",\"\",VLOOKUP($C$2,Grünlandübersicht,3,0))","v":0},null,null,null,null,"P2O5 eutrophierte Kulisse",null,null,null,{"$f":"IF(C2=\"\",\"\",VLOOKUP(C2,Grünlandübersicht,21,0))","v":0},null,{"$f":"IF(OR(L3=\"\",L3=\"nein\",N2=\"\"),\"\",N3*C4)","v":""},"kg Gesamtschlag org Dünger für 170 Kontrollgrenze",null,null,"Gesamt N","NH4-N","P2O5 mineral.","P2O5 organisch"]
[null,null,null,null,null,null,null,"aus org. wirtschaftsdüngeren \nBerechung der 130 kg N/ha",null,null,null,{"$f":"IF(L3=\"ja\",W19,\"\")","v":""},null,{"$f":"IF(H11=\"\",\"\",IF(L3=\"ja\",N2*0.8,\"\"))","v":""},"Düngebedarf Gesamtschlag kg N/ha",null,"N Gesamt minerl.",{"$f":"SUMIF($N$13:$N$18,\"mineralisch\",$H$13:$H$18)","v":0}]
[null,"Grünlandverbesserung",null,"Datum","E/ha","€/E","€/ha","sonstige Auflagen",null,null,null,"WSG",null,{"$f":"IF(L3=\"ja\",X20+Y20,\"\")","v":""},"anrechenbare N Menge Gesamtschlag  kg N/ha",null,"NH4-N minerlisch",null,{"$f":"SUMIF($N$13:$N$18,\"mineralisch\",$I$13:$I$18)","v":0}]
[null,"1.",null,null,null,null,{"$f":"E7*F7","v":0},"Versorg-\nungs-\nstufe","P2O5","K2O","MgO","pH",null,{"$f":"IF(K3=\"ja\",J12*B4,\"\")","v":""},null,null,"N Gesamt organsich",{"$f":"SUMIF($N$13:$N$18,\"organisch\",$H$13:$H$18)","v":0}]
[null,"2.",null,null,null,null,{"$f":"E8*F8","v":0},null,{"$f":"IF($C$2=\"\",\"\",VLOOKUP($C$2,Grünlandübersicht,30,0))","v":"C"},{"$f":"IF($C$2=\"\",\"\",VLOOKUP($C$2,Grünlandübersicht,31,0))","v":"C"},{"$f":"IF($C$2=\"\",\"\",VLOOKUP($C$2,Grünlandübersicht,32,0))","v":"C"},{"$f":"IF($C$2=\"\",\"\",VLOOKUP($C$2,Grünlandübersicht,33,0))","v":"C"},null,null,null,null,"NH4-N organsich",null,{"$f":"SUMIF($N$13:$N$18,\"organisch\",$I$13:$I$18)","v":0}]
[null,"3.",null,null,null,null,{"$f":"E9*F9","v":0},"Düngebedarf kg/ha (Blatt Grünland)",null,null,null,null,null,null,null,null,"P2O5 mineralisch",null,null,{"$f":"SUMIF($N$13:$N$18,\"mineralisch\",$J$13:$J$18)","v":0}]
[null,null,null,null,null,"Kosten €/ha",{"$f":"SUM(G7:G9)","v":0},{"$f":"IF(L3=\"ja\",VLOOKUP(C2,Grünlandübersicht,19,0),\"\")","v":""},null,{"$f":"IF(L3=\"ja\",O10,\"\")","v":""},null,null,null,null,"Düngebedarf um 20% red.",null,"P2O5 organisch",null,null,null,{"$f":"SUMIF($N$13:$N$18,\"organisch\",$J$13:$J$18)","v":0},null,null,null,null,null,null,null,null,{"$f":"IF(L3=\"ja\",\"Noch nicht ausgeschöpfter Stickstoff Düngebedarf aller Flächen\",\"\")","v":""}]
[null,null,null,null,"N Bedarf DÜV kg/ha",null,null,{"$f":"IF(C2=\"\",\"\",VLOOKUP(C2,Grünlandübersicht,18,0))","v":""},null,{"$f":"IF($C$2=\"\",\"\",VLOOKUP($C$2,Grünlandübersicht,36,0))","v":""},{"$f":"IF($C$2=\"\",\"\",VLOOKUP($C$2,Grünlandübersicht,37,0))","v":""},null,null,null,null,null,"Sonstige organische Düngemittel",{"$f":"SUMIF($N$13:$N$18,Q11,$H$13:$H$18)","v":0},{"$f":"SUMIF($N$13:$N$18,Q11,$I$13:$I$18)","v":0},{"$f":"SUMIF($N$13:$N$18,Q11,$J$13:$J$18)","v":0},null,"Anrechnung","Anrechnung ","Prüfung NH4","mineral",null,null,null,null,{"$f":"IF(L3=\"ja\",'Zus. Anlage 5 DüV'!D43,\"\")","v":""},{"$f":"IF(L3=\"ja\",\"kg N Gesamtfläche\",\"\")","v":""}]
[null,"Düngemittel",null,"Datum","m³o.dt/ha","€/E.","€/ha","Ges.-N","NH4- N","P2O5","K2O","MgO","S",null,null,null,"Bodenhilfsstoffe",{"$f":"SUMIF($N$13:$N$18,Q12,$H$13:$H$18)","v":0},null,{"$f":"SUMIF($N$13:$N$18,Q12,$J$13:$J$18)","v":0},null,"aktuelles Jahr","170 kg GW"," oder Anlage3","Stickstoff"]
["Düngung",null,null,null,null,{"$f":"IF($B13=\"\",\"\",VLOOKUP($B13,Düngemiteldaten,2,0))","v":""},{"$f":"IF(B13=\"\",\"\",E13*F13)","v":""},{"$f":"IF(B13=\"\",\"\",VLOOKUP(B13,Düngemiteldaten,4,0)*E13)","v":""},{"$f":"IF(B13=\"\",\"\",VLOOKUP(B13,Düngemiteldaten,5,0)*E13)","v":""},{"$f":"IF(B13=\"\",\"\",VLOOKUP(B13,Düngemiteldaten,7,0)*E13)","v":""},{"$f":"IF(B13=\"\",\"\",VLOOKUP(B13,Düngemiteldaten,8,0)*E13)","v":""},{"$f":"IF(B13=\"\",\"\",VLOOKUP(B13,Düngemiteldaten,9,0)*E13)","v":""},{"$f":"IF(B13=\"\",\"\",VLOOKUP(B13,Düngemiteldaten,10,0)*E13)","v":""},{"$f":"IF(B13=\"\",\"\",VLOOKUP(B13,Düngemiteldaten,20,0))","v":""},null,null,"Kultursubstrate",{"$f":"SUMIF($N$13:$N$18,Q13,$H$13:$H$18)","v":0},null,{"$f":"SUMIF($N$13:$N$18,Q13,$J$13:$J$18)","v":0},null,{"$f":"IF(OR(B13=\"\",N13=\"\"),\"\",IF(N13=\"mineralisch\",\"\",VLOOKUP(B13,Düngemiteldaten,18,0)*VLOOKUP(B13,Düngemiteldaten,4,0)*E13))","v":""},{"$f":"IF(OR(B13=\"\",N13=\"\"),\"\",IF(N13=\"mineralisch\",\"\",VLOOKUP(B13,Düngemiteldaten,19,0)*H13))","v":""},{"$f":"IF(B13=\"\",\"\",IF(V13<I13,I13,V13))","v":""},{"$f":"IF(B13=\"\",\"\",IF(N13=\"organisch\",0,H13))","v":""},null,null,null,null,{"$f":"IF(L3=\"ja\",\"Summe Gesamtstickstoff\",\"\")","v":""},null,null,{"$f":"IF(L3=\"ja\",\"Anteil § 13a Prüfung \n160 kg N/ha Gesamt\n80 kg N/ha mineralisch\",\"\")","v":""}]
[null,null,null,null,null,"","","","","","","","","",null,null,"Pflanzenhilfsmittel",{"$f":"SUMIF($N$13:$N$18,Q14,$H$13:$H$18)","v":0},null,{"$f":"SUMIF($N$13:$N$18,Q14,$J$13:$J$18)","v":0},null,"","","","",null,null,null,null,{"$f":"IF(L3=\"ja\",R5,\"\")","v":""},{"$f":"IF(L3=\"ja\",\"mineralisch N kg/ha\",\"\")","v":""}]
[null,null,null,null,null,"","","","","","","","","",null,null,"Abfälle zur Beseitigung (§ 28 Absatz 2 odeS 3 KSWG)",{"$f":"SUMIF($N$13:$N$18,Q15,$H$13:$H$18)","v":0},null,{"$f":"SUMIF($N$13:$N$18,Q15,$J$13:$J$18)","v":0},null,"","","","",null,null,null,null,{"$f":"IF(L3=\"ja\",R7+R11,\"\")","v":""},{"$f":"IF(L3=\"ja\",\"organisch N kg/ha\",\"\")","v":""}]
[null,null,null,null,null,"","","","","","","","","",null,null,null,null,null,null,null,"","","","",null,null,null,null,{"$f":"IF(L3=\"ja\",(AD15+AD14),\"\")","v":""},{"$f":"IF(L3=\"ja\",\"Gesamt kg N/ha\",\"\")","v":""}]
[null,null,null,null,null,"","","","","","","","","",null,null,null,null,null,null,null,"","","",""]
[null,null,null,null,null,"","","","","","","","","",null,null,"Nährstoffherkunft auf gefährdeten Flächen §13",null,null,null,null,"","","",""]
[null,"anrechenbarer N org.Düngung + min. Düngung kg N/ha",null,null,null,null,null,{"$f":"X19+Y19","v":0},null,{"$f":"SUM(J13:J18)","v":0},{"$f":"SUM(K13:K18)","v":0},{"$f":"SUM(L13:L18)","v":0},null,null,"Bilanz (anrechenbarer Dgg.- red.Düngebedarf) kg N/ha",null,null,"Gesamt N","NH4-N",null,null,{"$f":"SUM(V13:V18)","v":0},{"$f":"IF(SUM(W13:W18)=0,\"\",(SUM(W13:W18)))","v":""},{"$f":"SUM(X13:X18)","v":0},{"$f":"SUM(Y13:Y18)","v":0},"kg/ha"]
[null,{"$f":"IF(L3=\"ja\",O19,O20)","v":"Bilanz (anrechenbarer Dgg.- Düngebedarf) kg N/ha"},null,null,null,null,null,{"$f":"IF(H11=\"\",0,IF(OR(L3=0,L3=\"nein\"),H19-H11,H19-H10))","v":0},null,{"$f":"IF(J11=\"\",\"\",J19-J11)","v":""},"","","",null,"Bilanz (anrechenbarer Dgg.- Düngebedarf) kg N/ha",null,"N Gesamt minerl.",{"$f":"IF(L3=\"ja\",SUMIF($N$13:$N$18,\"mineralisch\",$H$13:$H$18),0)","v":0},null,null,null,{"$f":"V19*C4","v":0},{"$f":"IF(W19=\"\",\"\",W19*C4)","v":""},{"$f":"X19*C4","v":0},{"$f":"Y19*C4","v":0},"kg/Schlag",null,null,null,{"$f":"IF(H20>0,\"Stickstoffmenge überschreitet den Düngebedarf\",\"\")","v":""}]
[null,null,null,null,null,null,null,null,null,null,null,null,null,null,null,null,"NH4-N minerlisch",null,{"$f":"IF(L3=\"ja\",SUMIF($N$13:$N$18,\"mineralisch\",$I$13:$I$18),0)","v":0}]
[null,"Pflegemaßnahme",null,"Datum","Bemerkung",null,null,null,null,null,null,null,null,null,null,null,"N Gesamt organsich",{"$f":"IF(L3=\"ja\",SUMIF($N$13:$N$18,\"organisch\",$H$13:$H$18),0)","v":0}]
[null,null,null,null,null,null,null,null,null,null,null,null,null,null,null,null,"NH4-N organsich",null,{"$f":"IF(L3=\"ja\",SUMIF($N$13:$N$18,\"organisch\",$I$13:$I$18),0)","v":0},null,null,null,null,null,{"$f":"X19+Y19","v":0}]
[null,null,null,null,null,null,null,null,null,null,null,null,null,null,null,null,"P2O5 mineralisch",null,null,{"$f":"IF(L3=\"ja\",SUMIF($N$13:$N$18,\"mineralisch\",$J$13:$J$18),0)","v":0}]
[null,null,null,null,null,null,null,null,null,null,null,null,null,null,null,null,"P2O5 organisch",null,null,null,{"$f":"IF(L3=\"ja\",SUMIF($N$13:$N$18,\"organisch\",$J$13:$J$18),0)","v":0}]
[null,null,null,null,null,null,null,null,null,null,null,null,null,null,null,null,"Sonstige organische Düngemittel",{"$f":"IF(L3=\"ja\",SUMIF($N$13:$N$18,Q26,$H$13:$H$18),0)","v":0},{"$f":"IF(L3=\"ja\",SUMIF($N$13:$N$18,Q26,$I$13:$I$18),0)","v":0},{"$f":"IF(L3=\"ja\",SUMIF($N$13:$N$18,Q26,$J$13:$J$18),0)","v":0}]
["Pflanzenschutz","Pflanzenschutz",null,"Datum","E./ha","€/E.","€/ha","Anwender",null,null,"Bemerkungen",null,null,null,null,null,"Bodenhilfsstoffe",{"$f":"IF(L$3=\"ja\",SUMIF($N$13:$N$18,Q27,$H$13:$H$18),0)","v":0},null,{"$f":"IF(L$3=\"ja\",SUMIF($N$13:$N$18,Q27,$J$13:$J$18),0)","v":0}]
[null,null,null,null,null,{"$f":"IF(B28=\"\",\"\",VLOOKUP(B28,PSMMittel,2,0))","v":""},{"$f":"IF(B28=\"\",\"\",E28*F28)","v":""},null,null,null,null,null,null,null,null,null,"Kultursubstrate",{"$f":"IF(L$3=\"ja\",SUMIF($N$13:$N$18,Q28,$H$13:$H$18),0)","v":0},null,{"$f":"IF(L$3=\"ja\",SUMIF($N$13:$N$18,Q28,$J$13:$J$18),0)","v":0}]
[null,null,null,null,null,{"$f":"IF(B29=\"\",\"\",VLOOKUP(B29,PSMMittel,2,0))","v":""},{"$f":"IF(B29=\"\",\"\",E29*F29)","v":""},null,null,null,null,null,null,null,null,null,"Pflanzenhilfsmittel",{"$f":"IF(L$3=\"ja\",SUMIF($N$13:$N$18,Q29,$H$13:$H$18),0)","v":0},null,{"$f":"IF(L$3=\"ja\",SUMIF($N$13:$N$18,Q29,$J$13:$J$18),0)","v":0}]
[null,null,null,null,null,{"$f":"IF(B30=\"\",\"\",VLOOKUP(B30,PSMMittel,2,0))","v":""},{"$f":"IF(B30=\"\",\"\",E30*F30)","v":""},null,null,null,null,null,null,null,null,null,"Abfälle zur Beseitigung (§ 28 Absatz 2 odeS 3 KSWG)",{"$f":"IF(L$3=\"ja\",SUMIF($N$13:$N$18,Q30,$H$13:$H$18),0)","v":0},null,{"$f":"IF(L$3=\"ja\",SUMIF($N$13:$N$18,Q30,$J$13:$J$18),0)","v":0}]
[null,null,null,null,null,{"$f":"IF(B31=\"\",\"\",VLOOKUP(B31,PSMMittel,2,0))","v":""},{"$f":"IF(B31=\"\",\"\",E31*F31)","v":""}]
[null,null,null,null,null,{"$f":"IF(B32=\"\",\"\",VLOOKUP(B32,PSMMittel,2,0))","v":""},{"$f":"IF(B32=\"\",\"\",E32*F32)","v":""}]
[null,null,null,null,null,null,{"$f":"SUM(G28:G32)","v":0},null,null,null,null,null,null,null,"Stickstoffherkunft nicht gefährdetes Gebiet Gesamtfläche"]
[null,null,null,null,null,null,null,null,null,null,null,null,null,null,null,null,null,"Gesamt N","NH4-N"]
["Bergung","Weidetiere",null,null,null,null,"Anzahl \nTiere","Datum \nBeginn",null,"Datum \nEnde",null,"Anzahl \nWeidetage",null,null,null,null,"N Gesamt minerl.",{"$f":"R5-R20","v":0},null,null,null,null,"Stickstoffbindung aus Leguminosen kg /Schlag",null,"N \nWeidehaltung","P \nWeidehaltung"]
[null,null,null,null,null,null,null,null,null,null,null,{"$f":"IF(OR(H36=\"\",J36=\"\"),\"\",(J36+1)-H36)","v":""},null,null,null,null,"NH4-N minerlisch",null,{"$f":"S6-S21","v":0},null,null,null,{"$f":"IF(D3=0,\"\",VLOOKUP(D3,Grünlandnutzungen,27,0)*C4)","v":""},null,{"$f":"IF(B36=\"\",\"\",VLOOKUP(B36,Tierhaltung,3,0)/365*L36)","v":""},{"$f":"IF(B36=\"\",\"\",VLOOKUP(B36,Tierhaltung,4,0)/365*L36)","v":""}]
[null,null,null,null,null,null,null,null,null,null,null,{"$f":"IF(OR(H37=\"\",J37=\"\"),\"\",(J37+1)-H37)","v":""},null,null,null,null,"N Gesamt organsich",{"$f":"R7-R22","v":0},null,null,null,null,null,null,{"$f":"IF(B37=\"\",\"\",VLOOKUP(B37,Tierhaltung,3,0)/365*L37)","v":""},{"$f":"IF(B37=\"\",\"\",VLOOKUP(B37,Tierhaltung,4,0)/365*L37)","v":""}]
[null,null,null,null,null,null,null,null,null,null,null,"",null,null,null,null,"NH4-N organsich",null,{"$f":"S8-S23","v":0},null,null,null,null,null,{"$f":"IF(B38=\"\",\"\",VLOOKUP(B38,Tierhaltung,3,0)/365*L38)","v":""},{"$f":"IF(B38=\"\",\"\",VLOOKUP(B38,Tierhaltung,4,0)/365*L38)","v":""}]
[null,null,null,null,null,null,null,null,null,null,null,"",null,null,null,null,"P2O5 mineralisch",null,null,{"$f":"T9-T24","v":0},null,null,null,null,{"$f":"IF(B39=\"\",\"\",VLOOKUP(B39,Tierhaltung,3,0)/365*L39)","v":""},{"$f":"IF(B39=\"\",\"\",VLOOKUP(B39,Tierhaltung,4,0)/365*L39)","v":""}]
[null,null,null,null,null,null,null,null,null,null,null,"",null,null,null,null,"P2O5 organisch",null,null,null,{"$f":"U10-U25","v":0},null,null,null,{"$f":"IF(B40=\"\",\"\",VLOOKUP(B40,Tierhaltung,3,0)/365*L40)","v":""},{"$f":"IF(B40=\"\",\"\",VLOOKUP(B40,Tierhaltung,4,0)/365*L40)","v":""}]
[null,null,null,null,null,null,null,null,null,null,null,null,null,null,null,null,"Sonstige organische Düngemittel",{"$f":"R11-R26","v":0},{"$f":"S11-S26","v":0},{"$f":"T11-T26","v":0},null,null,null,null,{"$f":"SUM(Y36:Y40)","v":0},{"$f":"SUM(Z36:Z40)","v":0}]
[null,"Nutzungsdatum",null,"Nutzungsform",null,"Ertrag TM dt/ha",null,"Entzg N\nkg/ha","Entz. P2O5 kg/ha","Aufstellung Kosten",null,null,"€/ha",null,null,null,"Bodenhilfsstoffe",{"$f":"R12-R27","v":0},null,{"$f":"T12-T27","v":0},null,null,null,null,"N Entzug kg N/ha","Entzug kg P2O5/ha","N Entzug kg N Schlag","P Entzug kg P2O5 Schlag"]
["€/ha",null,null,null,null,null,null,{"$f":"IF(Y43=0,\"\",Y43)","v":""},"","Grünlandverbesserung",null,null,{"$f":"G10","v":0},null,null,null,"Kultursubstrate",{"$f":"R13-R28","v":0},null,{"$f":"T13-T28","v":0},null,null,null,null,{"$f":"IF(D$3=0,\"\",VLOOKUP(D$3,Grünlandnutzungen,6,0)*F43)","v":""},{"$f":"IF(D$3=0,\"\",VLOOKUP(D$3,Grünlandnutzungen,7,0)*F43)","v":""},{"$f":"IF(Y43=\"\",\"\",Y43*C4)","v":""},{"$f":"IF(Z43=\"\",\"\",Z43*C4)","v":""}]
[null,null,null,null,null,null,null,"","","Düngemittel",null,null,{"$f":"SUM(G13:G18)","v":0},null,null,null,"Pflanzenhilfsmittel",{"$f":"R14-R29","v":0},null,{"$f":"T14-T29","v":0},null,null,null,null,{"$f":"IF(D$3=0,\"\",VLOOKUP(D$3,Grünlandnutzungen,6,0)*F44)","v":""},{"$f":"IF(D$3=0,\"\",VLOOKUP(D$3,Grünlandnutzungen,7,0)*F44)","v":""},{"$f":"IF(Y44=\"\",\"\",Y44*C5)","v":""},{"$f":"IF(Z44=\"\",\"\",Z44*C5)","v":""}]
[null,null,null,null,null,null,null,"","","Pflanzenschutz",null,null,{"$f":"G33","v":0},null,null,null,"Abfälle zur Beseitigung (§ 28 Absatz 2 oder 3 KrWG)",{"$f":"R15-R30","v":0},null,{"$f":"T15-T30","v":0},null,null,null,null,{"$f":"IF(D$3=0,\"\",VLOOKUP(D$3,Grünlandnutzungen,6,0)*F45)","v":""},{"$f":"IF(D$3=0,\"\",VLOOKUP(D$3,Grünlandnutzungen,7,0)*F45)","v":""},{"$f":"IF(Y45=\"\",\"\",Y45*C6)","v":""},{"$f":"IF(Z45=\"\",\"\",Z45*C6)","v":""}]
["Bemerkungen",null,null,null,null,null,null,"","","Summe",null,null,{"$f":"M43+M44+M45","v":0},null,null,null,null,null,null,null,null,null,null,null,{"$f":"IF(D$3=0,\"\",VLOOKUP(D$3,Grünlandnutzungen,6,0)*F46)","v":""},{"$f":"IF(D$3=0,\"\",VLOOKUP(D$3,Grünlandnutzungen,7,0)*F46)","v":""},{"$f":"IF(Y46=\"\",\"\",Y46*C7)","v":""},{"$f":"IF(Z46=\"\",\"\",Z46*C7)","v":""}]

{"sheet":"G13","index":71,"n_rows":46,"n_cols":33,"rows_kept":46,"cut":false,"hidden":false,"merged":[[12,29,12,30],[12,32,15,33],[13,30,13,31],[14,30,14,31],[15,30,15,31],[45,0,48,0],[45,1,45,2],[45,3,45,4],[45,5,45,6],[45,9,45,11],[43,1,43,2],[43,3,43,4],[43,5,43,6],[43,9,43,11],[44,1,44,2],[44,3,44,4],[44,5,44,6],[44,9,44,11],[37,9,37,10],[37,11,37,12],[40,7,40,8],[41,1,41,2],[41,3,41,4],[41,5,41,6],[41,9,41,11],[42,0,44,0],[42,1,42,2],[42,3,42,4],[42,5,42,6],[42,9,42,11],[32,14,32,18],[34,0,39,0],[34,1,34,5],[34,7,34,8],[34,9,34,10],[34,11,34,12],[35,1,35,5],[35,7,35,8],[35,9,35,10],[35,11,35,12],[38,1,38,5],[38,7,38,8],[38,9,38,10],[38,11,38,12],[39,1,39,5],[39,7,39,8],[39,9,39,10],[39,11,39,12],[36,1,36,5],[36,7,36,8],[36,9,36,10],[36,11,36,12],[37,1,37,5],[37,7,37,8],[17,16,17,20],[24,1,24,2],[24,4,24,12],[25,1,25,2],[25,4,25,12],[21,1,21,2],[21,4,21,12],[22,1,22,2],[22,4,22,12],[23,1,23,2],[23,4,23,12],[18,7,18,8],[19,7,19,8],[20,3,20,12],[18,1,18,6],[19,1,19,6],[26,0,32,0],[26,1,26,2],[26,7,26,9],[26,10,26,12],[27,1,27,2],[27,7,27,9],[30,1,30,2],[30,7,30,9],[30,10,30,12],[31,1,31,2],[31,7,31,9],[31,10,31,12],[27,10,27,12],[28,1,28,2],[28,7,28,9],[28,10,28,12],[29,1,29,2],[29,7,29,9],[29,10,29,12],[6,7,7,7],[8,7,8,12],[9,7,9,8],[9,9,9,12],[10,4,10,6],[10,7,10,8],[11,1,11,2],[12,0,17,0],[12,1,12,2],[13,1,13,2],[14,1,14,2],[15,1,15,2],[16,1,16,2],[17,1,17,2],[3,3,3,6],[5,1,5,2],[0,1,0,12],[1,0,3,0],[1,3,1,6],[1,7,1,9],[1,10,1,12],[2,3,2,6],[2,7,2,10],[2,11,2,12],[3,7,3,10],[3,11,3,12],[5,7,5,10],[5,11,5,12],[4,7,4,10],[4,11,4,12]]}
[null,"Grünland"]
["Schlag","Nr.",13,null,null,null,null,"Jahr:",null,null,{"$f":"IF(Einführung!I8=\"\",\"\",Einführung!I8)","v":""},null,null,{"$f":"IF(OR(C4=\"\",H11=\"\"),\"\",H11*C4)","v":""},"DB kg * Fläche"]
[null,"Bez.",{"$f":"IF($C$2=\"\",\"\",VLOOKUP($C$2,Grünlandübersicht,2,0))","v":0},{"$f":"IF(C2=\"\",\"\",VLOOKUP(C2,Grünlandübersicht,4,0))","v":0},null,null,null,"Nitrat belastete Kulisse",null,null,null,{"$f":"IF(C2=\"\",\"\",VLOOKUP(C2,Grünlandübersicht,20,0))","v":0},null,{"$f":"W19","v":""},"kg/ha org. Dünger für Kontrollgrenze"]
[null,"ha",{"$f":"IF($C$2=\"\",\"\",VLOOKUP($C$2,Grünlandübersicht,3,0))","v":0},null,null,null,null,"P2O5 eutrophierte Kulisse",null,null,null,{"$f":"IF(C2=\"\",\"\",VLOOKUP(C2,Grünlandübersicht,21,0))","v":0},null,{"$f":"IF(OR(L3=\"\",L3=\"nein\",N2=\"\"),\"\",N3*C4)","v":""},"kg Gesamtschlag org Dünger für 170 Kontrollgrenze",null,null,"Gesamt N","NH4-N","P2O5 mineral.","P2O5 organisch"]
[null,null,null,null,null,null,null,"aus org. wirtschaftsdüngeren \nBerechung der 130 kg N/ha",null,null,null,{"$f":"IF(L3=\"ja\",W19,\"\")","v":""},null,{"$f":"IF(H11=\"\",\"\",IF(L3=\"ja\",N2*0.8,\"\"))","v":""},"Düngebedarf Gesamtschlag kg N/ha",null,"N Gesamt minerl.",{"$f":"SUMIF($N$13:$N$18,\"mineralisch\",$H$13:$H$18)","v":0}]
[null,"Grünlandverbesserung",null,"Datum","E/ha","€/E","€/ha","sonstige Auflagen",null,null,null,"WSG",null,{"$f":"IF(L3=\"ja\",X20+Y20,\"\")","v":""},"anrechenbare N Menge Gesamtschlag  kg N/ha",null,"NH4-N minerlisch",null,{"$f":"SUMIF($N$13:$N$18,\"mineralisch\",$I$13:$I$18)","v":0}]
[null,"1.",null,null,null,null,{"$f":"E7*F7","v":0},"Versorg-\nungs-\nstufe","P2O5","K2O","MgO","pH",null,{"$f":"IF(K3=\"ja\",J12*B4,\"\")","v":""},null,null,"N Gesamt organsich",{"$f":"SUMIF($N$13:$N$18,\"organisch\",$H$13:$H$18)","v":0}]
[null,"2.",null,null,null,null,{"$f":"E8*F8","v":0},null,{"$f":"IF($C$2=\"\",\"\",VLOOKUP($C$2,Grünlandübersicht,30,0))","v":"C"},{"$f":"IF($C$2=\"\",\"\",VLOOKUP($C$2,Grünlandübersicht,31,0))","v":"C"},{"$f":"IF($C$2=\"\",\"\",VLOOKUP($C$2,Grünlandübersicht,32,0))","v":"C"},{"$f":"IF($C$2=\"\",\"\",VLOOKUP($C$2,Grünlandübersicht,33,0))","v":"C"},null,null,null,null,"NH4-N organsich",null,{"$f":"SUMIF($N$13:$N$18,\"organisch\",$I$13:$I$18)","v":0}]
[null,"3.",null,null,null,null,{"$f":"E9*F9","v":0},"Düngebedarf kg/ha (Blatt Grünland)",null,null,null,null,null,null,null,null,"P2O5 mineralisch",null,null,{"$f":"SUMIF($N$13:$N$18,\"mineralisch\",$J$13:$J$18)","v":0}]
[null,null,null,null,null,"Kosten €/ha",{"$f":"SUM(G7:G9)","v":0},{"$f":"IF(L3=\"ja\",VLOOKUP(C2,Grünlandübersicht,19,0),\"\")","v":""},null,{"$f":"IF(L3=\"ja\",O10,\"\")","v":""},null,null,null,null,"Düngebedarf um 20% red.",null,"P2O5 organisch",null,null,null,{"$f":"SUMIF($N$13:$N$18,\"organisch\",$J$13:$J$18)","v":0},null,null,null,null,null,null,null,null,{"$f":"IF(L3=\"ja\",\"Noch nicht ausgeschöpfter Stickstoff Düngebedarf aller Flächen\",\"\")","v":""}]
[null,null,null,null,"N Bedarf DÜV kg/ha",null,null,{"$f":"IF(C2=\"\",\"\",VLOOKUP(C2,Grünlandübersicht,18,0))","v":""},null,{"$f":"IF($C$2=\"\",\"\",VLOOKUP($C$2,Grünlandübersicht,36,0))","v":""},{"$f":"IF($C$2=\"\",\"\",VLOOKUP($C$2,Grünlandübersicht,37,0))","v":""},null,null,null,null,null,"Sonstige organische Düngemittel",{"$f":"SUMIF($N$13:$N$18,Q11,$H$13:$H$18)","v":0},{"$f":"SUMIF($N$13:$N$18,Q11,$I$13:$I$18)","v":0},{"$f":"SUMIF($N$13:$N$18,Q11,$J$13:$J$18)","v":0},null,"Anrechnung","Anrechnung ","Prüfung NH4","mineral",null,null,null,null,{"$f":"IF(L3=\"ja\",'Zus. Anlage 5 DüV'!D43,\"\")","v":""},{"$f":"IF(L3=\"ja\",\"kg N Gesamtfläche\",\"\")","v":""}]
[null,"Düngemittel",null,"Datum","m³o.dt/ha","€/E.","€/ha","Ges.-N","NH4- N","P2O5","K2O","MgO","S",null,null,null,"Bodenhilfsstoffe",{"$f":"SUMIF($N$13:$N$18,Q12,$H$13:$H$18)","v":0},null,{"$f":"SUMIF($N$13:$N$18,Q12,$J$13:$J$18)","v":0},null,"aktuelles Jahr","170 kg GW"," oder Anlage3","Stickstoff"]
["Düngung",null,null,null,null,{"$f":"IF($B13=\"\",\"\",VLOOKUP($B13,Düngemiteldaten,2,0))","v":""},{"$f":"IF(B13=\"\",\"\",E13*F13)","v":""},{"$f":"IF(B13=\"\",\"\",VLOOKUP(B13,Düngemiteldaten,4,0)*E13)","v":""},{"$f":"IF(B13=\"\",\"\",VLOOKUP(B13,Düngemiteldaten,5,0)*E13)","v":""},{"$f":"IF(B13=\"\",\"\",VLOOKUP(B13,Düngemiteldaten,7,0)*E13)","v":""},{"$f":"IF(B13=\"\",\"\",VLOOKUP(B13,Düngemiteldaten,8,0)*E13)","v":""},{"$f":"IF(B13=\"\",\"\",VLOOKUP(B13,Düngemiteldaten,9,0)*E13)","v":""},{"$f":"IF(B13=\"\",\"\",VLOOKUP(B13,Düngemiteldaten,10,0)*E13)","v":""},{"$f":"IF(B13=\"\",\"\",VLOOKUP(B13,Düngemiteldaten,20,0))","v":""},null,null,"Kultursubstrate",{"$f":"SUMIF($N$13:$N$18,Q13,$H$13:$H$18)","v":0},null,{"$f":"SUMIF($N$13:$N$18,Q13,$J$13:$J$18)","v":0},null,{"$f":"IF(OR(B13=\"\",N13=\"\"),\"\",IF(N13=\"mineralisch\",\"\",VLOOKUP(B13,Düngemiteldaten,18,0)*VLOOKUP(B13,Düngemiteldaten,4,0)*E13))","v":""},{"$f":"IF(OR(B13=\"\",N13=\"\"),\"\",IF(N13=\"mineralisch\",\"\",VLOOKUP(B13,Düngemiteldaten,19,0)*H13))","v":""},{"$f":"IF(B13=\"\",\"\",IF(V13<I13,I13,V13))","v":""},{"$f":"IF(B13=\"\",\"\",IF(N13=\"organisch\",0,H13))","v":""},null,null,null,null,{"$f":"IF(L3=\"ja\",\"Summe Gesamtstickstoff\",\"\")","v":""},null,null,{"$f":"IF(L3=\"ja\",\"Anteil § 13a Prüfung \n160 kg N/ha Gesamt\n80 kg N/ha mineralisch\",\"\")","v":""}]
[null,null,null,null,null,"","","","","","","","","",null,null,"Pflanzenhilfsmittel",{"$f":"SUMIF($N$13:$N$18,Q14,$H$13:$H$18)","v":0},null,{"$f":"SUMIF($N$13:$N$18,Q14,$J$13:$J$18)","v":0},null,"","","","",null,null,null,null,{"$f":"IF(L3=\"ja\",R5,\"\")","v":""},{"$f":"IF(L3=\"ja\",\"mineralisch N kg/ha\",\"\")","v":""}]
[null,null,null,null,null,"","","","","","","","","",null,null,"Abfälle zur Beseitigung (§ 28 Absatz 2 odeS 3 KSWG)",{"$f":"SUMIF($N$13:$N$18,Q15,$H$13:$H$18)","v":0},null,{"$f":"SUMIF($N$13:$N$18,Q15,$J$13:$J$18)","v":0},null,"","","","",null,null,null,null,{"$f":"IF(L3=\"ja\",R7+R11,\"\")","v":""},{"$f":"IF(L3=\"ja\",\"organisch N kg/ha\",\"\")","v":""}]
[null,null,null,null,null,"","","","","","","","","",null,null,null,null,null,null,null,"","","","",null,null,null,null,{"$f":"IF(L3=\"ja\",(AD15+AD14),\"\")","v":""},{"$f":"IF(L3=\"ja\",\"Gesamt kg N/ha\",\"\")","v":""}]
[null,null,null,null,null,"","","","","","","","","",null,null,null,null,null,null,null,"","","",""]
[null,null,null,null,null,"","","","","","","","","",null,null,"Nährstoffherkunft auf gefährdeten Flächen §13",null,null,null,null,"","","",""]
[null,"anrechenbarer N org.Düngung + min. Düngung kg N/ha",null,null,null,null,null,{"$f":"X19+Y19","v":0},null,{"$f":"SUM(J13:J18)","v":0},{"$f":"SUM(K13:K18)","v":0},{"$f":"SUM(L13:L18)","v":0},null,null,"Bilanz (anrechenbarer Dgg.- red.Düngebedarf) kg N/ha",null,null,"Gesamt N","NH4-N",null,null,{"$f":"SUM(V13:V18)","v":0},{"$f":"IF(SUM(W13:W18)=0,\"\",(SUM(W13:W18)))","v":""},{"$f":"SUM(X13:X18)","v":0},{"$f":"SUM(Y13:Y18)","v":0},"kg/ha"]
[null,{"$f":"IF(L3=\"ja\",O19,O20)","v":"Bilanz (anrechenbarer Dgg.- Düngebedarf) kg N/ha"},null,null,null,null,null,{"$f":"IF(H11=\"\",0,IF(OR(L3=0,L3=\"nein\"),H19-H11,H19-H10))","v":0},null,{"$f":"IF(J11=\"\",\"\",J19-J11)","v":""},"","","",null,"Bilanz (anrechenbarer Dgg.- Düngebedarf) kg N/ha",null,"N Gesamt minerl.",{"$f":"IF(L3=\"ja\",SUMIF($N$13:$N$18,\"mineralisch\",$H$13:$H$18),0)","v":0},null,null,null,{"$f":"V19*C4","v":0},{"$f":"IF(W19=\"\",\"\",W19*C4)","v":""},{"$f":"X19*C4","v":0},{"$f":"Y19*C4","v":0},"kg/Schlag",null,null,null,{"$f":"IF(H20>0,\"Stickstoffmenge überschreitet den Düngebedarf\",\"\")","v":""}]
[null,null,null,null,null,null,null,null,null,null,null,null,null,null,null,null,"NH4-N minerlisch",null,{"$f":"IF(L3=\"ja\",SUMIF($N$13:$N$18,\"mineralisch\",$I$13:$I$18),0)","v":0}]
[null,"Pflegemaßnahme",null,"Datum","Bemerkung",null,null,null,null,null,null,null,null,null,null,null,"N Gesamt organsich",{"$f":"IF(L3=\"ja\",SUMIF($N$13:$N$18,\"organisch\",$H$13:$H$18),0)","v":0}]
[null,null,null,null,null,null,null,null,null,null,null,null,null,null,null,null,"NH4-N organsich",null,{"$f":"IF(L3=\"ja\",SUMIF($N$13:$N$18,\"organisch\",$I$13:$I$18),0)","v":0},null,null,null,null,null,{"$f":"X19+Y19","v":0}]
[null,null,null,null,null,null,null,null,null,null,null,null,null,null,null,null,"P2O5 mineralisch",null,null,{"$f":"IF(L3=\"ja\",SUMIF($N$13:$N$18,\"mineralisch\",$J$13:$J$18),0)","v":0}]
[null,null,null,null,null,null,null,null,null,null,null,null,null,null,null,null,"P2O5 organisch",null,null,null,{"$f":"IF(L3=\"ja\",SUMIF($N$13:$N$18,\"organisch\",$J$13:$J$18),0)","v":0}]
[null,null,null,null,null,null,null,null,null,null,null,null,null,null,null,null,"Sonstige organische Düngemittel",{"$f":"IF(L3=\"ja\",SUMIF($N$13:$N$18,Q26,$H$13:$H$18),0)","v":0},{"$f":"IF(L3=\"ja\",SUMIF($N$13:$N$18,Q26,$I$13:$I$18),0)","v":0},{"$f":"IF(L3=\"ja\",SUMIF($N$13:$N$18,Q26,$J$13:$J$18),0)","v":0}]
["Pflanzenschutz","Pflanzenschutz",null,"Datum","E./ha","€/E.","€/ha","Anwender",null,null,"Bemerkungen",null,null,null,null,null,"Bodenhilfsstoffe",{"$f":"IF(L$3=\"ja\",SUMIF($N$13:$N$18,Q27,$H$13:$H$18),0)","v":0},null,{"$f":"IF(L$3=\"ja\",SUMIF($N$13:$N$18,Q27,$J$13:$J$18),0)","v":0}]
[null,null,null,null,null,{"$f":"IF(B28=\"\",\"\",VLOOKUP(B28,PSMMittel,2,0))","v":""},{"$f":"IF(B28=\"\",\"\",E28*F28)","v":""},null,null,null,null,null,null,null,null,null,"Kultursubstrate",{"$f":"IF(L$3=\"ja\",SUMIF($N$13:$N$18,Q28,$H$13:$H$18),0)","v":0},null,{"$f":"IF(L$3=\"ja\",SUMIF($N$13:$N$18,Q28,$J$13:$J$18),0)","v":0}]
[null,null,null,null,null,{"$f":"IF(B29=\"\",\"\",VLOOKUP(B29,PSMMittel,2,0))","v":""},{"$f":"IF(B29=\"\",\"\",E29*F29)","v":""},null,null,null,null,null,null,null,null,null,"Pflanzenhilfsmittel",{"$f":"IF(L$3=\"ja\",SUMIF($N$13:$N$18,Q29,$H$13:$H$18),0)","v":0},null,{"$f":"IF(L$3=\"ja\",SUMIF($N$13:$N$18,Q29,$J$13:$J$18),0)","v":0}]
[null,null,null,null,null,{"$f":"IF(B30=\"\",\"\",VLOOKUP(B30,PSMMittel,2,0))","v":""},{"$f":"IF(B30=\"\",\"\",E30*F30)","v":""},null,null,null,null,null,null,null,null,null,"Abfälle zur Beseitigung (§ 28 Absatz 2 odeS 3 KSWG)",{"$f":"IF(L$3=\"ja\",SUMIF($N$13:$N$18,Q30,$H$13:$H$18),0)","v":0},null,{"$f":"IF(L$3=\"ja\",SUMIF($N$13:$N$18,Q30,$J$13:$J$18),0)","v":0}]
[null,null,null,null,null,{"$f":"IF(B31=\"\",\"\",VLOOKUP(B31,PSMMittel,2,0))","v":""},{"$f":"IF(B31=\"\",\"\",E31*F31)","v":""}]
[null,null,null,null,null,{"$f":"IF(B32=\"\",\"\",VLOOKUP(B32,PSMMittel,2,0))","v":""},{"$f":"IF(B32=\"\",\"\",E32*F32)","v":""}]
[null,null,null,null,null,null,{"$f":"SUM(G28:G32)","v":0},null,null,null,null,null,null,null,"Stickstoffherkunft nicht gefährdetes Gebiet Gesamtfläche"]
[null,null,null,null,null,null,null,null,null,null,null,null,null,null,null,null,null,"Gesamt N","NH4-N"]
["Bergung","Weidetiere",null,null,null,null,"Anzahl \nTiere","Datum \nBeginn",null,"Datum \nEnde",null,"Anzahl \nWeidetage",null,null,null,null,"N Gesamt minerl.",{"$f":"R5-R20","v":0},null,null,null,null,"Stickstoffbindung aus Leguminosen kg /Schlag",null,"N \nWeidehaltung","P \nWeidehaltung"]
[null,null,null,null,null,null,null,null,null,null,null,{"$f":"IF(OR(H36=\"\",J36=\"\"),\"\",(J36+1)-H36)","v":""},null,null,null,null,"NH4-N minerlisch",null,{"$f":"S6-S21","v":0},null,null,null,{"$f":"IF(D3=0,\"\",VLOOKUP(D3,Grünlandnutzungen,27,0)*C4)","v":""},null,{"$f":"IF(B36=\"\",\"\",VLOOKUP(B36,Tierhaltung,3,0)/365*L36)","v":""},{"$f":"IF(B36=\"\",\"\",VLOOKUP(B36,Tierhaltung,4,0)/365*L36)","v":""}]
[null,null,null,null,null,null,null,null,null,null,null,{"$f":"IF(OR(H37=\"\",J37=\"\"),\"\",(J37+1)-H37)","v":""},null,null,null,null,"N Gesamt organsich",{"$f":"R7-R22","v":0},null,null,null,null,null,null,{"$f":"IF(B37=\"\",\"\",VLOOKUP(B37,Tierhaltung,3,0)/365*L37)","v":""},{"$f":"IF(B37=\"\",\"\",VLOOKUP(B37,Tierhaltung,4,0)/365*L37)","v":""}]
[null,null,null,null,null,null,null,null,null,null,null,"",null,null,null,null,"NH4-N organsich",null,{"$f":"S8-S23","v":0},null,null,null,null,null,{"$f":"IF(B38=\"\",\"\",VLOOKUP(B38,Tierhaltung,3,0)/365*L38)","v":""},{"$f":"IF(B38=\"\",\"\",VLOOKUP(B38,Tierhaltung,4,0)/365*L38)","v":""}]
[null,null,null,null,null,null,null,null,null,null,null,"",null,null,null,null,"P2O5 mineralisch",null,null,{"$f":"T9-T24","v":0},null,null,null,null,{"$f":"IF(B39=\"\",\"\",VLOOKUP(B39,Tierhaltung,3,0)/365*L39)","v":""},{"$f":"IF(B39=\"\",\"\",VLOOKUP(B39,Tierhaltung,4,0)/365*L39)","v":""}]
[null,null,null,null,null,null,null,null,null,null,null,"",null,null,null,null,"P2O5 organisch",null,null,null,{"$f":"U10-U25","v":0},null,null,null,{"$f":"IF(B40=\"\",\"\",VLOOKUP(B40,Tierhaltung,3,0)/365*L40)","v":""},{"$f":"IF(B40=\"\",\"\",VLOOKUP(B40,Tierhaltung,4,0)/365*L40)","v":""}]
[null,null,null,null,null,null,null,null,null,null,null,null,null,null,null,null,"Sonstige organische Düngemittel",{"$f":"R11-R26","v":0},{"$f":"S11-S26","v":0},{"$f":"T11-T26","v":0},null,null,null,null,{"$f":"SUM(Y36:Y40)","v":0},{"$f":"SUM(Z36:Z40)","v":0}]
[null,"Nutzungsdatum",null,"Nutzungsform",null,"Ertrag TM dt/ha",null,"Entzg N\nkg/ha","Entz. P2O5 kg/ha","Aufstellung Kosten",null,null,"€/ha",null,null,null,"Bodenhilfsstoffe",{"$f":"R12-R27","v":0},null,{"$f":"T12-T27","v":0},null,null,null,null,"N Entzug kg N/ha","Entzug kg P2O5/ha","N Entzug kg N Schlag","P Entzug kg P2O5 Schlag"]
["€/ha",null,null,null,null,null,null,{"$f":"IF(Y43=0,\"\",Y43)","v":""},"","Grünlandverbesserung",null,null,{"$f":"G10","v":0},null,null,null,"Kultursubstrate",{"$f":"R13-R28","v":0},null,{"$f":"T13-T28","v":0},null,null,null,null,{"$f":"IF(D$3=0,\"\",VLOOKUP(D$3,Grünlandnutzungen,6,0)*F43)","v":""},{"$f":"IF(D$3=0,\"\",VLOOKUP(D$3,Grünlandnutzungen,7,0)*F43)","v":""},{"$f":"IF(Y43=\"\",\"\",Y43*C4)","v":""},{"$f":"IF(Z43=\"\",\"\",Z43*C4)","v":""}]
[null,null,null,null,null,null,null,"","","Düngemittel",null,null,{"$f":"SUM(G13:G18)","v":0},null,null,null,"Pflanzenhilfsmittel",{"$f":"R14-R29","v":0},null,{"$f":"T14-T29","v":0},null,null,null,null,{"$f":"IF(D$3=0,\"\",VLOOKUP(D$3,Grünlandnutzungen,6,0)*F44)","v":""},{"$f":"IF(D$3=0,\"\",VLOOKUP(D$3,Grünlandnutzungen,7,0)*F44)","v":""},{"$f":"IF(Y44=\"\",\"\",Y44*C5)","v":""},{"$f":"IF(Z44=\"\",\"\",Z44*C5)","v":""}]
[null,null,null,null,null,null,null,"","","Pflanzenschutz",null,null,{"$f":"G33","v":0},null,null,null,"Abfälle zur Beseitigung (§ 28 Absatz 2 oder 3 KrWG)",{"$f":"R15-R30","v":0},null,{"$f":"T15-T30","v":0},null,null,null,null,{"$f":"IF(D$3=0,\"\",VLOOKUP(D$3,Grünlandnutzungen,6,0)*F45)","v":""},{"$f":"IF(D$3=0,\"\",VLOOKUP(D$3,Grünlandnutzungen,7,0)*F45)","v":""},{"$f":"IF(Y45=\"\",\"\",Y45*C6)","v":""},{"$f":"IF(Z45=\"\",\"\",Z45*C6)","v":""}]
["Bemerkungen",null,null,null,null,null,null,"","","Summe",null,null,{"$f":"M43+M44+M45","v":0},null,null,null,null,null,null,null,null,null,null,null,{"$f":"IF(D$3=0,\"\",VLOOKUP(D$3,Grünlandnutzungen,6,0)*F46)","v":""},{"$f":"IF(D$3=0,\"\",VLOOKUP(D$3,Grünlandnutzungen,7,0)*F46)","v":""},{"$f":"IF(Y46=\"\",\"\",Y46*C7)","v":""},{"$f":"IF(Z46=\"\",\"\",Z46*C7)","v":""}]

{"sheet":"G14","index":72,"n_rows":46,"n_cols":33,"rows_kept":46,"cut":false,"hidden":false,"merged":[[12,29,12,30],[12,32,15,33],[13,30,13,31],[14,30,14,31],[15,30,15,31],[45,0,48,0],[45,1,45,2],[45,3,45,4],[45,5,45,6],[45,9,45,11],[43,1,43,2],[43,3,43,4],[43,5,43,6],[43,9,43,11],[44,1,44,2],[44,3,44,4],[44,5,44,6],[44,9,44,11],[37,9,37,10],[37,11,37,12],[40,7,40,8],[41,1,41,2],[41,3,41,4],[41,5,41,6],[41,9,41,11],[42,0,44,0],[42,1,42,2],[42,3,42,4],[42,5,42,6],[42,9,42,11],[32,14,32,18],[34,0,39,0],[34,1,34,5],[34,7,34,8],[34,9,34,10],[34,11,34,12],[35,1,35,5],[35,7,35,8],[35,9,35,10],[35,11,35,12],[38,1,38,5],[38,7,38,8],[38,9,38,10],[38,11,38,12],[39,1,39,5],[39,7,39,8],[39,9,39,10],[39,11,39,12],[36,1,36,5],[36,7,36,8],[36,9,36,10],[36,11,36,12],[37,1,37,5],[37,7,37,8],[17,16,17,20],[24,1,24,2],[24,4,24,12],[25,1,25,2],[25,4,25,12],[21,1,21,2],[21,4,21,12],[22,1,22,2],[22,4,22,12],[23,1,23,2],[23,4,23,12],[18,7,18,8],[19,7,19,8],[20,3,20,12],[18,1,18,6],[19,1,19,6],[26,0,32,0],[26,1,26,2],[26,7,26,9],[26,10,26,12],[27,1,27,2],[27,7,27,9],[30,1,30,2],[30,7,30,9],[30,10,30,12],[31,1,31,2],[31,7,31,9],[31,10,31,12],[27,10,27,12],[28,1,28,2],[28,7,28,9],[28,10,28,12],[29,1,29,2],[29,7,29,9],[29,10,29,12],[6,7,7,7],[8,7,8,12],[9,7,9,8],[9,9,9,12],[10,4,10,6],[10,7,10,8],[11,1,11,2],[12,0,17,0],[12,1,12,2],[13,1,13,2],[14,1,14,2],[15,1,15,2],[16,1,16,2],[17,1,17,2],[3,3,3,6],[5,1,5,2],[0,1,0,12],[1,0,3,0],[1,3,1,6],[1,7,1,9],[1,10,1,12],[2,3,2,6],[2,7,2,10],[2,11,2,12],[3,7,3,10],[3,11,3,12],[5,7,5,10],[5,11,5,12],[4,7,4,10],[4,11,4,12]]}
[null,"Grünland"]
["Schlag","Nr.",14,null,null,null,null,"Jahr:",null,null,{"$f":"IF(Einführung!I8=\"\",\"\",Einführung!I8)","v":""},null,null,{"$f":"IF(OR(C4=\"\",H11=\"\"),\"\",H11*C4)","v":""},"DB kg * Fläche"]
[null,"Bez.",{"$f":"IF($C$2=\"\",\"\",VLOOKUP($C$2,Grünlandübersicht,2,0))","v":0},{"$f":"IF(C2=\"\",\"\",VLOOKUP(C2,Grünlandübersicht,4,0))","v":0},null,null,null,"Nitrat belastete Kulisse",null,null,null,{"$f":"IF(C2=\"\",\"\",VLOOKUP(C2,Grünlandübersicht,20,0))","v":0},null,{"$f":"W19","v":""},"kg/ha org. Dünger für Kontrollgrenze"]
[null,"ha",{"$f":"IF($C$2=\"\",\"\",VLOOKUP($C$2,Grünlandübersicht,3,0))","v":0},null,null,null,null,"P2O5 eutrophierte Kulisse",null,null,null,{"$f":"IF(C2=\"\",\"\",VLOOKUP(C2,Grünlandübersicht,21,0))","v":0},null,{"$f":"IF(OR(L3=\"\",L3=\"nein\",N2=\"\"),\"\",N3*C4)","v":""},"kg Gesamtschlag org Dünger für 170 Kontrollgrenze",null,null,"Gesamt N","NH4-N","P2O5 mineral.","P2O5 organisch"]
[null,null,null,null,null,null,null,"aus org. wirtschaftsdüngeren \nBerechung der 130 kg N/ha",null,null,null,{"$f":"IF(L3=\"ja\",W19,\"\")","v":""},null,{"$f":"IF(H11=\"\",\"\",IF(L3=\"ja\",N2*0.8,\"\"))","v":""},"Düngebedarf Gesamtschlag kg N/ha",null,"N Gesamt minerl.",{"$f":"SUMIF($N$13:$N$18,\"mineralisch\",$H$13:$H$18)","v":0}]
[null,"Grünlandverbesserung",null,"Datum","E/ha","€/E","€/ha","sonstige Auflagen",null,null,null,"WSG",null,{"$f":"IF(L3=\"ja\",X20+Y20,\"\")","v":""},"anrechenbare N Menge Gesamtschlag  kg N/ha",null,"NH4-N minerlisch",null,{"$f":"SUMIF($N$13:$N$18,\"mineralisch\",$I$13:$I$18)","v":0}]
[null,"1.",null,null,null,null,{"$f":"E7*F7","v":0},"Versorg-\nungs-\nstufe","P2O5","K2O","MgO","pH",null,{"$f":"IF(K3=\"ja\",J12*B4,\"\")","v":""},null,null,"N Gesamt organsich",{"$f":"SUMIF($N$13:$N$18,\"organisch\",$H$13:$H$18)","v":0}]
[null,"2.",null,null,null,null,{"$f":"E8*F8","v":0},null,{"$f":"IF($C$2=\"\",\"\",VLOOKUP($C$2,Grünlandübersicht,30,0))","v":"C"},{"$f":"IF($C$2=\"\",\"\",VLOOKUP($C$2,Grünlandübersicht,31,0))","v":"C"},{"$f":"IF($C$2=\"\",\"\",VLOOKUP($C$2,Grünlandübersicht,32,0))","v":"C"},{"$f":"IF($C$2=\"\",\"\",VLOOKUP($C$2,Grünlandübersicht,33,0))","v":"C"},null,null,null,null,"NH4-N organsich",null,{"$f":"SUMIF($N$13:$N$18,\"organisch\",$I$13:$I$18)","v":0}]
[null,"3.",null,null,null,null,{"$f":"E9*F9","v":0},"Düngebedarf kg/ha (Blatt Grünland)",null,null,null,null,null,null,null,null,"P2O5 mineralisch",null,null,{"$f":"SUMIF($N$13:$N$18,\"mineralisch\",$J$13:$J$18)","v":0}]
[null,null,null,null,null,"Kosten €/ha",{"$f":"SUM(G7:G9)","v":0},{"$f":"IF(L3=\"ja\",VLOOKUP(C2,Grünlandübersicht,19,0),\"\")","v":""},null,{"$f":"IF(L3=\"ja\",O10,\"\")","v":""},null,null,null,null,"Düngebedarf um 20% red.",null,"P2O5 organisch",null,null,null,{"$f":"SUMIF($N$13:$N$18,\"organisch\",$J$13:$J$18)","v":0},null,null,null,null,null,null,null,null,{"$f":"IF(L3=\"ja\",\"Noch nicht ausgeschöpfter Stickstoff Düngebedarf aller Flächen\",\"\")","v":""}]
[null,null,null,null,"N Bedarf DÜV kg/ha",null,null,{"$f":"IF(C2=\"\",\"\",VLOOKUP(C2,Grünlandübersicht,18,0))","v":""},null,{"$f":"IF($C$2=\"\",\"\",VLOOKUP($C$2,Grünlandübersicht,36,0))","v":""},{"$f":"IF($C$2=\"\",\"\",VLOOKUP($C$2,Grünlandübersicht,37,0))","v":""},null,null,null,null,null,"Sonstige organische Düngemittel",{"$f":"SUMIF($N$13:$N$18,Q11,$H$13:$H$18)","v":0},{"$f":"SUMIF($N$13:$N$18,Q11,$I$13:$I$18)","v":0},{"$f":"SUMIF($N$13:$N$18,Q11,$J$13:$J$18)","v":0},null,"Anrechnung","Anrechnung ","Prüfung NH4","mineral",null,null,null,null,{"$f":"IF(L3=\"ja\",'Zus. Anlage 5 DüV'!D43,\"\")","v":""},{"$f":"IF(L3=\"ja\",\"kg N Gesamtfläche\",\"\")","v":""}]
[null,"Düngemittel",null,"Datum","m³o.dt/ha","€/E.","€/ha","Ges.-N","NH4- N","P2O5","K2O","MgO","S",null,null,null,"Bodenhilfsstoffe",{"$f":"SUMIF($N$13:$N$18,Q12,$H$13:$H$18)","v":0},null,{"$f":"SUMIF($N$13:$N$18,Q12,$J$13:$J$18)","v":0},null,"aktuelles Jahr","170 kg GW"," oder Anlage3","Stickstoff"]
["Düngung",null,null,null,null,{"$f":"IF($B13=\"\",\"\",VLOOKUP($B13,Düngemiteldaten,2,0))","v":""},{"$f":"IF(B13=\"\",\"\",E13*F13)","v":""},{"$f":"IF(B13=\"\",\"\",VLOOKUP(B13,Düngemiteldaten,4,0)*E13)","v":""},{"$f":"IF(B13=\"\",\"\",VLOOKUP(B13,Düngemiteldaten,5,0)*E13)","v":""},{"$f":"IF(B13=\"\",\"\",VLOOKUP(B13,Düngemiteldaten,7,0)*E13)","v":""},{"$f":"IF(B13=\"\",\"\",VLOOKUP(B13,Düngemiteldaten,8,0)*E13)","v":""},{"$f":"IF(B13=\"\",\"\",VLOOKUP(B13,Düngemiteldaten,9,0)*E13)","v":""},{"$f":"IF(B13=\"\",\"\",VLOOKUP(B13,Düngemiteldaten,10,0)*E13)","v":""},{"$f":"IF(B13=\"\",\"\",VLOOKUP(B13,Düngemiteldaten,20,0))","v":""},null,null,"Kultursubstrate",{"$f":"SUMIF($N$13:$N$18,Q13,$H$13:$H$18)","v":0},null,{"$f":"SUMIF($N$13:$N$18,Q13,$J$13:$J$18)","v":0},null,{"$f":"IF(OR(B13=\"\",N13=\"\"),\"\",IF(N13=\"mineralisch\",\"\",VLOOKUP(B13,Düngemiteldaten,18,0)*VLOOKUP(B13,Düngemiteldaten,4,0)*E13))","v":""},{"$f":"IF(OR(B13=\"\",N13=\"\"),\"\",IF(N13=\"mineralisch\",\"\",VLOOKUP(B13,Düngemiteldaten,19,0)*H13))","v":""},{"$f":"IF(B13=\"\",\"\",IF(V13<I13,I13,V13))","v":""},{"$f":"IF(B13=\"\",\"\",IF(N13=\"organisch\",0,H13))","v":""},null,null,null,null,{"$f":"IF(L3=\"ja\",\"Summe Gesamtstickstoff\",\"\")","v":""},null,null,{"$f":"IF(L3=\"ja\",\"Anteil § 13a Prüfung \n160 kg N/ha Gesamt\n80 kg N/ha mineralisch\",\"\")","v":""}]
[null,null,null,null,null,"","","","","","","","","",null,null,"Pflanzenhilfsmittel",{"$f":"SUMIF($N$13:$N$18,Q14,$H$13:$H$18)","v":0},null,{"$f":"SUMIF($N$13:$N$18,Q14,$J$13:$J$18)","v":0},null,"","","","",null,null,null,null,{"$f":"IF(L3=\"ja\",R5,\"\")","v":""},{"$f":"IF(L3=\"ja\",\"mineralisch N kg/ha\",\"\")","v":""}]
[null,null,null,null,null,"","","","","","","","","",null,null,"Abfälle zur Beseitigung (§ 28 Absatz 2 odeS 3 KSWG)",{"$f":"SUMIF($N$13:$N$18,Q15,$H$13:$H$18)","v":0},null,{"$f":"SUMIF($N$13:$N$18,Q15,$J$13:$J$18)","v":0},null,"","","","",null,null,null,null,{"$f":"IF(L3=\"ja\",R7+R11,\"\")","v":""},{"$f":"IF(L3=\"ja\",\"organisch N kg/ha\",\"\")","v":""}]
[null,null,null,null,null,"","","","","","","","","",null,null,null,null,null,null,null,"","","","",null,null,null,null,{"$f":"IF(L3=\"ja\",(AD15+AD14),\"\")","v":""},{"$f":"IF(L3=\"ja\",\"Gesamt kg N/ha\",\"\")","v":""}]
[null,null,null,null,null,"","","","","","","","","",null,null,null,null,null,null,null,"","","",""]
[null,null,null,null,null,"","","","","","","","","",null,null,"Nährstoffherkunft auf gefährdeten Flächen §13",null,null,null,null,"","","",""]
[null,"anrechenbarer N org.Düngung + min. Düngung kg N/ha",null,null,null,null,null,{"$f":"X19+Y19","v":0},null,{"$f":"SUM(J13:J18)","v":0},{"$f":"SUM(K13:K18)","v":0},{"$f":"SUM(L13:L18)","v":0},null,null,"Bilanz (anrechenbarer Dgg.- red.Düngebedarf) kg N/ha",null,null,"Gesamt N","NH4-N",null,null,{"$f":"SUM(V13:V18)","v":0},{"$f":"IF(SUM(W13:W18)=0,\"\",(SUM(W13:W18)))","v":""},{"$f":"SUM(X13:X18)","v":0},{"$f":"SUM(Y13:Y18)","v":0},"kg/ha"]
[null,{"$f":"IF(L3=\"ja\",O19,O20)","v":"Bilanz (anrechenbarer Dgg.- Düngebedarf) kg N/ha"},null,null,null,null,null,{"$f":"IF(H11=\"\",0,IF(OR(L3=0,L3=\"nein\"),H19-H11,H19-H10))","v":0},null,{"$f":"IF(J11=\"\",\"\",J19-J11)","v":""},"","","",null,"Bilanz (anrechenbarer Dgg.- Düngebedarf) kg N/ha",null,"N Gesamt minerl.",{"$f":"IF(L3=\"ja\",SUMIF($N$13:$N$18,\"mineralisch\",$H$13:$H$18),0)","v":0},null,null,null,{"$f":"V19*C4","v":0},{"$f":"IF(W19=\"\",\"\",W19*C4)","v":""},{"$f":"X19*C4","v":0},{"$f":"Y19*C4","v":0},"kg/Schlag",null,null,null,{"$f":"IF(H20>0,\"Stickstoffmenge überschreitet den Düngebedarf\",\"\")","v":""}]
[null,null,null,null,null,null,null,null,null,null,null,null,null,null,null,null,"NH4-N minerlisch",null,{"$f":"IF(L3=\"ja\",SUMIF($N$13:$N$18,\"mineralisch\",$I$13:$I$18),0)","v":0}]
[null,"Pflegemaßnahme",null,"Datum","Bemerkung",null,null,null,null,null,null,null,null,null,null,null,"N Gesamt organsich",{"$f":"IF(L3=\"ja\",SUMIF($N$13:$N$18,\"organisch\",$H$13:$H$18),0)","v":0}]
[null,null,null,null,null,null,null,null,null,null,null,null,null,null,null,null,"NH4-N organsich",null,{"$f":"IF(L3=\"ja\",SUMIF($N$13:$N$18,\"organisch\",$I$13:$I$18),0)","v":0},null,null,null,null,null,{"$f":"X19+Y19","v":0}]
[null,null,null,null,null,null,null,null,null,null,null,null,null,null,null,null,"P2O5 mineralisch",null,null,{"$f":"IF(L3=\"ja\",SUMIF($N$13:$N$18,\"mineralisch\",$J$13:$J$18),0)","v":0}]
[null,null,null,null,null,null,null,null,null,null,null,null,null,null,null,null,"P2O5 organisch",null,null,null,{"$f":"IF(L3=\"ja\",SUMIF($N$13:$N$18,\"organisch\",$J$13:$J$18),0)","v":0}]
[null,null,null,null,null,null,null,null,null,null,null,null,null,null,null,null,"Sonstige organische Düngemittel",{"$f":"IF(L3=\"ja\",SUMIF($N$13:$N$18,Q26,$H$13:$H$18),0)","v":0},{"$f":"IF(L3=\"ja\",SUMIF($N$13:$N$18,Q26,$I$13:$I$18),0)","v":0},{"$f":"IF(L3=\"ja\",SUMIF($N$13:$N$18,Q26,$J$13:$J$18),0)","v":0}]
["Pflanzenschutz","Pflanzenschutz",null,"Datum","E./ha","€/E.","€/ha","Anwender",null,null,"Bemerkungen",null,null,null,null,null,"Bodenhilfsstoffe",{"$f":"IF(L$3=\"ja\",SUMIF($N$13:$N$18,Q27,$H$13:$H$18),0)","v":0},null,{"$f":"IF(L$3=\"ja\",SUMIF($N$13:$N$18,Q27,$J$13:$J$18),0)","v":0}]
[null,null,null,null,null,{"$f":"IF(B28=\"\",\"\",VLOOKUP(B28,PSMMittel,2,0))","v":""},{"$f":"IF(B28=\"\",\"\",E28*F28)","v":""},null,null,null,null,null,null,null,null,null,"Kultursubstrate",{"$f":"IF(L$3=\"ja\",SUMIF($N$13:$N$18,Q28,$H$13:$H$18),0)","v":0},null,{"$f":"IF(L$3=\"ja\",SUMIF($N$13:$N$18,Q28,$J$13:$J$18),0)","v":0}]
[null,null,null,null,null,{"$f":"IF(B29=\"\",\"\",VLOOKUP(B29,PSMMittel,2,0))","v":""},{"$f":"IF(B29=\"\",\"\",E29*F29)","v":""},null,null,null,null,null,null,null,null,null,"Pflanzenhilfsmittel",{"$f":"IF(L$3=\"ja\",SUMIF($N$13:$N$18,Q29,$H$13:$H$18),0)","v":0},null,{"$f":"IF(L$3=\"ja\",SUMIF($N$13:$N$18,Q29,$J$13:$J$18),0)","v":0}]
[null,null,null,null,null,{"$f":"IF(B30=\"\",\"\",VLOOKUP(B30,PSMMittel,2,0))","v":""},{"$f":"IF(B30=\"\",\"\",E30*F30)","v":""},null,null,null,null,null,null,null,null,null,"Abfälle zur Beseitigung (§ 28 Absatz 2 odeS 3 KSWG)",{"$f":"IF(L$3=\"ja\",SUMIF($N$13:$N$18,Q30,$H$13:$H$18),0)","v":0},null,{"$f":"IF(L$3=\"ja\",SUMIF($N$13:$N$18,Q30,$J$13:$J$18),0)","v":0}]
[null,null,null,null,null,{"$f":"IF(B31=\"\",\"\",VLOOKUP(B31,PSMMittel,2,0))","v":""},{"$f":"IF(B31=\"\",\"\",E31*F31)","v":""}]
[null,null,null,null,null,{"$f":"IF(B32=\"\",\"\",VLOOKUP(B32,PSMMittel,2,0))","v":""},{"$f":"IF(B32=\"\",\"\",E32*F32)","v":""}]
[null,null,null,null,null,null,{"$f":"SUM(G28:G32)","v":0},null,null,null,null,null,null,null,"Stickstoffherkunft nicht gefährdetes Gebiet Gesamtfläche"]
[null,null,null,null,null,null,null,null,null,null,null,null,null,null,null,null,null,"Gesamt N","NH4-N"]
["Bergung","Weidetiere",null,null,null,null,"Anzahl \nTiere","Datum \nBeginn",null,"Datum \nEnde",null,"Anzahl \nWeidetage",null,null,null,null,"N Gesamt minerl.",{"$f":"R5-R20","v":0},null,null,null,null,"Stickstoffbindung aus Leguminosen kg /Schlag",null,"N \nWeidehaltung","P \nWeidehaltung"]
[null,null,null,null,null,null,null,null,null,null,null,{"$f":"IF(OR(H36=\"\",J36=\"\"),\"\",(J36+1)-H36)","v":""},null,null,null,null,"NH4-N minerlisch",null,{"$f":"S6-S21","v":0},null,null,null,{"$f":"IF(D3=0,\"\",VLOOKUP(D3,Grünlandnutzungen,27,0)*C4)","v":""},null,{"$f":"IF(B36=\"\",\"\",VLOOKUP(B36,Tierhaltung,3,0)/365*L36)","v":""},{"$f":"IF(B36=\"\",\"\",VLOOKUP(B36,Tierhaltung,4,0)/365*L36)","v":""}]
[null,null,null,null,null,null,null,null,null,null,null,{"$f":"IF(OR(H37=\"\",J37=\"\"),\"\",(J37+1)-H37)","v":""},null,null,null,null,"N Gesamt organsich",{"$f":"R7-R22","v":0},null,null,null,null,null,null,{"$f":"IF(B37=\"\",\"\",VLOOKUP(B37,Tierhaltung,3,0)/365*L37)","v":""},{"$f":"IF(B37=\"\",\"\",VLOOKUP(B37,Tierhaltung,4,0)/365*L37)","v":""}]
[null,null,null,null,null,null,null,null,null,null,null,"",null,null,null,null,"NH4-N organsich",null,{"$f":"S8-S23","v":0},null,null,null,null,null,{"$f":"IF(B38=\"\",\"\",VLOOKUP(B38,Tierhaltung,3,0)/365*L38)","v":""},{"$f":"IF(B38=\"\",\"\",VLOOKUP(B38,Tierhaltung,4,0)/365*L38)","v":""}]
[null,null,null,null,null,null,null,null,null,null,null,"",null,null,null,null,"P2O5 mineralisch",null,null,{"$f":"T9-T24","v":0},null,null,null,null,{"$f":"IF(B39=\"\",\"\",VLOOKUP(B39,Tierhaltung,3,0)/365*L39)","v":""},{"$f":"IF(B39=\"\",\"\",VLOOKUP(B39,Tierhaltung,4,0)/365*L39)","v":""}]
[null,null,null,null,null,null,null,null,null,null,null,"",null,null,null,null,"P2O5 organisch",null,null,null,{"$f":"U10-U25","v":0},null,null,null,{"$f":"IF(B40=\"\",\"\",VLOOKUP(B40,Tierhaltung,3,0)/365*L40)","v":""},{"$f":"IF(B40=\"\",\"\",VLOOKUP(B40,Tierhaltung,4,0)/365*L40)","v":""}]
[null,null,null,null,null,null,null,null,null,null,null,null,null,null,null,null,"Sonstige organische Düngemittel",{"$f":"R11-R26","v":0},{"$f":"S11-S26","v":0},{"$f":"T11-T26","v":0},null,null,null,null,{"$f":"SUM(Y36:Y40)","v":0},{"$f":"SUM(Z36:Z40)","v":0}]
[null,"Nutzungsdatum",null,"Nutzungsform",null,"Ertrag TM dt/ha",null,"Entzg N\nkg/ha","Entz. P2O5 kg/ha","Aufstellung Kosten",null,null,"€/ha",null,null,null,"Bodenhilfsstoffe",{"$f":"R12-R27","v":0},null,{"$f":"T12-T27","v":0},null,null,null,null,"N Entzug kg N/ha","Entzug kg P2O5/ha","N Entzug kg N Schlag","P Entzug kg P2O5 Schlag"]
["€/ha",null,null,null,null,null,null,{"$f":"IF(Y43=0,\"\",Y43)","v":""},"","Grünlandverbesserung",null,null,{"$f":"G10","v":0},null,null,null,"Kultursubstrate",{"$f":"R13-R28","v":0},null,{"$f":"T13-T28","v":0},null,null,null,null,{"$f":"IF(D$3=0,\"\",VLOOKUP(D$3,Grünlandnutzungen,6,0)*F43)","v":""},{"$f":"IF(D$3=0,\"\",VLOOKUP(D$3,Grünlandnutzungen,7,0)*F43)","v":""},{"$f":"IF(Y43=\"\",\"\",Y43*C4)","v":""},{"$f":"IF(Z43=\"\",\"\",Z43*C4)","v":""}]
[null,null,null,null,null,null,null,"","","Düngemittel",null,null,{"$f":"SUM(G13:G18)","v":0},null,null,null,"Pflanzenhilfsmittel",{"$f":"R14-R29","v":0},null,{"$f":"T14-T29","v":0},null,null,null,null,{"$f":"IF(D$3=0,\"\",VLOOKUP(D$3,Grünlandnutzungen,6,0)*F44)","v":""},{"$f":"IF(D$3=0,\"\",VLOOKUP(D$3,Grünlandnutzungen,7,0)*F44)","v":""},{"$f":"IF(Y44=\"\",\"\",Y44*C5)","v":""},{"$f":"IF(Z44=\"\",\"\",Z44*C5)","v":""}]
[null,null,null,null,null,null,null,"","","Pflanzenschutz",null,null,{"$f":"G33","v":0},null,null,null,"Abfälle zur Beseitigung (§ 28 Absatz 2 oder 3 KrWG)",{"$f":"R15-R30","v":0},null,{"$f":"T15-T30","v":0},null,null,null,null,{"$f":"IF(D$3=0,\"\",VLOOKUP(D$3,Grünlandnutzungen,6,0)*F45)","v":""},{"$f":"IF(D$3=0,\"\",VLOOKUP(D$3,Grünlandnutzungen,7,0)*F45)","v":""},{"$f":"IF(Y45=\"\",\"\",Y45*C6)","v":""},{"$f":"IF(Z45=\"\",\"\",Z45*C6)","v":""}]
["Bemerkungen",null,null,null,null,null,null,"","","Summe",null,null,{"$f":"M43+M44+M45","v":0},null,null,null,null,null,null,null,null,null,null,null,{"$f":"IF(D$3=0,\"\",VLOOKUP(D$3,Grünlandnutzungen,6,0)*F46)","v":""},{"$f":"IF(D$3=0,\"\",VLOOKUP(D$3,Grünlandnutzungen,7,0)*F46)","v":""},{"$f":"IF(Y46=\"\",\"\",Y46*C7)","v":""},{"$f":"IF(Z46=\"\",\"\",Z46*C7)","v":""}]

{"sheet":"G15","index":73,"n_rows":46,"n_cols":33,"rows_kept":46,"cut":false,"hidden":false,"merged":[[12,29,12,30],[12,32,15,33],[13,30,13,31],[14,30,14,31],[15,30,15,31],[45,0,48,0],[45,1,45,2],[45,3,45,4],[45,5,45,6],[45,9,45,11],[43,1,43,2],[43,3,43,4],[43,5,43,6],[43,9,43,11],[44,1,44,2],[44,3,44,4],[44,5,44,6],[44,9,44,11],[37,9,37,10],[37,11,37,12],[40,7,40,8],[41,1,41,2],[41,3,41,4],[41,5,41,6],[41,9,41,11],[42,0,44,0],[42,1,42,2],[42,3,42,4],[42,5,42,6],[42,9,42,11],[32,14,32,18],[34,0,39,0],[34,1,34,5],[34,7,34,8],[34,9,34,10],[34,11,34,12],[35,1,35,5],[35,7,35,8],[35,9,35,10],[35,11,35,12],[38,1,38,5],[38,7,38,8],[38,9,38,10],[38,11,38,12],[39,1,39,5],[39,7,39,8],[39,9,39,10],[39,11,39,12],[36,1,36,5],[36,7,36,8],[36,9,36,10],[36,11,36,12],[37,1,37,5],[37,7,37,8],[17,16,17,20],[24,1,24,2],[24,4,24,12],[25,1,25,2],[25,4,25,12],[21,1,21,2],[21,4,21,12],[22,1,22,2],[22,4,22,12],[23,1,23,2],[23,4,23,12],[18,7,18,8],[19,7,19,8],[20,3,20,12],[18,1,18,6],[19,1,19,6],[26,0,32,0],[26,1,26,2],[26,7,26,9],[26,10,26,12],[27,1,27,2],[27,7,27,9],[30,1,30,2],[30,7,30,9],[30,10,30,12],[31,1,31,2],[31,7,31,9],[31,10,31,12],[27,10,27,12],[28,1,28,2],[28,7,28,9],[28,10,28,12],[29,1,29,2],[29,7,29,9],[29,10,29,12],[6,7,7,7],[8,7,8,12],[9,7,9,8],[9,9,9,12],[10,4,10,6],[10,7,10,8],[11,1,11,2],[12,0,17,0],[12,1,12,2],[13,1,13,2],[14,1,14,2],[15,1,15,2],[16,1,16,2],[17,1,17,2],[3,3,3,6],[5,1,5,2],[0,1,0,12],[1,0,3,0],[1,3,1,6],[1,7,1,9],[1,10,1,12],[2,3,2,6],[2,7,2,10],[2,11,2,12],[3,7,3,10],[3,11,3,12],[5,7,5,10],[5,11,5,12],[4,7,4,10],[4,11,4,12]]}
[null,"Grünland"]
["Schlag","Nr.",15,null,null,null,null,"Jahr:",null,null,{"$f":"IF(Einführung!I8=\"\",\"\",Einführung!I8)","v":""},null,null,{"$f":"IF(OR(C4=\"\",H11=\"\"),\"\",H11*C4)","v":""},"DB kg * Fläche"]
[null,"Bez.",{"$f":"IF($C$2=\"\",\"\",VLOOKUP($C$2,Grünlandübersicht,2,0))","v":0},{"$f":"IF(C2=\"\",\"\",VLOOKUP(C2,Grünlandübersicht,4,0))","v":0},null,null,null,"Nitrat belastete Kulisse",null,null,null,{"$f":"IF(C2=\"\",\"\",VLOOKUP(C2,Grünlandübersicht,20,0))","v":0},null,{"$f":"W19","v":""},"kg/ha org. Dünger für Kontrollgrenze"]
[null,"ha",{"$f":"IF($C$2=\"\",\"\",VLOOKUP($C$2,Grünlandübersicht,3,0))","v":0},null,null,null,null,"P2O5 eutrophierte Kulisse",null,null,null,{"$f":"IF(C2=\"\",\"\",VLOOKUP(C2,Grünlandübersicht,21,0))","v":0},null,{"$f":"IF(OR(L3=\"\",L3=\"nein\",N2=\"\"),\"\",N3*C4)","v":""},"kg Gesamtschlag org Dünger für 170 Kontrollgrenze",null,null,"Gesamt N","NH4-N","P2O5 mineral.","P2O5 organisch"]
[null,null,null,null,null,null,null,"aus org. wirtschaftsdüngeren \nBerechung der 130 kg N/ha",null,null,null,{"$f":"IF(L3=\"ja\",W19,\"\")","v":""},null,{"$f":"IF(H11=\"\",\"\",IF(L3=\"ja\",N2*0.8,\"\"))","v":""},"Düngebedarf Gesamtschlag kg N/ha",null,"N Gesamt minerl.",{"$f":"SUMIF($N$13:$N$18,\"mineralisch\",$H$13:$H$18)","v":0}]
[null,"Grünlandverbesserung",null,"Datum","E/ha","€/E","€/ha","sonstige Auflagen",null,null,null,"WSG",null,{"$f":"IF(L3=\"ja\",X20+Y20,\"\")","v":""},"anrechenbare N Menge Gesamtschlag  kg N/ha",null,"NH4-N minerlisch",null,{"$f":"SUMIF($N$13:$N$18,\"mineralisch\",$I$13:$I$18)","v":0}]
[null,"1.",null,null,null,null,{"$f":"E7*F7","v":0},"Versorg-\nungs-\nstufe","P2O5","K2O","MgO","pH",null,{"$f":"IF(K3=\"ja\",J12*B4,\"\")","v":""},null,null,"N Gesamt organsich",{"$f":"SUMIF($N$13:$N$18,\"organisch\",$H$13:$H$18)","v":0}]
[null,"2.",null,null,null,null,{"$f":"E8*F8","v":0},null,{"$f":"IF($C$2=\"\",\"\",VLOOKUP($C$2,Grünlandübersicht,30,0))","v":"C"},{"$f":"IF($C$2=\"\",\"\",VLOOKUP($C$2,Grünlandübersicht,31,0))","v":"C"},{"$f":"IF($C$2=\"\",\"\",VLOOKUP($C$2,Grünlandübersicht,32,0))","v":"C"},{"$f":"IF($C$2=\"\",\"\",VLOOKUP($C$2,Grünlandübersicht,33,0))","v":"C"},null,null,null,null,"NH4-N organsich",null,{"$f":"SUMIF($N$13:$N$18,\"organisch\",$I$13:$I$18)","v":0}]
[null,"3.",null,null,null,null,{"$f":"E9*F9","v":0},"Düngebedarf kg/ha (Blatt Grünland)",null,null,null,null,null,null,null,null,"P2O5 mineralisch",null,null,{"$f":"SUMIF($N$13:$N$18,\"mineralisch\",$J$13:$J$18)","v":0}]
[null,null,null,null,null,"Kosten €/ha",{"$f":"SUM(G7:G9)","v":0},{"$f":"IF(L3=\"ja\",VLOOKUP(C2,Grünlandübersicht,19,0),\"\")","v":""},null,{"$f":"IF(L3=\"ja\",O10,\"\")","v":""},null,null,null,null,"Düngebedarf um 20% red.",null,"P2O5 organisch",null,null,null,{"$f":"SUMIF($N$13:$N$18,\"organisch\",$J$13:$J$18)","v":0},null,null,null,null,null,null,null,null,{"$f":"IF(L3=\"ja\",\"Noch nicht ausgeschöpfter Stickstoff Düngebedarf aller Flächen\",\"\")","v":""}]
[null,null,null,null,"N Bedarf DÜV kg/ha",null,null,{"$f":"IF(C2=\"\",\"\",VLOOKUP(C2,Grünlandübersicht,18,0))","v":""},null,{"$f":"IF($C$2=\"\",\"\",VLOOKUP($C$2,Grünlandübersicht,36,0))","v":""},{"$f":"IF($C$2=\"\",\"\",VLOOKUP($C$2,Grünlandübersicht,37,0))","v":""},null,null,null,null,null,"Sonstige organische Düngemittel",{"$f":"SUMIF($N$13:$N$18,Q11,$H$13:$H$18)","v":0},{"$f":"SUMIF($N$13:$N$18,Q11,$I$13:$I$18)","v":0},{"$f":"SUMIF($N$13:$N$18,Q11,$J$13:$J$18)","v":0},null,"Anrechnung","Anrechnung ","Prüfung NH4","mineral",null,null,null,null,{"$f":"IF(L3=\"ja\",'Zus. Anlage 5 DüV'!D43,\"\")","v":""},{"$f":"IF(L3=\"ja\",\"kg N Gesamtfläche\",\"\")","v":""}]
[null,"Düngemittel",null,"Datum","m³o.dt/ha","€/E.","€/ha","Ges.-N","NH4- N","P2O5","K2O","MgO","S",null,null,null,"Bodenhilfsstoffe",{"$f":"SUMIF($N$13:$N$18,Q12,$H$13:$H$18)","v":0},null,{"$f":"SUMIF($N$13:$N$18,Q12,$J$13:$J$18)","v":0},null,"aktuelles Jahr","170 kg GW"," oder Anlage3","Stickstoff"]
["Düngung",null,null,null,null,{"$f":"IF($B13=\"\",\"\",VLOOKUP($B13,Düngemiteldaten,2,0))","v":""},{"$f":"IF(B13=\"\",\"\",E13*F13)","v":""},{"$f":"IF(B13=\"\",\"\",VLOOKUP(B13,Düngemiteldaten,4,0)*E13)","v":""},{"$f":"IF(B13=\"\",\"\",VLOOKUP(B13,Düngemiteldaten,5,0)*E13)","v":""},{"$f":"IF(B13=\"\",\"\",VLOOKUP(B13,Düngemiteldaten,7,0)*E13)","v":""},{"$f":"IF(B13=\"\",\"\",VLOOKUP(B13,Düngemiteldaten,8,0)*E13)","v":""},{"$f":"IF(B13=\"\",\"\",VLOOKUP(B13,Düngemiteldaten,9,0)*E13)","v":""},{"$f":"IF(B13=\"\",\"\",VLOOKUP(B13,Düngemiteldaten,10,0)*E13)","v":""},{"$f":"IF(B13=\"\",\"\",VLOOKUP(B13,Düngemiteldaten,20,0))","v":""},null,null,"Kultursubstrate",{"$f":"SUMIF($N$13:$N$18,Q13,$H$13:$H$18)","v":0},null,{"$f":"SUMIF($N$13:$N$18,Q13,$J$13:$J$18)","v":0},null,{"$f":"IF(OR(B13=\"\",N13=\"\"),\"\",IF(N13=\"mineralisch\",\"\",VLOOKUP(B13,Düngemiteldaten,18,0)*VLOOKUP(B13,Düngemiteldaten,4,0)*E13))","v":""},{"$f":"IF(OR(B13=\"\",N13=\"\"),\"\",IF(N13=\"mineralisch\",\"\",VLOOKUP(B13,Düngemiteldaten,19,0)*H13))","v":""},{"$f":"IF(B13=\"\",\"\",IF(V13<I13,I13,V13))","v":""},{"$f":"IF(B13=\"\",\"\",IF(N13=\"organisch\",0,H13))","v":""},null,null,null,null,{"$f":"IF(L3=\"ja\",\"Summe Gesamtstickstoff\",\"\")","v":""},null,null,{"$f":"IF(L3=\"ja\",\"Anteil § 13a Prüfung \n160 kg N/ha Gesamt\n80 kg N/ha mineralisch\",\"\")","v":""}]
[null,null,null,null,null,"","","","","","","","","",null,null,"Pflanzenhilfsmittel",{"$f":"SUMIF($N$13:$N$18,Q14,$H$13:$H$18)","v":0},null,{"$f":"SUMIF($N$13:$N$18,Q14,$J$13:$J$18)","v":0},null,"","","","",null,null,null,null,{"$f":"IF(L3=\"ja\",R5,\"\")","v":""},{"$f":"IF(L3=\"ja\",\"mineralisch N kg/ha\",\"\")","v":""}]
[null,null,null,null,null,"","","","","","","","","",null,null,"Abfälle zur Beseitigung (§ 28 Absatz 2 odeS 3 KSWG)",{"$f":"SUMIF($N$13:$N$18,Q15,$H$13:$H$18)","v":0},null,{"$f":"SUMIF($N$13:$N$18,Q15,$J$13:$J$18)","v":0},null,"","","","",null,null,null,null,{"$f":"IF(L3=\"ja\",R7+R11,\"\")","v":""},{"$f":"IF(L3=\"ja\",\"organisch N kg/ha\",\"\")","v":""}]
[null,null,null,null,null,"","","","","","","","","",null,null,null,null,null,null,null,"","","","",null,null,null,null,{"$f":"IF(L3=\"ja\",(AD15+AD14),\"\")","v":""},{"$f":"IF(L3=\"ja\",\"Gesamt kg N/ha\",\"\")","v":""}]
[null,null,null,null,null,"","","","","","","","","",null,null,null,null,null,null,null,"","","",""]
[null,null,null,null,null,"","","","","","","","","",null,null,"Nährstoffherkunft auf gefährdeten Flächen §13",null,null,null,null,"","","",""]
[null,"anrechenbarer N org.Düngung + min. Düngung kg N/ha",null,null,null,null,null,{"$f":"X19+Y19","v":0},null,{"$f":"SUM(J13:J18)","v":0},{"$f":"SUM(K13:K18)","v":0},{"$f":"SUM(L13:L18)","v":0},null,null,"Bilanz (anrechenbarer Dgg.- red.Düngebedarf) kg N/ha",null,null,"Gesamt N","NH4-N",null,null,{"$f":"SUM(V13:V18)","v":0},{"$f":"IF(SUM(W13:W18)=0,\"\",(SUM(W13:W18)))","v":""},{"$f":"SUM(X13:X18)","v":0},{"$f":"SUM(Y13:Y18)","v":0},"kg/ha"]
[null,{"$f":"IF(L3=\"ja\",O19,O20)","v":"Bilanz (anrechenbarer Dgg.- Düngebedarf) kg N/ha"},null,null,null,null,null,{"$f":"IF(H11=\"\",0,IF(OR(L3=0,L3=\"nein\"),H19-H11,H19-H10))","v":0},null,{"$f":"IF(J11=\"\",\"\",J19-J11)","v":""},"","","",null,"Bilanz (anrechenbarer Dgg.- Düngebedarf) kg N/ha",null,"N Gesamt minerl.",{"$f":"IF(L3=\"ja\",SUMIF($N$13:$N$18,\"mineralisch\",$H$13:$H$18),0)","v":0},null,null,null,{"$f":"V19*C4","v":0},{"$f":"IF(W19=\"\",\"\",W19*C4)","v":""},{"$f":"X19*C4","v":0},{"$f":"Y19*C4","v":0},"kg/Schlag",null,null,null,{"$f":"IF(H20>0,\"Stickstoffmenge überschreitet den Düngebedarf\",\"\")","v":""}]
[null,null,null,null,null,null,null,null,null,null,null,null,null,null,null,null,"NH4-N minerlisch",null,{"$f":"IF(L3=\"ja\",SUMIF($N$13:$N$18,\"mineralisch\",$I$13:$I$18),0)","v":0}]
[null,"Pflegemaßnahme",null,"Datum","Bemerkung",null,null,null,null,null,null,null,null,null,null,null,"N Gesamt organsich",{"$f":"IF(L3=\"ja\",SUMIF($N$13:$N$18,\"organisch\",$H$13:$H$18),0)","v":0}]
[null,null,null,null,null,null,null,null,null,null,null,null,null,null,null,null,"NH4-N organsich",null,{"$f":"IF(L3=\"ja\",SUMIF($N$13:$N$18,\"organisch\",$I$13:$I$18),0)","v":0},null,null,null,null,null,{"$f":"X19+Y19","v":0}]
[null,null,null,null,null,null,null,null,null,null,null,null,null,null,null,null,"P2O5 mineralisch",null,null,{"$f":"IF(L3=\"ja\",SUMIF($N$13:$N$18,\"mineralisch\",$J$13:$J$18),0)","v":0}]
[null,null,null,null,null,null,null,null,null,null,null,null,null,null,null,null,"P2O5 organisch",null,null,null,{"$f":"IF(L3=\"ja\",SUMIF($N$13:$N$18,\"organisch\",$J$13:$J$18),0)","v":0}]
[null,null,null,null,null,null,null,null,null,null,null,null,null,null,null,null,"Sonstige organische Düngemittel",{"$f":"IF(L3=\"ja\",SUMIF($N$13:$N$18,Q26,$H$13:$H$18),0)","v":0},{"$f":"IF(L3=\"ja\",SUMIF($N$13:$N$18,Q26,$I$13:$I$18),0)","v":0},{"$f":"IF(L3=\"ja\",SUMIF($N$13:$N$18,Q26,$J$13:$J$18),0)","v":0}]
["Pflanzenschutz","Pflanzenschutz",null,"Datum","E./ha","€/E.","€/ha","Anwender",null,null,"Bemerkungen",null,null,null,null,null,"Bodenhilfsstoffe",{"$f":"IF(L$3=\"ja\",SUMIF($N$13:$N$18,Q27,$H$13:$H$18),0)","v":0},null,{"$f":"IF(L$3=\"ja\",SUMIF($N$13:$N$18,Q27,$J$13:$J$18),0)","v":0}]
[null,null,null,null,null,{"$f":"IF(B28=\"\",\"\",VLOOKUP(B28,PSMMittel,2,0))","v":""},{"$f":"IF(B28=\"\",\"\",E28*F28)","v":""},null,null,null,null,null,null,null,null,null,"Kultursubstrate",{"$f":"IF(L$3=\"ja\",SUMIF($N$13:$N$18,Q28,$H$13:$H$18),0)","v":0},null,{"$f":"IF(L$3=\"ja\",SUMIF($N$13:$N$18,Q28,$J$13:$J$18),0)","v":0}]
[null,null,null,null,null,{"$f":"IF(B29=\"\",\"\",VLOOKUP(B29,PSMMittel,2,0))","v":""},{"$f":"IF(B29=\"\",\"\",E29*F29)","v":""},null,null,null,null,null,null,null,null,null,"Pflanzenhilfsmittel",{"$f":"IF(L$3=\"ja\",SUMIF($N$13:$N$18,Q29,$H$13:$H$18),0)","v":0},null,{"$f":"IF(L$3=\"ja\",SUMIF($N$13:$N$18,Q29,$J$13:$J$18),0)","v":0}]
[null,null,null,null,null,{"$f":"IF(B30=\"\",\"\",VLOOKUP(B30,PSMMittel,2,0))","v":""},{"$f":"IF(B30=\"\",\"\",E30*F30)","v":""},null,null,null,null,null,null,null,null,null,"Abfälle zur Beseitigung (§ 28 Absatz 2 odeS 3 KSWG)",{"$f":"IF(L$3=\"ja\",SUMIF($N$13:$N$18,Q30,$H$13:$H$18),0)","v":0},null,{"$f":"IF(L$3=\"ja\",SUMIF($N$13:$N$18,Q30,$J$13:$J$18),0)","v":0}]
[null,null,null,null,null,{"$f":"IF(B31=\"\",\"\",VLOOKUP(B31,PSMMittel,2,0))","v":""},{"$f":"IF(B31=\"\",\"\",E31*F31)","v":""}]
[null,null,null,null,null,{"$f":"IF(B32=\"\",\"\",VLOOKUP(B32,PSMMittel,2,0))","v":""},{"$f":"IF(B32=\"\",\"\",E32*F32)","v":""}]
[null,null,null,null,null,null,{"$f":"SUM(G28:G32)","v":0},null,null,null,null,null,null,null,"Stickstoffherkunft nicht gefährdetes Gebiet Gesamtfläche"]
[null,null,null,null,null,null,null,null,null,null,null,null,null,null,null,null,null,"Gesamt N","NH4-N"]
["Bergung","Weidetiere",null,null,null,null,"Anzahl \nTiere","Datum \nBeginn",null,"Datum \nEnde",null,"Anzahl \nWeidetage",null,null,null,null,"N Gesamt minerl.",{"$f":"R5-R20","v":0},null,null,null,null,"Stickstoffbindung aus Leguminosen kg /Schlag",null,"N \nWeidehaltung","P \nWeidehaltung"]
[null,null,null,null,null,null,null,null,null,null,null,{"$f":"IF(OR(H36=\"\",J36=\"\"),\"\",(J36+1)-H36)","v":""},null,null,null,null,"NH4-N minerlisch",null,{"$f":"S6-S21","v":0},null,null,null,{"$f":"IF(D3=0,\"\",VLOOKUP(D3,Grünlandnutzungen,27,0)*C4)","v":""},null,{"$f":"IF(B36=\"\",\"\",VLOOKUP(B36,Tierhaltung,3,0)/365*L36)","v":""},{"$f":"IF(B36=\"\",\"\",VLOOKUP(B36,Tierhaltung,4,0)/365*L36)","v":""}]
[null,null,null,null,null,null,null,null,null,null,null,{"$f":"IF(OR(H37=\"\",J37=\"\"),\"\",(J37+1)-H37)","v":""},null,null,null,null,"N Gesamt organsich",{"$f":"R7-R22","v":0},null,null,null,null,null,null,{"$f":"IF(B37=\"\",\"\",VLOOKUP(B37,Tierhaltung,3,0)/365*L37)","v":""},{"$f":"IF(B37=\"\",\"\",VLOOKUP(B37,Tierhaltung,4,0)/365*L37)","v":""}]
[null,null,null,null,null,null,null,null,null,null,null,"",null,null,null,null,"NH4-N organsich",null,{"$f":"S8-S23","v":0},null,null,null,null,null,{"$f":"IF(B38=\"\",\"\",VLOOKUP(B38,Tierhaltung,3,0)/365*L38)","v":""},{"$f":"IF(B38=\"\",\"\",VLOOKUP(B38,Tierhaltung,4,0)/365*L38)","v":""}]
[null,null,null,null,null,null,null,null,null,null,null,"",null,null,null,null,"P2O5 mineralisch",null,null,{"$f":"T9-T24","v":0},null,null,null,null,{"$f":"IF(B39=\"\",\"\",VLOOKUP(B39,Tierhaltung,3,0)/365*L39)","v":""},{"$f":"IF(B39=\"\",\"\",VLOOKUP(B39,Tierhaltung,4,0)/365*L39)","v":""}]
[null,null,null,null,null,null,null,null,null,null,null,"",null,null,null,null,"P2O5 organisch",null,null,null,{"$f":"U10-U25","v":0},null,null,null,{"$f":"IF(B40=\"\",\"\",VLOOKUP(B40,Tierhaltung,3,0)/365*L40)","v":""},{"$f":"IF(B40=\"\",\"\",VLOOKUP(B40,Tierhaltung,4,0)/365*L40)","v":""}]
[null,null,null,null,null,null,null,null,null,null,null,null,null,null,null,null,"Sonstige organische Düngemittel",{"$f":"R11-R26","v":0},{"$f":"S11-S26","v":0},{"$f":"T11-T26","v":0},null,null,null,null,{"$f":"SUM(Y36:Y40)","v":0},{"$f":"SUM(Z36:Z40)","v":0}]
[null,"Nutzungsdatum",null,"Nutzungsform",null,"Ertrag TM dt/ha",null,"Entzg N\nkg/ha","Entz. P2O5 kg/ha","Aufstellung Kosten",null,null,"€/ha",null,null,null,"Bodenhilfsstoffe",{"$f":"R12-R27","v":0},null,{"$f":"T12-T27","v":0},null,null,null,null,"N Entzug kg N/ha","Entzug kg P2O5/ha","N Entzug kg N Schlag","P Entzug kg P2O5 Schlag"]
["€/ha",null,null,null,null,null,null,{"$f":"IF(Y43=0,\"\",Y43)","v":""},"","Grünlandverbesserung",null,null,{"$f":"G10","v":0},null,null,null,"Kultursubstrate",{"$f":"R13-R28","v":0},null,{"$f":"T13-T28","v":0},null,null,null,null,{"$f":"IF(D$3=0,\"\",VLOOKUP(D$3,Grünlandnutzungen,6,0)*F43)","v":""},{"$f":"IF(D$3=0,\"\",VLOOKUP(D$3,Grünlandnutzungen,7,0)*F43)","v":""},{"$f":"IF(Y43=\"\",\"\",Y43*C4)","v":""},{"$f":"IF(Z43=\"\",\"\",Z43*C4)","v":""}]
[null,null,null,null,null,null,null,"","","Düngemittel",null,null,{"$f":"SUM(G13:G18)","v":0},null,null,null,"Pflanzenhilfsmittel",{"$f":"R14-R29","v":0},null,{"$f":"T14-T29","v":0},null,null,null,null,{"$f":"IF(D$3=0,\"\",VLOOKUP(D$3,Grünlandnutzungen,6,0)*F44)","v":""},{"$f":"IF(D$3=0,\"\",VLOOKUP(D$3,Grünlandnutzungen,7,0)*F44)","v":""},{"$f":"IF(Y44=\"\",\"\",Y44*C5)","v":""},{"$f":"IF(Z44=\"\",\"\",Z44*C5)","v":""}]
[null,null,null,null,null,null,null,"","","Pflanzenschutz",null,null,{"$f":"G33","v":0},null,null,null,"Abfälle zur Beseitigung (§ 28 Absatz 2 oder 3 KrWG)",{"$f":"R15-R30","v":0},null,{"$f":"T15-T30","v":0},null,null,null,null,{"$f":"IF(D$3=0,\"\",VLOOKUP(D$3,Grünlandnutzungen,6,0)*F45)","v":""},{"$f":"IF(D$3=0,\"\",VLOOKUP(D$3,Grünlandnutzungen,7,0)*F45)","v":""},{"$f":"IF(Y45=\"\",\"\",Y45*C6)","v":""},{"$f":"IF(Z45=\"\",\"\",Z45*C6)","v":""}]
["Bemerkungen",null,null,null,null,null,null,"","","Summe",null,null,{"$f":"M43+M44+M45","v":0},null,null,null,null,null,null,null,null,null,null,null,{"$f":"IF(D$3=0,\"\",VLOOKUP(D$3,Grünlandnutzungen,6,0)*F46)","v":""},{"$f":"IF(D$3=0,\"\",VLOOKUP(D$3,Grünlandnutzungen,7,0)*F46)","v":""},{"$f":"IF(Y46=\"\",\"\",Y46*C7)","v":""},{"$f":"IF(Z46=\"\",\"\",Z46*C7)","v":""}]

{"sheet":"G16","index":74,"n_rows":46,"n_cols":33,"rows_kept":46,"cut":false,"hidden":false,"merged":[[12,29,12,30],[12,32,15,33],[13,30,13,31],[14,30,14,31],[15,30,15,31],[45,0,48,0],[45,1,45,2],[45,3,45,4],[45,5,45,6],[45,9,45,11],[43,1,43,2],[43,3,43,4],[43,5,43,6],[43,9,43,11],[44,1,44,2],[44,3,44,4],[44,5,44,6],[44,9,44,11],[37,9,37,10],[37,11,37,12],[40,7,40,8],[41,1,41,2],[41,3,41,4],[41,5,41,6],[41,9,41,11],[42,0,44,0],[42,1,42,2],[42,3,42,4],[42,5,42,6],[42,9,42,11],[32,14,32,18],[34,0,39,0],[34,1,34,5],[34,7,34,8],[34,9,34,10],[34,11,34,12],[35,1,35,5],[35,7,35,8],[35,9,35,10],[35,11,35,12],[38,1,38,5],[38,7,38,8],[38,9,38,10],[38,11,38,12],[39,1,39,5],[39,7,39,8],[39,9,39,10],[39,11,39,12],[36,1,36,5],[36,7,36,8],[36,9,36,10],[36,11,36,12],[37,1,37,5],[37,7,37,8],[17,16,17,20],[24,1,24,2],[24,4,24,12],[25,1,25,2],[25,4,25,12],[21,1,21,2],[21,4,21,12],[22,1,22,2],[22,4,22,12],[23,1,23,2],[23,4,23,12],[18,7,18,8],[19,7,19,8],[20,3,20,12],[18,1,18,6],[19,1,19,6],[26,0,32,0],[26,1,26,2],[26,7,26,9],[26,10,26,12],[27,1,27,2],[27,7,27,9],[30,1,30,2],[30,7,30,9],[30,10,30,12],[31,1,31,2],[31,7,31,9],[31,10,31,12],[27,10,27,12],[28,1,28,2],[28,7,28,9],[28,10,28,12],[29,1,29,2],[29,7,29,9],[29,10,29,12],[6,7,7,7],[8,7,8,12],[9,7,9,8],[9,9,9,12],[10,4,10,6],[10,7,10,8],[11,1,11,2],[12,0,17,0],[12,1,12,2],[13,1,13,2],[14,1,14,2],[15,1,15,2],[16,1,16,2],[17,1,17,2],[3,3,3,6],[5,1,5,2],[0,1,0,12],[1,0,3,0],[1,3,1,6],[1,7,1,9],[1,10,1,12],[2,3,2,6],[2,7,2,10],[2,11,2,12],[3,7,3,10],[3,11,3,12],[5,7,5,10],[5,11,5,12],[4,7,4,10],[4,11,4,12]]}
[null,"Grünland"]
["Schlag","Nr.",16,null,null,null,null,"Jahr:",null,null,{"$f":"IF(Einführung!I8=\"\",\"\",Einführung!I8)","v":""},null,null,{"$f":"IF(OR(C4=\"\",H11=\"\"),\"\",H11*C4)","v":""},"DB kg * Fläche"]
[null,"Bez.",{"$f":"IF($C$2=\"\",\"\",VLOOKUP($C$2,Grünlandübersicht,2,0))","v":0},{"$f":"IF(C2=\"\",\"\",VLOOKUP(C2,Grünlandübersicht,4,0))","v":0},null,null,null,"Nitrat belastete Kulisse",null,null,null,{"$f":"IF(C2=\"\",\"\",VLOOKUP(C2,Grünlandübersicht,20,0))","v":0},null,{"$f":"W19","v":""},"kg/ha org. Dünger für Kontrollgrenze"]
[null,"ha",{"$f":"IF($C$2=\"\",\"\",VLOOKUP($C$2,Grünlandübersicht,3,0))","v":0},null,null,null,null,"P2O5 eutrophierte Kulisse",null,null,null,{"$f":"IF(C2=\"\",\"\",VLOOKUP(C2,Grünlandübersicht,21,0))","v":0},null,{"$f":"IF(OR(L3=\"\",L3=\"nein\",N2=\"\"),\"\",N3*C4)","v":""},"kg Gesamtschlag org Dünger für 170 Kontrollgrenze",null,null,"Gesamt N","NH4-N","P2O5 mineral.","P2O5 organisch"]
[null,null,null,null,null,null,null,"aus org. wirtschaftsdüngeren \nBerechung der 130 kg N/ha",null,null,null,{"$f":"IF(L3=\"ja\",W19,\"\")","v":""},null,{"$f":"IF(H11=\"\",\"\",IF(L3=\"ja\",N2*0.8,\"\"))","v":""},"Düngebedarf Gesamtschlag kg N/ha",null,"N Gesamt minerl.",{"$f":"SUMIF($N$13:$N$18,\"mineralisch\",$H$13:$H$18)","v":0}]
[null,"Grünlandverbesserung",null,"Datum","E/ha","€/E","€/ha","sonstige Auflagen",null,null,null,"WSG",null,{"$f":"IF(L3=\"ja\",X20+Y20,\"\")","v":""},"anrechenbare N Menge Gesamtschlag  kg N/ha",null,"NH4-N minerlisch",null,{"$f":"SUMIF($N$13:$N$18,\"mineralisch\",$I$13:$I$18)","v":0}]
[null,"1.",null,null,null,null,{"$f":"E7*F7","v":0},"Versorg-\nungs-\nstufe","P2O5","K2O","MgO","pH",null,{"$f":"IF(K3=\"ja\",J12*B4,\"\")","v":""},null,null,"N Gesamt organsich",{"$f":"SUMIF($N$13:$N$18,\"organisch\",$H$13:$H$18)","v":0}]
[null,"2.",null,null,null,null,{"$f":"E8*F8","v":0},null,{"$f":"IF($C$2=\"\",\"\",VLOOKUP($C$2,Grünlandübersicht,30,0))","v":"C"},{"$f":"IF($C$2=\"\",\"\",VLOOKUP($C$2,Grünlandübersicht,31,0))","v":"C"},{"$f":"IF($C$2=\"\",\"\",VLOOKUP($C$2,Grünlandübersicht,32,0))","v":"C"},{"$f":"IF($C$2=\"\",\"\",VLOOKUP($C$2,Grünlandübersicht,33,0))","v":"C"},null,null,null,null,"NH4-N organsich",null,{"$f":"SUMIF($N$13:$N$18,\"organisch\",$I$13:$I$18)","v":0}]
[null,"3.",null,null,null,null,{"$f":"E9*F9","v":0},"Düngebedarf kg/ha (Blatt Grünland)",null,null,null,null,null,null,null,null,"P2O5 mineralisch",null,null,{"$f":"SUMIF($N$13:$N$18,\"mineralisch\",$J$13:$J$18)","v":0}]
[null,null,null,null,null,"Kosten €/ha",{"$f":"SUM(G7:G9)","v":0},{"$f":"IF(L3=\"ja\",VLOOKUP(C2,Grünlandübersicht,19,0),\"\")","v":""},null,{"$f":"IF(L3=\"ja\",O10,\"\")","v":""},null,null,null,null,"Düngebedarf um 20% red.",null,"P2O5 organisch",null,null,null,{"$f":"SUMIF($N$13:$N$18,\"organisch\",$J$13:$J$18)","v":0},null,null,null,null,null,null,null,null,{"$f":"IF(L3=\"ja\",\"Noch nicht ausgeschöpfter Stickstoff Düngebedarf aller Flächen\",\"\")","v":""}]
[null,null,null,null,"N Bedarf DÜV kg/ha",null,null,{"$f":"IF(C2=\"\",\"\",VLOOKUP(C2,Grünlandübersicht,18,0))","v":""},null,{"$f":"IF($C$2=\"\",\"\",VLOOKUP($C$2,Grünlandübersicht,36,0))","v":""},{"$f":"IF($C$2=\"\",\"\",VLOOKUP($C$2,Grünlandübersicht,37,0))","v":""},null,null,null,null,null,"Sonstige organische Düngemittel",{"$f":"SUMIF($N$13:$N$18,Q11,$H$13:$H$18)","v":0},{"$f":"SUMIF($N$13:$N$18,Q11,$I$13:$I$18)","v":0},{"$f":"SUMIF($N$13:$N$18,Q11,$J$13:$J$18)","v":0},null,"Anrechnung","Anrechnung ","Prüfung NH4","mineral",null,null,null,null,{"$f":"IF(L3=\"ja\",'Zus. Anlage 5 DüV'!D43,\"\")","v":""},{"$f":"IF(L3=\"ja\",\"kg N Gesamtfläche\",\"\")","v":""}]
[null,"Düngemittel",null,"Datum","m³o.dt/ha","€/E.","€/ha","Ges.-N","NH4- N","P2O5","K2O","MgO","S",null,null,null,"Bodenhilfsstoffe",{"$f":"SUMIF($N$13:$N$18,Q12,$H$13:$H$18)","v":0},null,{"$f":"SUMIF($N$13:$N$18,Q12,$J$13:$J$18)","v":0},null,"aktuelles Jahr","170 kg GW"," oder Anlage3","Stickstoff"]
["Düngung",null,null,null,null,{"$f":"IF($B13=\"\",\"\",VLOOKUP($B13,Düngemiteldaten,2,0))","v":""},{"$f":"IF(B13=\"\",\"\",E13*F13)","v":""},{"$f":"IF(B13=\"\",\"\",VLOOKUP(B13,Düngemiteldaten,4,0)*E13)","v":""},{"$f":"IF(B13=\"\",\"\",VLOOKUP(B13,Düngemiteldaten,5,0)*E13)","v":""},{"$f":"IF(B13=\"\",\"\",VLOOKUP(B13,Düngemiteldaten,7,0)*E13)","v":""},{"$f":"IF(B13=\"\",\"\",VLOOKUP(B13,Düngemiteldaten,8,0)*E13)","v":""},{"$f":"IF(B13=\"\",\"\",VLOOKUP(B13,Düngemiteldaten,9,0)*E13)","v":""},{"$f":"IF(B13=\"\",\"\",VLOOKUP(B13,Düngemiteldaten,10,0)*E13)","v":""},{"$f":"IF(B13=\"\",\"\",VLOOKUP(B13,Düngemiteldaten,20,0))","v":""},null,null,"Kultursubstrate",{"$f":"SUMIF($N$13:$N$18,Q13,$H$13:$H$18)","v":0},null,{"$f":"SUMIF($N$13:$N$18,Q13,$J$13:$J$18)","v":0},null,{"$f":"IF(OR(B13=\"\",N13=\"\"),\"\",IF(N13=\"mineralisch\",\"\",VLOOKUP(B13,Düngemiteldaten,18,0)*VLOOKUP(B13,Düngemiteldaten,4,0)*E13))","v":""},{"$f":"IF(OR(B13=\"\",N13=\"\"),\"\",IF(N13=\"mineralisch\",\"\",VLOOKUP(B13,Düngemiteldaten,19,0)*H13))","v":""},{"$f":"IF(B13=\"\",\"\",IF(V13<I13,I13,V13))","v":""},{"$f":"IF(B13=\"\",\"\",IF(N13=\"organisch\",0,H13))","v":""},null,null,null,null,{"$f":"IF(L3=\"ja\",\"Summe Gesamtstickstoff\",\"\")","v":""},null,null,{"$f":"IF(L3=\"ja\",\"Anteil § 13a Prüfung \n160 kg N/ha Gesamt\n80 kg N/ha mineralisch\",\"\")","v":""}]
[null,null,null,null,null,"","","","","","","","","",null,null,"Pflanzenhilfsmittel",{"$f":"SUMIF($N$13:$N$18,Q14,$H$13:$H$18)","v":0},null,{"$f":"SUMIF($N$13:$N$18,Q14,$J$13:$J$18)","v":0},null,"","","","",null,null,null,null,{"$f":"IF(L3=\"ja\",R5,\"\")","v":""},{"$f":"IF(L3=\"ja\",\"mineralisch N kg/ha\",\"\")","v":""}]
[null,null,null,null,null,"","","","","","","","","",null,null,"Abfälle zur Beseitigung (§ 28 Absatz 2 odeS 3 KSWG)",{"$f":"SUMIF($N$13:$N$18,Q15,$H$13:$H$18)","v":0},null,{"$f":"SUMIF($N$13:$N$18,Q15,$J$13:$J$18)","v":0},null,"","","","",null,null,null,null,{"$f":"IF(L3=\"ja\",R7+R11,\"\")","v":""},{"$f":"IF(L3=\"ja\",\"organisch N kg/ha\",\"\")","v":""}]
[null,null,null,null,null,"","","","","","","","","",null,null,null,null,null,null,null,"","","","",null,null,null,null,{"$f":"IF(L3=\"ja\",(AD15+AD14),\"\")","v":""},{"$f":"IF(L3=\"ja\",\"Gesamt kg N/ha\",\"\")","v":""}]
[null,null,null,null,null,"","","","","","","","","",null,null,null,null,null,null,null,"","","",""]
[null,null,null,null,null,"","","","","","","","","",null,null,"Nährstoffherkunft auf gefährdeten Flächen §13",null,null,null,null,"","","",""]
[null,"anrechenbarer N org.Düngung + min. Düngung kg N/ha",null,null,null,null,null,{"$f":"X19+Y19","v":0},null,{"$f":"SUM(J13:J18)","v":0},{"$f":"SUM(K13:K18)","v":0},{"$f":"SUM(L13:L18)","v":0},null,null,"Bilanz (anrechenbarer Dgg.- red.Düngebedarf) kg N/ha",null,null,"Gesamt N","NH4-N",null,null,{"$f":"SUM(V13:V18)","v":0},{"$f":"IF(SUM(W13:W18)=0,\"\",(SUM(W13:W18)))","v":""},{"$f":"SUM(X13:X18)","v":0},{"$f":"SUM(Y13:Y18)","v":0},"kg/ha"]
[null,{"$f":"IF(L3=\"ja\",O19,O20)","v":"Bilanz (anrechenbarer Dgg.- Düngebedarf) kg N/ha"},null,null,null,null,null,{"$f":"IF(H11=\"\",0,IF(OR(L3=0,L3=\"nein\"),H19-H11,H19-H10))","v":0},null,{"$f":"IF(J11=\"\",\"\",J19-J11)","v":""},"","","",null,"Bilanz (anrechenbarer Dgg.- Düngebedarf) kg N/ha",null,"N Gesamt minerl.",{"$f":"IF(L3=\"ja\",SUMIF($N$13:$N$18,\"mineralisch\",$H$13:$H$18),0)","v":0},null,null,null,{"$f":"V19*C4","v":0},{"$f":"IF(W19=\"\",\"\",W19*C4)","v":""},{"$f":"X19*C4","v":0},{"$f":"Y19*C4","v":0},"kg/Schlag",null,null,null,{"$f":"IF(H20>0,\"Stickstoffmenge überschreitet den Düngebedarf\",\"\")","v":""}]
[null,null,null,null,null,null,null,null,null,null,null,null,null,null,null,null,"NH4-N minerlisch",null,{"$f":"IF(L3=\"ja\",SUMIF($N$13:$N$18,\"mineralisch\",$I$13:$I$18),0)","v":0}]
[null,"Pflegemaßnahme",null,"Datum","Bemerkung",null,null,null,null,null,null,null,null,null,null,null,"N Gesamt organsich",{"$f":"IF(L3=\"ja\",SUMIF($N$13:$N$18,\"organisch\",$H$13:$H$18),0)","v":0}]
[null,null,null,null,null,null,null,null,null,null,null,null,null,null,null,null,"NH4-N organsich",null,{"$f":"IF(L3=\"ja\",SUMIF($N$13:$N$18,\"organisch\",$I$13:$I$18),0)","v":0},null,null,null,null,null,{"$f":"X19+Y19","v":0}]
[null,null,null,null,null,null,null,null,null,null,null,null,null,null,null,null,"P2O5 mineralisch",null,null,{"$f":"IF(L3=\"ja\",SUMIF($N$13:$N$18,\"mineralisch\",$J$13:$J$18),0)","v":0}]
[null,null,null,null,null,null,null,null,null,null,null,null,null,null,null,null,"P2O5 organisch",null,null,null,{"$f":"IF(L3=\"ja\",SUMIF($N$13:$N$18,\"organisch\",$J$13:$J$18),0)","v":0}]
[null,null,null,null,null,null,null,null,null,null,null,null,null,null,null,null,"Sonstige organische Düngemittel",{"$f":"IF(L3=\"ja\",SUMIF($N$13:$N$18,Q26,$H$13:$H$18),0)","v":0},{"$f":"IF(L3=\"ja\",SUMIF($N$13:$N$18,Q26,$I$13:$I$18),0)","v":0},{"$f":"IF(L3=\"ja\",SUMIF($N$13:$N$18,Q26,$J$13:$J$18),0)","v":0}]
["Pflanzenschutz","Pflanzenschutz",null,"Datum","E./ha","€/E.","€/ha","Anwender",null,null,"Bemerkungen",null,null,null,null,null,"Bodenhilfsstoffe",{"$f":"IF(L$3=\"ja\",SUMIF($N$13:$N$18,Q27,$H$13:$H$18),0)","v":0},null,{"$f":"IF(L$3=\"ja\",SUMIF($N$13:$N$18,Q27,$J$13:$J$18),0)","v":0}]
[null,null,null,null,null,{"$f":"IF(B28=\"\",\"\",VLOOKUP(B28,PSMMittel,2,0))","v":""},{"$f":"IF(B28=\"\",\"\",E28*F28)","v":""},null,null,null,null,null,null,null,null,null,"Kultursubstrate",{"$f":"IF(L$3=\"ja\",SUMIF($N$13:$N$18,Q28,$H$13:$H$18),0)","v":0},null,{"$f":"IF(L$3=\"ja\",SUMIF($N$13:$N$18,Q28,$J$13:$J$18),0)","v":0}]
[null,null,null,null,null,{"$f":"IF(B29=\"\",\"\",VLOOKUP(B29,PSMMittel,2,0))","v":""},{"$f":"IF(B29=\"\",\"\",E29*F29)","v":""},null,null,null,null,null,null,null,null,null,"Pflanzenhilfsmittel",{"$f":"IF(L$3=\"ja\",SUMIF($N$13:$N$18,Q29,$H$13:$H$18),0)","v":0},null,{"$f":"IF(L$3=\"ja\",SUMIF($N$13:$N$18,Q29,$J$13:$J$18),0)","v":0}]
[null,null,null,null,null,{"$f":"IF(B30=\"\",\"\",VLOOKUP(B30,PSMMittel,2,0))","v":""},{"$f":"IF(B30=\"\",\"\",E30*F30)","v":""},null,null,null,null,null,null,null,null,null,"Abfälle zur Beseitigung (§ 28 Absatz 2 odeS 3 KSWG)",{"$f":"IF(L$3=\"ja\",SUMIF($N$13:$N$18,Q30,$H$13:$H$18),0)","v":0},null,{"$f":"IF(L$3=\"ja\",SUMIF($N$13:$N$18,Q30,$J$13:$J$18),0)","v":0}]
[null,null,null,null,null,{"$f":"IF(B31=\"\",\"\",VLOOKUP(B31,PSMMittel,2,0))","v":""},{"$f":"IF(B31=\"\",\"\",E31*F31)","v":""}]
[null,null,null,null,null,{"$f":"IF(B32=\"\",\"\",VLOOKUP(B32,PSMMittel,2,0))","v":""},{"$f":"IF(B32=\"\",\"\",E32*F32)","v":""}]
[null,null,null,null,null,null,{"$f":"SUM(G28:G32)","v":0},null,null,null,null,null,null,null,"Stickstoffherkunft nicht gefährdetes Gebiet Gesamtfläche"]
[null,null,null,null,null,null,null,null,null,null,null,null,null,null,null,null,null,"Gesamt N","NH4-N"]
["Bergung","Weidetiere",null,null,null,null,"Anzahl \nTiere","Datum \nBeginn",null,"Datum \nEnde",null,"Anzahl \nWeidetage",null,null,null,null,"N Gesamt minerl.",{"$f":"R5-R20","v":0},null,null,null,null,"Stickstoffbindung aus Leguminosen kg /Schlag",null,"N \nWeidehaltung","P \nWeidehaltung"]
[null,null,null,null,null,null,null,null,null,null,null,{"$f":"IF(OR(H36=\"\",J36=\"\"),\"\",(J36+1)-H36)","v":""},null,null,null,null,"NH4-N minerlisch",null,{"$f":"S6-S21","v":0},null,null,null,{"$f":"IF(D3=0,\"\",VLOOKUP(D3,Grünlandnutzungen,27,0)*C4)","v":""},null,{"$f":"IF(B36=\"\",\"\",VLOOKUP(B36,Tierhaltung,3,0)/365*L36)","v":""},{"$f":"IF(B36=\"\",\"\",VLOOKUP(B36,Tierhaltung,4,0)/365*L36)","v":""}]
[null,null,null,null,null,null,null,null,null,null,null,{"$f":"IF(OR(H37=\"\",J37=\"\"),\"\",(J37+1)-H37)","v":""},null,null,null,null,"N Gesamt organsich",{"$f":"R7-R22","v":0},null,null,null,null,null,null,{"$f":"IF(B37=\"\",\"\",VLOOKUP(B37,Tierhaltung,3,0)/365*L37)","v":""},{"$f":"IF(B37=\"\",\"\",VLOOKUP(B37,Tierhaltung,4,0)/365*L37)","v":""}]
[null,null,null,null,null,null,null,null,null,null,null,"",null,null,null,null,"NH4-N organsich",null,{"$f":"S8-S23","v":0},null,null,null,null,null,{"$f":"IF(B38=\"\",\"\",VLOOKUP(B38,Tierhaltung,3,0)/365*L38)","v":""},{"$f":"IF(B38=\"\",\"\",VLOOKUP(B38,Tierhaltung,4,0)/365*L38)","v":""}]
[null,null,null,null,null,null,null,null,null,null,null,"",null,null,null,null,"P2O5 mineralisch",null,null,{"$f":"T9-T24","v":0},null,null,null,null,{"$f":"IF(B39=\"\",\"\",VLOOKUP(B39,Tierhaltung,3,0)/365*L39)","v":""},{"$f":"IF(B39=\"\",\"\",VLOOKUP(B39,Tierhaltung,4,0)/365*L39)","v":""}]
[null,null,null,null,null,null,null,null,null,null,null,"",null,null,null,null,"P2O5 organisch",null,null,null,{"$f":"U10-U25","v":0},null,null,null,{"$f":"IF(B40=\"\",\"\",VLOOKUP(B40,Tierhaltung,3,0)/365*L40)","v":""},{"$f":"IF(B40=\"\",\"\",VLOOKUP(B40,Tierhaltung,4,0)/365*L40)","v":""}]
[null,null,null,null,null,null,null,null,null,null,null,null,null,null,null,null,"Sonstige organische Düngemittel",{"$f":"R11-R26","v":0},{"$f":"S11-S26","v":0},{"$f":"T11-T26","v":0},null,null,null,null,{"$f":"SUM(Y36:Y40)","v":0},{"$f":"SUM(Z36:Z40)","v":0}]
[null,"Nutzungsdatum",null,"Nutzungsform",null,"Ertrag TM dt/ha",null,"Entzg N\nkg/ha","Entz. P2O5 kg/ha","Aufstellung Kosten",null,null,"€/ha",null,null,null,"Bodenhilfsstoffe",{"$f":"R12-R27","v":0},null,{"$f":"T12-T27","v":0},null,null,null,null,"N Entzug kg N/ha","Entzug kg P2O5/ha","N Entzug kg N Schlag","P Entzug kg P2O5 Schlag"]
["€/ha",null,null,null,null,null,null,{"$f":"IF(Y43=0,\"\",Y43)","v":""},"","Grünlandverbesserung",null,null,{"$f":"G10","v":0},null,null,null,"Kultursubstrate",{"$f":"R13-R28","v":0},null,{"$f":"T13-T28","v":0},null,null,null,null,{"$f":"IF(D$3=0,\"\",VLOOKUP(D$3,Grünlandnutzungen,6,0)*F43)","v":""},{"$f":"IF(D$3=0,\"\",VLOOKUP(D$3,Grünlandnutzungen,7,0)*F43)","v":""},{"$f":"IF(Y43=\"\",\"\",Y43*C4)","v":""},{"$f":"IF(Z43=\"\",\"\",Z43*C4)","v":""}]
[null,null,null,null,null,null,null,"","","Düngemittel",null,null,{"$f":"SUM(G13:G18)","v":0},null,null,null,"Pflanzenhilfsmittel",{"$f":"R14-R29","v":0},null,{"$f":"T14-T29","v":0},null,null,null,null,{"$f":"IF(D$3=0,\"\",VLOOKUP(D$3,Grünlandnutzungen,6,0)*F44)","v":""},{"$f":"IF(D$3=0,\"\",VLOOKUP(D$3,Grünlandnutzungen,7,0)*F44)","v":""},{"$f":"IF(Y44=\"\",\"\",Y44*C5)","v":""},{"$f":"IF(Z44=\"\",\"\",Z44*C5)","v":""}]
[null,null,null,null,null,null,null,"","","Pflanzenschutz",null,null,{"$f":"G33","v":0},null,null,null,"Abfälle zur Beseitigung (§ 28 Absatz 2 oder 3 KrWG)",{"$f":"R15-R30","v":0},null,{"$f":"T15-T30","v":0},null,null,null,null,{"$f":"IF(D$3=0,\"\",VLOOKUP(D$3,Grünlandnutzungen,6,0)*F45)","v":""},{"$f":"IF(D$3=0,\"\",VLOOKUP(D$3,Grünlandnutzungen,7,0)*F45)","v":""},{"$f":"IF(Y45=\"\",\"\",Y45*C6)","v":""},{"$f":"IF(Z45=\"\",\"\",Z45*C6)","v":""}]
["Bemerkungen",null,null,null,null,null,null,"","","Summe",null,null,{"$f":"M43+M44+M45","v":0},null,null,null,null,null,null,null,null,null,null,null,{"$f":"IF(D$3=0,\"\",VLOOKUP(D$3,Grünlandnutzungen,6,0)*F46)","v":""},{"$f":"IF(D$3=0,\"\",VLOOKUP(D$3,Grünlandnutzungen,7,0)*F46)","v":""},{"$f":"IF(Y46=\"\",\"\",Y46*C7)","v":""},{"$f":"IF(Z46=\"\",\"\",Z46*C7)","v":""}]

{"sheet":"G17","index":75,"n_rows":46,"n_cols":33,"rows_kept":46,"cut":false,"hidden":false,"merged":[[12,29,12,30],[12,32,15,33],[13,30,13,31],[14,30,14,31],[15,30,15,31],[45,0,48,0],[45,1,45,2],[45,3,45,4],[45,5,45,6],[45,9,45,11],[43,1,43,2],[43,3,43,4],[43,5,43,6],[43,9,43,11],[44,1,44,2],[44,3,44,4],[44,5,44,6],[44,9,44,11],[37,9,37,10],[37,11,37,12],[40,7,40,8],[41,1,41,2],[41,3,41,4],[41,5,41,6],[41,9,41,11],[42,0,44,0],[42,1,42,2],[42,3,42,4],[42,5,42,6],[42,9,42,11],[32,14,32,18],[34,0,39,0],[34,1,34,5],[34,7,34,8],[34,9,34,10],[34,11,34,12],[35,1,35,5],[35,7,35,8],[35,9,35,10],[35,11,35,12],[38,1,38,5],[38,7,38,8],[38,9,38,10],[38,11,38,12],[39,1,39,5],[39,7,39,8],[39,9,39,10],[39,11,39,12],[36,1,36,5],[36,7,36,8],[36,9,36,10],[36,11,36,12],[37,1,37,5],[37,7,37,8],[17,16,17,20],[24,1,24,2],[24,4,24,12],[25,1,25,2],[25,4,25,12],[21,1,21,2],[21,4,21,12],[22,1,22,2],[22,4,22,12],[23,1,23,2],[23,4,23,12],[18,7,18,8],[19,7,19,8],[20,3,20,12],[18,1,18,6],[19,1,19,6],[26,0,32,0],[26,1,26,2],[26,7,26,9],[26,10,26,12],[27,1,27,2],[27,7,27,9],[30,1,30,2],[30,7,30,9],[30,10,30,12],[31,1,31,2],[31,7,31,9],[31,10,31,12],[27,10,27,12],[28,1,28,2],[28,7,28,9],[28,10,28,12],[29,1,29,2],[29,7,29,9],[29,10,29,12],[6,7,7,7],[8,7,8,12],[9,7,9,8],[9,9,9,12],[10,4,10,6],[10,7,10,8],[11,1,11,2],[12,0,17,0],[12,1,12,2],[13,1,13,2],[14,1,14,2],[15,1,15,2],[16,1,16,2],[17,1,17,2],[3,3,3,6],[5,1,5,2],[0,1,0,12],[1,0,3,0],[1,3,1,6],[1,7,1,9],[1,10,1,12],[2,3,2,6],[2,7,2,10],[2,11,2,12],[3,7,3,10],[3,11,3,12],[5,7,5,10],[5,11,5,12],[4,7,4,10],[4,11,4,12]]}
[null,"Grünland"]
["Schlag","Nr.",17,null,null,null,null,"Jahr:",null,null,{"$f":"IF(Einführung!I8=\"\",\"\",Einführung!I8)","v":""},null,null,{"$f":"IF(OR(C4=\"\",H11=\"\"),\"\",H11*C4)","v":""},"DB kg * Fläche"]
[null,"Bez.",{"$f":"IF($C$2=\"\",\"\",VLOOKUP($C$2,Grünlandübersicht,2,0))","v":0},{"$f":"IF(C2=\"\",\"\",VLOOKUP(C2,Grünlandübersicht,4,0))","v":0},null,null,null,"Nitrat belastete Kulisse",null,null,null,{"$f":"IF(C2=\"\",\"\",VLOOKUP(C2,Grünlandübersicht,20,0))","v":0},null,{"$f":"W19","v":""},"kg/ha org. Dünger für Kontrollgrenze"]
[null,"ha",{"$f":"IF($C$2=\"\",\"\",VLOOKUP($C$2,Grünlandübersicht,3,0))","v":0},null,null,null,null,"P2O5 eutrophierte Kulisse",null,null,null,{"$f":"IF(C2=\"\",\"\",VLOOKUP(C2,Grünlandübersicht,21,0))","v":0},null,{"$f":"IF(OR(L3=\"\",L3=\"nein\",N2=\"\"),\"\",N3*C4)","v":""},"kg Gesamtschlag org Dünger für 170 Kontrollgrenze",null,null,"Gesamt N","NH4-N","P2O5 mineral.","P2O5 organisch"]
[null,null,null,null,null,null,null,"aus org. wirtschaftsdüngeren \nBerechung der 130 kg N/ha",null,null,null,{"$f":"IF(L3=\"ja\",W19,\"\")","v":""},null,{"$f":"IF(H11=\"\",\"\",IF(L3=\"ja\",N2*0.8,\"\"))","v":""},"Düngebedarf Gesamtschlag kg N/ha",null,"N Gesamt minerl.",{"$f":"SUMIF($N$13:$N$18,\"mineralisch\",$H$13:$H$18)","v":0}]
[null,"Grünlandverbesserung",null,"Datum","E/ha","€/E","€/ha","sonstige Auflagen",null,null,null,"WSG",null,{"$f":"IF(L3=\"ja\",X20+Y20,\"\")","v":""},"anrechenbare N Menge Gesamtschlag  kg N/ha",null,"NH4-N minerlisch",null,{"$f":"SUMIF($N$13:$N$18,\"mineralisch\",$I$13:$I$18)","v":0}]
[null,"1.",null,null,null,null,{"$f":"E7*F7","v":0},"Versorg-\nungs-\nstufe","P2O5","K2O","MgO","pH",null,{"$f":"IF(K3=\"ja\",J12*B4,\"\")","v":""},null,null,"N Gesamt organsich",{"$f":"SUMIF($N$13:$N$18,\"organisch\",$H$13:$H$18)","v":0}]
[null,"2.",null,null,null,null,{"$f":"E8*F8","v":0},null,{"$f":"IF($C$2=\"\",\"\",VLOOKUP($C$2,Grünlandübersicht,30,0))","v":"C"},{"$f":"IF($C$2=\"\",\"\",VLOOKUP($C$2,Grünlandübersicht,31,0))","v":"C"},{"$f":"IF($C$2=\"\",\"\",VLOOKUP($C$2,Grünlandübersicht,32,0))","v":"C"},{"$f":"IF($C$2=\"\",\"\",VLOOKUP($C$2,Grünlandübersicht,33,0))","v":"C"},null,null,null,null,"NH4-N organsich",null,{"$f":"SUMIF($N$13:$N$18,\"organisch\",$I$13:$I$18)","v":0}]
[null,"3.",null,null,null,null,{"$f":"E9*F9","v":0},"Düngebedarf kg/ha (Blatt Grünland)",null,null,null,null,null,null,null,null,"P2O5 mineralisch",null,null,{"$f":"SUMIF($N$13:$N$18,\"mineralisch\",$J$13:$J$18)","v":0}]
[null,null,null,null,null,"Kosten €/ha",{"$f":"SUM(G7:G9)","v":0},{"$f":"IF(L3=\"ja\",VLOOKUP(C2,Grünlandübersicht,19,0),\"\")","v":""},null,{"$f":"IF(L3=\"ja\",O10,\"\")","v":""},null,null,null,null,"Düngebedarf um 20% red.",null,"P2O5 organisch",null,null,null,{"$f":"SUMIF($N$13:$N$18,\"organisch\",$J$13:$J$18)","v":0},null,null,null,null,null,null,null,null,{"$f":"IF(L3=\"ja\",\"Noch nicht ausgeschöpfter Stickstoff Düngebedarf aller Flächen\",\"\")","v":""}]
[null,null,null,null,"N Bedarf DÜV kg/ha",null,null,{"$f":"IF(C2=\"\",\"\",VLOOKUP(C2,Grünlandübersicht,18,0))","v":""},null,{"$f":"IF($C$2=\"\",\"\",VLOOKUP($C$2,Grünlandübersicht,36,0))","v":""},{"$f":"IF($C$2=\"\",\"\",VLOOKUP($C$2,Grünlandübersicht,37,0))","v":""},null,null,null,null,null,"Sonstige organische Düngemittel",{"$f":"SUMIF($N$13:$N$18,Q11,$H$13:$H$18)","v":0},{"$f":"SUMIF($N$13:$N$18,Q11,$I$13:$I$18)","v":0},{"$f":"SUMIF($N$13:$N$18,Q11,$J$13:$J$18)","v":0},null,"Anrechnung","Anrechnung ","Prüfung NH4","mineral",null,null,null,null,{"$f":"IF(L3=\"ja\",'Zus. Anlage 5 DüV'!D43,\"\")","v":""},{"$f":"IF(L3=\"ja\",\"kg N Gesamtfläche\",\"\")","v":""}]
[null,"Düngemittel",null,"Datum","m³o.dt/ha","€/E.","€/ha","Ges.-N","NH4- N","P2O5","K2O","MgO","S",null,null,null,"Bodenhilfsstoffe",{"$f":"SUMIF($N$13:$N$18,Q12,$H$13:$H$18)","v":0},null,{"$f":"SUMIF($N$13:$N$18,Q12,$J$13:$J$18)","v":0},null,"aktuelles Jahr","170 kg GW"," oder Anlage3","Stickstoff"]
["Düngung",null,null,null,null,{"$f":"IF($B13=\"\",\"\",VLOOKUP($B13,Düngemiteldaten,2,0))","v":""},{"$f":"IF(B13=\"\",\"\",E13*F13)","v":""},{"$f":"IF(B13=\"\",\"\",VLOOKUP(B13,Düngemiteldaten,4,0)*E13)","v":""},{"$f":"IF(B13=\"\",\"\",VLOOKUP(B13,Düngemiteldaten,5,0)*E13)","v":""},{"$f":"IF(B13=\"\",\"\",VLOOKUP(B13,Düngemiteldaten,7,0)*E13)","v":""},{"$f":"IF(B13=\"\",\"\",VLOOKUP(B13,Düngemiteldaten,8,0)*E13)","v":""},{"$f":"IF(B13=\"\",\"\",VLOOKUP(B13,Düngemiteldaten,9,0)*E13)","v":""},{"$f":"IF(B13=\"\",\"\",VLOOKUP(B13,Düngemiteldaten,10,0)*E13)","v":""},{"$f":"IF(B13=\"\",\"\",VLOOKUP(B13,Düngemiteldaten,20,0))","v":""},null,null,"Kultursubstrate",{"$f":"SUMIF($N$13:$N$18,Q13,$H$13:$H$18)","v":0},null,{"$f":"SUMIF($N$13:$N$18,Q13,$J$13:$J$18)","v":0},null,{"$f":"IF(OR(B13=\"\",N13=\"\"),\"\",IF(N13=\"mineralisch\",\"\",VLOOKUP(B13,Düngemiteldaten,18,0)*VLOOKUP(B13,Düngemiteldaten,4,0)*E13))","v":""},{"$f":"IF(OR(B13=\"\",N13=\"\"),\"\",IF(N13=\"mineralisch\",\"\",VLOOKUP(B13,Düngemiteldaten,19,0)*H13))","v":""},{"$f":"IF(B13=\"\",\"\",IF(V13<I13,I13,V13))","v":""},{"$f":"IF(B13=\"\",\"\",IF(N13=\"organisch\",0,H13))","v":""},null,null,null,null,{"$f":"IF(L3=\"ja\",\"Summe Gesamtstickstoff\",\"\")","v":""},null,null,{"$f":"IF(L3=\"ja\",\"Anteil § 13a Prüfung \n160 kg N/ha Gesamt\n80 kg N/ha mineralisch\",\"\")","v":""}]
[null,null,null,null,null,"","","","","","","","","",null,null,"Pflanzenhilfsmittel",{"$f":"SUMIF($N$13:$N$18,Q14,$H$13:$H$18)","v":0},null,{"$f":"SUMIF($N$13:$N$18,Q14,$J$13:$J$18)","v":0},null,"","","","",null,null,null,null,{"$f":"IF(L3=\"ja\",R5,\"\")","v":""},{"$f":"IF(L3=\"ja\",\"mineralisch N kg/ha\",\"\")","v":""}]
[null,null,null,null,null,"","","","","","","","","",null,null,"Abfälle zur Beseitigung (§ 28 Absatz 2 odeS 3 KSWG)",{"$f":"SUMIF($N$13:$N$18,Q15,$H$13:$H$18)","v":0},null,{"$f":"SUMIF($N$13:$N$18,Q15,$J$13:$J$18)","v":0},null,"","","","",null,null,null,null,{"$f":"IF(L3=\"ja\",R7+R11,\"\")","v":""},{"$f":"IF(L3=\"ja\",\"organisch N kg/ha\",\"\")","v":""}]
[null,null,null,null,null,"","","","","","","","","",null,null,null,null,null,null,null,"","","","",null,null,null,null,{"$f":"IF(L3=\"ja\",(AD15+AD14),\"\")","v":""},{"$f":"IF(L3=\"ja\",\"Gesamt kg N/ha\",\"\")","v":""}]
[null,null,null,null,null,"","","","","","","","","",null,null,null,null,null,null,null,"","","",""]
[null,null,null,null,null,"","","","","","","","","",null,null,"Nährstoffherkunft auf gefährdeten Flächen §13",null,null,null,null,"","","",""]
[null,"anrechenbarer N org.Düngung + min. Düngung kg N/ha",null,null,null,null,null,{"$f":"X19+Y19","v":0},null,{"$f":"SUM(J13:J18)","v":0},{"$f":"SUM(K13:K18)","v":0},{"$f":"SUM(L13:L18)","v":0},null,null,"Bilanz (anrechenbarer Dgg.- red.Düngebedarf) kg N/ha",null,null,"Gesamt N","NH4-N",null,null,{"$f":"SUM(V13:V18)","v":0},{"$f":"IF(SUM(W13:W18)=0,\"\",(SUM(W13:W18)))","v":""},{"$f":"SUM(X13:X18)","v":0},{"$f":"SUM(Y13:Y18)","v":0},"kg/ha"]
[null,{"$f":"IF(L3=\"ja\",O19,O20)","v":"Bilanz (anrechenbarer Dgg.- Düngebedarf) kg N/ha"},null,null,null,null,null,{"$f":"IF(H11=\"\",0,IF(OR(L3=0,L3=\"nein\"),H19-H11,H19-H10))","v":0},null,{"$f":"IF(J11=\"\",\"\",J19-J11)","v":""},"","","",null,"Bilanz (anrechenbarer Dgg.- Düngebedarf) kg N/ha",null,"N Gesamt minerl.",{"$f":"IF(L3=\"ja\",SUMIF($N$13:$N$18,\"mineralisch\",$H$13:$H$18),0)","v":0},null,null,null,{"$f":"V19*C4","v":0},{"$f":"IF(W19=\"\",\"\",W19*C4)","v":""},{"$f":"X19*C4","v":0},{"$f":"Y19*C4","v":0},"kg/Schlag",null,null,null,{"$f":"IF(H20>0,\"Stickstoffmenge überschreitet den Düngebedarf\",\"\")","v":""}]
[null,null,null,null,null,null,null,null,null,null,null,null,null,null,null,null,"NH4-N minerlisch",null,{"$f":"IF(L3=\"ja\",SUMIF($N$13:$N$18,\"mineralisch\",$I$13:$I$18),0)","v":0}]
[null,"Pflegemaßnahme",null,"Datum","Bemerkung",null,null,null,null,null,null,null,null,null,null,null,"N Gesamt organsich",{"$f":"IF(L3=\"ja\",SUMIF($N$13:$N$18,\"organisch\",$H$13:$H$18),0)","v":0}]
[null,null,null,null,null,null,null,null,null,null,null,null,null,null,null,null,"NH4-N organsich",null,{"$f":"IF(L3=\"ja\",SUMIF($N$13:$N$18,\"organisch\",$I$13:$I$18),0)","v":0},null,null,null,null,null,{"$f":"X19+Y19","v":0}]
[null,null,null,null,null,null,null,null,null,null,null,null,null,null,null,null,"P2O5 mineralisch",null,null,{"$f":"IF(L3=\"ja\",SUMIF($N$13:$N$18,\"mineralisch\",$J$13:$J$18),0)","v":0}]
[null,null,null,null,null,null,null,null,null,null,null,null,null,null,null,null,"P2O5 organisch",null,null,null,{"$f":"IF(L3=\"ja\",SUMIF($N$13:$N$18,\"organisch\",$J$13:$J$18),0)","v":0}]
[null,null,null,null,null,null,null,null,null,null,null,null,null,null,null,null,"Sonstige organische Düngemittel",{"$f":"IF(L3=\"ja\",SUMIF($N$13:$N$18,Q26,$H$13:$H$18),0)","v":0},{"$f":"IF(L3=\"ja\",SUMIF($N$13:$N$18,Q26,$I$13:$I$18),0)","v":0},{"$f":"IF(L3=\"ja\",SUMIF($N$13:$N$18,Q26,$J$13:$J$18),0)","v":0}]
["Pflanzenschutz","Pflanzenschutz",null,"Datum","E./ha","€/E.","€/ha","Anwender",null,null,"Bemerkungen",null,null,null,null,null,"Bodenhilfsstoffe",{"$f":"IF(L$3=\"ja\",SUMIF($N$13:$N$18,Q27,$H$13:$H$18),0)","v":0},null,{"$f":"IF(L$3=\"ja\",SUMIF($N$13:$N$18,Q27,$J$13:$J$18),0)","v":0}]
[null,null,null,null,null,{"$f":"IF(B28=\"\",\"\",VLOOKUP(B28,PSMMittel,2,0))","v":""},{"$f":"IF(B28=\"\",\"\",E28*F28)","v":""},null,null,null,null,null,null,null,null,null,"Kultursubstrate",{"$f":"IF(L$3=\"ja\",SUMIF($N$13:$N$18,Q28,$H$13:$H$18),0)","v":0},null,{"$f":"IF(L$3=\"ja\",SUMIF($N$13:$N$18,Q28,$J$13:$J$18),0)","v":0}]
[null,null,null,null,null,{"$f":"IF(B29=\"\",\"\",VLOOKUP(B29,PSMMittel,2,0))","v":""},{"$f":"IF(B29=\"\",\"\",E29*F29)","v":""},null,null,null,null,null,null,null,null,null,"Pflanzenhilfsmittel",{"$f":"IF(L$3=\"ja\",SUMIF($N$13:$N$18,Q29,$H$13:$H$18),0)","v":0},null,{"$f":"IF(L$3=\"ja\",SUMIF($N$13:$N$18,Q29,$J$13:$J$18),0)","v":0}]
[null,null,null,null,null,{"$f":"IF(B30=\"\",\"\",VLOOKUP(B30,PSMMittel,2,0))","v":""},{"$f":"IF(B30=\"\",\"\",E30*F30)","v":""},null,null,null,null,null,null,null,null,null,"Abfälle zur Beseitigung (§ 28 Absatz 2 odeS 3 KSWG)",{"$f":"IF(L$3=\"ja\",SUMIF($N$13:$N$18,Q30,$H$13:$H$18),0)","v":0},null,{"$f":"IF(L$3=\"ja\",SUMIF($N$13:$N$18,Q30,$J$13:$J$18),0)","v":0}]
[null,null,null,null,null,{"$f":"IF(B31=\"\",\"\",VLOOKUP(B31,PSMMittel,2,0))","v":""},{"$f":"IF(B31=\"\",\"\",E31*F31)","v":""}]
[null,null,null,null,null,{"$f":"IF(B32=\"\",\"\",VLOOKUP(B32,PSMMittel,2,0))","v":""},{"$f":"IF(B32=\"\",\"\",E32*F32)","v":""}]
[null,null,null,null,null,null,{"$f":"SUM(G28:G32)","v":0},null,null,null,null,null,null,null,"Stickstoffherkunft nicht gefährdetes Gebiet Gesamtfläche"]
[null,null,null,null,null,null,null,null,null,null,null,null,null,null,null,null,null,"Gesamt N","NH4-N"]
["Bergung","Weidetiere",null,null,null,null,"Anzahl \nTiere","Datum \nBeginn",null,"Datum \nEnde",null,"Anzahl \nWeidetage",null,null,null,null,"N Gesamt minerl.",{"$f":"R5-R20","v":0},null,null,null,null,"Stickstoffbindung aus Leguminosen kg /Schlag",null,"N \nWeidehaltung","P \nWeidehaltung"]
[null,null,null,null,null,null,null,null,null,null,null,{"$f":"IF(OR(H36=\"\",J36=\"\"),\"\",(J36+1)-H36)","v":""},null,null,null,null,"NH4-N minerlisch",null,{"$f":"S6-S21","v":0},null,null,null,{"$f":"IF(D3=0,\"\",VLOOKUP(D3,Grünlandnutzungen,27,0)*C4)","v":""},null,{"$f":"IF(B36=\"\",\"\",VLOOKUP(B36,Tierhaltung,3,0)/365*L36)","v":""},{"$f":"IF(B36=\"\",\"\",VLOOKUP(B36,Tierhaltung,4,0)/365*L36)","v":""}]
[null,null,null,null,null,null,null,null,null,null,null,{"$f":"IF(OR(H37=\"\",J37=\"\"),\"\",(J37+1)-H37)","v":""},null,null,null,null,"N Gesamt organsich",{"$f":"R7-R22","v":0},null,null,null,null,null,null,{"$f":"IF(B37=\"\",\"\",VLOOKUP(B37,Tierhaltung,3,0)/365*L37)","v":""},{"$f":"IF(B37=\"\",\"\",VLOOKUP(B37,Tierhaltung,4,0)/365*L37)","v":""}]
[null,null,null,null,null,null,null,null,null,null,null,"",null,null,null,null,"NH4-N organsich",null,{"$f":"S8-S23","v":0},null,null,null,null,null,{"$f":"IF(B38=\"\",\"\",VLOOKUP(B38,Tierhaltung,3,0)/365*L38)","v":""},{"$f":"IF(B38=\"\",\"\",VLOOKUP(B38,Tierhaltung,4,0)/365*L38)","v":""}]
[null,null,null,null,null,null,null,null,null,null,null,"",null,null,null,null,"P2O5 mineralisch",null,null,{"$f":"T9-T24","v":0},null,null,null,null,{"$f":"IF(B39=\"\",\"\",VLOOKUP(B39,Tierhaltung,3,0)/365*L39)","v":""},{"$f":"IF(B39=\"\",\"\",VLOOKUP(B39,Tierhaltung,4,0)/365*L39)","v":""}]
[null,null,null,null,null,null,null,null,null,null,null,"",null,null,null,null,"P2O5 organisch",null,null,null,{"$f":"U10-U25","v":0},null,null,null,{"$f":"IF(B40=\"\",\"\",VLOOKUP(B40,Tierhaltung,3,0)/365*L40)","v":""},{"$f":"IF(B40=\"\",\"\",VLOOKUP(B40,Tierhaltung,4,0)/365*L40)","v":""}]
[null,null,null,null,null,null,null,null,null,null,null,null,null,null,null,null,"Sonstige organische Düngemittel",{"$f":"R11-R26","v":0},{"$f":"S11-S26","v":0},{"$f":"T11-T26","v":0},null,null,null,null,{"$f":"SUM(Y36:Y40)","v":0},{"$f":"SUM(Z36:Z40)","v":0}]
[null,"Nutzungsdatum",null,"Nutzungsform",null,"Ertrag TM dt/ha",null,"Entzg N\nkg/ha","Entz. P2O5 kg/ha","Aufstellung Kosten",null,null,"€/ha",null,null,null,"Bodenhilfsstoffe",{"$f":"R12-R27","v":0},null,{"$f":"T12-T27","v":0},null,null,null,null,"N Entzug kg N/ha","Entzug kg P2O5/ha","N Entzug kg N Schlag","P Entzug kg P2O5 Schlag"]
["€/ha",null,null,null,null,null,null,{"$f":"IF(Y43=0,\"\",Y43)","v":""},"","Grünlandverbesserung",null,null,{"$f":"G10","v":0},null,null,null,"Kultursubstrate",{"$f":"R13-R28","v":0},null,{"$f":"T13-T28","v":0},null,null,null,null,{"$f":"IF(D$3=0,\"\",VLOOKUP(D$3,Grünlandnutzungen,6,0)*F43)","v":""},{"$f":"IF(D$3=0,\"\",VLOOKUP(D$3,Grünlandnutzungen,7,0)*F43)","v":""},{"$f":"IF(Y43=\"\",\"\",Y43*C4)","v":""},{"$f":"IF(Z43=\"\",\"\",Z43*C4)","v":""}]
[null,null,null,null,null,null,null,"","","Düngemittel",null,null,{"$f":"SUM(G13:G18)","v":0},null,null,null,"Pflanzenhilfsmittel",{"$f":"R14-R29","v":0},null,{"$f":"T14-T29","v":0},null,null,null,null,{"$f":"IF(D$3=0,\"\",VLOOKUP(D$3,Grünlandnutzungen,6,0)*F44)","v":""},{"$f":"IF(D$3=0,\"\",VLOOKUP(D$3,Grünlandnutzungen,7,0)*F44)","v":""},{"$f":"IF(Y44=\"\",\"\",Y44*C5)","v":""},{"$f":"IF(Z44=\"\",\"\",Z44*C5)","v":""}]
[null,null,null,null,null,null,null,"","","Pflanzenschutz",null,null,{"$f":"G33","v":0},null,null,null,"Abfälle zur Beseitigung (§ 28 Absatz 2 oder 3 KrWG)",{"$f":"R15-R30","v":0},null,{"$f":"T15-T30","v":0},null,null,null,null,{"$f":"IF(D$3=0,\"\",VLOOKUP(D$3,Grünlandnutzungen,6,0)*F45)","v":""},{"$f":"IF(D$3=0,\"\",VLOOKUP(D$3,Grünlandnutzungen,7,0)*F45)","v":""},{"$f":"IF(Y45=\"\",\"\",Y45*C6)","v":""},{"$f":"IF(Z45=\"\",\"\",Z45*C6)","v":""}]
["Bemerkungen",null,null,null,null,null,null,"","","Summe",null,null,{"$f":"M43+M44+M45","v":0},null,null,null,null,null,null,null,null,null,null,null,{"$f":"IF(D$3=0,\"\",VLOOKUP(D$3,Grünlandnutzungen,6,0)*F46)","v":""},{"$f":"IF(D$3=0,\"\",VLOOKUP(D$3,Grünlandnutzungen,7,0)*F46)","v":""},{"$f":"IF(Y46=\"\",\"\",Y46*C7)","v":""},{"$f":"IF(Z46=\"\",\"\",Z46*C7)","v":""}]

{"sheet":"G18","index":76,"n_rows":46,"n_cols":33,"rows_kept":46,"cut":false,"hidden":false,"merged":[[12,29,12,30],[12,32,15,33],[13,30,13,31],[14,30,14,31],[15,30,15,31],[45,0,48,0],[45,1,45,2],[45,3,45,4],[45,5,45,6],[45,9,45,11],[43,1,43,2],[43,3,43,4],[43,5,43,6],[43,9,43,11],[44,1,44,2],[44,3,44,4],[44,5,44,6],[44,9,44,11],[37,9,37,10],[37,11,37,12],[40,7,40,8],[41,1,41,2],[41,3,41,4],[41,5,41,6],[41,9,41,11],[42,0,44,0],[42,1,42,2],[42,3,42,4],[42,5,42,6],[42,9,42,11],[32,14,32,18],[34,0,39,0],[34,1,34,5],[34,7,34,8],[34,9,34,10],[34,11,34,12],[35,1,35,5],[35,7,35,8],[35,9,35,10],[35,11,35,12],[38,1,38,5],[38,7,38,8],[38,9,38,10],[38,11,38,12],[39,1,39,5],[39,7,39,8],[39,9,39,10],[39,11,39,12],[36,1,36,5],[36,7,36,8],[36,9,36,10],[36,11,36,12],[37,1,37,5],[37,7,37,8],[17,16,17,20],[24,1,24,2],[24,4,24,12],[25,1,25,2],[25,4,25,12],[21,1,21,2],[21,4,21,12],[22,1,22,2],[22,4,22,12],[23,1,23,2],[23,4,23,12],[18,7,18,8],[19,7,19,8],[20,3,20,12],[18,1,18,6],[19,1,19,6],[26,0,32,0],[26,1,26,2],[26,7,26,9],[26,10,26,12],[27,1,27,2],[27,7,27,9],[30,1,30,2],[30,7,30,9],[30,10,30,12],[31,1,31,2],[31,7,31,9],[31,10,31,12],[27,10,27,12],[28,1,28,2],[28,7,28,9],[28,10,28,12],[29,1,29,2],[29,7,29,9],[29,10,29,12],[6,7,7,7],[8,7,8,12],[9,7,9,8],[9,9,9,12],[10,4,10,6],[10,7,10,8],[11,1,11,2],[12,0,17,0],[12,1,12,2],[13,1,13,2],[14,1,14,2],[15,1,15,2],[16,1,16,2],[17,1,17,2],[3,3,3,6],[5,1,5,2],[0,1,0,12],[1,0,3,0],[1,3,1,6],[1,7,1,9],[1,10,1,12],[2,3,2,6],[2,7,2,10],[2,11,2,12],[3,7,3,10],[3,11,3,12],[5,7,5,10],[5,11,5,12],[4,7,4,10],[4,11,4,12]]}
[null,"Grünland"]
["Schlag","Nr.",18,null,null,null,null,"Jahr:",null,null,{"$f":"IF(Einführung!I8=\"\",\"\",Einführung!I8)","v":""},null,null,{"$f":"IF(OR(C4=\"\",H11=\"\"),\"\",H11*C4)","v":""},"DB kg * Fläche"]
[null,"Bez.",{"$f":"IF($C$2=\"\",\"\",VLOOKUP($C$2,Grünlandübersicht,2,0))","v":0},{"$f":"IF(C2=\"\",\"\",VLOOKUP(C2,Grünlandübersicht,4,0))","v":0},null,null,null,"Nitrat belastete Kulisse",null,null,null,{"$f":"IF(C2=\"\",\"\",VLOOKUP(C2,Grünlandübersicht,20,0))","v":0},null,{"$f":"W19","v":""},"kg/ha org. Dünger für Kontrollgrenze"]
[null,"ha",{"$f":"IF($C$2=\"\",\"\",VLOOKUP($C$2,Grünlandübersicht,3,0))","v":0},null,null,null,null,"P2O5 eutrophierte Kulisse",null,null,null,{"$f":"IF(C2=\"\",\"\",VLOOKUP(C2,Grünlandübersicht,21,0))","v":0},null,{"$f":"IF(OR(L3=\"\",L3=\"nein\",N2=\"\"),\"\",N3*C4)","v":""},"kg Gesamtschlag org Dünger für 170 Kontrollgrenze",null,null,"Gesamt N","NH4-N","P2O5 mineral.","P2O5 organisch"]
[null,null,null,null,null,null,null,"aus org. wirtschaftsdüngeren \nBerechung der 130 kg N/ha",null,null,null,{"$f":"IF(L3=\"ja\",W19,\"\")","v":""},null,{"$f":"IF(H11=\"\",\"\",IF(L3=\"ja\",N2*0.8,\"\"))","v":""},"Düngebedarf Gesamtschlag kg N/ha",null,"N Gesamt minerl.",{"$f":"SUMIF($N$13:$N$18,\"mineralisch\",$H$13:$H$18)","v":0}]
[null,"Grünlandverbesserung",null,"Datum","E/ha","€/E","€/ha","sonstige Auflagen",null,null,null,"WSG",null,{"$f":"IF(L3=\"ja\",X20+Y20,\"\")","v":""},"anrechenbare N Menge Gesamtschlag  kg N/ha",null,"NH4-N minerlisch",null,{"$f":"SUMIF($N$13:$N$18,\"mineralisch\",$I$13:$I$18)","v":0}]
[null,"1.",null,null,null,null,{"$f":"E7*F7","v":0},"Versorg-\nungs-\nstufe","P2O5","K2O","MgO","pH",null,{"$f":"IF(K3=\"ja\",J12*B4,\"\")","v":""},null,null,"N Gesamt organsich",{"$f":"SUMIF($N$13:$N$18,\"organisch\",$H$13:$H$18)","v":0}]
[null,"2.",null,null,null,null,{"$f":"E8*F8","v":0},null,{"$f":"IF($C$2=\"\",\"\",VLOOKUP($C$2,Grünlandübersicht,30,0))","v":"C"},{"$f":"IF($C$2=\"\",\"\",VLOOKUP($C$2,Grünlandübersicht,31,0))","v":"C"},{"$f":"IF($C$2=\"\",\"\",VLOOKUP($C$2,Grünlandübersicht,32,0))","v":"C"},{"$f":"IF($C$2=\"\",\"\",VLOOKUP($C$2,Grünlandübersicht,33,0))","v":"C"},null,null,null,null,"NH4-N organsich",null,{"$f":"SUMIF($N$13:$N$18,\"organisch\",$I$13:$I$18)","v":0}]
[null,"3.",null,null,null,null,{"$f":"E9*F9","v":0},"Düngebedarf kg/ha (Blatt Grünland)",null,null,null,null,null,null,null,null,"P2O5 mineralisch",null,null,{"$f":"SUMIF($N$13:$N$18,\"mineralisch\",$J$13:$J$18)","v":0}]
[null,null,null,null,null,"Kosten €/ha",{"$f":"SUM(G7:G9)","v":0},{"$f":"IF(L3=\"ja\",VLOOKUP(C2,Grünlandübersicht,19,0),\"\")","v":""},null,{"$f":"IF(L3=\"ja\",O10,\"\")","v":""},null,null,null,null,"Düngebedarf um 20% red.",null,"P2O5 organisch",null,null,null,{"$f":"SUMIF($N$13:$N$18,\"organisch\",$J$13:$J$18)","v":0},null,null,null,null,null,null,null,null,{"$f":"IF(L3=\"ja\",\"Noch nicht ausgeschöpfter Stickstoff Düngebedarf aller Flächen\",\"\")","v":""}]
[null,null,null,null,"N Bedarf DÜV kg/ha",null,null,{"$f":"IF(C2=\"\",\"\",VLOOKUP(C2,Grünlandübersicht,18,0))","v":""},null,{"$f":"IF($C$2=\"\",\"\",VLOOKUP($C$2,Grünlandübersicht,36,0))","v":""},{"$f":"IF($C$2=\"\",\"\",VLOOKUP($C$2,Grünlandübersicht,37,0))","v":""},null,null,null,null,null,"Sonstige organische Düngemittel",{"$f":"SUMIF($N$13:$N$18,Q11,$H$13:$H$18)","v":0},{"$f":"SUMIF($N$13:$N$18,Q11,$I$13:$I$18)","v":0},{"$f":"SUMIF($N$13:$N$18,Q11,$J$13:$J$18)","v":0},null,"Anrechnung","Anrechnung ","Prüfung NH4","mineral",null,null,null,null,{"$f":"IF(L3=\"ja\",'Zus. Anlage 5 DüV'!D43,\"\")","v":""},{"$f":"IF(L3=\"ja\",\"kg N Gesamtfläche\",\"\")","v":""}]
[null,"Düngemittel",null,"Datum","m³o.dt/ha","€/E.","€/ha","Ges.-N","NH4- N","P2O5","K2O","MgO","S",null,null,null,"Bodenhilfsstoffe",{"$f":"SUMIF($N$13:$N$18,Q12,$H$13:$H$18)","v":0},null,{"$f":"SUMIF($N$13:$N$18,Q12,$J$13:$J$18)","v":0},null,"aktuelles Jahr","170 kg GW"," oder Anlage3","Stickstoff"]
["Düngung",null,null,null,null,{"$f":"IF($B13=\"\",\"\",VLOOKUP($B13,Düngemiteldaten,2,0))","v":""},{"$f":"IF(B13=\"\",\"\",E13*F13)","v":""},{"$f":"IF(B13=\"\",\"\",VLOOKUP(B13,Düngemiteldaten,4,0)*E13)","v":""},{"$f":"IF(B13=\"\",\"\",VLOOKUP(B13,Düngemiteldaten,5,0)*E13)","v":""},{"$f":"IF(B13=\"\",\"\",VLOOKUP(B13,Düngemiteldaten,7,0)*E13)","v":""},{"$f":"IF(B13=\"\",\"\",VLOOKUP(B13,Düngemiteldaten,8,0)*E13)","v":""},{"$f":"IF(B13=\"\",\"\",VLOOKUP(B13,Düngemiteldaten,9,0)*E13)","v":""},{"$f":"IF(B13=\"\",\"\",VLOOKUP(B13,Düngemiteldaten,10,0)*E13)","v":""},{"$f":"IF(B13=\"\",\"\",VLOOKUP(B13,Düngemiteldaten,20,0))","v":""},null,null,"Kultursubstrate",{"$f":"SUMIF($N$13:$N$18,Q13,$H$13:$H$18)","v":0},null,{"$f":"SUMIF($N$13:$N$18,Q13,$J$13:$J$18)","v":0},null,{"$f":"IF(OR(B13=\"\",N13=\"\"),\"\",IF(N13=\"mineralisch\",\"\",VLOOKUP(B13,Düngemiteldaten,18,0)*VLOOKUP(B13,Düngemiteldaten,4,0)*E13))","v":""},{"$f":"IF(OR(B13=\"\",N13=\"\"),\"\",IF(N13=\"mineralisch\",\"\",VLOOKUP(B13,Düngemiteldaten,19,0)*H13))","v":""},{"$f":"IF(B13=\"\",\"\",IF(V13<I13,I13,V13))","v":""},{"$f":"IF(B13=\"\",\"\",IF(N13=\"organisch\",0,H13))","v":""},null,null,null,null,{"$f":"IF(L3=\"ja\",\"Summe Gesamtstickstoff\",\"\")","v":""},null,null,{"$f":"IF(L3=\"ja\",\"Anteil § 13a Prüfung \n160 kg N/ha Gesamt\n80 kg N/ha mineralisch\",\"\")","v":""}]
[null,null,null,null,null,"","","","","","","","","",null,null,"Pflanzenhilfsmittel",{"$f":"SUMIF($N$13:$N$18,Q14,$H$13:$H$18)","v":0},null,{"$f":"SUMIF($N$13:$N$18,Q14,$J$13:$J$18)","v":0},null,"","","","",null,null,null,null,{"$f":"IF(L3=\"ja\",R5,\"\")","v":""},{"$f":"IF(L3=\"ja\",\"mineralisch N kg/ha\",\"\")","v":""}]
[null,null,null,null,null,"","","","","","","","","",null,null,"Abfälle zur Beseitigung (§ 28 Absatz 2 odeS 3 KSWG)",{"$f":"SUMIF($N$13:$N$18,Q15,$H$13:$H$18)","v":0},null,{"$f":"SUMIF($N$13:$N$18,Q15,$J$13:$J$18)","v":0},null,"","","","",null,null,null,null,{"$f":"IF(L3=\"ja\",R7+R11,\"\")","v":""},{"$f":"IF(L3=\"ja\",\"organisch N kg/ha\",\"\")","v":""}]
[null,null,null,null,null,"","","","","","","","","",null,null,null,null,null,null,null,"","","","",null,null,null,null,{"$f":"IF(L3=\"ja\",(AD15+AD14),\"\")","v":""},{"$f":"IF(L3=\"ja\",\"Gesamt kg N/ha\",\"\")","v":""}]
[null,null,null,null,null,"","","","","","","","","",null,null,null,null,null,null,null,"","","",""]
[null,null,null,null,null,"","","","","","","","","",null,null,"Nährstoffherkunft auf gefährdeten Flächen §13",null,null,null,null,"","","",""]
[null,"anrechenbarer N org.Düngung + min. Düngung kg N/ha",null,null,null,null,null,{"$f":"X19+Y19","v":0},null,{"$f":"SUM(J13:J18)","v":0},{"$f":"SUM(K13:K18)","v":0},{"$f":"SUM(L13:L18)","v":0},null,null,"Bilanz (anrechenbarer Dgg.- red.Düngebedarf) kg N/ha",null,null,"Gesamt N","NH4-N",null,null,{"$f":"SUM(V13:V18)","v":0},{"$f":"IF(SUM(W13:W18)=0,\"\",(SUM(W13:W18)))","v":""},{"$f":"SUM(X13:X18)","v":0},{"$f":"SUM(Y13:Y18)","v":0},"kg/ha"]
[null,{"$f":"IF(L3=\"ja\",O19,O20)","v":"Bilanz (anrechenbarer Dgg.- Düngebedarf) kg N/ha"},null,null,null,null,null,{"$f":"IF(H11=\"\",0,IF(OR(L3=0,L3=\"nein\"),H19-H11,H19-H10))","v":0},null,{"$f":"IF(J11=\"\",\"\",J19-J11)","v":""},"","","",null,"Bilanz (anrechenbarer Dgg.- Düngebedarf) kg N/ha",null,"N Gesamt minerl.",{"$f":"IF(L3=\"ja\",SUMIF($N$13:$N$18,\"mineralisch\",$H$13:$H$18),0)","v":0},null,null,null,{"$f":"V19*C4","v":0},{"$f":"IF(W19=\"\",\"\",W19*C4)","v":""},{"$f":"X19*C4","v":0},{"$f":"Y19*C4","v":0},"kg/Schlag",null,null,null,{"$f":"IF(H20>0,\"Stickstoffmenge überschreitet den Düngebedarf\",\"\")","v":""}]
[null,null,null,null,null,null,null,null,null,null,null,null,null,null,null,null,"NH4-N minerlisch",null,{"$f":"IF(L3=\"ja\",SUMIF($N$13:$N$18,\"mineralisch\",$I$13:$I$18),0)","v":0}]
[null,"Pflegemaßnahme",null,"Datum","Bemerkung",null,null,null,null,null,null,null,null,null,null,null,"N Gesamt organsich",{"$f":"IF(L3=\"ja\",SUMIF($N$13:$N$18,\"organisch\",$H$13:$H$18),0)","v":0}]
[null,null,null,null,null,null,null,null,null,null,null,null,null,null,null,null,"NH4-N organsich",null,{"$f":"IF(L3=\"ja\",SUMIF($N$13:$N$18,\"organisch\",$I$13:$I$18),0)","v":0},null,null,null,null,null,{"$f":"X19+Y19","v":0}]
[null,null,null,null,null,null,null,null,null,null,null,null,null,null,null,null,"P2O5 mineralisch",null,null,{"$f":"IF(L3=\"ja\",SUMIF($N$13:$N$18,\"mineralisch\",$J$13:$J$18),0)","v":0}]
[null,null,null,null,null,null,null,null,null,null,null,null,null,null,null,null,"P2O5 organisch",null,null,null,{"$f":"IF(L3=\"ja\",SUMIF($N$13:$N$18,\"organisch\",$J$13:$J$18),0)","v":0}]
[null,null,null,null,null,null,null,null,null,null,null,null,null,null,null,null,"Sonstige organische Düngemittel",{"$f":"IF(L3=\"ja\",SUMIF($N$13:$N$18,Q26,$H$13:$H$18),0)","v":0},{"$f":"IF(L3=\"ja\",SUMIF($N$13:$N$18,Q26,$I$13:$I$18),0)","v":0},{"$f":"IF(L3=\"ja\",SUMIF($N$13:$N$18,Q26,$J$13:$J$18),0)","v":0}]
["Pflanzenschutz","Pflanzenschutz",null,"Datum","E./ha","€/E.","€/ha","Anwender",null,null,"Bemerkungen",null,null,null,null,null,"Bodenhilfsstoffe",{"$f":"IF(L$3=\"ja\",SUMIF($N$13:$N$18,Q27,$H$13:$H$18),0)","v":0},null,{"$f":"IF(L$3=\"ja\",SUMIF($N$13:$N$18,Q27,$J$13:$J$18),0)","v":0}]
[null,null,null,null,null,{"$f":"IF(B28=\"\",\"\",VLOOKUP(B28,PSMMittel,2,0))","v":""},{"$f":"IF(B28=\"\",\"\",E28*F28)","v":""},null,null,null,null,null,null,null,null,null,"Kultursubstrate",{"$f":"IF(L$3=\"ja\",SUMIF($N$13:$N$18,Q28,$H$13:$H$18),0)","v":0},null,{"$f":"IF(L$3=\"ja\",SUMIF($N$13:$N$18,Q28,$J$13:$J$18),0)","v":0}]
[null,null,null,null,null,{"$f":"IF(B29=\"\",\"\",VLOOKUP(B29,PSMMittel,2,0))","v":""},{"$f":"IF(B29=\"\",\"\",E29*F29)","v":""},null,null,null,null,null,null,null,null,null,"Pflanzenhilfsmittel",{"$f":"IF(L$3=\"ja\",SUMIF($N$13:$N$18,Q29,$H$13:$H$18),0)","v":0},null,{"$f":"IF(L$3=\"ja\",SUMIF($N$13:$N$18,Q29,$J$13:$J$18),0)","v":0}]
[null,null,null,null,null,{"$f":"IF(B30=\"\",\"\",VLOOKUP(B30,PSMMittel,2,0))","v":""},{"$f":"IF(B30=\"\",\"\",E30*F30)","v":""},null,null,null,null,null,null,null,null,null,"Abfälle zur Beseitigung (§ 28 Absatz 2 odeS 3 KSWG)",{"$f":"IF(L$3=\"ja\",SUMIF($N$13:$N$18,Q30,$H$13:$H$18),0)","v":0},null,{"$f":"IF(L$3=\"ja\",SUMIF($N$13:$N$18,Q30,$J$13:$J$18),0)","v":0}]
[null,null,null,null,null,{"$f":"IF(B31=\"\",\"\",VLOOKUP(B31,PSMMittel,2,0))","v":""},{"$f":"IF(B31=\"\",\"\",E31*F31)","v":""}]
[null,null,null,null,null,{"$f":"IF(B32=\"\",\"\",VLOOKUP(B32,PSMMittel,2,0))","v":""},{"$f":"IF(B32=\"\",\"\",E32*F32)","v":""}]
[null,null,null,null,null,null,{"$f":"SUM(G28:G32)","v":0},null,null,null,null,null,null,null,"Stickstoffherkunft nicht gefährdetes Gebiet Gesamtfläche"]
[null,null,null,null,null,null,null,null,null,null,null,null,null,null,null,null,null,"Gesamt N","NH4-N"]
["Bergung","Weidetiere",null,null,null,null,"Anzahl \nTiere","Datum \nBeginn",null,"Datum \nEnde",null,"Anzahl \nWeidetage",null,null,null,null,"N Gesamt minerl.",{"$f":"R5-R20","v":0},null,null,null,null,"Stickstoffbindung aus Leguminosen kg /Schlag",null,"N \nWeidehaltung","P \nWeidehaltung"]
[null,null,null,null,null,null,null,null,null,null,null,{"$f":"IF(OR(H36=\"\",J36=\"\"),\"\",(J36+1)-H36)","v":""},null,null,null,null,"NH4-N minerlisch",null,{"$f":"S6-S21","v":0},null,null,null,{"$f":"IF(D3=0,\"\",VLOOKUP(D3,Grünlandnutzungen,27,0)*C4)","v":""},null,{"$f":"IF(B36=\"\",\"\",VLOOKUP(B36,Tierhaltung,3,0)/365*L36)","v":""},{"$f":"IF(B36=\"\",\"\",VLOOKUP(B36,Tierhaltung,4,0)/365*L36)","v":""}]
[null,null,null,null,null,null,null,null,null,null,null,{"$f":"IF(OR(H37=\"\",J37=\"\"),\"\",(J37+1)-H37)","v":""},null,null,null,null,"N Gesamt organsich",{"$f":"R7-R22","v":0},null,null,null,null,null,null,{"$f":"IF(B37=\"\",\"\",VLOOKUP(B37,Tierhaltung,3,0)/365*L37)","v":""},{"$f":"IF(B37=\"\",\"\",VLOOKUP(B37,Tierhaltung,4,0)/365*L37)","v":""}]
[null,null,null,null,null,null,null,null,null,null,null,"",null,null,null,null,"NH4-N organsich",null,{"$f":"S8-S23","v":0},null,null,null,null,null,{"$f":"IF(B38=\"\",\"\",VLOOKUP(B38,Tierhaltung,3,0)/365*L38)","v":""},{"$f":"IF(B38=\"\",\"\",VLOOKUP(B38,Tierhaltung,4,0)/365*L38)","v":""}]
[null,null,null,null,null,null,null,null,null,null,null,"",null,null,null,null,"P2O5 mineralisch",null,null,{"$f":"T9-T24","v":0},null,null,null,null,{"$f":"IF(B39=\"\",\"\",VLOOKUP(B39,Tierhaltung,3,0)/365*L39)","v":""},{"$f":"IF(B39=\"\",\"\",VLOOKUP(B39,Tierhaltung,4,0)/365*L39)","v":""}]
[null,null,null,null,null,null,null,null,null,null,null,"",null,null,null,null,"P2O5 organisch",null,null,null,{"$f":"U10-U25","v":0},null,null,null,{"$f":"IF(B40=\"\",\"\",VLOOKUP(B40,Tierhaltung,3,0)/365*L40)","v":""},{"$f":"IF(B40=\"\",\"\",VLOOKUP(B40,Tierhaltung,4,0)/365*L40)","v":""}]
[null,null,null,null,null,null,null,null,null,null,null,null,null,null,null,null,"Sonstige organische Düngemittel",{"$f":"R11-R26","v":0},{"$f":"S11-S26","v":0},{"$f":"T11-T26","v":0},null,null,null,null,{"$f":"SUM(Y36:Y40)","v":0},{"$f":"SUM(Z36:Z40)","v":0}]
[null,"Nutzungsdatum",null,"Nutzungsform",null,"Ertrag TM dt/ha",null,"Entzg N\nkg/ha","Entz. P2O5 kg/ha","Aufstellung Kosten",null,null,"€/ha",null,null,null,"Bodenhilfsstoffe",{"$f":"R12-R27","v":0},null,{"$f":"T12-T27","v":0},null,null,null,null,"N Entzug kg N/ha","Entzug kg P2O5/ha","N Entzug kg N Schlag","P Entzug kg P2O5 Schlag"]
["€/ha",null,null,null,null,null,null,{"$f":"IF(Y43=0,\"\",Y43)","v":""},"","Grünlandverbesserung",null,null,{"$f":"G10","v":0},null,null,null,"Kultursubstrate",{"$f":"R13-R28","v":0},null,{"$f":"T13-T28","v":0},null,null,null,null,{"$f":"IF(D$3=0,\"\",VLOOKUP(D$3,Grünlandnutzungen,6,0)*F43)","v":""},{"$f":"IF(D$3=0,\"\",VLOOKUP(D$3,Grünlandnutzungen,7,0)*F43)","v":""},{"$f":"IF(Y43=\"\",\"\",Y43*C4)","v":""},{"$f":"IF(Z43=\"\",\"\",Z43*C4)","v":""}]
[null,null,null,null,null,null,null,"","","Düngemittel",null,null,{"$f":"SUM(G13:G18)","v":0},null,null,null,"Pflanzenhilfsmittel",{"$f":"R14-R29","v":0},null,{"$f":"T14-T29","v":0},null,null,null,null,{"$f":"IF(D$3=0,\"\",VLOOKUP(D$3,Grünlandnutzungen,6,0)*F44)","v":""},{"$f":"IF(D$3=0,\"\",VLOOKUP(D$3,Grünlandnutzungen,7,0)*F44)","v":""},{"$f":"IF(Y44=\"\",\"\",Y44*C5)","v":""},{"$f":"IF(Z44=\"\",\"\",Z44*C5)","v":""}]
[null,null,null,null,null,null,null,"","","Pflanzenschutz",null,null,{"$f":"G33","v":0},null,null,null,"Abfälle zur Beseitigung (§ 28 Absatz 2 oder 3 KrWG)",{"$f":"R15-R30","v":0},null,{"$f":"T15-T30","v":0},null,null,null,null,{"$f":"IF(D$3=0,\"\",VLOOKUP(D$3,Grünlandnutzungen,6,0)*F45)","v":""},{"$f":"IF(D$3=0,\"\",VLOOKUP(D$3,Grünlandnutzungen,7,0)*F45)","v":""},{"$f":"IF(Y45=\"\",\"\",Y45*C6)","v":""},{"$f":"IF(Z45=\"\",\"\",Z45*C6)","v":""}]
["Bemerkungen",null,null,null,null,null,null,"","","Summe",null,null,{"$f":"M43+M44+M45","v":0},null,null,null,null,null,null,null,null,null,null,null,{"$f":"IF(D$3=0,\"\",VLOOKUP(D$3,Grünlandnutzungen,6,0)*F46)","v":""},{"$f":"IF(D$3=0,\"\",VLOOKUP(D$3,Grünlandnutzungen,7,0)*F46)","v":""},{"$f":"IF(Y46=\"\",\"\",Y46*C7)","v":""},{"$f":"IF(Z46=\"\",\"\",Z46*C7)","v":""}]

{"sheet":"G19","index":77,"n_rows":46,"n_cols":33,"rows_kept":46,"cut":false,"hidden":false,"merged":[[12,29,12,30],[12,32,15,33],[13,30,13,31],[14,30,14,31],[15,30,15,31],[45,0,48,0],[45,1,45,2],[45,3,45,4],[45,5,45,6],[45,9,45,11],[43,1,43,2],[43,3,43,4],[43,5,43,6],[43,9,43,11],[44,1,44,2],[44,3,44,4],[44,5,44,6],[44,9,44,11],[37,9,37,10],[37,11,37,12],[40,7,40,8],[41,1,41,2],[41,3,41,4],[41,5,41,6],[41,9,41,11],[42,0,44,0],[42,1,42,2],[42,3,42,4],[42,5,42,6],[42,9,42,11],[32,14,32,18],[34,0,39,0],[34,1,34,5],[34,7,34,8],[34,9,34,10],[34,11,34,12],[35,1,35,5],[35,7,35,8],[35,9,35,10],[35,11,35,12],[38,1,38,5],[38,7,38,8],[38,9,38,10],[38,11,38,12],[39,1,39,5],[39,7,39,8],[39,9,39,10],[39,11,39,12],[36,1,36,5],[36,7,36,8],[36,9,36,10],[36,11,36,12],[37,1,37,5],[37,7,37,8],[17,16,17,20],[24,1,24,2],[24,4,24,12],[25,1,25,2],[25,4,25,12],[21,1,21,2],[21,4,21,12],[22,1,22,2],[22,4,22,12],[23,1,23,2],[23,4,23,12],[18,7,18,8],[19,7,19,8],[20,3,20,12],[18,1,18,6],[19,1,19,6],[26,0,32,0],[26,1,26,2],[26,7,26,9],[26,10,26,12],[27,1,27,2],[27,7,27,9],[30,1,30,2],[30,7,30,9],[30,10,30,12],[31,1,31,2],[31,7,31,9],[31,10,31,12],[27,10,27,12],[28,1,28,2],[28,7,28,9],[28,10,28,12],[29,1,29,2],[29,7,29,9],[29,10,29,12],[6,7,7,7],[8,7,8,12],[9,7,9,8],[9,9,9,12],[10,4,10,6],[10,7,10,8],[11,1,11,2],[12,0,17,0],[12,1,12,2],[13,1,13,2],[14,1,14,2],[15,1,15,2],[16,1,16,2],[17,1,17,2],[3,3,3,6],[5,1,5,2],[0,1,0,12],[1,0,3,0],[1,3,1,6],[1,7,1,9],[1,10,1,12],[2,3,2,6],[2,7,2,10],[2,11,2,12],[3,7,3,10],[3,11,3,12],[5,7,5,10],[5,11,5,12],[4,7,4,10],[4,11,4,12]]}
[null,"Grünland"]
["Schlag","Nr.",19,null,null,null,null,"Jahr:",null,null,{"$f":"IF(Einführung!I8=\"\",\"\",Einführung!I8)","v":""},null,null,{"$f":"IF(OR(C4=\"\",H11=\"\"),\"\",H11*C4)","v":""},"DB kg * Fläche"]
[null,"Bez.",{"$f":"IF($C$2=\"\",\"\",VLOOKUP($C$2,Grünlandübersicht,2,0))","v":0},{"$f":"IF(C2=\"\",\"\",VLOOKUP(C2,Grünlandübersicht,4,0))","v":0},null,null,null,"Nitrat belastete Kulisse",null,null,null,{"$f":"IF(C2=\"\",\"\",VLOOKUP(C2,Grünlandübersicht,20,0))","v":0},null,{"$f":"W19","v":""},"kg/ha org. Dünger für Kontrollgrenze"]
[null,"ha",{"$f":"IF($C$2=\"\",\"\",VLOOKUP($C$2,Grünlandübersicht,3,0))","v":0},null,null,null,null,"P2O5 eutrophierte Kulisse",null,null,null,{"$f":"IF(C2=\"\",\"\",VLOOKUP(C2,Grünlandübersicht,21,0))","v":0},null,{"$f":"IF(OR(L3=\"\",L3=\"nein\",N2=\"\"),\"\",N3*C4)","v":""},"kg Gesamtschlag org Dünger für 170 Kontrollgrenze",null,null,"Gesamt N","NH4-N","P2O5 mineral.","P2O5 organisch"]
[null,null,null,null,null,null,null,"aus org. wirtschaftsdüngeren \nBerechung der 130 kg N/ha",null,null,null,{"$f":"IF(L3=\"ja\",W19,\"\")","v":""},null,{"$f":"IF(H11=\"\",\"\",IF(L3=\"ja\",N2*0.8,\"\"))","v":""},"Düngebedarf Gesamtschlag kg N/ha",null,"N Gesamt minerl.",{"$f":"SUMIF($N$13:$N$18,\"mineralisch\",$H$13:$H$18)","v":0}]
[null,"Grünlandverbesserung",null,"Datum","E/ha","€/E","€/ha","sonstige Auflagen",null,null,null,"WSG",null,{"$f":"IF(L3=\"ja\",X20+Y20,\"\")","v":""},"anrechenbare N Menge Gesamtschlag  kg N/ha",null,"NH4-N minerlisch",null,{"$f":"SUMIF($N$13:$N$18,\"mineralisch\",$I$13:$I$18)","v":0}]
[null,"1.",null,null,null,null,{"$f":"E7*F7","v":0},"Versorg-\nungs-\nstufe","P2O5","K2O","MgO","pH",null,{"$f":"IF(K3=\"ja\",J12*B4,\"\")","v":""},null,null,"N Gesamt organsich",{"$f":"SUMIF($N$13:$N$18,\"organisch\",$H$13:$H$18)","v":0}]
[null,"2.",null,null,null,null,{"$f":"E8*F8","v":0},null,{"$f":"IF($C$2=\"\",\"\",VLOOKUP($C$2,Grünlandübersicht,30,0))","v":"C"},{"$f":"IF($C$2=\"\",\"\",VLOOKUP($C$2,Grünlandübersicht,31,0))","v":"C"},{"$f":"IF($C$2=\"\",\"\",VLOOKUP($C$2,Grünlandübersicht,32,0))","v":"C"},{"$f":"IF($C$2=\"\",\"\",VLOOKUP($C$2,Grünlandübersicht,33,0))","v":"C"},null,null,null,null,"NH4-N organsich",null,{"$f":"SUMIF($N$13:$N$18,\"organisch\",$I$13:$I$18)","v":0}]
[null,"3.",null,null,null,null,{"$f":"E9*F9","v":0},"Düngebedarf kg/ha (Blatt Grünland)",null,null,null,null,null,null,null,null,"P2O5 mineralisch",null,null,{"$f":"SUMIF($N$13:$N$18,\"mineralisch\",$J$13:$J$18)","v":0}]
[null,null,null,null,null,"Kosten €/ha",{"$f":"SUM(G7:G9)","v":0},{"$f":"IF(L3=\"ja\",VLOOKUP(C2,Grünlandübersicht,19,0),\"\")","v":""},null,{"$f":"IF(L3=\"ja\",O10,\"\")","v":""},null,null,null,null,"Düngebedarf um 20% red.",null,"P2O5 organisch",null,null,null,{"$f":"SUMIF($N$13:$N$18,\"organisch\",$J$13:$J$18)","v":0},null,null,null,null,null,null,null,null,{"$f":"IF(L3=\"ja\",\"Noch nicht ausgeschöpfter Stickstoff Düngebedarf aller Flächen\",\"\")","v":""}]
[null,null,null,null,"N Bedarf DÜV kg/ha",null,null,{"$f":"IF(C2=\"\",\"\",VLOOKUP(C2,Grünlandübersicht,18,0))","v":""},null,{"$f":"IF($C$2=\"\",\"\",VLOOKUP($C$2,Grünlandübersicht,36,0))","v":""},{"$f":"IF($C$2=\"\",\"\",VLOOKUP($C$2,Grünlandübersicht,37,0))","v":""},null,null,null,null,null,"Sonstige organische Düngemittel",{"$f":"SUMIF($N$13:$N$18,Q11,$H$13:$H$18)","v":0},{"$f":"SUMIF($N$13:$N$18,Q11,$I$13:$I$18)","v":0},{"$f":"SUMIF($N$13:$N$18,Q11,$J$13:$J$18)","v":0},null,"Anrechnung","Anrechnung ","Prüfung NH4","mineral",null,null,null,null,{"$f":"IF(L3=\"ja\",'Zus. Anlage 5 DüV'!D43,\"\")","v":""},{"$f":"IF(L3=\"ja\",\"kg N Gesamtfläche\",\"\")","v":""}]
[null,"Düngemittel",null,"Datum","m³o.dt/ha","€/E.","€/ha","Ges.-N","NH4- N","P2O5","K2O","MgO","S",null,null,null,"Bodenhilfsstoffe",{"$f":"SUMIF($N$13:$N$18,Q12,$H$13:$H$18)","v":0},null,{"$f":"SUMIF($N$13:$N$18,Q12,$J$13:$J$18)","v":0},null,"aktuelles Jahr","170 kg GW"," oder Anlage3","Stickstoff"]
["Düngung",null,null,null,null,{"$f":"IF($B13=\"\",\"\",VLOOKUP($B13,Düngemiteldaten,2,0))","v":""},{"$f":"IF(B13=\"\",\"\",E13*F13)","v":""},{"$f":"IF(B13=\"\",\"\",VLOOKUP(B13,Düngemiteldaten,4,0)*E13)","v":""},{"$f":"IF(B13=\"\",\"\",VLOOKUP(B13,Düngemiteldaten,5,0)*E13)","v":""},{"$f":"IF(B13=\"\",\"\",VLOOKUP(B13,Düngemiteldaten,7,0)*E13)","v":""},{"$f":"IF(B13=\"\",\"\",VLOOKUP(B13,Düngemiteldaten,8,0)*E13)","v":""},{"$f":"IF(B13=\"\",\"\",VLOOKUP(B13,Düngemiteldaten,9,0)*E13)","v":""},{"$f":"IF(B13=\"\",\"\",VLOOKUP(B13,Düngemiteldaten,10,0)*E13)","v":""},{"$f":"IF(B13=\"\",\"\",VLOOKUP(B13,Düngemiteldaten,20,0))","v":""},null,null,"Kultursubstrate",{"$f":"SUMIF($N$13:$N$18,Q13,$H$13:$H$18)","v":0},null,{"$f":"SUMIF($N$13:$N$18,Q13,$J$13:$J$18)","v":0},null,{"$f":"IF(OR(B13=\"\",N13=\"\"),\"\",IF(N13=\"mineralisch\",\"\",VLOOKUP(B13,Düngemiteldaten,18,0)*VLOOKUP(B13,Düngemiteldaten,4,0)*E13))","v":""},{"$f":"IF(OR(B13=\"\",N13=\"\"),\"\",IF(N13=\"mineralisch\",\"\",VLOOKUP(B13,Düngemiteldaten,19,0)*H13))","v":""},{"$f":"IF(B13=\"\",\"\",IF(V13<I13,I13,V13))","v":""},{"$f":"IF(B13=\"\",\"\",IF(N13=\"organisch\",0,H13))","v":""},null,null,null,null,{"$f":"IF(L3=\"ja\",\"Summe Gesamtstickstoff\",\"\")","v":""},null,null,{"$f":"IF(L3=\"ja\",\"Anteil § 13a Prüfung \n160 kg N/ha Gesamt\n80 kg N/ha mineralisch\",\"\")","v":""}]
[null,null,null,null,null,"","","","","","","","","",null,null,"Pflanzenhilfsmittel",{"$f":"SUMIF($N$13:$N$18,Q14,$H$13:$H$18)","v":0},null,{"$f":"SUMIF($N$13:$N$18,Q14,$J$13:$J$18)","v":0},null,"","","","",null,null,null,null,{"$f":"IF(L3=\"ja\",R5,\"\")","v":""},{"$f":"IF(L3=\"ja\",\"mineralisch N kg/ha\",\"\")","v":""}]
[null,null,null,null,null,"","","","","","","","","",null,null,"Abfälle zur Beseitigung (§ 28 Absatz 2 odeS 3 KSWG)",{"$f":"SUMIF($N$13:$N$18,Q15,$H$13:$H$18)","v":0},null,{"$f":"SUMIF($N$13:$N$18,Q15,$J$13:$J$18)","v":0},null,"","","","",null,null,null,null,{"$f":"IF(L3=\"ja\",R7+R11,\"\")","v":""},{"$f":"IF(L3=\"ja\",\"organisch N kg/ha\",\"\")","v":""}]
[null,null,null,null,null,"","","","","","","","","",null,null,null,null,null,null,null,"","","","",null,null,null,null,{"$f":"IF(L3=\"ja\",(AD15+AD14),\"\")","v":""},{"$f":"IF(L3=\"ja\",\"Gesamt kg N/ha\",\"\")","v":""}]
[null,null,null,null,null,"","","","","","","","","",null,null,null,null,null,null,null,"","","",""]
[null,null,null,null,null,"","","","","","","","","",null,null,"Nährstoffherkunft auf gefährdeten Flächen §13",null,null,null,null,"","","",""]
[null,"anrechenbarer N org.Düngung + min. Düngung kg N/ha",null,null,null,null,null,{"$f":"X19+Y19","v":0},null,{"$f":"SUM(J13:J18)","v":0},{"$f":"SUM(K13:K18)","v":0},{"$f":"SUM(L13:L18)","v":0},null,null,"Bilanz (anrechenbarer Dgg.- red.Düngebedarf) kg N/ha",null,null,"Gesamt N","NH4-N",null,null,{"$f":"SUM(V13:V18)","v":0},{"$f":"IF(SUM(W13:W18)=0,\"\",(SUM(W13:W18)))","v":""},{"$f":"SUM(X13:X18)","v":0},{"$f":"SUM(Y13:Y18)","v":0},"kg/ha"]
[null,{"$f":"IF(L3=\"ja\",O19,O20)","v":"Bilanz (anrechenbarer Dgg.- Düngebedarf) kg N/ha"},null,null,null,null,null,{"$f":"IF(H11=\"\",0,IF(OR(L3=0,L3=\"nein\"),H19-H11,H19-H10))","v":0},null,{"$f":"IF(J11=\"\",\"\",J19-J11)","v":""},"","","",null,"Bilanz (anrechenbarer Dgg.- Düngebedarf) kg N/ha",null,"N Gesamt minerl.",{"$f":"IF(L3=\"ja\",SUMIF($N$13:$N$18,\"mineralisch\",$H$13:$H$18),0)","v":0},null,null,null,{"$f":"V19*C4","v":0},{"$f":"IF(W19=\"\",\"\",W19*C4)","v":""},{"$f":"X19*C4","v":0},{"$f":"Y19*C4","v":0},"kg/Schlag",null,null,null,{"$f":"IF(H20>0,\"Stickstoffmenge überschreitet den Düngebedarf\",\"\")","v":""}]
[null,null,null,null,null,null,null,null,null,null,null,null,null,null,null,null,"NH4-N minerlisch",null,{"$f":"IF(L3=\"ja\",SUMIF($N$13:$N$18,\"mineralisch\",$I$13:$I$18),0)","v":0}]
[null,"Pflegemaßnahme",null,"Datum","Bemerkung",null,null,null,null,null,null,null,null,null,null,null,"N Gesamt organsich",{"$f":"IF(L3=\"ja\",SUMIF($N$13:$N$18,\"organisch\",$H$13:$H$18),0)","v":0}]
[null,null,null,null,null,null,null,null,null,null,null,null,null,null,null,null,"NH4-N organsich",null,{"$f":"IF(L3=\"ja\",SUMIF($N$13:$N$18,\"organisch\",$I$13:$I$18),0)","v":0},null,null,null,null,null,{"$f":"X19+Y19","v":0}]
[null,null,null,null,null,null,null,null,null,null,null,null,null,null,null,null,"P2O5 mineralisch",null,null,{"$f":"IF(L3=\"ja\",SUMIF($N$13:$N$18,\"mineralisch\",$J$13:$J$18),0)","v":0}]
[null,null,null,null,null,null,null,null,null,null,null,null,null,null,null,null,"P2O5 organisch",null,null,null,{"$f":"IF(L3=\"ja\",SUMIF($N$13:$N$18,\"organisch\",$J$13:$J$18),0)","v":0}]
[null,null,null,null,null,null,null,null,null,null,null,null,null,null,null,null,"Sonstige organische Düngemittel",{"$f":"IF(L3=\"ja\",SUMIF($N$13:$N$18,Q26,$H$13:$H$18),0)","v":0},{"$f":"IF(L3=\"ja\",SUMIF($N$13:$N$18,Q26,$I$13:$I$18),0)","v":0},{"$f":"IF(L3=\"ja\",SUMIF($N$13:$N$18,Q26,$J$13:$J$18),0)","v":0}]
["Pflanzenschutz","Pflanzenschutz",null,"Datum","E./ha","€/E.","€/ha","Anwender",null,null,"Bemerkungen",null,null,null,null,null,"Bodenhilfsstoffe",{"$f":"IF(L$3=\"ja\",SUMIF($N$13:$N$18,Q27,$H$13:$H$18),0)","v":0},null,{"$f":"IF(L$3=\"ja\",SUMIF($N$13:$N$18,Q27,$J$13:$J$18),0)","v":0}]
[null,null,null,null,null,{"$f":"IF(B28=\"\",\"\",VLOOKUP(B28,PSMMittel,2,0))","v":""},{"$f":"IF(B28=\"\",\"\",E28*F28)","v":""},null,null,null,null,null,null,null,null,null,"Kultursubstrate",{"$f":"IF(L$3=\"ja\",SUMIF($N$13:$N$18,Q28,$H$13:$H$18),0)","v":0},null,{"$f":"IF(L$3=\"ja\",SUMIF($N$13:$N$18,Q28,$J$13:$J$18),0)","v":0}]
[null,null,null,null,null,{"$f":"IF(B29=\"\",\"\",VLOOKUP(B29,PSMMittel,2,0))","v":""},{"$f":"IF(B29=\"\",\"\",E29*F29)","v":""},null,null,null,null,null,null,null,null,null,"Pflanzenhilfsmittel",{"$f":"IF(L$3=\"ja\",SUMIF($N$13:$N$18,Q29,$H$13:$H$18),0)","v":0},null,{"$f":"IF(L$3=\"ja\",SUMIF($N$13:$N$18,Q29,$J$13:$J$18),0)","v":0}]
[null,null,null,null,null,{"$f":"IF(B30=\"\",\"\",VLOOKUP(B30,PSMMittel,2,0))","v":""},{"$f":"IF(B30=\"\",\"\",E30*F30)","v":""},null,null,null,null,null,null,null,null,null,"Abfälle zur Beseitigung (§ 28 Absatz 2 odeS 3 KSWG)",{"$f":"IF(L$3=\"ja\",SUMIF($N$13:$N$18,Q30,$H$13:$H$18),0)","v":0},null,{"$f":"IF(L$3=\"ja\",SUMIF($N$13:$N$18,Q30,$J$13:$J$18),0)","v":0}]
[null,null,null,null,null,{"$f":"IF(B31=\"\",\"\",VLOOKUP(B31,PSMMittel,2,0))","v":""},{"$f":"IF(B31=\"\",\"\",E31*F31)","v":""}]
[null,null,null,null,null,{"$f":"IF(B32=\"\",\"\",VLOOKUP(B32,PSMMittel,2,0))","v":""},{"$f":"IF(B32=\"\",\"\",E32*F32)","v":""}]
[null,null,null,null,null,null,{"$f":"SUM(G28:G32)","v":0},null,null,null,null,null,null,null,"Stickstoffherkunft nicht gefährdetes Gebiet Gesamtfläche"]
[null,null,null,null,null,null,null,null,null,null,null,null,null,null,null,null,null,"Gesamt N","NH4-N"]
["Bergung","Weidetiere",null,null,null,null,"Anzahl \nTiere","Datum \nBeginn",null,"Datum \nEnde",null,"Anzahl \nWeidetage",null,null,null,null,"N Gesamt minerl.",{"$f":"R5-R20","v":0},null,null,null,null,"Stickstoffbindung aus Leguminosen kg /Schlag",null,"N \nWeidehaltung","P \nWeidehaltung"]
[null,null,null,null,null,null,null,null,null,null,null,{"$f":"IF(OR(H36=\"\",J36=\"\"),\"\",(J36+1)-H36)","v":""},null,null,null,null,"NH4-N minerlisch",null,{"$f":"S6-S21","v":0},null,null,null,{"$f":"IF(D3=0,\"\",VLOOKUP(D3,Grünlandnutzungen,27,0)*C4)","v":""},null,{"$f":"IF(B36=\"\",\"\",VLOOKUP(B36,Tierhaltung,3,0)/365*L36)","v":""},{"$f":"IF(B36=\"\",\"\",VLOOKUP(B36,Tierhaltung,4,0)/365*L36)","v":""}]
[null,null,null,null,null,null,null,null,null,null,null,{"$f":"IF(OR(H37=\"\",J37=\"\"),\"\",(J37+1)-H37)","v":""},null,null,null,null,"N Gesamt organsich",{"$f":"R7-R22","v":0},null,null,null,null,null,null,{"$f":"IF(B37=\"\",\"\",VLOOKUP(B37,Tierhaltung,3,0)/365*L37)","v":""},{"$f":"IF(B37=\"\",\"\",VLOOKUP(B37,Tierhaltung,4,0)/365*L37)","v":""}]
[null,null,null,null,null,null,null,null,null,null,null,"",null,null,null,null,"NH4-N organsich",null,{"$f":"S8-S23","v":0},null,null,null,null,null,{"$f":"IF(B38=\"\",\"\",VLOOKUP(B38,Tierhaltung,3,0)/365*L38)","v":""},{"$f":"IF(B38=\"\",\"\",VLOOKUP(B38,Tierhaltung,4,0)/365*L38)","v":""}]
[null,null,null,null,null,null,null,null,null,null,null,"",null,null,null,null,"P2O5 mineralisch",null,null,{"$f":"T9-T24","v":0},null,null,null,null,{"$f":"IF(B39=\"\",\"\",VLOOKUP(B39,Tierhaltung,3,0)/365*L39)","v":""},{"$f":"IF(B39=\"\",\"\",VLOOKUP(B39,Tierhaltung,4,0)/365*L39)","v":""}]
[null,null,null,null,null,null,null,null,null,null,null,"",null,null,null,null,"P2O5 organisch",null,null,null,{"$f":"U10-U25","v":0},null,null,null,{"$f":"IF(B40=\"\",\"\",VLOOKUP(B40,Tierhaltung,3,0)/365*L40)","v":""},{"$f":"IF(B40=\"\",\"\",VLOOKUP(B40,Tierhaltung,4,0)/365*L40)","v":""}]
[null,null,null,null,null,null,null,null,null,null,null,null,null,null,null,null,"Sonstige organische Düngemittel",{"$f":"R11-R26","v":0},{"$f":"S11-S26","v":0},{"$f":"T11-T26","v":0},null,null,null,null,{"$f":"SUM(Y36:Y40)","v":0},{"$f":"SUM(Z36:Z40)","v":0}]
[null,"Nutzungsdatum",null,"Nutzungsform",null,"Ertrag TM dt/ha",null,"Entzg N\nkg/ha","Entz. P2O5 kg/ha","Aufstellung Kosten",null,null,"€/ha",null,null,null,"Bodenhilfsstoffe",{"$f":"R12-R27","v":0},null,{"$f":"T12-T27","v":0},null,null,null,null,"N Entzug kg N/ha","Entzug kg P2O5/ha","N Entzug kg N Schlag","P Entzug kg P2O5 Schlag"]
["€/ha",null,null,null,null,null,null,{"$f":"IF(Y43=0,\"\",Y43)","v":""},"","Grünlandverbesserung",null,null,{"$f":"G10","v":0},null,null,null,"Kultursubstrate",{"$f":"R13-R28","v":0},null,{"$f":"T13-T28","v":0},null,null,null,null,{"$f":"IF(D$3=0,\"\",VLOOKUP(D$3,Grünlandnutzungen,6,0)*F43)","v":""},{"$f":"IF(D$3=0,\"\",VLOOKUP(D$3,Grünlandnutzungen,7,0)*F43)","v":""},{"$f":"IF(Y43=\"\",\"\",Y43*C4)","v":""},{"$f":"IF(Z43=\"\",\"\",Z43*C4)","v":""}]
[null,null,null,null,null,null,null,"","","Düngemittel",null,null,{"$f":"SUM(G13:G18)","v":0},null,null,null,"Pflanzenhilfsmittel",{"$f":"R14-R29","v":0},null,{"$f":"T14-T29","v":0},null,null,null,null,{"$f":"IF(D$3=0,\"\",VLOOKUP(D$3,Grünlandnutzungen,6,0)*F44)","v":""},{"$f":"IF(D$3=0,\"\",VLOOKUP(D$3,Grünlandnutzungen,7,0)*F44)","v":""},{"$f":"IF(Y44=\"\",\"\",Y44*C5)","v":""},{"$f":"IF(Z44=\"\",\"\",Z44*C5)","v":""}]
[null,null,null,null,null,null,null,"","","Pflanzenschutz",null,null,{"$f":"G33","v":0},null,null,null,"Abfälle zur Beseitigung (§ 28 Absatz 2 oder 3 KrWG)",{"$f":"R15-R30","v":0},null,{"$f":"T15-T30","v":0},null,null,null,null,{"$f":"IF(D$3=0,\"\",VLOOKUP(D$3,Grünlandnutzungen,6,0)*F45)","v":""},{"$f":"IF(D$3=0,\"\",VLOOKUP(D$3,Grünlandnutzungen,7,0)*F45)","v":""},{"$f":"IF(Y45=\"\",\"\",Y45*C6)","v":""},{"$f":"IF(Z45=\"\",\"\",Z45*C6)","v":""}]
["Bemerkungen",null,null,null,null,null,null,"","","Summe",null,null,{"$f":"M43+M44+M45","v":0},null,null,null,null,null,null,null,null,null,null,null,{"$f":"IF(D$3=0,\"\",VLOOKUP(D$3,Grünlandnutzungen,6,0)*F46)","v":""},{"$f":"IF(D$3=0,\"\",VLOOKUP(D$3,Grünlandnutzungen,7,0)*F46)","v":""},{"$f":"IF(Y46=\"\",\"\",Y46*C7)","v":""},{"$f":"IF(Z46=\"\",\"\",Z46*C7)","v":""}]

{"sheet":"G20","index":78,"n_rows":46,"n_cols":33,"rows_kept":46,"cut":false,"hidden":false,"merged":[[12,29,12,30],[12,32,15,33],[13,30,13,31],[14,30,14,31],[15,30,15,31],[45,0,48,0],[45,1,45,2],[45,3,45,4],[45,5,45,6],[45,9,45,11],[43,1,43,2],[43,3,43,4],[43,5,43,6],[43,9,43,11],[44,1,44,2],[44,3,44,4],[44,5,44,6],[44,9,44,11],[37,9,37,10],[37,11,37,12],[40,7,40,8],[41,1,41,2],[41,3,41,4],[41,5,41,6],[41,9,41,11],[42,0,44,0],[42,1,42,2],[42,3,42,4],[42,5,42,6],[42,9,42,11],[32,14,32,18],[34,0,39,0],[34,1,34,5],[34,7,34,8],[34,9,34,10],[34,11,34,12],[35,1,35,5],[35,7,35,8],[35,9,35,10],[35,11,35,12],[38,1,38,5],[38,7,38,8],[38,9,38,10],[38,11,38,12],[39,1,39,5],[39,7,39,8],[39,9,39,10],[39,11,39,12],[36,1,36,5],[36,7,36,8],[36,9,36,10],[36,11,36,12],[37,1,37,5],[37,7,37,8],[17,16,17,20],[24,1,24,2],[24,4,24,12],[25,1,25,2],[25,4,25,12],[21,1,21,2],[21,4,21,12],[22,1,22,2],[22,4,22,12],[23,1,23,2],[23,4,23,12],[18,7,18,8],[19,7,19,8],[20,3,20,12],[18,1,18,6],[19,1,19,6],[26,0,32,0],[26,1,26,2],[26,7,26,9],[26,10,26,12],[27,1,27,2],[27,7,27,9],[30,1,30,2],[30,7,30,9],[30,10,30,12],[31,1,31,2],[31,7,31,9],[31,10,31,12],[27,10,27,12],[28,1,28,2],[28,7,28,9],[28,10,28,12],[29,1,29,2],[29,7,29,9],[29,10,29,12],[6,7,7,7],[8,7,8,12],[9,7,9,8],[9,9,9,12],[10,4,10,6],[10,7,10,8],[11,1,11,2],[12,0,17,0],[12,1,12,2],[13,1,13,2],[14,1,14,2],[15,1,15,2],[16,1,16,2],[17,1,17,2],[3,3,3,6],[5,1,5,2],[0,1,0,12],[1,0,3,0],[1,3,1,6],[1,7,1,9],[1,10,1,12],[2,3,2,6],[2,7,2,10],[2,11,2,12],[3,7,3,10],[3,11,3,12],[5,7,5,10],[5,11,5,12],[4,7,4,10],[4,11,4,12]]}
[null,"Grünland"]
["Schlag","Nr.",20,null,null,null,null,"Jahr:",null,null,{"$f":"IF(Einführung!I8=\"\",\"\",Einführung!I8)","v":""},null,null,{"$f":"IF(OR(C4=\"\",H11=\"\"),\"\",H11*C4)","v":""},"DB kg * Fläche"]
[null,"Bez.",{"$f":"IF($C$2=\"\",\"\",VLOOKUP($C$2,Grünlandübersicht,2,0))","v":0},{"$f":"IF(C2=\"\",\"\",VLOOKUP(C2,Grünlandübersicht,4,0))","v":0},null,null,null,"Nitrat belastete Kulisse",null,null,null,{"$f":"IF(C2=\"\",\"\",VLOOKUP(C2,Grünlandübersicht,20,0))","v":0},null,{"$f":"W19","v":""},"kg/ha org. Dünger für Kontrollgrenze"]
[null,"ha",{"$f":"IF($C$2=\"\",\"\",VLOOKUP($C$2,Grünlandübersicht,3,0))","v":0},null,null,null,null,"P2O5 eutrophierte Kulisse",null,null,null,{"$f":"IF(C2=\"\",\"\",VLOOKUP(C2,Grünlandübersicht,21,0))","v":0},null,{"$f":"IF(OR(L3=\"\",L3=\"nein\",N2=\"\"),\"\",N3*C4)","v":""},"kg Gesamtschlag org Dünger für 170 Kontrollgrenze",null,null,"Gesamt N","NH4-N","P2O5 mineral.","P2O5 organisch"]
[null,null,null,null,null,null,null,"aus org. wirtschaftsdüngeren \nBerechung der 130 kg N/ha",null,null,null,{"$f":"IF(L3=\"ja\",W19,\"\")","v":""},null,{"$f":"IF(H11=\"\",\"\",IF(L3=\"ja\",N2*0.8,\"\"))","v":""},"Düngebedarf Gesamtschlag kg N/ha",null,"N Gesamt minerl.",{"$f":"SUMIF($N$13:$N$18,\"mineralisch\",$H$13:$H$18)","v":0}]
[null,"Grünlandverbesserung",null,"Datum","E/ha","€/E","€/ha","sonstige Auflagen",null,null,null,null,null,{"$f":"IF(L3=\"ja\",X20+Y20,\"\")","v":""},"anrechenbare N Menge Gesamtschlag  kg N/ha",null,"NH4-N minerlisch",null,{"$f":"SUMIF($N$13:$N$18,\"mineralisch\",$I$13:$I$18)","v":0}]
[null,"1.",null,null,null,null,{"$f":"E7*F7","v":0},"Versorg-\nungs-\nstufe","P2O5","K2O","MgO","pH",null,{"$f":"IF(K3=\"ja\",J12*B4,\"\")","v":""},null,null,"N Gesamt organsich",{"$f":"SUMIF($N$13:$N$18,\"organisch\",$H$13:$H$18)","v":0}]
[null,"2.",null,null,null,null,{"$f":"E8*F8","v":0},null,{"$f":"IF($C$2=\"\",\"\",VLOOKUP($C$2,Grünlandübersicht,30,0))","v":"C"},{"$f":"IF($C$2=\"\",\"\",VLOOKUP($C$2,Grünlandübersicht,31,0))","v":"C"},{"$f":"IF($C$2=\"\",\"\",VLOOKUP($C$2,Grünlandübersicht,32,0))","v":"C"},{"$f":"IF($C$2=\"\",\"\",VLOOKUP($C$2,Grünlandübersicht,33,0))","v":"C"},null,null,null,null,"NH4-N organsich",null,{"$f":"SUMIF($N$13:$N$18,\"organisch\",$I$13:$I$18)","v":0}]
[null,"3.",null,null,null,null,{"$f":"E9*F9","v":0},"Düngebedarf kg/ha (Blatt Grünland)",null,null,null,null,null,null,null,null,"P2O5 mineralisch",null,null,{"$f":"SUMIF($N$13:$N$18,\"mineralisch\",$J$13:$J$18)","v":0}]
[null,null,null,null,null,"Kosten €/ha",{"$f":"SUM(G7:G9)","v":0},{"$f":"IF(L3=\"ja\",VLOOKUP(C2,Grünlandübersicht,19,0),\"\")","v":""},null,{"$f":"IF(L3=\"ja\",O10,\"\")","v":""},null,null,null,null,"Düngebedarf um 20% red.",null,"P2O5 organisch",null,null,null,{"$f":"SUMIF($N$13:$N$18,\"organisch\",$J$13:$J$18)","v":0},null,null,null,null,null,null,null,null,{"$f":"IF(L3=\"ja\",\"Noch nicht ausgeschöpfter Stickstoff Düngebedarf aller Flächen\",\"\")","v":""}]
[null,null,null,null,"N Bedarf DÜV kg/ha",null,null,{"$f":"IF(C2=\"\",\"\",VLOOKUP(C2,Grünlandübersicht,18,0))","v":""},null,{"$f":"IF($C$2=\"\",\"\",VLOOKUP($C$2,Grünlandübersicht,36,0))","v":""},{"$f":"IF($C$2=\"\",\"\",VLOOKUP($C$2,Grünlandübersicht,37,0))","v":""},null,null,null,null,null,"Sonstige organische Düngemittel",{"$f":"SUMIF($N$13:$N$18,Q11,$H$13:$H$18)","v":0},{"$f":"SUMIF($N$13:$N$18,Q11,$I$13:$I$18)","v":0},{"$f":"SUMIF($N$13:$N$18,Q11,$J$13:$J$18)","v":0},null,"Anrechnung","Anrechnung ","Prüfung NH4","mineral",null,null,null,null,{"$f":"IF(L3=\"ja\",'Zus. Anlage 5 DüV'!D43,\"\")","v":""},{"$f":"IF(L3=\"ja\",\"kg N Gesamtfläche\",\"\")","v":""}]
[null,"Düngemittel",null,"Datum","m³o.dt/ha","€/E.","€/ha","Ges.-N","NH4- N","P2O5","K2O","MgO","S",null,null,null,"Bodenhilfsstoffe",{"$f":"SUMIF($N$13:$N$18,Q12,$H$13:$H$18)","v":0},null,{"$f":"SUMIF($N$13:$N$18,Q12,$J$13:$J$18)","v":0},null,"aktuelles Jahr","170 kg GW"," oder Anlage3","Stickstoff"]
["Düngung",null,null,null,null,{"$f":"IF($B13=\"\",\"\",VLOOKUP($B13,Düngemiteldaten,2,0))","v":""},{"$f":"IF(B13=\"\",\"\",E13*F13)","v":""},{"$f":"IF(B13=\"\",\"\",VLOOKUP(B13,Düngemiteldaten,4,0)*E13)","v":""},{"$f":"IF(B13=\"\",\"\",VLOOKUP(B13,Düngemiteldaten,5,0)*E13)","v":""},{"$f":"IF(B13=\"\",\"\",VLOOKUP(B13,Düngemiteldaten,7,0)*E13)","v":""},{"$f":"IF(B13=\"\",\"\",VLOOKUP(B13,Düngemiteldaten,8,0)*E13)","v":""},{"$f":"IF(B13=\"\",\"\",VLOOKUP(B13,Düngemiteldaten,9,0)*E13)","v":""},{"$f":"IF(B13=\"\",\"\",VLOOKUP(B13,Düngemiteldaten,10,0)*E13)","v":""},{"$f":"IF(B13=\"\",\"\",VLOOKUP(B13,Düngemiteldaten,20,0))","v":""},null,null,"Kultursubstrate",{"$f":"SUMIF($N$13:$N$18,Q13,$H$13:$H$18)","v":0},null,{"$f":"SUMIF($N$13:$N$18,Q13,$J$13:$J$18)","v":0},null,{"$f":"IF(OR(B13=\"\",N13=\"\"),\"\",IF(N13=\"mineralisch\",\"\",VLOOKUP(B13,Düngemiteldaten,18,0)*VLOOKUP(B13,Düngemiteldaten,4,0)*E13))","v":""},{"$f":"IF(OR(B13=\"\",N13=\"\"),\"\",IF(N13=\"mineralisch\",\"\",VLOOKUP(B13,Düngemiteldaten,19,0)*H13))","v":""},{"$f":"IF(B13=\"\",\"\",IF(V13<I13,I13,V13))","v":""},{"$f":"IF(B13=\"\",\"\",IF(N13=\"organisch\",0,H13))","v":""},null,null,null,null,{"$f":"IF(L3=\"ja\",\"Summe Gesamtstickstoff\",\"\")","v":""},null,null,{"$f":"IF(L3=\"ja\",\"Anteil § 13a Prüfung \n160 kg N/ha Gesamt\n80 kg N/ha mineralisch\",\"\")","v":""}]
[null,null,null,null,null,"","","","","","","","","",null,null,"Pflanzenhilfsmittel",{"$f":"SUMIF($N$13:$N$18,Q14,$H$13:$H$18)","v":0},null,{"$f":"SUMIF($N$13:$N$18,Q14,$J$13:$J$18)","v":0},null,"","","","",null,null,null,null,{"$f":"IF(L3=\"ja\",R5,\"\")","v":""},{"$f":"IF(L3=\"ja\",\"mineralisch N kg/ha\",\"\")","v":""}]
[null,null,null,null,null,"","","","","","","","","",null,null,"Abfälle zur Beseitigung (§ 28 Absatz 2 odeS 3 KSWG)",{"$f":"SUMIF($N$13:$N$18,Q15,$H$13:$H$18)","v":0},null,{"$f":"SUMIF($N$13:$N$18,Q15,$J$13:$J$18)","v":0},null,"","","","",null,null,null,null,{"$f":"IF(L3=\"ja\",R7+R11,\"\")","v":""},{"$f":"IF(L3=\"ja\",\"organisch N kg/ha\",\"\")","v":""}]
[null,null,null,null,null,"","","","","","","","","",null,null,null,null,null,null,null,"","","","",null,null,null,null,{"$f":"IF(L3=\"ja\",(AD15+AD14),\"\")","v":""},{"$f":"IF(L3=\"ja\",\"Gesamt kg N/ha\",\"\")","v":""}]
[null,null,null,null,null,"","","","","","","","","",null,null,null,null,null,null,null,"","","",""]
[null,null,null,null,null,"","","","","","","","","",null,null,"Nährstoffherkunft auf gefährdeten Flächen §13",null,null,null,null,"","","",""]
[null,"anrechenbarer N org.Düngung + min. Düngung kg N/ha",null,null,null,null,null,{"$f":"X19+Y19","v":0},null,{"$f":"SUM(J13:J18)","v":0},{"$f":"SUM(K13:K18)","v":0},{"$f":"SUM(L13:L18)","v":0},null,null,"Bilanz (anrechenbarer Dgg.- red.Düngebedarf) kg N/ha",null,null,"Gesamt N","NH4-N",null,null,{"$f":"SUM(V13:V18)","v":0},{"$f":"IF(SUM(W13:W18)=0,\"\",(SUM(W13:W18)))","v":""},{"$f":"SUM(X13:X18)","v":0},{"$f":"SUM(Y13:Y18)","v":0},"kg/ha"]
[null,{"$f":"IF(L3=\"ja\",O19,O20)","v":"Bilanz (anrechenbarer Dgg.- Düngebedarf) kg N/ha"},null,null,null,null,null,{"$f":"IF(H11=\"\",0,IF(OR(L3=0,L3=\"nein\"),H19-H11,H19-H10))","v":0},null,{"$f":"IF(J11=\"\",\"\",J19-J11)","v":""},"","","",null,"Bilanz (anrechenbarer Dgg.- Düngebedarf) kg N/ha",null,"N Gesamt minerl.",{"$f":"IF(L3=\"ja\",SUMIF($N$13:$N$18,\"mineralisch\",$H$13:$H$18),0)","v":0},null,null,null,{"$f":"V19*C4","v":0},{"$f":"IF(W19=\"\",\"\",W19*C4)","v":""},{"$f":"X19*C4","v":0},{"$f":"Y19*C4","v":0},"kg/Schlag",null,null,null,{"$f":"IF(H20>0,\"Stickstoffmenge überschreitet den Düngebedarf\",\"\")","v":""}]
[null,null,null,null,null,null,null,null,null,null,null,null,null,null,null,null,"NH4-N minerlisch",null,{"$f":"IF(L3=\"ja\",SUMIF($N$13:$N$18,\"mineralisch\",$I$13:$I$18),0)","v":0}]
[null,"Pflegemaßnahme",null,"Datum","Bemerkung",null,null,null,null,null,null,null,null,null,null,null,"N Gesamt organsich",{"$f":"IF(L3=\"ja\",SUMIF($N$13:$N$18,\"organisch\",$H$13:$H$18),0)","v":0}]
[null,null,null,null,null,null,null,null,null,null,null,null,null,null,null,null,"NH4-N organsich",null,{"$f":"IF(L3=\"ja\",SUMIF($N$13:$N$18,\"organisch\",$I$13:$I$18),0)","v":0},null,null,null,null,null,{"$f":"X19+Y19","v":0}]
[null,null,null,null,null,null,null,null,null,null,null,null,null,null,null,null,"P2O5 mineralisch",null,null,{"$f":"IF(L3=\"ja\",SUMIF($N$13:$N$18,\"mineralisch\",$J$13:$J$18),0)","v":0}]
[null,null,null,null,null,null,null,null,null,null,null,null,null,null,null,null,"P2O5 organisch",null,null,null,{"$f":"IF(L3=\"ja\",SUMIF($N$13:$N$18,\"organisch\",$J$13:$J$18),0)","v":0}]
[null,null,null,null,null,null,null,null,null,null,null,null,null,null,null,null,"Sonstige organische Düngemittel",{"$f":"IF(L3=\"ja\",SUMIF($N$13:$N$18,Q26,$H$13:$H$18),0)","v":0},{"$f":"IF(L3=\"ja\",SUMIF($N$13:$N$18,Q26,$I$13:$I$18),0)","v":0},{"$f":"IF(L3=\"ja\",SUMIF($N$13:$N$18,Q26,$J$13:$J$18),0)","v":0}]
["Pflanzenschutz","Pflanzenschutz",null,"Datum","E./ha","€/E.","€/ha","Anwender",null,null,"Bemerkungen",null,null,null,null,null,"Bodenhilfsstoffe",{"$f":"IF(L$3=\"ja\",SUMIF($N$13:$N$18,Q27,$H$13:$H$18),0)","v":0},null,{"$f":"IF(L$3=\"ja\",SUMIF($N$13:$N$18,Q27,$J$13:$J$18),0)","v":0}]
[null,null,null,null,null,{"$f":"IF(B28=\"\",\"\",VLOOKUP(B28,PSMMittel,2,0))","v":""},{"$f":"IF(B28=\"\",\"\",E28*F28)","v":""},null,null,null,null,null,null,null,null,null,"Kultursubstrate",{"$f":"IF(L$3=\"ja\",SUMIF($N$13:$N$18,Q28,$H$13:$H$18),0)","v":0},null,{"$f":"IF(L$3=\"ja\",SUMIF($N$13:$N$18,Q28,$J$13:$J$18),0)","v":0}]
[null,null,null,null,null,{"$f":"IF(B29=\"\",\"\",VLOOKUP(B29,PSMMittel,2,0))","v":""},{"$f":"IF(B29=\"\",\"\",E29*F29)","v":""},null,null,null,null,null,null,null,null,null,"Pflanzenhilfsmittel",{"$f":"IF(L$3=\"ja\",SUMIF($N$13:$N$18,Q29,$H$13:$H$18),0)","v":0},null,{"$f":"IF(L$3=\"ja\",SUMIF($N$13:$N$18,Q29,$J$13:$J$18),0)","v":0}]
[null,null,null,null,null,{"$f":"IF(B30=\"\",\"\",VLOOKUP(B30,PSMMittel,2,0))","v":""},{"$f":"IF(B30=\"\",\"\",E30*F30)","v":""},null,null,null,null,null,null,null,null,null,"Abfälle zur Beseitigung (§ 28 Absatz 2 odeS 3 KSWG)",{"$f":"IF(L$3=\"ja\",SUMIF($N$13:$N$18,Q30,$H$13:$H$18),0)","v":0},null,{"$f":"IF(L$3=\"ja\",SUMIF($N$13:$N$18,Q30,$J$13:$J$18),0)","v":0}]
[null,null,null,null,null,{"$f":"IF(B31=\"\",\"\",VLOOKUP(B31,PSMMittel,2,0))","v":""},{"$f":"IF(B31=\"\",\"\",E31*F31)","v":""}]
[null,null,null,null,null,{"$f":"IF(B32=\"\",\"\",VLOOKUP(B32,PSMMittel,2,0))","v":""},{"$f":"IF(B32=\"\",\"\",E32*F32)","v":""}]
[null,null,null,null,null,null,{"$f":"SUM(G28:G32)","v":0},null,null,null,null,null,null,null,"Stickstoffherkunft nicht gefährdetes Gebiet Gesamtfläche"]
[null,null,null,null,null,null,null,null,null,null,null,null,null,null,null,null,null,"Gesamt N","NH4-N"]
["Bergung","Weidetiere",null,null,null,null,"Anzahl \nTiere","Datum \nBeginn",null,"Datum \nEnde",null,"Anzahl \nWeidetage",null,null,null,null,"N Gesamt minerl.",{"$f":"R5-R20","v":0},null,null,null,null,"Stickstoffbindung aus Leguminosen kg /Schlag",null,"N \nWeidehaltung","P \nWeidehaltung"]
[null,null,null,null,null,null,null,null,null,null,null,{"$f":"IF(OR(H36=\"\",J36=\"\"),\"\",(J36+1)-H36)","v":""},null,null,null,null,"NH4-N minerlisch",null,{"$f":"S6-S21","v":0},null,null,null,{"$f":"IF(D3=0,\"\",VLOOKUP(D3,Grünlandnutzungen,27,0)*C4)","v":""},null,{"$f":"IF(B36=\"\",\"\",VLOOKUP(B36,Tierhaltung,3,0)/365*L36)","v":""},{"$f":"IF(B36=\"\",\"\",VLOOKUP(B36,Tierhaltung,4,0)/365*L36)","v":""}]
[null,null,null,null,null,null,null,null,null,null,null,{"$f":"IF(OR(H37=\"\",J37=\"\"),\"\",(J37+1)-H37)","v":""},null,null,null,null,"N Gesamt organsich",{"$f":"R7-R22","v":0},null,null,null,null,null,null,{"$f":"IF(B37=\"\",\"\",VLOOKUP(B37,Tierhaltung,3,0)/365*L37)","v":""},{"$f":"IF(B37=\"\",\"\",VLOOKUP(B37,Tierhaltung,4,0)/365*L37)","v":""}]
[null,null,null,null,null,null,null,null,null,null,null,"",null,null,null,null,"NH4-N organsich",null,{"$f":"S8-S23","v":0},null,null,null,null,null,{"$f":"IF(B38=\"\",\"\",VLOOKUP(B38,Tierhaltung,3,0)/365*L38)","v":""},{"$f":"IF(B38=\"\",\"\",VLOOKUP(B38,Tierhaltung,4,0)/365*L38)","v":""}]
[null,null,null,null,null,null,null,null,null,null,null,"",null,null,null,null,"P2O5 mineralisch",null,null,{"$f":"T9-T24","v":0},null,null,null,null,{"$f":"IF(B39=\"\",\"\",VLOOKUP(B39,Tierhaltung,3,0)/365*L39)","v":""},{"$f":"IF(B39=\"\",\"\",VLOOKUP(B39,Tierhaltung,4,0)/365*L39)","v":""}]
[null,null,null,null,null,null,null,null,null,null,null,"",null,null,null,null,"P2O5 organisch",null,null,null,{"$f":"U10-U25","v":0},null,null,null,{"$f":"IF(B40=\"\",\"\",VLOOKUP(B40,Tierhaltung,3,0)/365*L40)","v":""},{"$f":"IF(B40=\"\",\"\",VLOOKUP(B40,Tierhaltung,4,0)/365*L40)","v":""}]
[null,null,null,null,null,null,null,null,null,null,null,null,null,null,null,null,"Sonstige organische Düngemittel",{"$f":"R11-R26","v":0},{"$f":"S11-S26","v":0},{"$f":"T11-T26","v":0},null,null,null,null,{"$f":"SUM(Y36:Y40)","v":0},{"$f":"SUM(Z36:Z40)","v":0}]
[null,"Nutzungsdatum",null,"Nutzungsform",null,"Ertrag TM dt/ha",null,"Entzg N\nkg/ha","Entz. P2O5 kg/ha","Aufstellung Kosten",null,null,"€/ha",null,null,null,"Bodenhilfsstoffe",{"$f":"R12-R27","v":0},null,{"$f":"T12-T27","v":0},null,null,null,null,"N Entzug kg N/ha","Entzug kg P2O5/ha","N Entzug kg N Schlag","P Entzug kg P2O5 Schlag"]
["€/ha",null,null,null,null,null,null,{"$f":"IF(Y43=0,\"\",Y43)","v":""},"","Grünlandverbesserung",null,null,{"$f":"G10","v":0},null,null,null,"Kultursubstrate",{"$f":"R13-R28","v":0},null,{"$f":"T13-T28","v":0},null,null,null,null,{"$f":"IF(D$3=0,\"\",VLOOKUP(D$3,Grünlandnutzungen,6,0)*F43)","v":""},{"$f":"IF(D$3=0,\"\",VLOOKUP(D$3,Grünlandnutzungen,7,0)*F43)","v":""},{"$f":"IF(Y43=\"\",\"\",Y43*C4)","v":""},{"$f":"IF(Z43=\"\",\"\",Z43*C4)","v":""}]
[null,null,null,null,null,null,null,"","","Düngemittel",null,null,{"$f":"SUM(G13:G18)","v":0},null,null,null,"Pflanzenhilfsmittel",{"$f":"R14-R29","v":0},null,{"$f":"T14-T29","v":0},null,null,null,null,{"$f":"IF(D$3=0,\"\",VLOOKUP(D$3,Grünlandnutzungen,6,0)*F44)","v":""},{"$f":"IF(D$3=0,\"\",VLOOKUP(D$3,Grünlandnutzungen,7,0)*F44)","v":""},{"$f":"IF(Y44=\"\",\"\",Y44*C5)","v":""},{"$f":"IF(Z44=\"\",\"\",Z44*C5)","v":""}]
[null,null,null,null,null,null,null,"","","Pflanzenschutz",null,null,{"$f":"G33","v":0},null,null,null,"Abfälle zur Beseitigung (§ 28 Absatz 2 oder 3 KrWG)",{"$f":"R15-R30","v":0},null,{"$f":"T15-T30","v":0},null,null,null,null,{"$f":"IF(D$3=0,\"\",VLOOKUP(D$3,Grünlandnutzungen,6,0)*F45)","v":""},{"$f":"IF(D$3=0,\"\",VLOOKUP(D$3,Grünlandnutzungen,7,0)*F45)","v":""},{"$f":"IF(Y45=\"\",\"\",Y45*C6)","v":""},{"$f":"IF(Z45=\"\",\"\",Z45*C6)","v":""}]
["Bemerkungen",null,null,null,null,null,null,"","","Summe",null,null,{"$f":"M43+M44+M45","v":0},null,null,null,null,null,null,null,null,null,null,null,{"$f":"IF(D$3=0,\"\",VLOOKUP(D$3,Grünlandnutzungen,6,0)*F46)","v":""},{"$f":"IF(D$3=0,\"\",VLOOKUP(D$3,Grünlandnutzungen,7,0)*F46)","v":""},{"$f":"IF(Y46=\"\",\"\",Y46*C7)","v":""},{"$f":"IF(Z46=\"\",\"\",Z46*C7)","v":""}]

{"sheet":"Liste","index":79,"n_rows":69,"n_cols":13,"rows_kept":69,"cut":false,"hidden":true,"merged":[]}
[]
["BAG","§ 13 Gebiet",null,"Düngerarten"]
["I","ja",null,"mineralisch",null,"Abschläge für Stickstoffnachlieferung aus dem \nBodenvorrat Mindestabschläge in kg N/ha\nGrünland/Dauergrünland",null,null,"Abschläge für Stickstoffnachlieferung aus der \nStickstoffbindung von Leguminosen Mindest-\nabschläge in kg N/ha Leguminosen","%"]
["II","nein",null,"organisch",null,"Grünland/Dauergrünland",null,null,"keine",0,null,null,"Gülle"]
["III",null,null,"Sonstige organische Düngemittel",null,"s. schwach bis st. humos 0% - 8%",10,null,"Leg. 5 bis 10 % 20",20,null,null,"Rindermist"]
[null,null,null,"Bodenhilfsstoffe",null,"stark bis s.stark humos 8% -15% ",30,null,"Leg  10 bis 20 % 40",40,null,null,"Schweinemist"]
[null,null,null,"Kultursubstrate",null,"anmoorig 15% bis 30%",50,null,"Leg. größer 20 % 60",60]
[null,null,null,"Pflanzenhilfsmittel",null,"Moorböden 30% bis 50%",50,null,"Kl.-/Lu.gras 10 % ",30]
[null,null,null,"Abfälle zur Beseitigung (§ 28 Absatz 2 oder 3 KrWG)",null,"Hochmoorböden 50% bis 80%",50,null,"Rotkl./Lu. Reinkultur",60]
[null,null,null,null,null,"Niedermoor mehr als 80%",80]
[null,null,null,null,null,"Ackergras ohne Leguminosen",0]
[null,null,null,"Rindergülle"]
[null,null,null,"Schweinegülle"]
[null,null,null,"Rindermist"]
[null,null,null,"Schweinemist"]
[null,null,null,"Schafmist"]
[null,null,null,"Ziegenmist",null,"Nutzungsformen Grünland"]
[null,null,null,"Hühnertrockenkot",null,"Beweidung/Frischfutter"]
[null,null,null,"Geflügel- und Kaninchenmist",null,"Ballensilage"]
[null,null,null,"Pferdemist",null,"Silage"]
[null,null,null,"Rinderjauche",null,"Heuwerbung"]
[null,null,null,"Schweinejauche"]
[null,null,null,"Klärschlamm < 15 %"]
[null,null,null,"Klärschlamm >= 15 %",null,"Auflagen Ackerland",null,null,"Auflagen Grünland"]
[null,null,null,"Grünschnittkompost"]
[null,null,null,"Sonstiger Kompost",null,"WSG",null,null,"WSG"]
[null,null,null,"Biogasanlagen Gärreste fl.",null,"HalmC35Ack.",null,null,"HalmD1Grünl."]
[null,null,null,"Biogasanlagen Gärreste fest",null,"Sonsitges",null,null,"Sonstiges"]
[null,null,null,null,null,{"$f":"'eigene Werte'!A38","v":0},null,null,{"$f":"'eigene Werte'!D44","v":0}]
[null,null,null,null,null,{"$f":"'eigene Werte'!A39","v":0},null,null,{"$f":"'eigene Werte'!D45","v":0}]
[null,null,null,"Gülle Schwein",null,{"$f":"'eigene Werte'!A40","v":0},null,null,{"$f":"'eigene Werte'!D46","v":0}]
[null,null,null,"Gülle Rind"]
[null,null,null,"Stallmist Schwein"]
[null,null,null,"Stallmist Rind"]
[null,null,null,"Geflügelmist"]
[null,null,null,"Gärreste",null,"Gülle Rind"]
[null,null,null,"Bodenhilfsstoffe",null,"Gülle Schwein"]
[null,null,null,"Kultursubstrate",null,"Stallmist Rind"]
[null,null,null,"Pflanzenhilfsmittel",null,"Stallmist Schwein"]
[null,null,null,"Abfälle zur Beseitigung (§ 28 Absatz 2 odeS 3 KSWG)",null,"Geflügelmist"]
[null,null,null,null,null,"Gärreste"]
[null,null,null,null,null,"Jauche"]
[null,null,null,"Tierartenkategorie",null,"Hühnertrockenkot"]
[null,null,null,"Kuh_Rinderhaltung",null,"Klärschlamm fl"]
[null,null,null,"Zucht_Mastschweine",null,"Klärschlamm fest"]
[null,null,null,"Pferdehaltung",null,"Pilzsubstrat"]
[null,null,null,"Schaf_und_Ziegenhaltung",null,"Grünschnittkompost"]
[null,null,null,"Kaninchenhaltung",null,"Sonstiger Kompost"]
[null,null,null,"Gehegewild",null,"Gärreste fest"]
[null,null,null,"Geflügelmast_Eiererzeugung"]
[]
[]
[null,null,null,"Dungart"]
[null,null,null,"Gülle"]
[null,null,null,"Mist"]
[]
[null,null,null,"Weideanteil"]
[]
[null,null,null,{"$f":"0%","v":0}]
[null,null,null,0.1]
[null,null,null,0.2]
[null,null,null,0.3]
[null,null,null,0.4]
[null,null,null,0.5]
[null,null,null,0.6]
[null,null,null,0.7]
[null,null,null,0.8]
[null,null,null,0.9]
[null,null,null,1]